{"text_format":"1","workbook":"xlsx","n_sheets":55,"sheets":["Caratula","Datos","Empleado01","Controlador","Control","Tablas","Empleado02","Empleado03","Empleado04","Empleado05","Empleado06","Empleado07","Empleado08","Empleado09","Empleado10","Empleado11","Empleado12","Empleado13","Empleado14","Empleado15","Empleado16","Empleado17","Empleado18","Empleado19","Empleado20","Empleado21","Empleado22","Empleado23","Empleado24","Empleado25","Empleado26","Empleado27","Empleado28","Empleado29","Empleado30","Empleado31","Empleado32","Empleado33","Empleado34","Empleado35","Empleado36","Empleado37","Empleado38","Empleado39","Empleado40","Empleado41","Empleado42","Empleado43","Empleado44","Empleado45","Empleado46","Empleado47","Empleado48","Empleado49","Empleado50"],"not_rendered":{"charts":0,"images":1,"macros":1,"external_links":0,"defined_names":0,"comments":50,"pivot_tables":0},"unopened":[],"bounds":{"document_bytes":16777216,"sheet_cells":100000,"rows_first":2000,"rows_last":500,"rows_between":2000,"halvings":0,"cell_chars":16384,"cell_head_chars":4096},"cells_cut":0,"cells_raw":0,"read":"whole","date_system":"1900"}

{"sheet":"Caratula","index":0,"n_rows":35,"n_cols":18,"rows_kept":35,"cut":false,"hidden":false,"merged":[[19,1,20,18],[28,4,29,15],[14,1,15,18],[16,1,18,18],[10,1,13,18]]}
[]
[]
[]
[]
[]
[]
[]
[null,"A los fines de facilitar la tarea profesional ponemos a disposición la planilla de Excel® F 1357 - Ganancias, Retenciones de 4ta categoría."]
[null,"Con esta herramienta auxiliar obtendrá como resultado un archivo TXT con los datos de los formularios 1357 del período fiscal 2021. "]
[]
[null,"Dicha planilla tiene un carácter general, orientativo y se presenta con sus fórmulas desprotegidas de forma tal que cada profesional pueda adecuarla a su necesidad particular, ya que no contempla todos los casos posibles, sino que constituye simplemente un ejemplo. Por ende, cada usuario es responsable por su utilización. Podrá encontrar eventuales modificaciones a la presente planilla hasta las fechas de vencimiento de dichas declaraciones juradas. Ante cualquier duda, comunicarse con clientes@errepar.com"]
[]
[]
[]
[null,"Atento a ello, remarcamos que la planilla no reemplaza ni desautoriza el criterio profesional, así como tampoco lo dispuesto por la normativa vigente, los programas de liquidación diseñados al respecto ni el aplicativo de uso obligatorio."]
[]
[null,"En consideración de lo antes expuesto, deseamos manifestar que la Editorial no se responsabiliza por ningún tipo de daño o perjuicio que el uso de esta planilla o la imposibilidad de su utilización pudiera ocasionar tanto a nivel profesional, al usuario y/o a los terceros ante quienes se presente, como a su equipamiento informático (hardware/software)."]
[]
[]
[null,"(*)  Microsoft Excel es un programa registrado por Microsoft Corporation. Esta planilla de Excel es independiente y no se encuentra afiliada a Microsoft Corporation, ni ha sido autorizada, sponsoreada, o de cualquier otra forma aprobada por Microsoft Corporation."]
[]
[]
[]
[]
[null,null,null,null,"Recomendaciones para su uso:"]
[null,null,null,null,"1. Cargue los datos del agente de retención"]
[null,null,null,null,"2. Cargue los datos de los empleados y sus remuneraciones, deducciones generales y personales"]
[null,null,null,null,"3. Genere el txt con el botón"]
[null,null,null,null,"4. Antes de presentar el archivo, revise el nombre del mismo, para adaptarlo (en caso de que sea necesario) al siguiente formato: \"F1357.<CUIT>.<PERIODO>.<SECUENCIA>.txt\""]
[]
[]
[]
[]
[null,null,null,null,null,null,null,null,null,null,null,null,null,null,null,null,null,"Versión 04"]
[null,null,null,null,null,null,null,null,null,null,null,null,null,null,null,null,null,"Actualizada a febrero 2022"]

{"sheet":"Datos","index":1,"n_rows":15,"n_cols":6,"rows_kept":15,"cut":false,"hidden":false,"merged":[[6,2,6,3],[4,2,4,3],[10,2,10,3],[12,2,12,3],[14,2,14,3]]}
[]
[]
[null,"AGENTE DE RETENCIÓN"]
[]
[null,"Razón social","OPERACIONES AGROPORTUARIAS S.A."]
[]
[null,"CUIT",33711238269,null,null,{"$f":"cuitValidar(C7)","v":"CUIT/CUIL Válido"}]
[]
[null,"DATOS DE LA PRESENTACIÓN"]
[]
[null,"Liquidación","Anual"]
[]
[null,"Período","2021-12-01"]
[]
[null,"Secuencia",0]

{"sheet":"Empleado01","index":2,"n_rows":143,"n_cols":11,"rows_kept":143,"cut":false,"hidden":false,"merged":[[10,7,11,9]]}
[]
[]
[null,null,"LIQUIDACIÓN DE IMPUESTO A LAS GANANCIAS - 4ta. CATEGORÍA RELACIÓN DE DEPENDENCIA"]
[]
[]
[null,null,"Empleado: Nombre y apellido ","FRANCO ROBERTO ENRIQUE"]
[null,null,"CUIL del empleado",20259421498,null,{"$f":"cuitValidar(D7)","v":"CUIT/CUIL Válido"}]
[null,null,{"$f":"\"Agente de Retención: \"","v":"Agente de Retención: "},{"$f":"Datos!C7&\" - \"&Datos!C5","v":"33711238269 - OPERACIONES AGROPORTUARIAS S.A."}]
[null,null,{"$f":"\"Período Fiscal: \"","v":"Período Fiscal: "},{"$f":"YEAR(Datos!C13)","v":2021}]
[null,null,"Período trabajado (desde):","2021-01-01"]
[null,null,"Período trabajado (hasta):","2021-12-31",null,null,null,{"$f":"IF(MONTH(D11)>MONTH(Datos!C13),\"El período trabajado no puede ser mayor al período que se informa (mes \"&MONTH(Datos!C13)&\")\",\"\")","v":""}]
[null,null,"Zona geográfica:","Todo el país (excepto zona patagónica)"]
[null,null,"Transporte a larga distancia","No desarrolla la actividad"]
[null,null,"Beneficio promocional 27424?","No"]
[null,null,"Beneficio de la ley 27549?","No"]
[null,null,"El trabajador labora bajo el régimen de teletrabajo (Ley 27555)?","No"]
[null,null,"El trabajador es personal militar en actividad?","No"]
[]
[null,null,"REMUNERACIONES"]
[null,null,"Abonadas por el agente de retención:"]
[null,null,"Remuneración bruta gravada",3456678.68]
[null,null,"Retribuciones no habituales gravadas",0]
[null,null,"SAC primera cuota gravado",0]
[null,null,"SAC segunda cuota gravado",0]
[null,null,"Horas extras remuneración gravada",0,null,null,0,"% de retenciones"]
[null,null,"Movilidad y viáticos remuneración gravada",0]
[null,null,"Material didáctico personal docente remuneración gravada",0]
[null,null,"Remuneración no alcanzada o exenta (sin horas extras)",0]
[null,null,"Remuneración exenta ley 27549",0,null,{"$f":"IF(AND($D$15=\"No\",D29<>0),\"Para que sea procedente el beneficio, modifique el valor en la celda D15\",\"\")","v":""}]
[null,null,"Retribuciones no habituales exentas o no alcanzadas",0]
[null,null,"Horas extras remuneración exenta",303640.94]
[null,null,"Movilidad y viáticos remuneración exenta",0]
[null,null,"Material didáctico personal docente remuneración exenta",0]
[null,null,"Bonos de productividad gravados",0]
[null,null,"Fallos de caja gravados",0]
[null,null,"Conceptos de similar naturaleza gravados",0]
[null,null,"Bonos de productividad exentos",0]
[null,null,"Fallos de caja exentos",0]
[null,null,"Conceptos de similar naturaleza exentos",0]
[null,null,"Compensación de gastos de teletrabajo exentos",0]
[null,null,"Personal militar - suplementos art. 57 ley 19.101 - exentos",0]
[null,null,"SAC primera cuota - No alcanzado o exento",0]
[null,null,"SAC segunda cuota - No alcanzado o exento",0]
[null,null,"Ajustes períodos anteriores - Remuneración gravada",0]
[null,null,"Ajustes períodos anteriores - Remuneración exenta / no alcanzada",0]
[null,null,"Otros empleos:"]
[null,null,"Remuneración bruta gravada ",0]
[null,null,"Retribuciones no habituales gravadas ",0]
[null,null,"SAC primera cuota gravado ",0]
[null,null,"SAC segunda cuota gravado ",0]
[null,null,"Horas extras remuneración gravada ",0,null,null,0,"% de retenciones"]
[null,null,"Movilidad y viáticos remuneración gravada ",0]
[null,null,"Material didáctico personal docente remuneración gravada ",0]
[null,null,"Remuneración no alcanzada o exenta ",0]
[null,null,"Remuneración exenta ley 27549 ",0,null,{"$f":"IF(AND($D$15=\"No\",D55<>0),\"Para que sea procedente el beneficio, modifique el valor en la celda D15\",\"\")","v":""}]
[null,null,"Retribuciones no habituales exentas o no alcanzadas ",0]
[null,null,"Horas extras remuneración exenta o no alcanzada ",0]
[null,null,"Movilidad y viáticos remuneración exenta o no alcanzada ",0]
[null,null,"Material didáctico personal docente remuneración exenta o no alcanzada ",0]
[null,null,"Bonos de productividad gravados ",0]
[null,null,"Fallos de caja gravados ",0]
[null,null,"Conceptos de similar naturaleza gravados ",0]
[null,null,"Bonos de productividad exentos ",0]
[null,null,"Fallos de caja exentos ",0]
[null,null,"Conceptos de similar naturaleza exentos ",0]
[null,null,"Compensación de gastos teletrabajo - exentos ",0]
[null,null,"Personal militar - suplementos art. 57 Ley 19101 - exentos ",0]
[null,null,"SAC primera cuota - No alcanzado o exento ",0]
[null,null,"SAC segunda cuota - No alcanzado o exento ",0]
[null,null,"Ajustes períodos anteriores - Remuneración gravada ",0]
[null,null,"Ajustes períodos anteriores - Remuneración no alcanzada o exenta ",0]
[null,null,"TOTAL REMUNERACIÓN GRAVADA",{"$f":"SUM(D21:E27,D44,D47:D53,D70)","v":3456678.68}]
[null,null,"TOTAL REMUNERACIÓN NO ALCANZADA O EXENTA",{"$f":"SUM(D28:D43,D45,D54:D69,D71)","v":303640.94}]
[null,null,"TOTAL REMUNERACIONES",{"$f":"IF(+D72+D73<0,0,D72+D73)","v":3760319.62}]
[]
[null,null,"DEDUCCIONES GENERALES",null,null,null,null,"Topes máximos legales"]
[null,null,"Aportes a fondos de jubilaciones, retiros, pensiones o subsidios que se destinen a cajas nacionales, provinciales o municipales",429931.43,null,{"$f":"validaciones(D77,H77,0)&IF(D77>$D$74,\" El importe no puede ser mayor a la remuneración total\",\"\")","v":""}]
[null,null,"Aportes a fondos de jubilaciones, retiros, pensiones o subsidios que se destinen a cajas nacionales, provinciales o municipales por otros empleos",0,null,{"$f":"validaciones(D78,H78,0)&IF(D78>$D$74,\" El importe no puede ser mayor a la remuneración total\",\"\")","v":""}]
[null,null,"Aportes a obra sociales",92128.16,null,{"$f":"validaciones(D79,H79,0)&IF(D79>$D$74,\" El importe no puede ser mayor a la remuneración total\",\"\")","v":""}]
[null,null,"Aportes a obra sociales por otros empleos",0,null,{"$f":"validaciones(D80,H80,0)&IF(D80>$D$74,\" El importe no puede ser mayor a la remuneración total\",\"\")","v":""}]
[null,null,"Cuota sindical",95921.279999999999,null,{"$f":"validaciones(D81,H81,0)&IF(D81>$D$74,\" El importe no puede ser mayor a la remuneración total\",\"\")","v":""}]
[null,null,"Cuota sindical por otros empleos",0,null,{"$f":"validaciones(D82,H82,0)&IF(D82>$D$74,\" El importe no puede ser mayor a la remuneración total\",\"\")","v":""}]
[null,null,"Cuotas médico asistenciales",50976.94,null,{"$f":"validaciones(D83,H83,0)","v":""},null,{"$f":"(D72-SUM(D77:D82,D84:D89,D91,D93:D94,D95:D103))*0.05","v":141934.89050000001}]
[null,null,"Primas de seguro para el caso de muerte",0,null,{"$f":"validaciones(D84,H84,0)&IF(AND(Datos!$C$11=\"Informativa\",D84<>0),\"En la DDJJ informativa, este campo debe consignarse en cero (0)\",\"\")","v":""},null,{"$f":"+Tablas!B2","v":24000}]
[null,null,"Primas por riesgo de muerte y de ahorro de seguros mixtos, excepto para los casos de seguros de retiro privados administrados por entidades sujetas al control de la Superintendencia de Seguros de la Nación",0,null,{"$f":"validaciones(D85,H85,0)&IF(AND(Datos!$C$11=\"Informativa\",D85<>0),\"En la DDJJ informativa, este campo debe consignarse en cero (0)\",\"\")","v":""},null,{"$f":"+H84","v":24000}]
[null,null,"Aportes a planes de seguro de retiro privados administrados por entidades sujetas al control de la Superintendencia de Seguros de la Nación",0,null,{"$f":"validaciones(D86,H86,0)&IF(AND(Datos!$C$11=\"Informativa\",D86<>0),\"En la DDJJ informativa, este campo debe consignarse en cero (0)\",\"\")","v":""},null,{"$f":"+H85","v":24000}]
[null,null,"Cuotapartes de fondos comunes de inversión constituidos con fines de retiro",0,null,{"$f":"validaciones(D87,H87,0)&IF(D87<>0,\"Deberá consignarse en cero (0), hasta que la Autoridad de Aplicación – CNV – autorice a las Entidades a funcionar e implemente el régimen.\",\"\")","v":""},null,0]
[null,null,"Gastos de sepelio",0,null,{"$f":"validaciones(D88,H88,0)","v":""},null,{"$f":"+Tablas!B6","v":996.23}]
[null,null,"Gastos amortización e intereses rodado para corredores y viajantes de comercio",0,null,{"$f":"validaciones(D89,H89,0)&IF(D89>$D$74,\" El importe no puede ser mayor a la remuneración total\",\"\")","v":""}]
[null,null,"Donaciones a fiscos nacional, provinciales y municipales, y a instituciones comprendidas en el artículo 26, incisos e) y f) de la ley",0,null,{"$f":"validaciones(D90,H90,0)","v":""},null,{"$f":"(D72-SUM(D77:D82,D84:D89,D91,D93:D94,D95:D103))*0.05","v":141934.89050000001}]
[null,null,"Descuentos obligatorios establecidos por ley nacional, provincial o municipal",0,null,{"$f":"validaciones(D91,H91,0)&IF(D91>$D$74,\" El importe no puede ser mayor a la remuneración total\",\"\")","v":""}]
[null,null,"Honorarios por servicios de asistencia sanitaria, médica y paramédica",0,null,{"$f":"validaciones(D92,H92,0)&IF(AND(Datos!$C$11=\"Informativa\",D92<>0),\"En la DDJJ informativa, este campo debe consignarse en cero (0)\",\"\")","v":""},null,{"$f":"(D72-SUM(D77:D82,D84:D89,D91,D93:D94,D95:D103))*0.05","v":141934.89050000001}]
[null,null,"Intereses de créditos hipotecarios",0,null,{"$f":"validaciones(D93,H93,0)","v":""},null,{"$f":"+Tablas!B3","v":20000}]
[null,null,"Aportes al capital social o al fondo de riesgo de socios protectores de sociedades de garantía recíproca",0,null,{"$f":"validaciones(D94,H94,0)","v":""}]
[null,null,"Alquileres de inmuebles destinados a casa habitación",0,null,{"$f":"validaciones(D95,H95,0)","v":""},null,{"$f":"IF(Datos!C11=\"Final\",ROUND(Tablas!B4/12*12,2),ROUND(Tablas!B4/12*MONTH(Datos!C13),2))","v":167678.39999999999}]
[null,null,"Empleados del servicio doméstico",0,null,{"$f":"validaciones(D96,H96,0)","v":""},null,{"$f":"Tablas!B4","v":167678.39999999999}]
[null,null,"Gastos de movilidad, viáticos y otras compensaciones análogas abonados por el empleador",0,null,{"$f":"validaciones(D97,H97,0)","v":""},null,{"$f":"IF(D13=\"Desarrolla la actividad\",Tablas!B4,Tablas!B4*0.4)","v":67071.360000000001}]
[null,null,"Gastos por adquisición de indumentaria y/o equipamiento de trabajo",0,null,{"$f":"validaciones(D98,H98,0)","v":""}]
[null,null,"Otras deducciones - aportes a Cajas Complementarias de Previsión, Fondos Compensadores de Previsión o similares",0,null,{"$f":"validaciones(D99,H99,0)","v":""}]
[null,null,"Otras deducciones - Aportes para jubilaciones, retiros y subsidios ANSES",0,null,{"$f":"validaciones(D100,H100,0)","v":""}]
[null,null,"Otras deducciones - Cajas Provinciales o Municipales o de Previsión para Profesionales",0,null,{"$f":"validaciones(D101,H101,0)","v":""}]
[null,null,"Otras deducciones - Actores - Retribución pagada a los representantes - RG 2442/08",0,null,{"$f":"validaciones(D102,H102,0)","v":""}]
[null,null,"Otras deducciones - Fondos compensadores de previsión",0,null,{"$f":"validaciones(D103,H103,0)","v":""}]
[null,null,"Otras deducciones",{"$f":"+SUM(D99:E103)","v":0}]
[null,null,"TOTAL DEDUCCIONES GENERALES",{"$f":"SUM(D77:E103)","v":668957.81000000006},null,null,null,null,null,null,{"$f":"+D72-D105","v":2787720.87}]
[]
[null,null,"DEDUCCIONES PERSONALES",null,null,null,null,"Topes máximos legales"]
[null,null,"Ganancia no imponible",167678.39999999999,null,{"$f":"validaciones(D108,H108,0)","v":""},null,{"$f":"deducciones(1,Datos!C11,MONTH(Datos!$C$13),$D$12)","v":167678.39999999999},null,null,{"$f":"IF(K105-K109<=0,0,IF(K105-K109<=H108,K105-K109,H108))","v":167678.39999999999}]
[null,null,"Deducción especial",804856.34,null,{"$f":"validaciones(D109,H109,0)","v":""},null,{"$f":"deducciones(2,Datos!$C$11,MONTH(Datos!$C$13),$D$12)","v":804856.34},null,null,{"$f":"IF(K105<=H109,K105,H109)","v":804856.34}]
[null,null,"Deducción Especial Incrementada Primera parte del penúltimo párrafo del inciso c) del artículo 30 de la ley del gravamen",0]
[null,null,"Deducción Especial Incrementada Segunda parte del penúltimo párrafo del inciso c) del artículo 30 de la ley del gravamen",0]
[null,null,"Deducción específica",0,null,{"$f":"validaciones(D112,H112,0)","v":""},null,0]
[null,null,"Cargas de familia"]
[null,null,"Cónyuge",156320.63,null,{"$f":"validaciones(D114,H114,0)","v":""},null,{"$f":"cargas_de_familia(4,Datos!$C$11,MONTH(Datos!$C$13),$D$12)","v":156320.63},null,null,{"$f":"IF(K105-K108-K109>=D114,D114,K105-K108-K109)","v":156320.63}]
[null,null,"Cantidad de hijos e hijastros",1,null,{"$f":"validaciones(D115,H115,0)","v":""},null,99]
[null,null,"Deducción total hijos e hijastros",78833.08,null,null,null,{"$f":"cargas_de_familia(3,Datos!$C$11,MONTH(Datos!$C$13),$D$12)*D115","v":78833.08},null,null,{"$f":"IF(K105-K108-K109-K114>=D116,D116,K105-K108-K109-K114)","v":78833.08}]
[null,null,"Cantidad de hijos e hijastros incapacitados para el trabajo",0,null,{"$f":"validaciones(D117,H117,0)","v":""},null,99]
[null,null,"Hijos / Hijastros incapacitados para el trabajo",0,null,null,null,{"$f":"cargas_de_familia(5,Datos!$C$11,MONTH(Datos!$C$13),$D$12)*D117","v":0}]
[null,null,"Total de cargas de familia",{"$f":"+D114+D116+D118","v":235153.71000000002},null,null,null,0]
[null,null,"TOTAL DEDUCCIONES PERSONALES",{"$f":"SUM(D108:D112,D119)","v":1207688.45}]
[]
[null,null,"DETERMINACIÓN DEL IMPUESTO"]
[null,null,"REMUNERACIÓN NETA SUJETA A IMPUESTO -antes de la deducción art. 46 L. 27541-",0]
[null,null,"Deducción inciso a) primer párrafo artículo 30 de la ley (cfr. art. 46 L. 27541)",0,null,null,null,0,null,null,{"$f":"IF(D123-K125<=0,0,IF(D123-K125<=H124,D123-K125,H124))","v":0}]
[null,null,"Deducción inciso c) primer párrafo artículo 30 de la ley (cfr. art. 46 L. 27541)",0,null,null,null,0,null,null,{"$f":"IF(D123<=H125,D123,H125)","v":0}]
[null,null,"REMUNERACIÓN SUJETA A IMPUESTO",{"$f":"IF(+D72-D105-D120<0,0,+D72-D105-D120)","v":1580032.4200000002}]
[null,null,"Alícuota aplicable artículo 94 ley de impuesto a las ganancias",{"$f":"IF(OR(Datos!C11=\"Final\",Datos!C11=\"Anual\"),impuestoAlicuota(D126,D25*(1-G25)+D51*(1-G51),12),impuestoAlicuota(D126,D25*(1-G25)+D51*(1-G51),MONTH(D11)))","v":0.35}]
[null,null,"Alícuota aplicable sin incluir horas extras",{"$f":"IF(OR(Datos!C11=\"Final\",Datos!C11=\"Anual\"),impuestoAlicuota(D126,0,12),impuestoAlicuota(D126,0,MONTH(D11)))","v":0.35}]
[null,null,"IMPUESTO DETERMINADO",{"$f":"IF(D126<0,0,IF(OR(Datos!C11=\"Final\",Datos!C11=\"Anual\"),impuestoDeterminado(D126,D25*(1-G25)+D51*(1-G51),12),impuestoDeterminado(D126,D25*(1-G25)+D51*(1-G51),MONTH(D11))))","v":422010.08199999994}]
[null,null,"Impuesto retenido",385830.58]
[null,null,"Pagos a cuenta - Impuesto sobre créditos y débitos",0,null,{"$f":"IF(AND(Datos!$C$11=\"Informativa\",D131<>0),\"En la DDJJ informativa, este campo debe consignarse en cero (0)\",\"\")","v":""}]
[null,null,"Pagos a cuenta - Percepciones / Retenciones aduaneras",0,null,{"$f":"IF(AND(Datos!$C$11=\"Informativa\",D132<>0),\"En la DDJJ informativa, este campo debe consignarse en cero (0)\",\"\")","v":""}]
[null,null,"Pagos a cuenta - RG (AFIP) 3819/2015 - Cancelaciones en efectivo",0,null,{"$f":"IF(AND(Datos!$C$11=\"Informativa\",D133<>0),\"En la DDJJ informativa, este campo debe consignarse en cero (0)\",\"\")","v":""}]
[null,null,"Pagos a cuenta - Bono ley 27.424",0,null,{"$f":"IF(AND(Datos!$C$11=\"Informativa\",D134<>0),\"En la DDJJ informativa, este campo debe consignarse en cero (0)\",\"\")","v":""}]
[null,null,"Pagos a cuenta - RG 4815 [LEY 27.541 Art. 35 inciso a)] ",36179.5,null,{"$f":"IF(AND(Datos!$C$11=\"Informativa\",D135<>0),\"En la DDJJ informativa, este campo debe consignarse en cero (0)\",\"\")","v":""}]
[null,null,"Pagos a cuenta - RG 4815 [LEY 27.541 Art. 35 inciso b)] ",0,null,{"$f":"IF(AND(Datos!$C$11=\"Informativa\",D136<>0),\"En la DDJJ informativa, este campo debe consignarse en cero (0)\",\"\")","v":""}]
[null,null,"Pagos a cuenta - RG 4815 [LEY 27.541 Art. 35 inciso c)] ",0,null,{"$f":"IF(AND(Datos!$C$11=\"Informativa\",D137<>0),\"En la DDJJ informativa, este campo debe consignarse en cero (0)\",\"\")","v":""}]
[null,null,"Pagos a cuenta - RG 4815 [LEY 27.541 Art. 35 inciso d)] ",0,null,{"$f":"IF(AND(Datos!$C$11=\"Informativa\",D138<>0),\"En la DDJJ informativa, este campo debe consignarse en cero (0)\",\"\")","v":""}]
[null,null,"Pagos a cuenta - RG 4815 [LEY 27.541 Art. 35 inciso e)] ",0,null,{"$f":"IF(AND(Datos!$C$11=\"Informativa\",D139<>0),\"En la DDJJ informativa, este campo debe consignarse en cero (0)\",\"\")","v":""}]
[null,null,"Pagos a cuenta - Impuesto sobre créditos y débitos - sobre movimientos de fondos propios o de terceros",0,null,{"$f":"IF(AND(Datos!$C$11=\"Informativa\",D140<>0),\"En la DDJJ informativa, este campo debe consignarse en cero (0)\",\"\")","v":""}]
[null,null,"Pagos a cuenta - Resolución General (AFIP) 3819/2015 - Cancelaciones en Efectivo -Servicios de transporte terrestre, aéreo y por vía acuática de pasajeros con destino fuera del país",0,null,{"$f":"IF(AND(Datos!$C$11=\"Informativa\",D141<>0),\"En la DDJJ informativa, este campo debe consignarse en cero (0)\",\"\")","v":""}]
[null,null,"Total pagos a cuenta",{"$f":"SUM(D131:D141)","v":36179.5}]
[null,null,"SALDO A PAGAR",{"$f":"+ROUND(D129,2)-D130-D142","v":0}]

{"sheet":"Controlador","index":3,"n_rows":122,"n_cols":7,"rows_kept":122,"cut":false,"hidden":false,"merged":[]}
["Planilla","AFIP","Planilla",null,"Planilla nueva"]
[null,3,19,"Remuneración bruta gravada",21,null,{"$f":"\"array_tipo_fila(\"&B2&\") = \"&E2","v":"array_tipo_fila(3) = 21"}]
[null,{"$f":"+B2+1","v":4},20,"Retribuciones no habituales gravadas",22,null,{"$f":"\"array_tipo_fila(\"&B3&\") = \"&E3","v":"array_tipo_fila(4) = 22"}]
[null,{"$f":"+B3+1","v":5},21,"SAC primera cuota gravado",23,null,"array_tipo_fila(5) = 23"]
[null,6,22,"SAC segunda cuota gravado",24,null,"array_tipo_fila(6) = 24"]
[null,7,23,"Horas extras remuneración gravada",25,null,"array_tipo_fila(7) = 25"]
[null,8,24,"Movilidad y viáticos remuneración gravada",26,null,"array_tipo_fila(8) = 26"]
[null,9,25,"Material didáctico personal docente remuneración gravada",27,null,"array_tipo_fila(9) = 27"]
[null,10,26,"Remuneración no alcanzada o exenta (sin horas extras)",28,null,"array_tipo_fila(10) = 28"]
[null,11,29,"Horas extras remuneración exenta",31,null,"array_tipo_fila(11) = 31"]
[null,12,30,"Movilidad y viáticos remuneración exenta",32,null,"array_tipo_fila(12) = 32"]
[null,13,31,"Material didáctico personal docente remuneración exenta",33,null,"array_tipo_fila(13) = 33"]
[null,14,37,"Remuneración bruta gravada ",47,null,"array_tipo_fila(14) = 47"]
[null,15,38,"Retribuciones no habituales gravadas ",48,null,"array_tipo_fila(15) = 48"]
[null,16,39,"SAC primera cuota gravado ",49,null,"array_tipo_fila(16) = 49"]
[null,17,40,"SAC segunda cuota gravado ",50,null,"array_tipo_fila(17) = 50"]
[null,18,41,"Horas extras remuneración gravada ",51,null,"array_tipo_fila(18) = 51"]
[null,19,42,"Movilidad y viáticos remuneración gravada ",52,null,"array_tipo_fila(19) = 52"]
[null,20,43,"Material didáctico personal docente remuneración gravada ",53,null,"array_tipo_fila(20) = 53"]
[null,21,44,"Remuneración no alcanzada o exenta ",54,null,"array_tipo_fila(21) = 54"]
[null,22,47,"Horas extras remuneración exenta o no alcanzada ",57,null,"array_tipo_fila(22) = 57"]
[null,23,48,"Movilidad y viáticos remuneración exenta o no alcanzada ",58,null,"array_tipo_fila(23) = 58"]
[null,24,49,"Material didáctico personal docente remuneración exenta o no alcanzada ",59,null,"array_tipo_fila(24) = 59"]
[null,25,54,"TOTAL REMUNERACIÓN GRAVADA",72,null,"array_tipo_fila(25) = 72"]
[null,26,55,"TOTAL REMUNERACIÓN NO ALCANZADA O EXENTA",73,null,"array_tipo_fila(26) = 73"]
[null,27,56,"TOTAL REMUNERACIONES",74,null,"array_tipo_fila(27) = 74"]
[null,28,28,"Retribuciones no habituales exentas o no alcanzadas",30,null,"array_tipo_fila(28) = 30"]
[null,29,32,"SAC primera cuota - No alcanzado o exento",42,null,"array_tipo_fila(29) = 42"]
[null,30,33,"SAC segunda cuota - No alcanzado o exento",43,null,"array_tipo_fila(30) = 43"]
[null,31,34,"Ajustes períodos anteriores - Remuneración gravada",44,null,"array_tipo_fila(31) = 44"]
[null,32,35,"Ajustes períodos anteriores - Remuneración exenta / no alcanzada",45,null,"array_tipo_fila(32) = 45"]
[null,33,46,"Retribuciones no habituales exentas o no alcanzadas ",56,null,"array_tipo_fila(33) = 56"]
[null,34,50,"SAC primera cuota - No alcanzado o exento ",68,null,"array_tipo_fila(34) = 68"]
[null,35,51,"SAC segunda cuota - No alcanzado o exento ",69,null,"array_tipo_fila(35) = 69"]
[null,36,52,"Ajustes períodos anteriores - Remuneración gravada ",70,null,"array_tipo_fila(36) = 70"]
[null,37,53,"Ajustes períodos anteriores - Remuneración no alcanzada o exenta ",71,null,"array_tipo_fila(37) = 71"]
[null,38,27,"Remuneración exenta ley 27549",29,null,"array_tipo_fila(38) = 29"]
[null,39,45,"Remuneración exenta ley 27549 ",55,null,"array_tipo_fila(39) = 55"]
[null,40,null,"Bonos de productividad gravados",34,null,"array_tipo_fila(40) = 34"]
[null,{"$f":"+B39+1","v":41},null,"Fallos de caja gravados",35,null,"array_tipo_fila(41) = 35"]
[null,{"$f":"+B40+1","v":42},null,"Conceptos de similar naturaleza gravados",36,null,"array_tipo_fila(42) = 36"]
[null,43,null,"Bonos de productividad exentos",37,null,"array_tipo_fila(43) = 37"]
[null,44,null,"Fallos de caja exentos",38,null,"array_tipo_fila(44) = 38"]
[null,45,null,"Conceptos de similar naturaleza exentos",39,null,"array_tipo_fila(45) = 39"]
[null,46,null,"Compensación de gastos de teletrabajo exentos",40,null,"array_tipo_fila(46) = 40"]
[null,47,null,"Personal militar - suplementos art. 57 ley 19.101 - exentos",41,null,"array_tipo_fila(47) = 41"]
[null,48,null,"Bonos de productividad gravados ",60,null,"array_tipo_fila(48) = 60"]
[null,49,null,"Fallos de caja gravados ",61,null,"array_tipo_fila(49) = 61"]
[null,50,null,"Conceptos de similar naturaleza gravados ",62,null,"array_tipo_fila(50) = 62"]
[null,51,null,"Bonos de productividad exentos ",63,null,"array_tipo_fila(51) = 63"]
[null,52,null,"Fallos de caja exentos ",64,null,"array_tipo_fila(52) = 64"]
[null,53,null,"Conceptos de similar naturaleza exentos ",65,null,"array_tipo_fila(53) = 65"]
[null,54,null,"Compensación de gastos teletrabajo - exentos ",66,null,"array_tipo_fila(54) = 66"]
[null,55,null,"Personal militar - suplementos art. 57 Ley 19101 - exentos ",67,null,"array_tipo_fila(55) = 67"]
[]
["Registro 4","AFIP","Planilla"]
[null,3,59,"Aportes a fondos de jubilaciones, retiros, pensiones o subsidios que se destinen a cajas nacionales, provinciales o municipales",77,null,{"$f":"\"array_tipo_fila(\"&B57&\") = \"&E57","v":"array_tipo_fila(3) = 77"}]
[null,{"$f":"+B57+1","v":4},60,"Aportes a fondos de jubilaciones, retiros, pensiones o subsidios que se destinen a cajas nacionales, provinciales o municipales por otros empleos",78,null,"array_tipo_fila(4) = 78"]
[null,{"$f":"+B58+1","v":5},61,"Aportes a obra sociales",79,null,"array_tipo_fila(5) = 79"]
[null,6,62,"Aportes a obra sociales por otros empleos",80,null,"array_tipo_fila(6) = 80"]
[null,7,63,"Cuota sindical",81,null,"array_tipo_fila(7) = 81"]
[null,8,64,"Cuota sindical por otros empleos",82,null,"array_tipo_fila(8) = 82"]
[null,9,65,"Cuotas médico asistenciales",83,null,"array_tipo_fila(9) = 83"]
[null,10,66,"Primas de seguro para el caso de muerte",84,null,"array_tipo_fila(10) = 84"]
[null,11,67,"Primas por riesgo de muerte y de ahorro de seguros mixtos, excepto para los casos de seguros de retiro privados administrados por entidades sujetas al control de la Superintendencia de Seguros de la Nación",85,null,"array_tipo_fila(11) = 85"]
[null,12,68,"Aportes a planes de seguro de retiro privados administrados por entidades sujetas al control de la Superintendencia de Seguros de la Nación",86,null,"array_tipo_fila(12) = 86"]
[null,13,69,"Cuotapartes de fondos comunes de inversión constituidos con fines de retiro",87,null,"array_tipo_fila(13) = 87"]
[null,14,70,"Gastos de sepelio",88,null,"array_tipo_fila(14) = 88"]
[null,15,71,"Gastos amortización e intereses rodado para corredores y viajantes de comercio",89,null,"array_tipo_fila(15) = 89"]
[null,16,72,"Donaciones a fiscos nacional, provinciales y municipales, y a instituciones comprendidas en el artículo 26, incisos e) y f) de la ley",90,null,"array_tipo_fila(16) = 90"]
[null,17,73,"Descuentos obligatorios establecidos por ley nacional, provincial o municipal",91,null,"array_tipo_fila(17) = 91"]
[null,18,74,"Honorarios por servicios de asistencia sanitaria, médica y paramédica",92,null,"array_tipo_fila(18) = 92"]
[null,19,75,"Intereses de créditos hipotecarios",93,null,"array_tipo_fila(19) = 93"]
[null,20,76,"Aportes al capital social o al fondo de riesgo de socios protectores de sociedades de garantía recíproca",94,null,"array_tipo_fila(20) = 94"]
[null,21,81,"Otras deducciones - aportes a Cajas Complementarias de Previsión, Fondos Compensadores de Previsión o similares",99,null,"array_tipo_fila(21) = 99"]
[null,22,77,"Alquileres de inmuebles destinados a casa habitación",95,null,"array_tipo_fila(22) = 95"]
[null,23,78,"Empleados del servicio doméstico",96,null,"array_tipo_fila(23) = 96"]
[null,24,79,"Gastos de movilidad, viáticos y otras compensaciones análogas abonados por el empleador",97,null,"array_tipo_fila(24) = 97"]
[null,25,80,"Gastos por adquisición de indumentaria y/o equipamiento de trabajo",98,null,"array_tipo_fila(25) = 98"]
[null,26,86,"Otras deducciones",104,null,"array_tipo_fila(26) = 104"]
[null,27,87,"TOTAL DEDUCCIONES GENERALES",105,null,"array_tipo_fila(27) = 105"]
[null,28,82,"Otras deducciones - Aportes para jubilaciones, retiros y subsidios ANSES",100,null,"array_tipo_fila(28) = 100"]
[null,29,83,"Otras deducciones - Cajas Provinciales o Municipales o de Previsión para Profesionales",101,null,"array_tipo_fila(29) = 101"]
[null,30,84,"Otras deducciones - Actores - Retribución pagada a los representantes - RG 2442/08",102,null,"array_tipo_fila(30) = 102"]
[null,31,85,"Otras deducciones - Fondos compensadores de previsión",103,null,"array_tipo_fila(31) = 103"]
[]
["Registro 5"]
[null,3,90,"Ganancia no imponible",108,null,{"$f":"\"array_tipo_fila(\"&B88&\") = \"&E88","v":"array_tipo_fila(3) = 108"}]
[null,4,91,"Deducción especial",109,null,"array_tipo_fila(4) = 109"]
[null,5,92,"Deducción específica",112,null,"array_tipo_fila(5) = 112"]
[null,6,94,"Cónyuge",114,null,"array_tipo_fila(6) = 114"]
[null,7,95,"Cantidad de hijos e hijastros",115,null,"array_tipo_fila(7) = 115"]
[null,8,96,"Deducción total hijos e hijastros",116,null,"array_tipo_fila(8) = 116"]
[null,9,97,"Total de cargas de familia",119,null,"array_tipo_fila(9) = 119"]
[null,10,98,"TOTAL DEDUCCIONES PERSONALES",120,null,"array_tipo_fila(10) = 120"]
[null,11,101,"REMUNERACIÓN NETA SUJETA A IMPUESTO -antes de la deducción art. 46 L. 27541-",123,null,"array_tipo_fila(11) = 123"]
[null,12,102,"Deducción inciso a) primer párrafo artículo 30 de la ley (cfr. art. 46 L. 27541)",124,null,"array_tipo_fila(12) = 124"]
[null,13,103,"Deducción inciso c) primer párrafo artículo 30 de la ley (cfr. art. 46 L. 27541)",125,null,"array_tipo_fila(13) = 125"]
[null,{"$f":"+B98+1","v":14},104,"REMUNERACIÓN SUJETA A IMPUESTO",126,null,"array_tipo_fila(14) = 126"]
[null,15,null,"Cantidad de hijos e hijastros incapacitados para el trabajo",117,null,"array_tipo_fila(15) = 117"]
[null,16,null,"Hijos / Hijastros incapacitados para el trabajo",118,null,"array_tipo_fila(16) = 118"]
[null,17,null,"Deducción Especial Incrementada Primera parte del penúltimo párrafo del inciso c) del artículo 30 de la ley del gravamen",110,null,"array_tipo_fila(17) = 110"]
[null,18,null,"Deducción Especial Incrementada Segunda parte del penúltimo párrafo del inciso c) del artículo 30 de la ley del gravamen",111,null,"array_tipo_fila(18) = 111"]
[]
["Registro 6"]
[null,3,105,"Alícuota aplicable artículo 94 ley de impuesto a las ganancias",127,null,{"$f":"\"array_tipo_fila(\"&B106&\") = \"&E106","v":"array_tipo_fila(3) = 127"}]
[null,{"$f":"+B106+1","v":4},106,"Alícuota aplicable sin incluir horas extras",128,null,"array_tipo_fila(4) = 128"]
[null,{"$f":"+B107+1","v":5},107,"IMPUESTO DETERMINADO",129,null,"array_tipo_fila(5) = 129"]
[null,6,108,"Impuesto retenido",130,null,"array_tipo_fila(6) = 130"]
[null,7,120,"Total pagos a cuenta",142,null,"array_tipo_fila(7) = 142"]
[null,8,121,"SALDO A PAGAR",143,null,"array_tipo_fila(8) = 143"]
[null,9,109,"Pagos a cuenta - Impuesto sobre créditos y débitos",131,null,"array_tipo_fila(9) = 131"]
[null,10,110,"Pagos a cuenta - Percepciones / Retenciones aduaneras",132,null,"array_tipo_fila(10) = 132"]
[null,11,111,"Pagos a cuenta - RG (AFIP) 3819/2015 - Cancelaciones en efectivo",133,null,"array_tipo_fila(11) = 133"]
[null,12,112,"Pagos a cuenta - Bono ley 27.424",134,null,"array_tipo_fila(12) = 134"]
[null,13,113,"Pagos a cuenta - RG 4815 [LEY 27.541 Art. 35 inciso a)] ",135,null,"array_tipo_fila(13) = 135"]
[null,14,114,"Pagos a cuenta - RG 4815 [LEY 27.541 Art. 35 inciso b)] ",136,null,"array_tipo_fila(14) = 136"]
[null,15,115,"Pagos a cuenta - RG 4815 [LEY 27.541 Art. 35 inciso c)] ",137,null,"array_tipo_fila(15) = 137"]
[null,16,116,"Pagos a cuenta - RG 4815 [LEY 27.541 Art. 35 inciso d)] ",138,null,"array_tipo_fila(16) = 138"]
[null,17,117,"Pagos a cuenta - RG 4815 [LEY 27.541 Art. 35 inciso e)] ",139,null,"array_tipo_fila(17) = 139"]
[null,18,118,"Pagos a cuenta - Impuesto sobre créditos y débitos - sobre movimientos de fondos propios o de terceros",140,null,"array_tipo_fila(18) = 140"]
[null,19,null,"Pagos a cuenta - Resolución General (AFIP) 3819/2015 - Cancelaciones en Efectivo -Servicios de transporte terrestre, aéreo y por vía acuática de pasajeros con destino fuera del país",141,null,"array_tipo_fila(19) = 141"]

{"sheet":"Control","index":4,"n_rows":51,"n_cols":12,"rows_kept":51,"cut":false,"hidden":false,"merged":[]}
["ID","CUIL","Nombre y apellido","CUIT","Remuneraciones (0: error 1: bien)","Deducciones (0: error 1: bien)","Deducciones personales (0: error 1: bien)","0: error","CUIL inválido","Deducciones generales mayores a remuneraciones gravadas","Error en fecha","Errores"]
[1,{"$f":"Empleado01!D7","v":20259421498},{"$f":"Empleado01!D6","v":"FRANCO ROBERTO ENRIQUE"},{"$f":"IF(B2=0,\"No hay CUIL\",cuitValidar(B2))","v":"CUIT/CUIL Válido"},{"$f":"IF(Empleado01!D74=0,0,1)","v":1},{"$f":"IF(Empleado01!D105=0,0,1)","v":1},null,{"$f":"IF(AND(D2=\"CUIT/CUIL Válido\",E2=1),1,0)","v":1},{"$f":"IF(D2=\"CUIT/CUIL Válido\",0,1)","v":0},{"$f":"IF(D54<D87,1,0)","v":0},{"$f":"IF(MONTH(Datos!$C$13)>MONTH(Empleado01!D11),1,0)","v":0},{"$f":"IF(AND(H2=1,SUM(I2:K2)<>0),1,0)","v":0}]
[{"$f":"+A2+1","v":2},{"$f":"Empleado02!D7","v":20324442384},{"$f":"Empleado02!D6","v":"RAMOS LEANDRO"},{"$f":"IF(B3=0,\"No hay CUIL\",cuitValidar(B3))","v":"CUIT/CUIL Válido"},{"$f":"IF(Empleado02!D74=0,0,1)","v":1},{"$f":"IF(Empleado02!D105=0,0,1)","v":1},null,{"$f":"IF(AND(D3=\"CUIT/CUIL Válido\",E3=1),1,0)","v":1},{"$f":"IF(D3=\"CUIT/CUIL Válido\",0,1)","v":0},{"$f":"IF(Empleado02!D54<Empleado02!D87,1,0)","v":0},{"$f":"IF(MONTH(Datos!$C$13)>MONTH(Empleado02!D11),1,0)","v":1},{"$f":"IF(AND(H3=1,SUM(I3:K3)<>0),1,0)","v":1}]
[{"$f":"+A3+1","v":3},{"$f":"Empleado03!D7","v":20262022618},{"$f":"Empleado03!D6","v":"CURTI HECTOR DAVID"},"CUIT/CUIL Válido",{"$f":"IF(Empleado03!D74=0,0,1)","v":1},{"$f":"IF(Empleado03!D105=0,0,1)","v":1},null,1,0,{"$f":"IF(Empleado03!D54<Empleado03!D87,1,0)","v":0},{"$f":"IF(MONTH(Datos!$C$13)>MONTH(Empleado03!D11),1,0)","v":1},1]
[4,{"$f":"Empleado04!D7","v":20330698471},{"$f":"Empleado04!D6","v":"SALDIAS DAVID GUSTAVO"},"CUIT/CUIL Válido",{"$f":"IF(Empleado04!D74=0,0,1)","v":1},{"$f":"IF(Empleado04!D105=0,0,1)","v":1},null,1,0,{"$f":"IF(Empleado04!D54<Empleado04!D87,1,0)","v":0},{"$f":"IF(MONTH(Datos!$C$13)>MONTH(Empleado04!D11),1,0)","v":1},1]
[5,{"$f":"Empleado05!D7","v":20291122559},{"$f":"Empleado05!D6","v":"CENITAGOYA ALEJANDRO"},"CUIT/CUIL Válido",{"$f":"IF(Empleado05!D74=0,0,1)","v":1},{"$f":"IF(Empleado05!D105=0,0,1)","v":1},null,1,0,{"$f":"IF(Empleado05!D54<Empleado05!D87,1,0)","v":0},{"$f":"IF(MONTH(Datos!$C$13)>MONTH(Empleado05!D11),1,0)","v":1},1]
[6,{"$f":"Empleado06!D7","v":23283995739},{"$f":"Empleado06!D6","v":"DE LUCA LEONARDO OSCAR"},"CUIT/CUIL Válido",{"$f":"IF(Empleado06!D74=0,0,1)","v":1},{"$f":"IF(Empleado06!D105=0,0,1)","v":1},null,1,0,{"$f":"IF(Empleado06!D54<Empleado06!D87,1,0)","v":0},{"$f":"IF(MONTH(Datos!$C$13)>MONTH(Empleado06!D11),1,0)","v":1},1]
[7,{"$f":"Empleado07!D7","v":20303605895},{"$f":"Empleado07!D6","v":"CHIESA MARCOS"},"CUIT/CUIL Válido",{"$f":"IF(Empleado07!D74=0,0,1)","v":1},{"$f":"IF(Empleado07!D105=0,0,1)","v":1},null,1,0,{"$f":"IF(Empleado07!D54<Empleado07!D87,1,0)","v":0},{"$f":"IF(MONTH(Datos!$C$13)>MONTH(Empleado07!D11),1,0)","v":1},1]
[8,{"$f":"Empleado08!D7","v":20308513964},{"$f":"Empleado08!D6","v":"TAMAY SERGIO EDUARDO"},"CUIT/CUIL Válido",{"$f":"IF(Empleado08!D74=0,0,1)","v":1},{"$f":"IF(Empleado08!D105=0,0,1)","v":1},null,1,0,{"$f":"IF(Empleado08!D54<Empleado08!D87,1,0)","v":0},{"$f":"IF(MONTH(Datos!$C$13)>MONTH(Empleado08!D11),1,0)","v":1},1]
[9,{"$f":"Empleado09!D7","v":20385987928},{"$f":"Empleado09!D6","v":"SARANITI ANGEL JESUS"},"CUIT/CUIL Válido",{"$f":"IF(Empleado09!D74=0,0,1)","v":1},{"$f":"IF(Empleado09!D105=0,0,1)","v":1},null,1,0,{"$f":"IF(Empleado09!D54<Empleado09!D87,1,0)","v":0},{"$f":"IF(MONTH(Datos!$C$13)>MONTH(Empleado09!D11),1,0)","v":1},1]
[10,{"$f":"Empleado10!D7","v":20183399544},{"$f":"Empleado10!D6","v":"TORRES CESAR"},"CUIT/CUIL Válido",{"$f":"IF(Empleado10!D74=0,0,1)","v":1},{"$f":"IF(Empleado10!D105=0,0,1)","v":1},null,1,0,{"$f":"IF(Empleado10!D54<Empleado10!D87,1,0)","v":0},{"$f":"IF(MONTH(Datos!$C$13)>MONTH(Empleado10!D11),1,0)","v":1},1]
[11,{"$f":"Empleado11!D7","v":20259476012},{"$f":"Empleado11!D6","v":"ELZAURDIA FERNANDO MARTIN"},"CUIT/CUIL Válido",{"$f":"IF(Empleado11!D74=0,0,1)","v":1},{"$f":"IF(Empleado11!D105=0,0,1)","v":1},null,1,0,{"$f":"IF(Empleado11!D54<Empleado11!D87,1,0)","v":0},{"$f":"IF(MONTH(Datos!$C$13)>MONTH(Empleado11!D11),1,0)","v":1},1]
[12,{"$f":"Empleado12!D7","v":20388488116},{"$f":"Empleado12!D6","v":"RUIZ KLUG TOMAS GABRIEL"},"CUIT/CUIL Válido",{"$f":"IF(Empleado12!D74=0,0,1)","v":1},{"$f":"IF(Empleado12!D105=0,0,1)","v":1},null,1,0,{"$f":"IF(Empleado12!D54<Empleado12!D87,1,0)","v":0},{"$f":"IF(MONTH(Datos!$C$13)>MONTH(Empleado12!D11),1,0)","v":1},1]
[13,{"$f":"Empleado13!D7","v":20316239391},{"$f":"Empleado13!D6","v":"HERRERO AGUSTIN"},"CUIT/CUIL Válido",{"$f":"IF(Empleado13!D74=0,0,1)","v":1},{"$f":"IF(Empleado13!D105=0,0,1)","v":1},null,1,0,{"$f":"IF(Empleado13!D54<Empleado13!D87,1,0)","v":0},{"$f":"IF(MONTH(Datos!$C$13)>MONTH(Empleado13!D11),1,0)","v":1},1]
[14,{"$f":"Empleado14!D7","v":20926235517},{"$f":"Empleado14!D6","v":"MUÑOZ SALDIAS CRISTIAN MAURICIO"},"CUIT/CUIL Válido",{"$f":"IF(Empleado14!D74=0,0,1)","v":1},{"$f":"IF(Empleado14!D105=0,0,1)","v":1},null,1,0,{"$f":"IF(Empleado14!D54<Empleado14!D87,1,0)","v":0},{"$f":"IF(MONTH(Datos!$C$13)>MONTH(Empleado14!D11),1,0)","v":1},1]
[15,{"$f":"Empleado15!D7","v":20253172615},{"$f":"Empleado15!D6","v":"CORREA DIEGO DANIEL"},"CUIT/CUIL Válido",{"$f":"IF(Empleado15!D74=0,0,1)","v":1},{"$f":"IF(Empleado15!D105=0,0,1)","v":1},null,1,0,{"$f":"IF(Empleado15!D54<Empleado15!D87,1,0)","v":0},{"$f":"IF(MONTH(Datos!$C$13)>MONTH(Empleado15!D11),1,0)","v":1},1]
[16,{"$f":"Empleado16!D7","v":20321661441},{"$f":"Empleado16!D6","v":"EGUIA MENEGUZZER RENZO"},"CUIT/CUIL Válido",{"$f":"IF(Empleado16!D74=0,0,1)","v":1},{"$f":"IF(Empleado16!D105=0,0,1)","v":1},null,1,0,{"$f":"IF(Empleado16!D54<Empleado16!D87,1,0)","v":0},{"$f":"IF(MONTH(Datos!$C$13)>MONTH(Empleado16!D11),1,0)","v":1},1]
[17,{"$f":"Empleado17!D7","v":23184701839},{"$f":"Empleado17!D6","v":"HEIMSATH DANIEL GUSTAVO"},"CUIT/CUIL Válido",{"$f":"IF(Empleado17!D74=0,0,1)","v":1},{"$f":"IF(Empleado17!D105=0,0,1)","v":1},null,1,0,{"$f":"IF(Empleado17!D54<Empleado17!D87,1,0)","v":0},{"$f":"IF(MONTH(Datos!$C$13)>MONTH(Empleado17!D11),1,0)","v":1},1]
[18,{"$f":"Empleado18!D7","v":20381344437},{"$f":"Empleado18!D6","v":"MIGLIO EMILIANO DAVID"},"CUIT/CUIL Válido",{"$f":"IF(Empleado18!D74=0,0,1)","v":1},{"$f":"IF(Empleado18!D105=0,0,1)","v":1},null,1,0,{"$f":"IF(Empleado18!D54<Empleado18!D87,1,0)","v":0},{"$f":"IF(MONTH(Datos!$C$13)>MONTH(Empleado18!D11),1,0)","v":1},1]
[19,{"$f":"Empleado19!D7","v":27385959538},{"$f":"Empleado19!D6","v":"LESCARAY PAZ ANA BELEN"},"CUIT/CUIL Válido",{"$f":"IF(Empleado19!D74=0,0,1)","v":1},{"$f":"IF(Empleado19!D105=0,0,1)","v":1},null,1,0,{"$f":"IF(Empleado19!D54<Empleado19!D87,1,0)","v":0},{"$f":"IF(MONTH(Datos!$C$13)>MONTH(Empleado19!D11),1,0)","v":1},1]
[20,{"$f":"Empleado20!D7","v":20233894754},{"$f":"Empleado20!D6","v":"BRUCELLARIA CRISTIAN JOSE"},"CUIT/CUIL Válido",{"$f":"IF(Empleado20!D74=0,0,1)","v":1},{"$f":"IF(Empleado20!D105=0,0,1)","v":1},null,1,0,{"$f":"IF(Empleado20!D54<Empleado20!D87,1,0)","v":0},{"$f":"IF(MONTH(Datos!$C$13)>MONTH(Empleado20!D11),1,0)","v":1},1]
[21,{"$f":"Empleado21!D7","v":20302935727},{"$f":"Empleado21!D6","v":"MERINO LUCIANO"},"CUIT/CUIL Válido",{"$f":"IF(Empleado21!D74=0,0,1)","v":1},{"$f":"IF(Empleado21!D105=0,0,1)","v":1},null,1,0,{"$f":"IF(Empleado21!D54<Empleado21!D87,1,0)","v":0},{"$f":"IF(MONTH(Datos!$C$13)>MONTH(Empleado21!D11),1,0)","v":1},1]
[22,{"$f":"Empleado22!D7","v":27928827041},{"$f":"Empleado22!D6","v":"VILARIÑO MARIA LAURA"},"CUIT/CUIL Válido",{"$f":"IF(Empleado22!D74=0,0,1)","v":1},{"$f":"IF(Empleado22!D105=0,0,1)","v":1},null,1,0,{"$f":"IF(Empleado22!D54<Empleado22!D87,1,0)","v":0},{"$f":"IF(MONTH(Datos!$C$13)>MONTH(Empleado22!D11),1,0)","v":1},1]
[23,{"$f":"Empleado23!D7","v":20428296789},{"$f":"Empleado23!D6","v":"NACIMENTO IGNACIO ISAIAS"},"CUIT/CUIL Válido",{"$f":"IF(Empleado23!D74=0,0,1)","v":1},{"$f":"IF(Empleado23!D105=0,0,1)","v":1},null,1,0,{"$f":"IF(Empleado23!D54<Empleado23!D87,1,0)","v":0},{"$f":"IF(MONTH(Datos!$C$13)>MONTH(Empleado23!D11),1,0)","v":1},1]
[24,{"$f":"Empleado24!D7","v":23168649029},{"$f":"Empleado24!D6","v":"PERCUDANI ROBERTO OSCAR"},"CUIT/CUIL Válido",{"$f":"IF(Empleado24!D74=0,0,1)","v":1},{"$f":"IF(Empleado24!D105=0,0,1)","v":1},null,1,0,{"$f":"IF(Empleado24!D54<Empleado24!D87,1,0)","v":0},{"$f":"IF(MONTH(Datos!$C$13)>MONTH(Empleado24!D11),1,0)","v":1},1]
[25,{"$f":"Empleado25!D7","v":23370761019},{"$f":"Empleado25!D6","v":"REYES JUAN MANUEL"},"CUIT/CUIL Válido",{"$f":"IF(Empleado25!D74=0,0,1)","v":1},{"$f":"IF(Empleado25!D105=0,0,1)","v":1},null,1,0,{"$f":"IF(Empleado25!D54<Empleado25!D87,1,0)","v":0},{"$f":"IF(MONTH(Datos!$C$13)>MONTH(Empleado25!D11),1,0)","v":1},1]
[26,{"$f":"Empleado26!D7","v":20319804162},{"$f":"Empleado26!D6","v":"ALBERA NAHUEL FRANCISCO"},"CUIT/CUIL Válido",{"$f":"IF(Empleado26!D74=0,0,1)","v":1},{"$f":"IF(Empleado26!D105=0,0,1)","v":1},null,1,0,{"$f":"IF(Empleado26!D54<Empleado26!D87,1,0)","v":0},{"$f":"IF(MONTH(Datos!$C$13)>MONTH(Empleado26!D11),1,0)","v":1},1]
[27,{"$f":"Empleado27!D7","v":20378948933},{"$f":"Empleado27!D6","v":"GOMEZ FRANCISCO"},"CUIT/CUIL Válido",{"$f":"IF(Empleado27!D74=0,0,1)","v":1},{"$f":"IF(Empleado27!D105=0,0,1)","v":1},null,1,0,{"$f":"IF(Empleado27!D54<Empleado27!D87,1,0)","v":0},{"$f":"IF(MONTH(Datos!$C$13)>MONTH(Empleado27!D11),1,0)","v":1},1]
[28,{"$f":"Empleado28!D7","v":0},{"$f":"Empleado28!D6","v":0},"No hay CUIL",{"$f":"IF(Empleado28!D74=0,0,1)","v":0},{"$f":"IF(Empleado28!D105=0,0,1)","v":0},null,0,1,{"$f":"IF(Empleado28!D54<Empleado28!D87,1,0)","v":0},{"$f":"IF(MONTH(Datos!$C$13)>MONTH(Empleado28!D11),1,0)","v":1},0]
[29,{"$f":"Empleado29!D7","v":0},{"$f":"Empleado29!D6","v":0},"No hay CUIL",{"$f":"IF(Empleado29!D74=0,0,1)","v":0},{"$f":"IF(Empleado29!D105=0,0,1)","v":0},null,0,1,{"$f":"IF(Empleado29!D54<Empleado29!D87,1,0)","v":0},{"$f":"IF(MONTH(Datos!$C$13)>MONTH(Empleado29!D11),1,0)","v":1},0]
[30,{"$f":"Empleado30!D7","v":0},{"$f":"Empleado30!D6","v":0},"No hay CUIL",{"$f":"IF(Empleado30!D74=0,0,1)","v":0},{"$f":"IF(Empleado30!D105=0,0,1)","v":0},null,0,1,{"$f":"IF(Empleado30!D54<Empleado30!D87,1,0)","v":0},{"$f":"IF(MONTH(Datos!$C$13)>MONTH(Empleado30!D11),1,0)","v":1},0]
[31,{"$f":"Empleado31!D7","v":0},{"$f":"Empleado31!D6","v":0},"No hay CUIL",{"$f":"IF(Empleado31!D74=0,0,1)","v":0},{"$f":"IF(Empleado31!D105=0,0,1)","v":0},null,0,1,{"$f":"IF(Empleado31!D54<Empleado31!D87,1,0)","v":0},{"$f":"IF(MONTH(Datos!$C$13)>MONTH(Empleado31!D11),1,0)","v":1},0]
[32,{"$f":"Empleado32!D7","v":0},{"$f":"Empleado32!D6","v":0},"No hay CUIL",{"$f":"IF(Empleado32!D74=0,0,1)","v":0},{"$f":"IF(Empleado32!D105=0,0,1)","v":0},null,0,1,{"$f":"IF(Empleado32!D54<Empleado32!D87,1,0)","v":0},{"$f":"IF(MONTH(Datos!$C$13)>MONTH(Empleado32!D11),1,0)","v":1},0]
[33,{"$f":"Empleado33!D7","v":0},{"$f":"Empleado33!D6","v":0},"No hay CUIL",{"$f":"IF(Empleado33!D74=0,0,1)","v":0},{"$f":"IF(Empleado33!D105=0,0,1)","v":0},null,0,1,{"$f":"IF(Empleado33!D54<Empleado33!D87,1,0)","v":0},{"$f":"IF(MONTH(Datos!$C$13)>MONTH(Empleado33!D11),1,0)","v":1},0]
[34,{"$f":"Empleado34!D7","v":0},{"$f":"Empleado34!D6","v":0},"No hay CUIL",{"$f":"IF(Empleado34!D74=0,0,1)","v":0},{"$f":"IF(Empleado34!D105=0,0,1)","v":0},null,0,1,{"$f":"IF(Empleado34!D54<Empleado34!D87,1,0)","v":0},{"$f":"IF(MONTH(Datos!$C$13)>MONTH(Empleado34!D11),1,0)","v":1},0]
[35,{"$f":"Empleado35!D7","v":0},{"$f":"Empleado35!D6","v":0},"No hay CUIL",{"$f":"IF(Empleado35!D74=0,0,1)","v":0},{"$f":"IF(Empleado35!D105=0,0,1)","v":0},null,0,1,{"$f":"IF(Empleado35!D54<Empleado35!D87,1,0)","v":0},{"$f":"IF(MONTH(Datos!$C$13)>MONTH(Empleado35!D11),1,0)","v":1},0]
[36,{"$f":"Empleado36!D7","v":0},{"$f":"Empleado36!D6","v":0},"No hay CUIL",{"$f":"IF(Empleado36!D74=0,0,1)","v":0},{"$f":"IF(Empleado36!D105=0,0,1)","v":0},null,0,1,{"$f":"IF(Empleado36!D54<Empleado36!D87,1,0)","v":0},{"$f":"IF(MONTH(Datos!$C$13)>MONTH(Empleado36!D11),1,0)","v":1},0]
[37,{"$f":"Empleado37!D7","v":0},{"$f":"Empleado37!D6","v":0},"No hay CUIL",{"$f":"IF(Empleado37!D74=0,0,1)","v":0},{"$f":"IF(Empleado37!D105=0,0,1)","v":0},null,0,1,{"$f":"IF(Empleado37!D54<Empleado37!D87,1,0)","v":0},{"$f":"IF(MONTH(Datos!$C$13)>MONTH(Empleado37!D11),1,0)","v":1},0]
[38,{"$f":"Empleado38!D7","v":0},{"$f":"Empleado38!D6","v":0},"No hay CUIL",{"$f":"IF(Empleado38!D74=0,0,1)","v":0},{"$f":"IF(Empleado38!D105=0,0,1)","v":0},null,0,1,{"$f":"IF(Empleado38!D54<Empleado38!D87,1,0)","v":0},{"$f":"IF(MONTH(Datos!$C$13)>MONTH(Empleado38!D11),1,0)","v":1},0]
[39,{"$f":"Empleado39!D7","v":0},{"$f":"Empleado39!D6","v":0},"No hay CUIL",{"$f":"IF(Empleado39!D74=0,0,1)","v":0},{"$f":"IF(Empleado39!D105=0,0,1)","v":0},null,0,1,{"$f":"IF(Empleado39!D54<Empleado39!D87,1,0)","v":0},{"$f":"IF(MONTH(Datos!$C$13)>MONTH(Empleado39!D11),1,0)","v":1},0]
[40,{"$f":"Empleado40!D7","v":0},{"$f":"Empleado40!D6","v":0},"No hay CUIL",{"$f":"IF(Empleado40!D74=0,0,1)","v":0},{"$f":"IF(Empleado40!D105=0,0,1)","v":0},null,0,1,{"$f":"IF(Empleado40!D54<Empleado40!D87,1,0)","v":0},{"$f":"IF(MONTH(Datos!$C$13)>MONTH(Empleado40!D11),1,0)","v":1},0]
[41,{"$f":"Empleado41!D7","v":0},{"$f":"Empleado41!D6","v":0},"No hay CUIL",{"$f":"IF(Empleado41!D74=0,0,1)","v":0},{"$f":"IF(Empleado41!D105=0,0,1)","v":0},null,0,1,{"$f":"IF(Empleado41!D54<Empleado41!D87,1,0)","v":0},{"$f":"IF(MONTH(Datos!$C$13)>MONTH(Empleado41!D11),1,0)","v":1},0]
[42,{"$f":"Empleado42!D7","v":0},{"$f":"Empleado42!D6","v":0},"No hay CUIL",{"$f":"IF(Empleado42!D74=0,0,1)","v":0},{"$f":"IF(Empleado42!D105=0,0,1)","v":0},null,0,1,{"$f":"IF(Empleado42!D54<Empleado42!D87,1,0)","v":0},{"$f":"IF(MONTH(Datos!$C$13)>MONTH(Empleado42!D11),1,0)","v":1},0]
[43,{"$f":"Empleado43!D7","v":0},{"$f":"Empleado43!D6","v":0},"No hay CUIL",{"$f":"IF(Empleado43!D74=0,0,1)","v":0},{"$f":"IF(Empleado43!D105=0,0,1)","v":0},null,0,1,{"$f":"IF(Empleado43!D54<Empleado43!D87,1,0)","v":0},{"$f":"IF(MONTH(Datos!$C$13)>MONTH(Empleado43!D11),1,0)","v":1},0]
[44,{"$f":"Empleado44!D7","v":0},{"$f":"Empleado44!D6","v":0},"No hay CUIL",{"$f":"IF(Empleado44!D74=0,0,1)","v":0},{"$f":"IF(Empleado44!D105=0,0,1)","v":0},null,0,1,{"$f":"IF(Empleado44!D54<Empleado44!D87,1,0)","v":0},{"$f":"IF(MONTH(Datos!$C$13)>MONTH(Empleado44!D11),1,0)","v":1},0]
[45,{"$f":"Empleado45!D7","v":0},{"$f":"Empleado45!D6","v":0},"No hay CUIL",{"$f":"IF(Empleado45!D74=0,0,1)","v":0},{"$f":"IF(Empleado45!D105=0,0,1)","v":0},null,0,1,{"$f":"IF(Empleado45!D54<Empleado45!D87,1,0)","v":0},{"$f":"IF(MONTH(Datos!$C$13)>MONTH(Empleado45!D11),1,0)","v":1},0]
[46,{"$f":"Empleado46!D7","v":0},{"$f":"Empleado46!D6","v":0},"No hay CUIL",{"$f":"IF(Empleado46!D74=0,0,1)","v":0},{"$f":"IF(Empleado46!D105=0,0,1)","v":0},null,0,1,{"$f":"IF(Empleado46!D54<Empleado46!D87,1,0)","v":0},{"$f":"IF(MONTH(Datos!$C$13)>MONTH(Empleado46!D11),1,0)","v":1},0]
[47,{"$f":"Empleado47!D7","v":0},{"$f":"Empleado47!D6","v":0},"No hay CUIL",{"$f":"IF(Empleado47!D74=0,0,1)","v":0},{"$f":"IF(Empleado47!D105=0,0,1)","v":0},null,0,1,{"$f":"IF(Empleado47!D54<Empleado47!D87,1,0)","v":0},{"$f":"IF(MONTH(Datos!$C$13)>MONTH(Empleado47!D11),1,0)","v":1},0]
[48,{"$f":"Empleado48!D7","v":0},{"$f":"Empleado48!D6","v":0},"No hay CUIL",{"$f":"IF(Empleado48!D74=0,0,1)","v":0},{"$f":"IF(Empleado48!D105=0,0,1)","v":0},null,0,1,{"$f":"IF(Empleado48!D54<Empleado48!D87,1,0)","v":0},{"$f":"IF(MONTH(Datos!$C$13)>MONTH(Empleado48!D11),1,0)","v":1},0]
[49,{"$f":"Empleado49!D7","v":0},{"$f":"Empleado49!D6","v":0},"No hay CUIL",{"$f":"IF(Empleado49!D74=0,0,1)","v":0},{"$f":"IF(Empleado49!D105=0,0,1)","v":0},null,0,1,{"$f":"IF(Empleado49!D54<Empleado49!D87,1,0)","v":0},{"$f":"IF(MONTH(Datos!$C$13)>MONTH(Empleado49!D11),1,0)","v":1},0]
[50,{"$f":"Empleado50!D7","v":0},{"$f":"Empleado50!D6","v":0},"No hay CUIL",{"$f":"IF(Empleado50!D74=0,0,1)","v":0},{"$f":"IF(Empleado50!D105=0,0,1)","v":0},null,{"$f":"IF(AND(D54=\"CUIT/CUIL Válido\",E51=1),1,0)","v":0},{"$f":"IF(D54=\"CUIT/CUIL Válido\",0,1)","v":1},{"$f":"IF(Empleado50!D54<Empleado50!D87,1,0)","v":0},{"$f":"IF(MONTH(Datos!$C$13)>MONTH(Empleado50!D11),1,0)","v":1},0]

{"sheet":"Tablas","index":5,"n_rows":9,"n_cols":2,"rows_kept":9,"cut":false,"hidden":false,"merged":[]}
["Concepto",2021]
["Seguros",24000]
["Intereses hipotecarios",20000]
["GNI",167678.39999999999]
["40 % GNI",{"$f":"+B4*0.4","v":67071.360000000001}]
["Sepelio",996.23]
[]
["Cónyuge",156320.63]
["Hijos",78833.08]

{"sheet":"Empleado02","index":6,"n_rows":143,"n_cols":11,"rows_kept":143,"cut":false,"hidden":false,"merged":[[10,7,11,9]]}
[]
[]
[null,null,"LIQUIDACIÓN DE IMPUESTO A LAS GANANCIAS - 4ta. CATEGORÍA RELACIÓN DE DEPENDENCIA"]
[]
[]
[null,null,"Empleado: Nombre y apellido ","RAMOS LEANDRO"]
[null,null,"CUIL del empleado",20324442384,null,{"$f":"cuitValidar(D7)","v":"CUIT/CUIL Válido"}]
[null,null,{"$f":"\"Agente de Retención: \"","v":"Agente de Retención: "},{"$f":"Datos!C7&\" - \"&Datos!C5","v":"33711238269 - OPERACIONES AGROPORTUARIAS S.A."}]
[null,null,{"$f":"\"Período Fiscal: \"","v":"Período Fiscal: "},{"$f":"YEAR(Datos!C13)","v":2021}]
[null,null,"Período trabajado (desde):","2021-01-01"]
[null,null,"Período trabajado (hasta):","2021-09-25",null,null,null,{"$f":"IF(MONTH(D11)>MONTH(Datos!C13),\"El período trabajado no puede ser mayor al período que se informa (mes \"&MONTH(Datos!C13)&\")\",\"\")","v":""}]
[null,null,"Zona geográfica:","Todo el país (excepto zona patagónica)"]
[null,null,"Transporte a larga distancia","No desarrolla la actividad"]
[null,null,"Beneficio promocional 27424?","No"]
[null,null,"Beneficio de la ley 27549?","No"]
[null,null,"El trabajador labora bajo el régimen de teletrabajo (Ley 27555)?","No"]
[null,null,"El trabajador es personal militar en actividad?","No"]
[]
[null,null,"REMUNERACIONES"]
[null,null,"Abonadas por el agente de retención:"]
[null,null,"Remuneración bruta gravada",3126645.25]
[null,null,"Retribuciones no habituales gravadas",0]
[null,null,"SAC primera cuota gravado",0]
[null,null,"SAC segunda cuota gravado",0]
[null,null,"Horas extras remuneración gravada",0,null,null,0,"% de retenciones"]
[null,null,"Movilidad y viáticos remuneración gravada",0]
[null,null,"Material didáctico personal docente remuneración gravada",0]
[null,null,"Remuneración no alcanzada o exenta (sin horas extras)",0]
[null,null,"Remuneración exenta ley 27549",0,null,{"$f":"IF(AND($D$15=\"No\",D29<>0),\"Para que sea procedente el beneficio, modifique el valor en la celda D15\",\"\")","v":""}]
[null,null,"Retribuciones no habituales exentas o no alcanzadas",0]
[null,null,"Horas extras remuneración exenta",131569.26999999999]
[null,null,"Movilidad y viáticos remuneración exenta",0]
[null,null,"Material didáctico personal docente remuneración exenta",0]
[null,null,"Bonos de productividad gravados",0]
[null,null,"Fallos de caja gravados",0]
[null,null,"Conceptos de similar naturaleza gravados",0]
[null,null,"Bonos de productividad exentos",0]
[null,null,"Fallos de caja exentos",0]
[null,null,"Conceptos de similar naturaleza exentos",0]
[null,null,"Compensación de gastos de teletrabajo exentos",0]
[null,null,"Personal militar - suplementos art. 57 ley 19.101 - exentos",0]
[null,null,"SAC primera cuota - No alcanzado o exento",0]
[null,null,"SAC segunda cuota - No alcanzado o exento",0]
[null,null,"Ajustes períodos anteriores - Remuneración gravada",0]
[null,null,"Ajustes períodos anteriores - Remuneración exenta / no alcanzada",0]
[null,null,"Otros empleos:"]
[null,null,"Remuneración bruta gravada ",0]
[null,null,"Retribuciones no habituales gravadas ",0]
[null,null,"SAC primera cuota gravado ",0]
[null,null,"SAC segunda cuota gravado ",0]
[null,null,"Horas extras remuneración gravada ",0,null,null,0,"% de retenciones"]
[null,null,"Movilidad y viáticos remuneración gravada ",0]
[null,null,"Material didáctico personal docente remuneración gravada ",0]
[null,null,"Remuneración no alcanzada o exenta ",0]
[null,null,"Remuneración exenta ley 27549 ",0,null,{"$f":"IF(AND($D$15=\"No\",D55<>0),\"Para que sea procedente el beneficio, modifique el valor en la celda D15\",\"\")","v":""}]
[null,null,"Retribuciones no habituales exentas o no alcanzadas ",0]
[null,null,"Horas extras remuneración exenta o no alcanzada ",0]
[null,null,"Movilidad y viáticos remuneración exenta o no alcanzada ",0]
[null,null,"Material didáctico personal docente remuneración exenta o no alcanzada ",0]
[null,null,"Bonos de productividad gravados ",0]
[null,null,"Fallos de caja gravados ",0]
[null,null,"Conceptos de similar naturaleza gravados ",0]
[null,null,"Bonos de productividad exentos ",0]
[null,null,"Fallos de caja exentos ",0]
[null,null,"Conceptos de similar naturaleza exentos ",0]
[null,null,"Compensación de gastos teletrabajo - exentos ",0]
[null,null,"Personal militar - suplementos art. 57 Ley 19101 - exentos ",0]
[null,null,"SAC primera cuota - No alcanzado o exento ",0]
[null,null,"SAC segunda cuota - No alcanzado o exento ",0]
[null,null,"Ajustes períodos anteriores - Remuneración gravada ",0]
[null,null,"Ajustes períodos anteriores - Remuneración no alcanzada o exenta ",0]
[null,null,"TOTAL REMUNERACIÓN GRAVADA",{"$f":"SUM(D21:E27,D44,D47:D53,D70)","v":3126645.25}]
[null,null,"TOTAL REMUNERACIÓN NO ALCANZADA O EXENTA",{"$f":"SUM(D28:D43,D45,D54:D69,D71)","v":131569.26999999999}]
[null,null,"TOTAL REMUNERACIONES",{"$f":"IF(+D72+D73<0,0,D72+D73)","v":3258214.52}]
[]
[null,null,"DEDUCCIONES GENERALES",null,null,null,null,"Topes máximos legales"]
[null,null,"Aportes a fondos de jubilaciones, retiros, pensiones o subsidios que se destinen a cajas nacionales, provinciales o municipales",385596.6,null,{"$f":"validaciones(D77,H77,0)&IF(D77>$D$74,\" El importe no puede ser mayor a la remuneración total\",\"\")","v":""}]
[null,null,"Aportes a fondos de jubilaciones, retiros, pensiones o subsidios que se destinen a cajas nacionales, provinciales o municipales por otros empleos",0,null,{"$f":"validaciones(D78,H78,0)&IF(D78>$D$74,\" El importe no puede ser mayor a la remuneración total\",\"\")","v":""}]
[null,null,"Aportes a obra sociales",82627.839999999997,null,{"$f":"validaciones(D79,H79,0)&IF(D79>$D$74,\" El importe no puede ser mayor a la remuneración total\",\"\")","v":""}]
[null,null,"Aportes a obra sociales por otros empleos",0,null,{"$f":"validaciones(D80,H80,0)&IF(D80>$D$74,\" El importe no puede ser mayor a la remuneración total\",\"\")","v":""}]
[null,null,"Cuota sindical",87061.2,null,{"$f":"validaciones(D81,H81,0)&IF(D81>$D$74,\" El importe no puede ser mayor a la remuneración total\",\"\")","v":""}]
[null,null,"Cuota sindical por otros empleos",0,null,{"$f":"validaciones(D82,H82,0)&IF(D82>$D$74,\" El importe no puede ser mayor a la remuneración total\",\"\")","v":""}]
[null,null,"Cuotas médico asistenciales",0,null,{"$f":"validaciones(D83,H83,0)","v":""},null,{"$f":"(D72-SUM(D77:D82,D84:D89,D91,D93:D94,D95:D103))*0.05","v":124553.10050000002}]
[null,null,"Primas de seguro para el caso de muerte",0,null,{"$f":"validaciones(D84,H84,0)&IF(AND(Datos!$C$11=\"Informativa\",D84<>0),\"En la DDJJ informativa, este campo debe consignarse en cero (0)\",\"\")","v":""},null,{"$f":"+Tablas!B2","v":24000}]
[null,null,"Primas por riesgo de muerte y de ahorro de seguros mixtos, excepto para los casos de seguros de retiro privados administrados por entidades sujetas al control de la Superintendencia de Seguros de la Nación",0,null,{"$f":"validaciones(D85,H85,0)&IF(AND(Datos!$C$11=\"Informativa\",D85<>0),\"En la DDJJ informativa, este campo debe consignarse en cero (0)\",\"\")","v":""},null,{"$f":"+H84","v":24000}]
[null,null,"Aportes a planes de seguro de retiro privados administrados por entidades sujetas al control de la Superintendencia de Seguros de la Nación",0,null,{"$f":"validaciones(D86,H86,0)&IF(AND(Datos!$C$11=\"Informativa\",D86<>0),\"En la DDJJ informativa, este campo debe consignarse en cero (0)\",\"\")","v":""},null,{"$f":"+H85","v":24000}]
[null,null,"Cuotapartes de fondos comunes de inversión constituidos con fines de retiro",0,null,{"$f":"validaciones(D87,H87,0)&IF(D87<>0,\"Deberá consignarse en cero (0), hasta que la Autoridad de Aplicación – CNV – autorice a las Entidades a funcionar e implemente el régimen.\",\"\")","v":""},null,0]
[null,null,"Gastos de sepelio",0,null,{"$f":"validaciones(D88,H88,0)","v":""},null,{"$f":"+Tablas!B6","v":996.23}]
[null,null,"Gastos amortización e intereses rodado para corredores y viajantes de comercio",0,null,{"$f":"validaciones(D89,H89,0)&IF(D89>$D$74,\" El importe no puede ser mayor a la remuneración total\",\"\")","v":""}]
[null,null,"Donaciones a fiscos nacional, provinciales y municipales, y a instituciones comprendidas en el artículo 26, incisos e) y f) de la ley",0,null,{"$f":"validaciones(D90,H90,0)","v":""},null,{"$f":"(D72-SUM(D77:D82,D84:D89,D91,D93:D94,D95:D103))*0.05","v":124553.10050000002}]
[null,null,"Descuentos obligatorios establecidos por ley nacional, provincial o municipal",0,null,{"$f":"validaciones(D91,H91,0)&IF(D91>$D$74,\" El importe no puede ser mayor a la remuneración total\",\"\")","v":""}]
[null,null,"Honorarios por servicios de asistencia sanitaria, médica y paramédica",0,null,{"$f":"validaciones(D92,H92,0)&IF(AND(Datos!$C$11=\"Informativa\",D92<>0),\"En la DDJJ informativa, este campo debe consignarse en cero (0)\",\"\")","v":""},null,{"$f":"(D72-SUM(D77:D82,D84:D89,D91,D93:D94,D95:D103))*0.05","v":124553.10050000002}]
[null,null,"Intereses de créditos hipotecarios",0,null,{"$f":"validaciones(D93,H93,0)","v":""},null,{"$f":"+Tablas!B3","v":20000}]
[null,null,"Aportes al capital social o al fondo de riesgo de socios protectores de sociedades de garantía recíproca",0,null,{"$f":"validaciones(D94,H94,0)","v":""}]
[null,null,"Alquileres de inmuebles destinados a casa habitación",80297.600000000006,null,{"$f":"validaciones(D95,H95,0)","v":""},null,{"$f":"IF(Datos!C11=\"Final\",ROUND(Tablas!B4/12*12,2),ROUND(Tablas!B4/12*MONTH(Datos!C13),2))","v":167678.39999999999}]
[null,null,"Empleados del servicio doméstico",0,null,{"$f":"validaciones(D96,H96,0)","v":""},null,{"$f":"Tablas!B4","v":167678.39999999999}]
[null,null,"Gastos de movilidad, viáticos y otras compensaciones análogas abonados por el empleador",0,null,{"$f":"validaciones(D97,H97,0)","v":""},null,{"$f":"IF(D13=\"Desarrolla la actividad\",Tablas!B4,Tablas!B4*0.4)","v":67071.360000000001}]
[null,null,"Gastos por adquisición de indumentaria y/o equipamiento de trabajo",0,null,{"$f":"validaciones(D98,H98,0)","v":""}]
[null,null,"Otras deducciones - aportes a Cajas Complementarias de Previsión, Fondos Compensadores de Previsión o similares",0,null,{"$f":"validaciones(D99,H99,0)","v":""}]
[null,null,"Otras deducciones - Aportes para jubilaciones, retiros y subsidios ANSES",0,null,{"$f":"validaciones(D100,H100,0)","v":""}]
[null,null,"Otras deducciones - Cajas Provinciales o Municipales o de Previsión para Profesionales",0,null,{"$f":"validaciones(D101,H101,0)","v":""}]
[null,null,"Otras deducciones - Actores - Retribución pagada a los representantes - RG 2442/08",0,null,{"$f":"validaciones(D102,H102,0)","v":""}]
[null,null,"Otras deducciones - Fondos compensadores de previsión",0,null,{"$f":"validaciones(D103,H103,0)","v":""}]
[null,null,"Otras deducciones",{"$f":"+SUM(D99:E103)","v":0}]
[null,null,"TOTAL DEDUCCIONES GENERALES",{"$f":"SUM(D77:E103)","v":635583.23999999987},null,null,null,null,null,null,{"$f":"+D72-D105","v":2491062.0100000002}]
[]
[null,null,"DEDUCCIONES PERSONALES",null,null,null,null,"Topes máximos legales"]
[null,null,"Ganancia no imponible",167678.39999999999,null,{"$f":"validaciones(D108,H108,0)","v":""},null,{"$f":"deducciones(1,Datos!C11,MONTH(Datos!$C$13),$D$12)","v":167678.39999999999},null,null,{"$f":"IF(K105-K109<=0,0,IF(K105-K109<=H108,K105-K109,H108))","v":167678.39999999999}]
[null,null,"Deducción especial",804856.34,null,{"$f":"validaciones(D109,H109,0)","v":""},null,{"$f":"deducciones(2,Datos!$C$11,MONTH(Datos!$C$13),$D$12)","v":804856.34},null,null,{"$f":"IF(K105<=H109,K105,H109)","v":804856.34}]
[null,null,"Deducción Especial Incrementada Primera parte del penúltimo párrafo del inciso c) del artículo 30 de la ley del gravamen",0]
[null,null,"Deducción Especial Incrementada Segunda parte del penúltimo párrafo del inciso c) del artículo 30 de la ley del gravamen",0]
[null,null,"Deducción específica",0,null,{"$f":"validaciones(D112,H112,0)","v":""},null,0]
[null,null,"Cargas de familia"]
[null,null,"Cónyuge",0,null,{"$f":"validaciones(D114,H114,0)","v":""},null,{"$f":"cargas_de_familia(4,Datos!$C$11,MONTH(Datos!$C$13),$D$12)","v":156320.63},null,null,{"$f":"IF(K105-K108-K109>=D114,D114,K105-K108-K109)","v":0}]
[null,null,"Cantidad de hijos e hijastros",1,null,{"$f":"validaciones(D115,H115,0)","v":""},null,99]
[null,null,"Deducción total hijos e hijastros",78833.08,null,null,null,{"$f":"cargas_de_familia(3,Datos!$C$11,MONTH(Datos!$C$13),$D$12)*D115","v":78833.08},null,null,{"$f":"IF(K105-K108-K109-K114>=D116,D116,K105-K108-K109-K114)","v":78833.08}]
[null,null,"Cantidad de hijos e hijastros incapacitados para el trabajo",0,null,{"$f":"validaciones(D117,H117,0)","v":""},null,99]
[null,null,"Hijos / Hijastros incapacitados para el trabajo",0,null,null,null,{"$f":"cargas_de_familia(5,Datos!$C$11,MONTH(Datos!$C$13),$D$12)","v":157666.16}]
[null,null,"Total de cargas de familia",{"$f":"+D114+D116+D118","v":78833.08},null,null,null,0]
[null,null,"TOTAL DEDUCCIONES PERSONALES",{"$f":"SUM(D108:D112,D119)","v":1051367.82}]
[]
[null,null,"DETERMINACIÓN DEL IMPUESTO"]
[null,null,"REMUNERACIÓN NETA SUJETA A IMPUESTO -antes de la deducción art. 46 L. 27541-",0]
[null,null,"Deducción inciso a) primer párrafo artículo 30 de la ley (cfr. art. 46 L. 27541)",0,null,null,null,0,null,null,{"$f":"IF(D123-K125<=0,0,IF(D123-K125<=H124,D123-K125,H124))","v":0}]
[null,null,"Deducción inciso c) primer párrafo artículo 30 de la ley (cfr. art. 46 L. 27541)",0,null,null,null,0,null,null,{"$f":"IF(D123<=H125,D123,H125)","v":0}]
[null,null,"REMUNERACIÓN SUJETA A IMPUESTO",{"$f":"IF(+D72-D105-D120<0,0,+D72-D105-D120)","v":1439694.1900000002}]
[null,null,"Alícuota aplicable artículo 94 ley de impuesto a las ganancias",{"$f":"IF(OR(Datos!C11=\"Final\",Datos!C11=\"Anual\"),impuestoAlicuota(D126,D25*(1-G25)+D51*(1-G51),12),impuestoAlicuota(D126,D25*(1-G25)+D51*(1-G51),MONTH(D11)))","v":0.35}]
[null,null,"Alícuota aplicable sin incluir horas extras",{"$f":"IF(OR(Datos!C11=\"Final\",Datos!C11=\"Anual\"),impuestoAlicuota(D126,0,12),impuestoAlicuota(D126,0,MONTH(D11)))","v":0.35}]
[null,null,"IMPUESTO DETERMINADO",{"$f":"IF(D126<0,0,IF(OR(Datos!C11=\"Final\",Datos!C11=\"Anual\"),impuestoDeterminado(D126,D25*(1-G25)+D51*(1-G51),12),impuestoDeterminado(D126,D25*(1-G25)+D51*(1-G51),MONTH(D11))))","v":372891.70149999997}]
[null,null,"Impuesto retenido",314037.45]
[null,null,"Pagos a cuenta - Impuesto sobre créditos y débitos",0,null,{"$f":"IF(AND(Datos!$C$11=\"Informativa\",D131<>0),\"En la DDJJ informativa, este campo debe consignarse en cero (0)\",\"\")","v":""}]
[null,null,"Pagos a cuenta - Percepciones / Retenciones aduaneras",0,null,{"$f":"IF(AND(Datos!$C$11=\"Informativa\",D132<>0),\"En la DDJJ informativa, este campo debe consignarse en cero (0)\",\"\")","v":""}]
[null,null,"Pagos a cuenta - RG (AFIP) 3819/2015 - Cancelaciones en efectivo",0,null,{"$f":"IF(AND(Datos!$C$11=\"Informativa\",D133<>0),\"En la DDJJ informativa, este campo debe consignarse en cero (0)\",\"\")","v":""}]
[null,null,"Pagos a cuenta - Bono ley 27.424",0,null,{"$f":"IF(AND(Datos!$C$11=\"Informativa\",D134<>0),\"En la DDJJ informativa, este campo debe consignarse en cero (0)\",\"\")","v":""}]
[null,null,"Pagos a cuenta - RG 4815 [LEY 27.541 Art. 35 inciso a)] ",58854.25,null,{"$f":"IF(AND(Datos!$C$11=\"Informativa\",D135<>0),\"En la DDJJ informativa, este campo debe consignarse en cero (0)\",\"\")","v":""}]
[null,null,"Pagos a cuenta - RG 4815 [LEY 27.541 Art. 35 inciso b)] ",0,null,{"$f":"IF(AND(Datos!$C$11=\"Informativa\",D136<>0),\"En la DDJJ informativa, este campo debe consignarse en cero (0)\",\"\")","v":""}]
[null,null,"Pagos a cuenta - RG 4815 [LEY 27.541 Art. 35 inciso c)] ",0,null,{"$f":"IF(AND(Datos!$C$11=\"Informativa\",D137<>0),\"En la DDJJ informativa, este campo debe consignarse en cero (0)\",\"\")","v":""}]
[null,null,"Pagos a cuenta - RG 4815 [LEY 27.541 Art. 35 inciso d)] ",0,null,{"$f":"IF(AND(Datos!$C$11=\"Informativa\",D138<>0),\"En la DDJJ informativa, este campo debe consignarse en cero (0)\",\"\")","v":""}]
[null,null,"Pagos a cuenta - RG 4815 [LEY 27.541 Art. 35 inciso e)] ",0,null,{"$f":"IF(AND(Datos!$C$11=\"Informativa\",D139<>0),\"En la DDJJ informativa, este campo debe consignarse en cero (0)\",\"\")","v":""}]
[null,null,"Pagos a cuenta - Impuesto sobre créditos y débitos - sobre movimientos de fondos propios o de terceros",0,null,{"$f":"IF(AND(Datos!$C$11=\"Informativa\",D140<>0),\"En la DDJJ informativa, este campo debe consignarse en cero (0)\",\"\")","v":""}]
[null,null,"Pagos a cuenta - Resolución General (AFIP) 3819/2015 - Cancelaciones en Efectivo -Servicios de transporte terrestre, aéreo y por vía acuática de pasajeros con destino fuera del país",0,null,{"$f":"IF(AND(Datos!$C$11=\"Informativa\",D141<>0),\"En la DDJJ informativa, este campo debe consignarse en cero (0)\",\"\")","v":""}]
[null,null,"Total pagos a cuenta",{"$f":"SUM(D131:D141)","v":58854.25}]
[null,null,"SALDO A PAGAR",{"$f":"+ROUND(D129,2)-D130-D142","v":0}]

{"sheet":"Empleado03","index":7,"n_rows":143,"n_cols":11,"rows_kept":143,"cut":false,"hidden":false,"merged":[[10,7,11,9]]}
[]
[]
[null,null,"LIQUIDACIÓN DE IMPUESTO A LAS GANANCIAS - 4ta. CATEGORÍA RELACIÓN DE DEPENDENCIA"]
[]
[]
[null,null,"Empleado: Nombre y apellido ","CURTI HECTOR DAVID"]
[null,null,"CUIL del empleado",20262022618,null,{"$f":"cuitValidar(D7)","v":"CUIT/CUIL Válido"}]
[null,null,{"$f":"\"Agente de Retención: \"","v":"Agente de Retención: "},{"$f":"Datos!C7&\" - \"&Datos!C5","v":"33711238269 - OPERACIONES AGROPORTUARIAS S.A."}]
[null,null,{"$f":"\"Período Fiscal: \"","v":"Período Fiscal: "},{"$f":"YEAR(Datos!C13)","v":2021}]
[null,null,"Período trabajado (desde):","2021-01-01"]
[null,null,"Período trabajado (hasta):","2021-09-25",null,null,null,{"$f":"IF(MONTH(D11)>MONTH(Datos!C13),\"El período trabajado no puede ser mayor al período que se informa (mes \"&MONTH(Datos!C13)&\")\",\"\")","v":""}]
[null,null,"Zona geográfica:","Todo el país (excepto zona patagónica)"]
[null,null,"Transporte a larga distancia","No desarrolla la actividad"]
[null,null,"Beneficio promocional 27424?","No"]
[null,null,"Beneficio de la ley 27549?","No"]
[null,null,"El trabajador labora bajo el régimen de teletrabajo (Ley 27555)?","No"]
[null,null,"El trabajador es personal militar en actividad?","No"]
[]
[null,null,"REMUNERACIONES"]
[null,null,"Abonadas por el agente de retención:"]
[null,null,"Remuneración bruta gravada",3610502.7]
[null,null,"Retribuciones no habituales gravadas",0]
[null,null,"SAC primera cuota gravado",0]
[null,null,"SAC segunda cuota gravado",0]
[null,null,"Horas extras remuneración gravada",0,null,null,0,"% de retenciones"]
[null,null,"Movilidad y viáticos remuneración gravada",0]
[null,null,"Material didáctico personal docente remuneración gravada",0]
[null,null,"Remuneración no alcanzada o exenta (sin horas extras)",0]
[null,null,"Remuneración exenta ley 27549",0,null,{"$f":"IF(AND($D$15=\"No\",D29<>0),\"Para que sea procedente el beneficio, modifique el valor en la celda D15\",\"\")","v":""}]
[null,null,"Retribuciones no habituales exentas o no alcanzadas",0]
[null,null,"Horas extras remuneración exenta",205657.69]
[null,null,"Movilidad y viáticos remuneración exenta",0]
[null,null,"Material didáctico personal docente remuneración exenta",0]
[null,null,"Bonos de productividad gravados",0]
[null,null,"Fallos de caja gravados",0]
[null,null,"Conceptos de similar naturaleza gravados",0]
[null,null,"Bonos de productividad exentos",0]
[null,null,"Fallos de caja exentos",0]
[null,null,"Conceptos de similar naturaleza exentos",0]
[null,null,"Compensación de gastos de teletrabajo exentos",0]
[null,null,"Personal militar - suplementos art. 57 ley 19.101 - exentos",0]
[null,null,"SAC primera cuota - No alcanzado o exento",0]
[null,null,"SAC segunda cuota - No alcanzado o exento",0]
[null,null,"Ajustes períodos anteriores - Remuneración gravada",0]
[null,null,"Ajustes períodos anteriores - Remuneración exenta / no alcanzada",0]
[null,null,"Otros empleos:"]
[null,null,"Remuneración bruta gravada ",0]
[null,null,"Retribuciones no habituales gravadas ",0]
[null,null,"SAC primera cuota gravado ",0]
[null,null,"SAC segunda cuota gravado ",0]
[null,null,"Horas extras remuneración gravada ",0,null,null,0,"% de retenciones"]
[null,null,"Movilidad y viáticos remuneración gravada ",0]
[null,null,"Material didáctico personal docente remuneración gravada ",0]
[null,null,"Remuneración no alcanzada o exenta ",0]
[null,null,"Remuneración exenta ley 27549 ",0,null,{"$f":"IF(AND($D$15=\"No\",D55<>0),\"Para que sea procedente el beneficio, modifique el valor en la celda D15\",\"\")","v":""}]
[null,null,"Retribuciones no habituales exentas o no alcanzadas ",0]
[null,null,"Horas extras remuneración exenta o no alcanzada ",0]
[null,null,"Movilidad y viáticos remuneración exenta o no alcanzada ",0]
[null,null,"Material didáctico personal docente remuneración exenta o no alcanzada ",0]
[null,null,"Bonos de productividad gravados ",0]
[null,null,"Fallos de caja gravados ",0]
[null,null,"Conceptos de similar naturaleza gravados ",0]
[null,null,"Bonos de productividad exentos ",0]
[null,null,"Fallos de caja exentos ",0]
[null,null,"Conceptos de similar naturaleza exentos ",0]
[null,null,"Compensación de gastos teletrabajo - exentos ",0]
[null,null,"Personal militar - suplementos art. 57 Ley 19101 - exentos ",0]
[null,null,"SAC primera cuota - No alcanzado o exento ",0]
[null,null,"SAC segunda cuota - No alcanzado o exento ",0]
[null,null,"Ajustes períodos anteriores - Remuneración gravada ",0]
[null,null,"Ajustes períodos anteriores - Remuneración no alcanzada o exenta ",0]
[null,null,"TOTAL REMUNERACIÓN GRAVADA",{"$f":"SUM(D21:E27,D44,D47:D53,D70)","v":3610502.7}]
[null,null,"TOTAL REMUNERACIÓN NO ALCANZADA O EXENTA",{"$f":"SUM(D28:D43,D45,D54:D69,D71)","v":205657.69}]
[null,null,"TOTAL REMUNERACIONES",{"$f":"IF(+D72+D73<0,0,D72+D73)","v":3816160.39}]
[]
[null,null,"DEDUCCIONES GENERALES",null,null,null,null,"Topes máximos legales"]
[null,null,"Aportes a fondos de jubilaciones, retiros, pensiones o subsidios que se destinen a cajas nacionales, provinciales o municipales",454497.56,null,{"$f":"validaciones(D77,H77,0)&IF(D77>$D$74,\" El importe no puede ser mayor a la remuneración total\",\"\")","v":""}]
[null,null,"Aportes a fondos de jubilaciones, retiros, pensiones o subsidios que se destinen a cajas nacionales, provinciales o municipales por otros empleos",0,null,{"$f":"validaciones(D78,H78,0)&IF(D78>$D$74,\" El importe no puede ser mayor a la remuneración total\",\"\")","v":""}]
[null,null,"Aportes a obra sociales",97392.34,null,{"$f":"validaciones(D79,H79,0)&IF(D79>$D$74,\" El importe no puede ser mayor a la remuneración total\",\"\")","v":""}]
[null,null,"Aportes a obra sociales por otros empleos",0,null,{"$f":"validaciones(D80,H80,0)&IF(D80>$D$74,\" El importe no puede ser mayor a la remuneración total\",\"\")","v":""}]
[null,null,"Cuota sindical",65875.38,null,{"$f":"validaciones(D81,H81,0)&IF(D81>$D$74,\" El importe no puede ser mayor a la remuneración total\",\"\")","v":""}]
[null,null,"Cuota sindical por otros empleos",0,null,{"$f":"validaciones(D82,H82,0)&IF(D82>$D$74,\" El importe no puede ser mayor a la remuneración total\",\"\")","v":""}]
[null,null,"Cuotas médico asistenciales",149636.87,null,{"$f":"validaciones(D83,H83,0)","v":"El importe no puede ser mayor al tope legal (119519,521)"},null,{"$f":"(D72-SUM(D77:D82,D84:D89,D91,D93:D94,D95:D103))*0.05","v":119519.52100000001}]
[null,null,"Primas de seguro para el caso de muerte",0,null,{"$f":"validaciones(D84,H84,0)&IF(AND(Datos!$C$11=\"Informativa\",D84<>0),\"En la DDJJ informativa, este campo debe consignarse en cero (0)\",\"\")","v":""},null,{"$f":"+Tablas!B2","v":24000}]
[null,null,"Primas por riesgo de muerte y de ahorro de seguros mixtos, excepto para los casos de seguros de retiro privados administrados por entidades sujetas al control de la Superintendencia de Seguros de la Nación",0,null,{"$f":"validaciones(D85,H85,0)&IF(AND(Datos!$C$11=\"Informativa\",D85<>0),\"En la DDJJ informativa, este campo debe consignarse en cero (0)\",\"\")","v":""},null,{"$f":"+H84","v":24000}]
[null,null,"Aportes a planes de seguro de retiro privados administrados por entidades sujetas al control de la Superintendencia de Seguros de la Nación",0,null,{"$f":"validaciones(D86,H86,0)&IF(AND(Datos!$C$11=\"Informativa\",D86<>0),\"En la DDJJ informativa, este campo debe consignarse en cero (0)\",\"\")","v":""},null,{"$f":"+H85","v":24000}]
[null,null,"Cuotapartes de fondos comunes de inversión constituidos con fines de retiro",0,null,{"$f":"validaciones(D87,H87,0)&IF(D87<>0,\"Deberá consignarse en cero (0), hasta que la Autoridad de Aplicación – CNV – autorice a las Entidades a funcionar e implemente el régimen.\",\"\")","v":""},null,0]
[null,null,"Gastos de sepelio",0,null,{"$f":"validaciones(D88,H88,0)","v":""},null,{"$f":"+Tablas!B6","v":996.23}]
[null,null,"Gastos amortización e intereses rodado para corredores y viajantes de comercio",0,null,{"$f":"validaciones(D89,H89,0)&IF(D89>$D$74,\" El importe no puede ser mayor a la remuneración total\",\"\")","v":""}]
[null,null,"Donaciones a fiscos nacional, provinciales y municipales, y a instituciones comprendidas en el artículo 26, incisos e) y f) de la ley",0,null,{"$f":"validaciones(D90,H90,0)","v":""},null,{"$f":"(D72-SUM(D77:D82,D84:D89,D91,D93:D94,D95:D103))*0.05","v":119519.52100000001}]
[null,null,"Descuentos obligatorios establecidos por ley nacional, provincial o municipal",0,null,{"$f":"validaciones(D91,H91,0)&IF(D91>$D$74,\" El importe no puede ser mayor a la remuneración total\",\"\")","v":""}]
[null,null,"Honorarios por servicios de asistencia sanitaria, médica y paramédica",0,null,{"$f":"validaciones(D92,H92,0)&IF(AND(Datos!$C$11=\"Informativa\",D92<>0),\"En la DDJJ informativa, este campo debe consignarse en cero (0)\",\"\")","v":""},null,{"$f":"(D72-SUM(D77:D82,D84:D89,D91,D93:D94,D95:D103))*0.05","v":119519.52100000001}]
[null,null,"Intereses de créditos hipotecarios",0,null,{"$f":"validaciones(D93,H93,0)","v":""},null,{"$f":"+Tablas!B3","v":20000}]
[null,null,"Aportes al capital social o al fondo de riesgo de socios protectores de sociedades de garantía recíproca",511747,null,{"$f":"validaciones(D94,H94,0)","v":""}]
[null,null,"Alquileres de inmuebles destinados a casa habitación",90600,null,{"$f":"validaciones(D95,H95,0)","v":""},null,{"$f":"IF(Datos!C11=\"Final\",ROUND(Tablas!B4/12*12,2),ROUND(Tablas!B4/12*MONTH(Datos!C13),2))","v":167678.39999999999}]
[null,null,"Empleados del servicio doméstico",0,null,{"$f":"validaciones(D96,H96,0)","v":""},null,{"$f":"Tablas!B4","v":167678.39999999999}]
[null,null,"Gastos de movilidad, viáticos y otras compensaciones análogas abonados por el empleador",0,null,{"$f":"validaciones(D97,H97,0)","v":""},null,{"$f":"IF(D13=\"Desarrolla la actividad\",Tablas!B4,Tablas!B4*0.4)","v":67071.360000000001}]
[null,null,"Gastos por adquisición de indumentaria y/o equipamiento de trabajo",0,null,{"$f":"validaciones(D98,H98,0)","v":""}]
[null,null,"Otras deducciones - aportes a Cajas Complementarias de Previsión, Fondos Compensadores de Previsión o similares",0,null,{"$f":"validaciones(D99,H99,0)","v":""}]
[null,null,"Otras deducciones - Aportes para jubilaciones, retiros y subsidios ANSES",0,null,{"$f":"validaciones(D100,H100,0)","v":""}]
[null,null,"Otras deducciones - Cajas Provinciales o Municipales o de Previsión para Profesionales",0,null,{"$f":"validaciones(D101,H101,0)","v":""}]
[null,null,"Otras deducciones - Actores - Retribución pagada a los representantes - RG 2442/08",0,null,{"$f":"validaciones(D102,H102,0)","v":""}]
[null,null,"Otras deducciones - Fondos compensadores de previsión",0,null,{"$f":"validaciones(D103,H103,0)","v":""}]
[null,null,"Otras deducciones",{"$f":"+SUM(D99:E103)","v":0}]
[null,null,"TOTAL DEDUCCIONES GENERALES",{"$f":"SUM(D77:E103)","v":1369749.15},null,null,null,null,null,null,{"$f":"+D72-D105","v":2240753.5500000003}]
[]
[null,null,"DEDUCCIONES PERSONALES",null,null,null,null,"Topes máximos legales"]
[null,null,"Ganancia no imponible",167678.39999999999,null,{"$f":"validaciones(D108,H108,0)","v":""},null,{"$f":"deducciones(1,Datos!C11,MONTH(Datos!$C$13),$D$12)","v":167678.39999999999},null,null,{"$f":"IF(K105-K109<=0,0,IF(K105-K109<=H108,K105-K109,H108))","v":167678.39999999999}]
[null,null,"Deducción especial",804856.34,null,{"$f":"validaciones(D109,H109,0)","v":""},null,{"$f":"deducciones(2,Datos!$C$11,MONTH(Datos!$C$13),$D$12)","v":804856.34},null,null,{"$f":"IF(K105<=H109,K105,H109)","v":804856.34}]
[null,null,"Deducción Especial Incrementada Primera parte del penúltimo párrafo del inciso c) del artículo 30 de la ley del gravamen",0]
[null,null,"Deducción Especial Incrementada Segunda parte del penúltimo párrafo del inciso c) del artículo 30 de la ley del gravamen",0]
[null,null,"Deducción específica",0,null,{"$f":"validaciones(D112,H112,0)","v":""},null,0]
[null,null,"Cargas de familia"]
[null,null,"Cónyuge",156320.63,null,{"$f":"validaciones(D114,H114,0)","v":""},null,{"$f":"cargas_de_familia(4,Datos!$C$11,MONTH(Datos!$C$13),$D$12)","v":156320.63},null,null,{"$f":"IF(K105-K108-K109>=D114,D114,K105-K108-K109)","v":156320.63}]
[null,null,"Cantidad de hijos e hijastros",1,null,{"$f":"validaciones(D115,H115,0)","v":""},null,99]
[null,null,"Deducción total hijos e hijastros",78833.08,null,null,null,{"$f":"cargas_de_familia(3,Datos!$C$11,MONTH(Datos!$C$13),$D$12)*D115","v":78833.08},null,null,{"$f":"IF(K105-K108-K109-K114>=D116,D116,K105-K108-K109-K114)","v":78833.08}]
[null,null,"Cantidad de hijos e hijastros incapacitados para el trabajo",0,null,{"$f":"validaciones(D117,H117,0)","v":""},null,99]
[null,null,"Hijos / Hijastros incapacitados para el trabajo",0,null,null,null,{"$f":"cargas_de_familia(5,Datos!$C$11,MONTH(Datos!$C$13),$D$12)","v":157666.16}]
[null,null,"Total de cargas de familia",{"$f":"+D114+D116+D118","v":235153.71000000002},null,null,null,0]
[null,null,"TOTAL DEDUCCIONES PERSONALES",{"$f":"SUM(D108:D112,D119)","v":1207688.45}]
[]
[null,null,"DETERMINACIÓN DEL IMPUESTO"]
[null,null,"REMUNERACIÓN NETA SUJETA A IMPUESTO -antes de la deducción art. 46 L. 27541-",0]
[null,null,"Deducción inciso a) primer párrafo artículo 30 de la ley (cfr. art. 46 L. 27541)",0,null,null,null,0,null,null,{"$f":"IF(D123-K125<=0,0,IF(D123-K125<=H124,D123-K125,H124))","v":0}]
[null,null,"Deducción inciso c) primer párrafo artículo 30 de la ley (cfr. art. 46 L. 27541)",0,null,null,null,0,null,null,{"$f":"IF(D123<=H125,D123,H125)","v":0}]
[null,null,"REMUNERACIÓN SUJETA A IMPUESTO",{"$f":"IF(+D72-D105-D120<0,0,+D72-D105-D120)","v":1033065.1000000003}]
[null,null,"Alícuota aplicable artículo 94 ley de impuesto a las ganancias",{"$f":"IF(OR(Datos!C11=\"Final\",Datos!C11=\"Anual\"),impuestoAlicuota(D126,D25*(1-G25)+D51*(1-G51),12),impuestoAlicuota(D126,D25*(1-G25)+D51*(1-G51),MONTH(D11)))","v":0.35}]
[null,null,"Alícuota aplicable sin incluir horas extras",{"$f":"IF(OR(Datos!C11=\"Final\",Datos!C11=\"Anual\"),impuestoAlicuota(D126,0,12),impuestoAlicuota(D126,0,MONTH(D11)))","v":0.35}]
[null,null,"IMPUESTO DETERMINADO",{"$f":"IF(D126<0,0,IF(OR(Datos!C11=\"Final\",Datos!C11=\"Anual\"),impuestoDeterminado(D126,D25*(1-G25)+D51*(1-G51),12),impuestoDeterminado(D126,D25*(1-G25)+D51*(1-G51),MONTH(D11))))","v":230571.51999999999}]
[null,null,"Impuesto retenido",146358.01999999999]
[null,null,"Pagos a cuenta - Impuesto sobre créditos y débitos",0,null,{"$f":"IF(AND(Datos!$C$11=\"Informativa\",D131<>0),\"En la DDJJ informativa, este campo debe consignarse en cero (0)\",\"\")","v":""}]
[null,null,"Pagos a cuenta - Percepciones / Retenciones aduaneras",0,null,{"$f":"IF(AND(Datos!$C$11=\"Informativa\",D132<>0),\"En la DDJJ informativa, este campo debe consignarse en cero (0)\",\"\")","v":""}]
[null,null,"Pagos a cuenta - RG (AFIP) 3819/2015 - Cancelaciones en efectivo",0,null,{"$f":"IF(AND(Datos!$C$11=\"Informativa\",D133<>0),\"En la DDJJ informativa, este campo debe consignarse en cero (0)\",\"\")","v":""}]
[null,null,"Pagos a cuenta - Bono ley 27.424",0,null,{"$f":"IF(AND(Datos!$C$11=\"Informativa\",D134<>0),\"En la DDJJ informativa, este campo debe consignarse en cero (0)\",\"\")","v":""}]
[null,null,"Pagos a cuenta - RG 4815 [LEY 27.541 Art. 35 inciso a)] ",84213.5,null,{"$f":"IF(AND(Datos!$C$11=\"Informativa\",D135<>0),\"En la DDJJ informativa, este campo debe consignarse en cero (0)\",\"\")","v":""}]
[null,null,"Pagos a cuenta - RG 4815 [LEY 27.541 Art. 35 inciso b)] ",0,null,{"$f":"IF(AND(Datos!$C$11=\"Informativa\",D136<>0),\"En la DDJJ informativa, este campo debe consignarse en cero (0)\",\"\")","v":""}]
[null,null,"Pagos a cuenta - RG 4815 [LEY 27.541 Art. 35 inciso c)] ",0,null,{"$f":"IF(AND(Datos!$C$11=\"Informativa\",D137<>0),\"En la DDJJ informativa, este campo debe consignarse en cero (0)\",\"\")","v":""}]
[null,null,"Pagos a cuenta - RG 4815 [LEY 27.541 Art. 35 inciso d)] ",0,null,{"$f":"IF(AND(Datos!$C$11=\"Informativa\",D138<>0),\"En la DDJJ informativa, este campo debe consignarse en cero (0)\",\"\")","v":""}]
[null,null,"Pagos a cuenta - RG 4815 [LEY 27.541 Art. 35 inciso e)] ",0,null,{"$f":"IF(AND(Datos!$C$11=\"Informativa\",D139<>0),\"En la DDJJ informativa, este campo debe consignarse en cero (0)\",\"\")","v":""}]
[null,null,"Pagos a cuenta - Impuesto sobre créditos y débitos - sobre movimientos de fondos propios o de terceros",0,null,{"$f":"IF(AND(Datos!$C$11=\"Informativa\",D140<>0),\"En la DDJJ informativa, este campo debe consignarse en cero (0)\",\"\")","v":""}]
[null,null,"Pagos a cuenta - Resolución General (AFIP) 3819/2015 - Cancelaciones en Efectivo -Servicios de transporte terrestre, aéreo y por vía acuática de pasajeros con destino fuera del país",0,null,{"$f":"IF(AND(Datos!$C$11=\"Informativa\",D141<>0),\"En la DDJJ informativa, este campo debe consignarse en cero (0)\",\"\")","v":""}]
[null,null,"Total pagos a cuenta",{"$f":"SUM(D131:D141)","v":84213.5}]
[null,null,"SALDO A PAGAR",{"$f":"+ROUND(D129,2)-D130-D142","v":0}]

{"sheet":"Empleado04","index":8,"n_rows":143,"n_cols":11,"rows_kept":143,"cut":false,"hidden":false,"merged":[[10,7,11,9]]}
[]
[]
[null,null,"LIQUIDACIÓN DE IMPUESTO A LAS GANANCIAS - 4ta. CATEGORÍA RELACIÓN DE DEPENDENCIA"]
[]
[]
[null,null,"Empleado: Nombre y apellido ","SALDIAS DAVID GUSTAVO"]
[null,null,"CUIL del empleado",20330698471,null,{"$f":"cuitValidar(D7)","v":"CUIT/CUIL Válido"}]
[null,null,{"$f":"\"Agente de Retención: \"","v":"Agente de Retención: "},{"$f":"Datos!C7&\" - \"&Datos!C5","v":"33711238269 - OPERACIONES AGROPORTUARIAS S.A."}]
[null,null,{"$f":"\"Período Fiscal: \"","v":"Período Fiscal: "},{"$f":"YEAR(Datos!C13)","v":2021}]
[null,null,"Período trabajado (desde):","2021-01-01"]
[null,null,"Período trabajado (hasta):","2021-09-25",null,null,null,{"$f":"IF(MONTH(D11)>MONTH(Datos!C13),\"El período trabajado no puede ser mayor al período que se informa (mes \"&MONTH(Datos!C13)&\")\",\"\")","v":""}]
[null,null,"Zona geográfica:","Todo el país (excepto zona patagónica)"]
[null,null,"Transporte a larga distancia","No desarrolla la actividad"]
[null,null,"Beneficio promocional 27424?","No"]
[null,null,"Beneficio de la ley 27549?","No"]
[null,null,"El trabajador labora bajo el régimen de teletrabajo (Ley 27555)?","No"]
[null,null,"El trabajador es personal militar en actividad?","No"]
[]
[null,null,"REMUNERACIONES"]
[null,null,"Abonadas por el agente de retención:"]
[null,null,"Remuneración bruta gravada",2674670.6800000002]
[null,null,"Retribuciones no habituales gravadas",0]
[null,null,"SAC primera cuota gravado",0]
[null,null,"SAC segunda cuota gravado",0]
[null,null,"Horas extras remuneración gravada",0,null,null,0,"% de retenciones"]
[null,null,"Movilidad y viáticos remuneración gravada",0]
[null,null,"Material didáctico personal docente remuneración gravada",0]
[null,null,"Remuneración no alcanzada o exenta (sin horas extras)",0]
[null,null,"Remuneración exenta ley 27549",0,null,{"$f":"IF(AND($D$15=\"No\",D29<>0),\"Para que sea procedente el beneficio, modifique el valor en la celda D15\",\"\")","v":""}]
[null,null,"Retribuciones no habituales exentas o no alcanzadas",0]
[null,null,"Horas extras remuneración exenta",74116.009999999995]
[null,null,"Movilidad y viáticos remuneración exenta",0]
[null,null,"Material didáctico personal docente remuneración exenta",0]
[null,null,"Bonos de productividad gravados",0]
[null,null,"Fallos de caja gravados",0]
[null,null,"Conceptos de similar naturaleza gravados",0]
[null,null,"Bonos de productividad exentos",0]
[null,null,"Fallos de caja exentos",0]
[null,null,"Conceptos de similar naturaleza exentos",0]
[null,null,"Compensación de gastos de teletrabajo exentos",0]
[null,null,"Personal militar - suplementos art. 57 ley 19.101 - exentos",0]
[null,null,"SAC primera cuota - No alcanzado o exento",0]
[null,null,"SAC segunda cuota - No alcanzado o exento",0]
[null,null,"Ajustes períodos anteriores - Remuneración gravada",0]
[null,null,"Ajustes períodos anteriores - Remuneración exenta / no alcanzada",0]
[null,null,"Otros empleos:"]
[null,null,"Remuneración bruta gravada ",0]
[null,null,"Retribuciones no habituales gravadas ",0]
[null,null,"SAC primera cuota gravado ",0]
[null,null,"SAC segunda cuota gravado ",0]
[null,null,"Horas extras remuneración gravada ",0,null,null,0,"% de retenciones"]
[null,null,"Movilidad y viáticos remuneración gravada ",0]
[null,null,"Material didáctico personal docente remuneración gravada ",0]
[null,null,"Remuneración no alcanzada o exenta ",0]
[null,null,"Remuneración exenta ley 27549 ",0,null,{"$f":"IF(AND($D$15=\"No\",D55<>0),\"Para que sea procedente el beneficio, modifique el valor en la celda D15\",\"\")","v":""}]
[null,null,"Retribuciones no habituales exentas o no alcanzadas ",0]
[null,null,"Horas extras remuneración exenta o no alcanzada ",0]
[null,null,"Movilidad y viáticos remuneración exenta o no alcanzada ",0]
[null,null,"Material didáctico personal docente remuneración exenta o no alcanzada ",0]
[null,null,"Bonos de productividad gravados ",0]
[null,null,"Fallos de caja gravados ",0]
[null,null,"Conceptos de similar naturaleza gravados ",0]
[null,null,"Bonos de productividad exentos ",0]
[null,null,"Fallos de caja exentos ",0]
[null,null,"Conceptos de similar naturaleza exentos ",0]
[null,null,"Compensación de gastos teletrabajo - exentos ",0]
[null,null,"Personal militar - suplementos art. 57 Ley 19101 - exentos ",0]
[null,null,"SAC primera cuota - No alcanzado o exento ",0]
[null,null,"SAC segunda cuota - No alcanzado o exento ",0]
[null,null,"Ajustes períodos anteriores - Remuneración gravada ",0]
[null,null,"Ajustes períodos anteriores - Remuneración no alcanzada o exenta ",0]
[null,null,"TOTAL REMUNERACIÓN GRAVADA",{"$f":"SUM(D21:E27,D44,D47:D53,D70)","v":2674670.6800000002}]
[null,null,"TOTAL REMUNERACIÓN NO ALCANZADA O EXENTA",{"$f":"SUM(D28:D43,D45,D54:D69,D71)","v":74116.009999999995}]
[null,null,"TOTAL REMUNERACIONES",{"$f":"IF(+D72+D73<0,0,D72+D73)","v":2748786.69}]
[]
[null,null,"DEDUCCIONES GENERALES",null,null,null,null,"Topes máximos legales"]
[null,null,"Aportes a fondos de jubilaciones, retiros, pensiones o subsidios que se destinen a cajas nacionales, provinciales o municipales",330206.99,null,{"$f":"validaciones(D77,H77,0)&IF(D77>$D$74,\" El importe no puede ser mayor a la remuneración total\",\"\")","v":""}]
[null,null,"Aportes a fondos de jubilaciones, retiros, pensiones o subsidios que se destinen a cajas nacionales, provinciales o municipales por otros empleos",0,null,{"$f":"validaciones(D78,H78,0)&IF(D78>$D$74,\" El importe no puede ser mayor a la remuneración total\",\"\")","v":""}]
[null,null,"Aportes a obra sociales",70758.64,null,{"$f":"validaciones(D79,H79,0)&IF(D79>$D$74,\" El importe no puede ser mayor a la remuneración total\",\"\")","v":""}]
[null,null,"Aportes a obra sociales por otros empleos",0,null,{"$f":"validaciones(D80,H80,0)&IF(D80>$D$74,\" El importe no puede ser mayor a la remuneración total\",\"\")","v":""}]
[null,null,"Cuota sindical",74162.570000000007,null,{"$f":"validaciones(D81,H81,0)&IF(D81>$D$74,\" El importe no puede ser mayor a la remuneración total\",\"\")","v":""}]
[null,null,"Cuota sindical por otros empleos",0,null,{"$f":"validaciones(D82,H82,0)&IF(D82>$D$74,\" El importe no puede ser mayor a la remuneración total\",\"\")","v":""}]
[null,null,"Cuotas médico asistenciales",0,null,{"$f":"validaciones(D83,H83,0)","v":""},null,{"$f":"(D72-SUM(D77:D82,D84:D89,D91,D93:D94,D95:D103))*0.05","v":109092.12400000001}]
[null,null,"Primas de seguro para el caso de muerte",17700,null,{"$f":"validaciones(D84,H84,0)&IF(AND(Datos!$C$11=\"Informativa\",D84<>0),\"En la DDJJ informativa, este campo debe consignarse en cero (0)\",\"\")","v":""},null,{"$f":"+Tablas!B2","v":24000}]
[null,null,"Primas por riesgo de muerte y de ahorro de seguros mixtos, excepto para los casos de seguros de retiro privados administrados por entidades sujetas al control de la Superintendencia de Seguros de la Nación",0,null,{"$f":"validaciones(D85,H85,0)&IF(AND(Datos!$C$11=\"Informativa\",D85<>0),\"En la DDJJ informativa, este campo debe consignarse en cero (0)\",\"\")","v":""},null,{"$f":"+H84","v":24000}]
[null,null,"Aportes a planes de seguro de retiro privados administrados por entidades sujetas al control de la Superintendencia de Seguros de la Nación",0,null,{"$f":"validaciones(D86,H86,0)&IF(AND(Datos!$C$11=\"Informativa\",D86<>0),\"En la DDJJ informativa, este campo debe consignarse en cero (0)\",\"\")","v":""},null,{"$f":"+H85","v":24000}]
[null,null,"Cuotapartes de fondos comunes de inversión constituidos con fines de retiro",0,null,{"$f":"validaciones(D87,H87,0)&IF(D87<>0,\"Deberá consignarse en cero (0), hasta que la Autoridad de Aplicación – CNV – autorice a las Entidades a funcionar e implemente el régimen.\",\"\")","v":""},null,0]
[null,null,"Gastos de sepelio",0,null,{"$f":"validaciones(D88,H88,0)","v":""},null,{"$f":"+Tablas!B6","v":996.23}]
[null,null,"Gastos amortización e intereses rodado para corredores y viajantes de comercio",0,null,{"$f":"validaciones(D89,H89,0)&IF(D89>$D$74,\" El importe no puede ser mayor a la remuneración total\",\"\")","v":""}]
[null,null,"Donaciones a fiscos nacional, provinciales y municipales, y a instituciones comprendidas en el artículo 26, incisos e) y f) de la ley",0,null,{"$f":"validaciones(D90,H90,0)","v":""},null,{"$f":"(D72-SUM(D77:D82,D84:D89,D91,D93:D94,D95:D103))*0.05","v":109092.12400000001}]
[null,null,"Descuentos obligatorios establecidos por ley nacional, provincial o municipal",0,null,{"$f":"validaciones(D91,H91,0)&IF(D91>$D$74,\" El importe no puede ser mayor a la remuneración total\",\"\")","v":""}]
[null,null,"Honorarios por servicios de asistencia sanitaria, médica y paramédica",0,null,{"$f":"validaciones(D92,H92,0)&IF(AND(Datos!$C$11=\"Informativa\",D92<>0),\"En la DDJJ informativa, este campo debe consignarse en cero (0)\",\"\")","v":""},null,{"$f":"(D72-SUM(D77:D82,D84:D89,D91,D93:D94,D95:D103))*0.05","v":109092.12400000001}]
[null,null,"Intereses de créditos hipotecarios",0,null,{"$f":"validaciones(D93,H93,0)","v":""},null,{"$f":"+Tablas!B3","v":20000}]
[null,null,"Aportes al capital social o al fondo de riesgo de socios protectores de sociedades de garantía recíproca",0,null,{"$f":"validaciones(D94,H94,0)","v":""}]
[null,null,"Alquileres de inmuebles destinados a casa habitación",0,null,{"$f":"validaciones(D95,H95,0)","v":""},null,{"$f":"IF(Datos!C11=\"Final\",ROUND(Tablas!B4/12*12,2),ROUND(Tablas!B4/12*MONTH(Datos!C13),2))","v":167678.39999999999}]
[null,null,"Empleados del servicio doméstico",0,null,{"$f":"validaciones(D96,H96,0)","v":""},null,{"$f":"Tablas!B4","v":167678.39999999999}]
[null,null,"Gastos de movilidad, viáticos y otras compensaciones análogas abonados por el empleador",0,null,{"$f":"validaciones(D97,H97,0)","v":""},null,{"$f":"IF(D13=\"Desarrolla la actividad\",Tablas!B4,Tablas!B4*0.4)","v":67071.360000000001}]
[null,null,"Gastos por adquisición de indumentaria y/o equipamiento de trabajo",0,null,{"$f":"validaciones(D98,H98,0)","v":""}]
[null,null,"Otras deducciones - aportes a Cajas Complementarias de Previsión, Fondos Compensadores de Previsión o similares",0,null,{"$f":"validaciones(D99,H99,0)","v":""}]
[null,null,"Otras deducciones - Aportes para jubilaciones, retiros y subsidios ANSES",0,null,{"$f":"validaciones(D100,H100,0)","v":""}]
[null,null,"Otras deducciones - Cajas Provinciales o Municipales o de Previsión para Profesionales",0,null,{"$f":"validaciones(D101,H101,0)","v":""}]
[null,null,"Otras deducciones - Actores - Retribución pagada a los representantes - RG 2442/08",0,null,{"$f":"validaciones(D102,H102,0)","v":""}]
[null,null,"Otras deducciones - Fondos compensadores de previsión",0,null,{"$f":"validaciones(D103,H103,0)","v":""}]
[null,null,"Otras deducciones",{"$f":"+SUM(D99:E103)","v":0}]
[null,null,"TOTAL DEDUCCIONES GENERALES",{"$f":"SUM(D77:E103)","v":492828.2},null,null,null,null,null,null,{"$f":"+D72-D105","v":2181842.48}]
[]
[null,null,"DEDUCCIONES PERSONALES",null,null,null,null,"Topes máximos legales"]
[null,null,"Ganancia no imponible",167678.39999999999,null,{"$f":"validaciones(D108,H108,0)","v":""},null,{"$f":"deducciones(1,Datos!C11,MONTH(Datos!$C$13),$D$12)","v":167678.39999999999},null,null,{"$f":"IF(K105-K109<=0,0,IF(K105-K109<=H108,K105-K109,H108))","v":167678.39999999999}]
[null,null,"Deducción especial",804856.34,null,{"$f":"validaciones(D109,H109,0)","v":""},null,{"$f":"deducciones(2,Datos!$C$11,MONTH(Datos!$C$13),$D$12)","v":804856.34},null,null,{"$f":"IF(K105<=H109,K105,H109)","v":804856.34}]
[null,null,"Deducción Especial Incrementada Primera parte del penúltimo párrafo del inciso c) del artículo 30 de la ley del gravamen",0]
[null,null,"Deducción Especial Incrementada Segunda parte del penúltimo párrafo del inciso c) del artículo 30 de la ley del gravamen",39804]
[null,null,"Deducción específica",0,null,{"$f":"validaciones(D112,H112,0)","v":""},null,0]
[null,null,"Cargas de familia"]
[null,null,"Cónyuge",{"$f":"+H114","v":156320.63},null,{"$f":"validaciones(D114,H114,0)","v":""},null,{"$f":"cargas_de_familia(4,Datos!$C$11,MONTH(Datos!$C$13),$D$12)","v":156320.63},null,null,{"$f":"IF(K105-K108-K109>=D114,D114,K105-K108-K109)","v":156320.63}]
[null,null,"Cantidad de hijos e hijastros",2,null,{"$f":"validaciones(D115,H115,0)","v":""},null,99]
[null,null,"Deducción total hijos e hijastros",157666.16,null,null,null,{"$f":"cargas_de_familia(3,Datos!$C$11,MONTH(Datos!$C$13),$D$12)*D115","v":157666.16},null,null,{"$f":"IF(K105-K108-K109-K114>=D116,D116,K105-K108-K109-K114)","v":157666.16}]
[null,null,"Cantidad de hijos e hijastros incapacitados para el trabajo",0,null,{"$f":"validaciones(D117,H117,0)","v":""},null,99]
[null,null,"Hijos / Hijastros incapacitados para el trabajo",0,null,null,null,{"$f":"cargas_de_familia(5,Datos!$C$11,MONTH(Datos!$C$13),$D$12)","v":157666.16}]
[null,null,"Total de cargas de familia",{"$f":"+D114+D116+D118","v":313986.79000000004},null,null,null,0]
[null,null,"TOTAL DEDUCCIONES PERSONALES",{"$f":"SUM(D108:D112,D119)","v":1326325.53}]
[]
[null,null,"DETERMINACIÓN DEL IMPUESTO"]
[null,null,"REMUNERACIÓN NETA SUJETA A IMPUESTO -antes de la deducción art. 46 L. 27541-",0]
[null,null,"Deducción inciso a) primer párrafo artículo 30 de la ley (cfr. art. 46 L. 27541)",0,null,null,null,0,null,null,{"$f":"IF(D123-K125<=0,0,IF(D123-K125<=H124,D123-K125,H124))","v":0}]
[null,null,"Deducción inciso c) primer párrafo artículo 30 de la ley (cfr. art. 46 L. 27541)",0,null,null,null,0,null,null,{"$f":"IF(D123<=H125,D123,H125)","v":0}]
[null,null,"REMUNERACIÓN SUJETA A IMPUESTO",{"$f":"IF(+D72-D105-D120<0,0,+D72-D105-D120)","v":855516.95}]
[null,null,"Alícuota aplicable artículo 94 ley de impuesto a las ganancias",{"$f":"IF(OR(Datos!C11=\"Final\",Datos!C11=\"Anual\"),impuestoAlicuota(D126,D25*(1-G25)+D51*(1-G51),12),impuestoAlicuota(D126,D25*(1-G25)+D51*(1-G51),MONTH(D11)))","v":0.31}]
[null,null,"Alícuota aplicable sin incluir horas extras",{"$f":"IF(OR(Datos!C11=\"Final\",Datos!C11=\"Anual\"),impuestoAlicuota(D126,0,12),impuestoAlicuota(D126,0,MONTH(D11)))","v":0.31}]
[null,null,"IMPUESTO DETERMINADO",{"$f":"IF(D126<0,0,IF(OR(Datos!C11=\"Final\",Datos!C11=\"Anual\"),impuestoDeterminado(D126,D25*(1-G25)+D51*(1-G51),12),impuestoDeterminado(D126,D25*(1-G25)+D51*(1-G51),MONTH(D11))))","v":175509.88439999998}]
[null,null,"Impuesto retenido",175509.88]
[null,null,"Pagos a cuenta - Impuesto sobre créditos y débitos",0,null,{"$f":"IF(AND(Datos!$C$11=\"Informativa\",D131<>0),\"En la DDJJ informativa, este campo debe consignarse en cero (0)\",\"\")","v":""}]
[null,null,"Pagos a cuenta - Percepciones / Retenciones aduaneras",0,null,{"$f":"IF(AND(Datos!$C$11=\"Informativa\",D132<>0),\"En la DDJJ informativa, este campo debe consignarse en cero (0)\",\"\")","v":""}]
[null,null,"Pagos a cuenta - RG (AFIP) 3819/2015 - Cancelaciones en efectivo",0,null,{"$f":"IF(AND(Datos!$C$11=\"Informativa\",D133<>0),\"En la DDJJ informativa, este campo debe consignarse en cero (0)\",\"\")","v":""}]
[null,null,"Pagos a cuenta - Bono ley 27.424",0,null,{"$f":"IF(AND(Datos!$C$11=\"Informativa\",D134<>0),\"En la DDJJ informativa, este campo debe consignarse en cero (0)\",\"\")","v":""}]
[null,null,"Pagos a cuenta - RG 4815 [LEY 27.541 Art. 35 inciso a)] ",0,null,{"$f":"IF(AND(Datos!$C$11=\"Informativa\",D135<>0),\"En la DDJJ informativa, este campo debe consignarse en cero (0)\",\"\")","v":""}]
[null,null,"Pagos a cuenta - RG 4815 [LEY 27.541 Art. 35 inciso b)] ",0,null,{"$f":"IF(AND(Datos!$C$11=\"Informativa\",D136<>0),\"En la DDJJ informativa, este campo debe consignarse en cero (0)\",\"\")","v":""}]
[null,null,"Pagos a cuenta - RG 4815 [LEY 27.541 Art. 35 inciso c)] ",0,null,{"$f":"IF(AND(Datos!$C$11=\"Informativa\",D137<>0),\"En la DDJJ informativa, este campo debe consignarse en cero (0)\",\"\")","v":""}]
[null,null,"Pagos a cuenta - RG 4815 [LEY 27.541 Art. 35 inciso d)] ",0,null,{"$f":"IF(AND(Datos!$C$11=\"Informativa\",D138<>0),\"En la DDJJ informativa, este campo debe consignarse en cero (0)\",\"\")","v":""}]
[null,null,"Pagos a cuenta - RG 4815 [LEY 27.541 Art. 35 inciso e)] ",0,null,{"$f":"IF(AND(Datos!$C$11=\"Informativa\",D139<>0),\"En la DDJJ informativa, este campo debe consignarse en cero (0)\",\"\")","v":""}]
[null,null,"Pagos a cuenta - Impuesto sobre créditos y débitos - sobre movimientos de fondos propios o de terceros",0,null,{"$f":"IF(AND(Datos!$C$11=\"Informativa\",D140<>0),\"En la DDJJ informativa, este campo debe consignarse en cero (0)\",\"\")","v":""}]
[null,null,"Pagos a cuenta - Resolución General (AFIP) 3819/2015 - Cancelaciones en Efectivo -Servicios de transporte terrestre, aéreo y por vía acuática de pasajeros con destino fuera del país",0,null,{"$f":"IF(AND(Datos!$C$11=\"Informativa\",D141<>0),\"En la DDJJ informativa, este campo debe consignarse en cero (0)\",\"\")","v":""}]
[null,null,"Total pagos a cuenta",{"$f":"SUM(D131:D141)","v":0}]
[null,null,"SALDO A PAGAR",{"$f":"+ROUND(D129,2)-D130-D142","v":0}]

{"sheet":"Empleado05","index":9,"n_rows":143,"n_cols":11,"rows_kept":143,"cut":false,"hidden":false,"merged":[[10,7,11,9]]}
[]
[]
[null,null,"LIQUIDACIÓN DE IMPUESTO A LAS GANANCIAS - 4ta. CATEGORÍA RELACIÓN DE DEPENDENCIA"]
[]
[]
[null,null,"Empleado: Nombre y apellido ","CENITAGOYA ALEJANDRO"]
[null,null,"CUIL del empleado",20291122559,null,{"$f":"cuitValidar(D7)","v":"CUIT/CUIL Válido"}]
[null,null,{"$f":"\"Agente de Retención: \"","v":"Agente de Retención: "},{"$f":"Datos!C7&\" - \"&Datos!C5","v":"33711238269 - OPERACIONES AGROPORTUARIAS S.A."}]
[null,null,{"$f":"\"Período Fiscal: \"","v":"Período Fiscal: "},{"$f":"YEAR(Datos!C13)","v":2021}]
[null,null,"Período trabajado (desde):","2021-01-01"]
[null,null,"Período trabajado (hasta):","2021-09-25",null,null,null,{"$f":"IF(MONTH(D11)>MONTH(Datos!C13),\"El período trabajado no puede ser mayor al período que se informa (mes \"&MONTH(Datos!C13)&\")\",\"\")","v":""}]
[null,null,"Zona geográfica:","Todo el país (excepto zona patagónica)"]
[null,null,"Transporte a larga distancia","No desarrolla la actividad"]
[null,null,"Beneficio promocional 27424?","No"]
[null,null,"Beneficio de la ley 27549?","No"]
[null,null,"El trabajador labora bajo el régimen de teletrabajo (Ley 27555)?","No"]
[null,null,"El trabajador es personal militar en actividad?","No"]
[]
[null,null,"REMUNERACIONES"]
[null,null,"Abonadas por el agente de retención:"]
[null,null,"Remuneración bruta gravada",2610666.85]
[null,null,"Retribuciones no habituales gravadas",0]
[null,null,"SAC primera cuota gravado",0]
[null,null,"SAC segunda cuota gravado",0]
[null,null,"Horas extras remuneración gravada",0,null,null,0,"% de retenciones"]
[null,null,"Movilidad y viáticos remuneración gravada",0]
[null,null,"Material didáctico personal docente remuneración gravada",0]
[null,null,"Remuneración no alcanzada o exenta (sin horas extras)",0]
[null,null,"Remuneración exenta ley 27549",0,null,{"$f":"IF(AND($D$15=\"No\",D29<>0),\"Para que sea procedente el beneficio, modifique el valor en la celda D15\",\"\")","v":""}]
[null,null,"Retribuciones no habituales exentas o no alcanzadas",0]
[null,null,"Horas extras remuneración exenta",46148.639999999999]
[null,null,"Movilidad y viáticos remuneración exenta",0]
[null,null,"Material didáctico personal docente remuneración exenta",0]
[null,null,"Bonos de productividad gravados",0]
[null,null,"Fallos de caja gravados",0]
[null,null,"Conceptos de similar naturaleza gravados",0]
[null,null,"Bonos de productividad exentos",0]
[null,null,"Fallos de caja exentos",0]
[null,null,"Conceptos de similar naturaleza exentos",0]
[null,null,"Compensación de gastos de teletrabajo exentos",0]
[null,null,"Personal militar - suplementos art. 57 ley 19.101 - exentos",0]
[null,null,"SAC primera cuota - No alcanzado o exento",0]
[null,null,"SAC segunda cuota - No alcanzado o exento",0]
[null,null,"Ajustes períodos anteriores - Remuneración gravada",0]
[null,null,"Ajustes períodos anteriores - Remuneración exenta / no alcanzada",0]
[null,null,"Otros empleos:"]
[null,null,"Remuneración bruta gravada ",0]
[null,null,"Retribuciones no habituales gravadas ",0]
[null,null,"SAC primera cuota gravado ",0]
[null,null,"SAC segunda cuota gravado ",0]
[null,null,"Horas extras remuneración gravada ",0,null,null,0,"% de retenciones"]
[null,null,"Movilidad y viáticos remuneración gravada ",0]
[null,null,"Material didáctico personal docente remuneración gravada ",0]
[null,null,"Remuneración no alcanzada o exenta ",0]
[null,null,"Remuneración exenta ley 27549 ",0,null,{"$f":"IF(AND($D$15=\"No\",D55<>0),\"Para que sea procedente el beneficio, modifique el valor en la celda D15\",\"\")","v":""}]
[null,null,"Retribuciones no habituales exentas o no alcanzadas ",0]
[null,null,"Horas extras remuneración exenta o no alcanzada ",0]
[null,null,"Movilidad y viáticos remuneración exenta o no alcanzada ",0]
[null,null,"Material didáctico personal docente remuneración exenta o no alcanzada ",0]
[null,null,"Bonos de productividad gravados ",0]
[null,null,"Fallos de caja gravados ",0]
[null,null,"Conceptos de similar naturaleza gravados ",0]
[null,null,"Bonos de productividad exentos ",0]
[null,null,"Fallos de caja exentos ",0]
[null,null,"Conceptos de similar naturaleza exentos ",0]
[null,null,"Compensación de gastos teletrabajo - exentos ",0]
[null,null,"Personal militar - suplementos art. 57 Ley 19101 - exentos ",0]
[null,null,"SAC primera cuota - No alcanzado o exento ",0]
[null,null,"SAC segunda cuota - No alcanzado o exento ",0]
[null,null,"Ajustes períodos anteriores - Remuneración gravada ",0]
[null,null,"Ajustes períodos anteriores - Remuneración no alcanzada o exenta ",0]
[null,null,"TOTAL REMUNERACIÓN GRAVADA",{"$f":"SUM(D21:E27,D44,D47:D53,D70)","v":2610666.85}]
[null,null,"TOTAL REMUNERACIÓN NO ALCANZADA O EXENTA",{"$f":"SUM(D28:D43,D45,D54:D69,D71)","v":46148.639999999999}]
[null,null,"TOTAL REMUNERACIONES",{"$f":"IF(+D72+D73<0,0,D72+D73)","v":2656815.4900000002}]
[]
[null,null,"DEDUCCIONES GENERALES",null,null,null,null,"Topes máximos legales"]
[null,null,"Aportes a fondos de jubilaciones, retiros, pensiones o subsidios que se destinen a cajas nacionales, provinciales o municipales",314588.53000000003,null,{"$f":"validaciones(D77,H77,0)&IF(D77>$D$74,\" El importe no puede ser mayor a la remuneración total\",\"\")","v":""}]
[null,null,"Aportes a fondos de jubilaciones, retiros, pensiones o subsidios que se destinen a cajas nacionales, provinciales o municipales por otros empleos",0,null,{"$f":"validaciones(D78,H78,0)&IF(D78>$D$74,\" El importe no puede ser mayor a la remuneración total\",\"\")","v":""}]
[null,null,"Aportes a obra sociales",67411.83,null,{"$f":"validaciones(D79,H79,0)&IF(D79>$D$74,\" El importe no puede ser mayor a la remuneración total\",\"\")","v":""}]
[null,null,"Aportes a obra sociales por otros empleos",0,null,{"$f":"validaciones(D80,H80,0)&IF(D80>$D$74,\" El importe no puede ser mayor a la remuneración total\",\"\")","v":""}]
[null,null,"Cuota sindical",46185.67,null,{"$f":"validaciones(D81,H81,0)&IF(D81>$D$74,\" El importe no puede ser mayor a la remuneración total\",\"\")","v":""}]
[null,null,"Cuota sindical por otros empleos",0,null,{"$f":"validaciones(D82,H82,0)&IF(D82>$D$74,\" El importe no puede ser mayor a la remuneración total\",\"\")","v":""}]
[null,null,"Cuotas médico asistenciales",0,null,{"$f":"validaciones(D83,H83,0)","v":""},null,{"$f":"(D72-SUM(D77:D82,D84:D89,D91,D93:D94,D95:D103))*0.05","v":108304.04100000003}]
[null,null,"Primas de seguro para el caso de muerte",16400,null,{"$f":"validaciones(D84,H84,0)&IF(AND(Datos!$C$11=\"Informativa\",D84<>0),\"En la DDJJ informativa, este campo debe consignarse en cero (0)\",\"\")","v":""},null,{"$f":"+Tablas!B2","v":24000}]
[null,null,"Primas por riesgo de muerte y de ahorro de seguros mixtos, excepto para los casos de seguros de retiro privados administrados por entidades sujetas al control de la Superintendencia de Seguros de la Nación",0,null,{"$f":"validaciones(D85,H85,0)&IF(AND(Datos!$C$11=\"Informativa\",D85<>0),\"En la DDJJ informativa, este campo debe consignarse en cero (0)\",\"\")","v":""},null,{"$f":"+H84","v":24000}]
[null,null,"Aportes a planes de seguro de retiro privados administrados por entidades sujetas al control de la Superintendencia de Seguros de la Nación",0,null,{"$f":"validaciones(D86,H86,0)&IF(AND(Datos!$C$11=\"Informativa\",D86<>0),\"En la DDJJ informativa, este campo debe consignarse en cero (0)\",\"\")","v":""},null,{"$f":"+H85","v":24000}]
[null,null,"Cuotapartes de fondos comunes de inversión constituidos con fines de retiro",0,null,{"$f":"validaciones(D87,H87,0)&IF(D87<>0,\"Deberá consignarse en cero (0), hasta que la Autoridad de Aplicación – CNV – autorice a las Entidades a funcionar e implemente el régimen.\",\"\")","v":""},null,0]
[null,null,"Gastos de sepelio",0,null,{"$f":"validaciones(D88,H88,0)","v":""},null,{"$f":"+Tablas!B6","v":996.23}]
[null,null,"Gastos amortización e intereses rodado para corredores y viajantes de comercio",0,null,{"$f":"validaciones(D89,H89,0)&IF(D89>$D$74,\" El importe no puede ser mayor a la remuneración total\",\"\")","v":""}]
[null,null,"Donaciones a fiscos nacional, provinciales y municipales, y a instituciones comprendidas en el artículo 26, incisos e) y f) de la ley",0,null,{"$f":"validaciones(D90,H90,0)","v":""},null,{"$f":"(D72-SUM(D77:D82,D84:D89,D91,D93:D94,D95:D103))*0.05","v":108304.04100000003}]
[null,null,"Descuentos obligatorios establecidos por ley nacional, provincial o municipal",0,null,{"$f":"validaciones(D91,H91,0)&IF(D91>$D$74,\" El importe no puede ser mayor a la remuneración total\",\"\")","v":""}]
[null,null,"Honorarios por servicios de asistencia sanitaria, médica y paramédica",0,null,{"$f":"validaciones(D92,H92,0)&IF(AND(Datos!$C$11=\"Informativa\",D92<>0),\"En la DDJJ informativa, este campo debe consignarse en cero (0)\",\"\")","v":""},null,{"$f":"(D72-SUM(D77:D82,D84:D89,D91,D93:D94,D95:D103))*0.05","v":108304.04100000003}]
[null,null,"Intereses de créditos hipotecarios",0,null,{"$f":"validaciones(D93,H93,0)","v":""},null,{"$f":"+Tablas!B3","v":20000}]
[null,null,"Aportes al capital social o al fondo de riesgo de socios protectores de sociedades de garantía recíproca",0,null,{"$f":"validaciones(D94,H94,0)","v":""}]
[null,null,"Alquileres de inmuebles destinados a casa habitación",0,null,{"$f":"validaciones(D95,H95,0)","v":""},null,{"$f":"IF(Datos!C11=\"Final\",ROUND(Tablas!B4/12*12,2),ROUND(Tablas!B4/12*MONTH(Datos!C13),2))","v":167678.39999999999}]
[null,null,"Empleados del servicio doméstico",0,null,{"$f":"validaciones(D96,H96,0)","v":""},null,{"$f":"Tablas!B4","v":167678.39999999999}]
[null,null,"Gastos de movilidad, viáticos y otras compensaciones análogas abonados por el empleador",0,null,{"$f":"validaciones(D97,H97,0)","v":""},null,{"$f":"IF(D13=\"Desarrolla la actividad\",Tablas!B4,Tablas!B4*0.4)","v":67071.360000000001}]
[null,null,"Gastos por adquisición de indumentaria y/o equipamiento de trabajo",0,null,{"$f":"validaciones(D98,H98,0)","v":""}]
[null,null,"Otras deducciones - aportes a Cajas Complementarias de Previsión, Fondos Compensadores de Previsión o similares",0,null,{"$f":"validaciones(D99,H99,0)","v":""}]
[null,null,"Otras deducciones - Aportes para jubilaciones, retiros y subsidios ANSES",0,null,{"$f":"validaciones(D100,H100,0)","v":""}]
[null,null,"Otras deducciones - Cajas Provinciales o Municipales o de Previsión para Profesionales",0,null,{"$f":"validaciones(D101,H101,0)","v":""}]
[null,null,"Otras deducciones - Actores - Retribución pagada a los representantes - RG 2442/08",0,null,{"$f":"validaciones(D102,H102,0)","v":""}]
[null,null,"Otras deducciones - Fondos compensadores de previsión",0,null,{"$f":"validaciones(D103,H103,0)","v":""}]
[null,null,"Otras deducciones",{"$f":"+SUM(D99:E103)","v":0}]
[null,null,"TOTAL DEDUCCIONES GENERALES",{"$f":"SUM(D77:E103)","v":444586.03},null,null,null,null,null,null,{"$f":"+D72-D105","v":2166080.8200000003}]
[]
[null,null,"DEDUCCIONES PERSONALES",null,null,null,null,"Topes máximos legales"]
[null,null,"Ganancia no imponible",167678.39999999999,null,{"$f":"validaciones(D108,H108,0)","v":""},null,{"$f":"deducciones(1,Datos!C11,MONTH(Datos!$C$13),$D$12)","v":167678.39999999999},null,null,{"$f":"IF(K105-K109<=0,0,IF(K105-K109<=H108,K105-K109,H108))","v":167678.39999999999}]
[null,null,"Deducción especial",804856.34,null,{"$f":"validaciones(D109,H109,0)","v":""},null,{"$f":"deducciones(2,Datos!$C$11,MONTH(Datos!$C$13),$D$12)","v":804856.34},null,null,{"$f":"IF(K105<=H109,K105,H109)","v":804856.34}]
[null,null,"Deducción Especial Incrementada Primera parte del penúltimo párrafo del inciso c) del artículo 30 de la ley del gravamen",0]
[null,null,"Deducción Especial Incrementada Segunda parte del penúltimo párrafo del inciso c) del artículo 30 de la ley del gravamen",0]
[null,null,"Deducción específica",0,null,{"$f":"validaciones(D112,H112,0)","v":""},null,0]
[null,null,"Cargas de familia"]
[null,null,"Cónyuge",0,null,{"$f":"validaciones(D114,H114,0)","v":""},null,{"$f":"cargas_de_familia(4,Datos!$C$11,MONTH(Datos!$C$13),$D$12)","v":156320.63},null,null,{"$f":"IF(K105-K108-K109>=D114,D114,K105-K108-K109)","v":0}]
[null,null,"Cantidad de hijos e hijastros",0,null,{"$f":"validaciones(D115,H115,0)","v":""},null,99]
[null,null,"Deducción total hijos e hijastros",0,null,null,null,{"$f":"cargas_de_familia(3,Datos!$C$11,MONTH(Datos!$C$13),$D$12)*D115","v":0},null,null,{"$f":"IF(K105-K108-K109-K114>=D116,D116,K105-K108-K109-K114)","v":0}]
[null,null,"Cantidad de hijos e hijastros incapacitados para el trabajo",0,null,{"$f":"validaciones(D117,H117,0)","v":""},null,99]
[null,null,"Hijos / Hijastros incapacitados para el trabajo",0,null,null,null,{"$f":"cargas_de_familia(5,Datos!$C$11,MONTH(Datos!$C$13),$D$12)","v":157666.16}]
[null,null,"Total de cargas de familia",{"$f":"+D114+D116+D118","v":0},null,null,null,0]
[null,null,"TOTAL DEDUCCIONES PERSONALES",{"$f":"SUM(D108:D112,D119)","v":972534.74}]
[]
[null,null,"DETERMINACIÓN DEL IMPUESTO"]
[null,null,"REMUNERACIÓN NETA SUJETA A IMPUESTO -antes de la deducción art. 46 L. 27541-",0]
[null,null,"Deducción inciso a) primer párrafo artículo 30 de la ley (cfr. art. 46 L. 27541)",0,null,null,null,0,null,null,{"$f":"IF(D123-K125<=0,0,IF(D123-K125<=H124,D123-K125,H124))","v":0}]
[null,null,"Deducción inciso c) primer párrafo artículo 30 de la ley (cfr. art. 46 L. 27541)",0,null,null,null,0,null,null,{"$f":"IF(D123<=H125,D123,H125)","v":0}]
[null,null,"REMUNERACIÓN SUJETA A IMPUESTO",{"$f":"IF(+D72-D105-D120<0,0,+D72-D105-D120)","v":1193546.0800000003}]
[null,null,"Alícuota aplicable artículo 94 ley de impuesto a las ganancias",{"$f":"IF(OR(Datos!C11=\"Final\",Datos!C11=\"Anual\"),impuestoAlicuota(D126,D25*(1-G25)+D51*(1-G51),12),impuestoAlicuota(D126,D25*(1-G25)+D51*(1-G51),MONTH(D11)))","v":0.35}]
[null,null,"Alícuota aplicable sin incluir horas extras",{"$f":"IF(OR(Datos!C11=\"Final\",Datos!C11=\"Anual\"),impuestoAlicuota(D126,0,12),impuestoAlicuota(D126,0,MONTH(D11)))","v":0.35}]
[null,null,"IMPUESTO DETERMINADO",{"$f":"IF(D126<0,0,IF(OR(Datos!C11=\"Final\",Datos!C11=\"Anual\"),impuestoDeterminado(D126,D25*(1-G25)+D51*(1-G51),12),impuestoDeterminado(D126,D25*(1-G25)+D51*(1-G51),MONTH(D11))))","v":286739.86300000001}]
[null,null,"Impuesto retenido",286739.86]
[null,null,"Pagos a cuenta - Impuesto sobre créditos y débitos",0,null,{"$f":"IF(AND(Datos!$C$11=\"Informativa\",D131<>0),\"En la DDJJ informativa, este campo debe consignarse en cero (0)\",\"\")","v":""}]
[null,null,"Pagos a cuenta - Percepciones / Retenciones aduaneras",0,null,{"$f":"IF(AND(Datos!$C$11=\"Informativa\",D132<>0),\"En la DDJJ informativa, este campo debe consignarse en cero (0)\",\"\")","v":""}]
[null,null,"Pagos a cuenta - RG (AFIP) 3819/2015 - Cancelaciones en efectivo",0,null,{"$f":"IF(AND(Datos!$C$11=\"Informativa\",D133<>0),\"En la DDJJ informativa, este campo debe consignarse en cero (0)\",\"\")","v":""}]
[null,null,"Pagos a cuenta - Bono ley 27.424",0,null,{"$f":"IF(AND(Datos!$C$11=\"Informativa\",D134<>0),\"En la DDJJ informativa, este campo debe consignarse en cero (0)\",\"\")","v":""}]
[null,null,"Pagos a cuenta - RG 4815 [LEY 27.541 Art. 35 inciso a)] ",0,null,{"$f":"IF(AND(Datos!$C$11=\"Informativa\",D135<>0),\"En la DDJJ informativa, este campo debe consignarse en cero (0)\",\"\")","v":""}]
[null,null,"Pagos a cuenta - RG 4815 [LEY 27.541 Art. 35 inciso b)] ",0,null,{"$f":"IF(AND(Datos!$C$11=\"Informativa\",D136<>0),\"En la DDJJ informativa, este campo debe consignarse en cero (0)\",\"\")","v":""}]
[null,null,"Pagos a cuenta - RG 4815 [LEY 27.541 Art. 35 inciso c)] ",0,null,{"$f":"IF(AND(Datos!$C$11=\"Informativa\",D137<>0),\"En la DDJJ informativa, este campo debe consignarse en cero (0)\",\"\")","v":""}]
[null,null,"Pagos a cuenta - RG 4815 [LEY 27.541 Art. 35 inciso d)] ",0,null,{"$f":"IF(AND(Datos!$C$11=\"Informativa\",D138<>0),\"En la DDJJ informativa, este campo debe consignarse en cero (0)\",\"\")","v":""}]
[null,null,"Pagos a cuenta - RG 4815 [LEY 27.541 Art. 35 inciso e)] ",0,null,{"$f":"IF(AND(Datos!$C$11=\"Informativa\",D139<>0),\"En la DDJJ informativa, este campo debe consignarse en cero (0)\",\"\")","v":""}]
[null,null,"Pagos a cuenta - Impuesto sobre créditos y débitos - sobre movimientos de fondos propios o de terceros",0,null,{"$f":"IF(AND(Datos!$C$11=\"Informativa\",D140<>0),\"En la DDJJ informativa, este campo debe consignarse en cero (0)\",\"\")","v":""}]
[null,null,"Pagos a cuenta - Resolución General (AFIP) 3819/2015 - Cancelaciones en Efectivo -Servicios de transporte terrestre, aéreo y por vía acuática de pasajeros con destino fuera del país",0,null,{"$f":"IF(AND(Datos!$C$11=\"Informativa\",D141<>0),\"En la DDJJ informativa, este campo debe consignarse en cero (0)\",\"\")","v":""}]
[null,null,"Total pagos a cuenta",{"$f":"SUM(D131:D141)","v":0}]
[null,null,"SALDO A PAGAR",{"$f":"+ROUND(D129,2)-D130-D142","v":0}]

{"sheet":"Empleado06","index":10,"n_rows":143,"n_cols":11,"rows_kept":143,"cut":false,"hidden":false,"merged":[[10,7,11,9]]}
[]
[]
[null,null,"LIQUIDACIÓN DE IMPUESTO A LAS GANANCIAS - 4ta. CATEGORÍA RELACIÓN DE DEPENDENCIA"]
[]
[]
[null,null,"Empleado: Nombre y apellido ","DE LUCA LEONARDO OSCAR"]
[null,null,"CUIL del empleado",23283995739,null,{"$f":"cuitValidar(D7)","v":"CUIT/CUIL Válido"}]
[null,null,{"$f":"\"Agente de Retención: \"","v":"Agente de Retención: "},{"$f":"Datos!C7&\" - \"&Datos!C5","v":"33711238269 - OPERACIONES AGROPORTUARIAS S.A."}]
[null,null,{"$f":"\"Período Fiscal: \"","v":"Período Fiscal: "},{"$f":"YEAR(Datos!C13)","v":2021}]
[null,null,"Período trabajado (desde):","2021-01-01"]
[null,null,"Período trabajado (hasta):","2021-09-25",null,null,null,{"$f":"IF(MONTH(D11)>MONTH(Datos!C13),\"El período trabajado no puede ser mayor al período que se informa (mes \"&MONTH(Datos!C13)&\")\",\"\")","v":""}]
[null,null,"Zona geográfica:","Todo el país (excepto zona patagónica)"]
[null,null,"Transporte a larga distancia","No desarrolla la actividad"]
[null,null,"Beneficio promocional 27424?","No"]
[null,null,"Beneficio de la ley 27549?","No"]
[null,null,"El trabajador labora bajo el régimen de teletrabajo (Ley 27555)?","No"]
[null,null,"El trabajador es personal militar en actividad?","No"]
[]
[null,null,"REMUNERACIONES"]
[null,null,"Abonadas por el agente de retención:"]
[null,null,"Remuneración bruta gravada",3167193.04]
[null,null,"Retribuciones no habituales gravadas",0]
[null,null,"SAC primera cuota gravado",0]
[null,null,"SAC segunda cuota gravado",0]
[null,null,"Horas extras remuneración gravada",0,null,null,0,"% de retenciones"]
[null,null,"Movilidad y viáticos remuneración gravada",0]
[null,null,"Material didáctico personal docente remuneración gravada",0]
[null,null,"Remuneración no alcanzada o exenta (sin horas extras)",0]
[null,null,"Remuneración exenta ley 27549",0,null,{"$f":"IF(AND($D$15=\"No\",D29<>0),\"Para que sea procedente el beneficio, modifique el valor en la celda D15\",\"\")","v":""}]
[null,null,"Retribuciones no habituales exentas o no alcanzadas",0]
[null,null,"Horas extras remuneración exenta",229696.85]
[null,null,"Movilidad y viáticos remuneración exenta",0]
[null,null,"Material didáctico personal docente remuneración exenta",0]
[null,null,"Bonos de productividad gravados",0]
[null,null,"Fallos de caja gravados",0]
[null,null,"Conceptos de similar naturaleza gravados",0]
[null,null,"Bonos de productividad exentos",0]
[null,null,"Fallos de caja exentos",0]
[null,null,"Conceptos de similar naturaleza exentos",0]
[null,null,"Compensación de gastos de teletrabajo exentos",0]
[null,null,"Personal militar - suplementos art. 57 ley 19.101 - exentos",0]
[null,null,"SAC primera cuota - No alcanzado o exento",0]
[null,null,"SAC segunda cuota - No alcanzado o exento",0]
[null,null,"Ajustes períodos anteriores - Remuneración gravada",0]
[null,null,"Ajustes períodos anteriores - Remuneración exenta / no alcanzada",0]
[null,null,"Otros empleos:"]
[null,null,"Remuneración bruta gravada ",0]
[null,null,"Retribuciones no habituales gravadas ",0]
[null,null,"SAC primera cuota gravado ",0]
[null,null,"SAC segunda cuota gravado ",0]
[null,null,"Horas extras remuneración gravada ",0,null,null,0,"% de retenciones"]
[null,null,"Movilidad y viáticos remuneración gravada ",0]
[null,null,"Material didáctico personal docente remuneración gravada ",0]
[null,null,"Remuneración no alcanzada o exenta ",0]
[null,null,"Remuneración exenta ley 27549 ",0,null,{"$f":"IF(AND($D$15=\"No\",D55<>0),\"Para que sea procedente el beneficio, modifique el valor en la celda D15\",\"\")","v":""}]
[null,null,"Retribuciones no habituales exentas o no alcanzadas ",0]
[null,null,"Horas extras remuneración exenta o no alcanzada ",0]
[null,null,"Movilidad y viáticos remuneración exenta o no alcanzada ",0]
[null,null,"Material didáctico personal docente remuneración exenta o no alcanzada ",0]
[null,null,"Bonos de productividad gravados ",0]
[null,null,"Fallos de caja gravados ",0]
[null,null,"Conceptos de similar naturaleza gravados ",0]
[null,null,"Bonos de productividad exentos ",0]
[null,null,"Fallos de caja exentos ",0]
[null,null,"Conceptos de similar naturaleza exentos ",0]
[null,null,"Compensación de gastos teletrabajo - exentos ",0]
[null,null,"Personal militar - suplementos art. 57 Ley 19101 - exentos ",0]
[null,null,"SAC primera cuota - No alcanzado o exento ",0]
[null,null,"SAC segunda cuota - No alcanzado o exento ",0]
[null,null,"Ajustes períodos anteriores - Remuneración gravada ",0]
[null,null,"Ajustes períodos anteriores - Remuneración no alcanzada o exenta ",0]
[null,null,"TOTAL REMUNERACIÓN GRAVADA",{"$f":"SUM(D21:E27,D44,D47:D53,D70)","v":3167193.04}]
[null,null,"TOTAL REMUNERACIÓN NO ALCANZADA O EXENTA",{"$f":"SUM(D28:D43,D45,D54:D69,D71)","v":229696.85}]
[null,null,"TOTAL REMUNERACIONES",{"$f":"IF(+D72+D73<0,0,D72+D73)","v":3396889.89}]
[]
[null,null,"DEDUCCIONES GENERALES",null,null,null,null,"Topes máximos legales"]
[null,null,"Aportes a fondos de jubilaciones, retiros, pensiones o subsidios que se destinen a cajas nacionales, provinciales o municipales",393779.49,null,{"$f":"validaciones(D77,H77,0)&IF(D77>$D$74,\" El importe no puede ser mayor a la remuneración total\",\"\")","v":""}]
[null,null,"Aportes a fondos de jubilaciones, retiros, pensiones o subsidios que se destinen a cajas nacionales, provinciales o municipales por otros empleos",0,null,{"$f":"validaciones(D78,H78,0)&IF(D78>$D$74,\" El importe no puede ser mayor a la remuneración total\",\"\")","v":""}]
[null,null,"Aportes a obra sociales",84381.32,null,{"$f":"validaciones(D79,H79,0)&IF(D79>$D$74,\" El importe no puede ser mayor a la remuneración total\",\"\")","v":""}]
[null,null,"Aportes a obra sociales por otros empleos",0,null,{"$f":"validaciones(D80,H80,0)&IF(D80>$D$74,\" El importe no puede ser mayor a la remuneración total\",\"\")","v":""}]
[null,null,"Cuota sindical",87788.17,null,{"$f":"validaciones(D81,H81,0)&IF(D81>$D$74,\" El importe no puede ser mayor a la remuneración total\",\"\")","v":""}]
[null,null,"Cuota sindical por otros empleos",0,null,{"$f":"validaciones(D82,H82,0)&IF(D82>$D$74,\" El importe no puede ser mayor a la remuneración total\",\"\")","v":""}]
[null,null,"Cuotas médico asistenciales",51744.09,null,{"$f":"validaciones(D83,H83,0)","v":""},null,{"$f":"(D72-SUM(D77:D82,D84:D89,D91,D93:D94,D95:D103))*0.05","v":128979.70300000001}]
[null,null,"Primas de seguro para el caso de muerte",21650,null,{"$f":"validaciones(D84,H84,0)&IF(AND(Datos!$C$11=\"Informativa\",D84<>0),\"En la DDJJ informativa, este campo debe consignarse en cero (0)\",\"\")","v":""},null,{"$f":"+Tablas!B2","v":24000}]
[null,null,"Primas por riesgo de muerte y de ahorro de seguros mixtos, excepto para los casos de seguros de retiro privados administrados por entidades sujetas al control de la Superintendencia de Seguros de la Nación",0,null,{"$f":"validaciones(D85,H85,0)&IF(AND(Datos!$C$11=\"Informativa\",D85<>0),\"En la DDJJ informativa, este campo debe consignarse en cero (0)\",\"\")","v":""},null,{"$f":"+H84","v":24000}]
[null,null,"Aportes a planes de seguro de retiro privados administrados por entidades sujetas al control de la Superintendencia de Seguros de la Nación",0,null,{"$f":"validaciones(D86,H86,0)&IF(AND(Datos!$C$11=\"Informativa\",D86<>0),\"En la DDJJ informativa, este campo debe consignarse en cero (0)\",\"\")","v":""},null,{"$f":"+H85","v":24000}]
[null,null,"Cuotapartes de fondos comunes de inversión constituidos con fines de retiro",0,null,{"$f":"validaciones(D87,H87,0)&IF(D87<>0,\"Deberá consignarse en cero (0), hasta que la Autoridad de Aplicación – CNV – autorice a las Entidades a funcionar e implemente el régimen.\",\"\")","v":""},null,0]
[null,null,"Gastos de sepelio",0,null,{"$f":"validaciones(D88,H88,0)","v":""},null,{"$f":"+Tablas!B6","v":996.23}]
[null,null,"Gastos amortización e intereses rodado para corredores y viajantes de comercio",0,null,{"$f":"validaciones(D89,H89,0)&IF(D89>$D$74,\" El importe no puede ser mayor a la remuneración total\",\"\")","v":""}]
[null,null,"Donaciones a fiscos nacional, provinciales y municipales, y a instituciones comprendidas en el artículo 26, incisos e) y f) de la ley",0,null,{"$f":"validaciones(D90,H90,0)","v":""},null,{"$f":"(D72-SUM(D77:D82,D84:D89,D91,D93:D94,D95:D103))*0.05","v":128979.70300000001}]
[null,null,"Descuentos obligatorios establecidos por ley nacional, provincial o municipal",0,null,{"$f":"validaciones(D91,H91,0)&IF(D91>$D$74,\" El importe no puede ser mayor a la remuneración total\",\"\")","v":""}]
[null,null,"Honorarios por servicios de asistencia sanitaria, médica y paramédica",0,null,{"$f":"validaciones(D92,H92,0)&IF(AND(Datos!$C$11=\"Informativa\",D92<>0),\"En la DDJJ informativa, este campo debe consignarse en cero (0)\",\"\")","v":""},null,{"$f":"(D72-SUM(D77:D82,D84:D89,D91,D93:D94,D95:D103))*0.05","v":128979.70300000001}]
[null,null,"Intereses de créditos hipotecarios",0,null,{"$f":"validaciones(D93,H93,0)","v":""},null,{"$f":"+Tablas!B3","v":20000}]
[null,null,"Aportes al capital social o al fondo de riesgo de socios protectores de sociedades de garantía recíproca",0,null,{"$f":"validaciones(D94,H94,0)","v":""}]
[null,null,"Alquileres de inmuebles destinados a casa habitación",0,null,{"$f":"validaciones(D95,H95,0)","v":""},null,{"$f":"IF(Datos!C11=\"Final\",ROUND(Tablas!B4/12*12,2),ROUND(Tablas!B4/12*MONTH(Datos!C13),2))","v":167678.39999999999}]
[null,null,"Empleados del servicio doméstico",0,null,{"$f":"validaciones(D96,H96,0)","v":""},null,{"$f":"Tablas!B4","v":167678.39999999999}]
[null,null,"Gastos de movilidad, viáticos y otras compensaciones análogas abonados por el empleador",0,null,{"$f":"validaciones(D97,H97,0)","v":""},null,{"$f":"IF(D13=\"Desarrolla la actividad\",Tablas!B4,Tablas!B4*0.4)","v":67071.360000000001}]
[null,null,"Gastos por adquisición de indumentaria y/o equipamiento de trabajo",0,null,{"$f":"validaciones(D98,H98,0)","v":""}]
[null,null,"Otras deducciones - aportes a Cajas Complementarias de Previsión, Fondos Compensadores de Previsión o similares",0,null,{"$f":"validaciones(D99,H99,0)","v":""}]
[null,null,"Otras deducciones - Aportes para jubilaciones, retiros y subsidios ANSES",0,null,{"$f":"validaciones(D100,H100,0)","v":""}]
[null,null,"Otras deducciones - Cajas Provinciales o Municipales o de Previsión para Profesionales",0,null,{"$f":"validaciones(D101,H101,0)","v":""}]
[null,null,"Otras deducciones - Actores - Retribución pagada a los representantes - RG 2442/08",0,null,{"$f":"validaciones(D102,H102,0)","v":""}]
[null,null,"Otras deducciones - Fondos compensadores de previsión",0,null,{"$f":"validaciones(D103,H103,0)","v":""}]
[null,null,"Otras deducciones",{"$f":"+SUM(D99:E103)","v":0}]
[null,null,"TOTAL DEDUCCIONES GENERALES",{"$f":"SUM(D77:E103)","v":639343.06999999995},null,null,null,null,null,null,{"$f":"+D72-D105","v":2527849.9700000002}]
[]
[null,null,"DEDUCCIONES PERSONALES",null,null,null,null,"Topes máximos legales"]
[null,null,"Ganancia no imponible",167678.39999999999,null,{"$f":"validaciones(D108,H108,0)","v":""},null,{"$f":"deducciones(1,Datos!C11,MONTH(Datos!$C$13),$D$12)","v":167678.39999999999},null,null,{"$f":"IF(K105-K109<=0,0,IF(K105-K109<=H108,K105-K109,H108))","v":167678.39999999999}]
[null,null,"Deducción especial",804856.34,null,{"$f":"validaciones(D109,H109,0)","v":""},null,{"$f":"deducciones(2,Datos!$C$11,MONTH(Datos!$C$13),$D$12)","v":804856.34},null,null,{"$f":"IF(K105<=H109,K105,H109)","v":804856.34}]
[null,null,"Deducción Especial Incrementada Primera parte del penúltimo párrafo del inciso c) del artículo 30 de la ley del gravamen",0]
[null,null,"Deducción Especial Incrementada Segunda parte del penúltimo párrafo del inciso c) del artículo 30 de la ley del gravamen",0]
[null,null,"Deducción específica",0,null,{"$f":"validaciones(D112,H112,0)","v":""},null,0]
[null,null,"Cargas de familia"]
[null,null,"Cónyuge",156320.63,null,{"$f":"validaciones(D114,H114,0)","v":""},null,{"$f":"cargas_de_familia(4,Datos!$C$11,MONTH(Datos!$C$13),$D$12)","v":156320.63},null,null,{"$f":"IF(K105-K108-K109>=D114,D114,K105-K108-K109)","v":156320.63}]
[null,null,"Cantidad de hijos e hijastros",1,null,{"$f":"validaciones(D115,H115,0)","v":""},null,99]
[null,null,"Deducción total hijos e hijastros",78833.08,null,null,null,{"$f":"cargas_de_familia(3,Datos!$C$11,MONTH(Datos!$C$13),$D$12)*D115","v":78833.08},null,null,{"$f":"IF(K105-K108-K109-K114>=D116,D116,K105-K108-K109-K114)","v":78833.08}]
[null,null,"Cantidad de hijos e hijastros incapacitados para el trabajo",0,null,{"$f":"validaciones(D117,H117,0)","v":""},null,99]
[null,null,"Hijos / Hijastros incapacitados para el trabajo",0,null,null,null,{"$f":"cargas_de_familia(5,Datos!$C$11,MONTH(Datos!$C$13),$D$12)","v":157666.16}]
[null,null,"Total de cargas de familia",{"$f":"+D114+D116+D118","v":235153.71000000002},null,null,null,0]
[null,null,"TOTAL DEDUCCIONES PERSONALES",{"$f":"SUM(D108:D112,D119)","v":1207688.45}]
[]
[null,null,"DETERMINACIÓN DEL IMPUESTO"]
[null,null,"REMUNERACIÓN NETA SUJETA A IMPUESTO -antes de la deducción art. 46 L. 27541-",0]
[null,null,"Deducción inciso a) primer párrafo artículo 30 de la ley (cfr. art. 46 L. 27541)",0,null,null,null,0,null,null,{"$f":"IF(D123-K125<=0,0,IF(D123-K125<=H124,D123-K125,H124))","v":0}]
[null,null,"Deducción inciso c) primer párrafo artículo 30 de la ley (cfr. art. 46 L. 27541)",0,null,null,null,0,null,null,{"$f":"IF(D123<=H125,D123,H125)","v":0}]
[null,null,"REMUNERACIÓN SUJETA A IMPUESTO",{"$f":"IF(+D72-D105-D120<0,0,+D72-D105-D120)","v":1320161.5200000003}]
[null,null,"Alícuota aplicable artículo 94 ley de impuesto a las ganancias",{"$f":"IF(OR(Datos!C11=\"Final\",Datos!C11=\"Anual\"),impuestoAlicuota(D126,D25*(1-G25)+D51*(1-G51),12),impuestoAlicuota(D126,D25*(1-G25)+D51*(1-G51),MONTH(D11)))","v":0.35}]
[null,null,"Alícuota aplicable sin incluir horas extras",{"$f":"IF(OR(Datos!C11=\"Final\",Datos!C11=\"Anual\"),impuestoAlicuota(D126,0,12),impuestoAlicuota(D126,0,MONTH(D11)))","v":0.35}]
[null,null,"IMPUESTO DETERMINADO",{"$f":"IF(D126<0,0,IF(OR(Datos!C11=\"Final\",Datos!C11=\"Anual\"),impuestoDeterminado(D126,D25*(1-G25)+D51*(1-G51),12),impuestoDeterminado(D126,D25*(1-G25)+D51*(1-G51),MONTH(D11))))","v":331055.26699999999}]
[null,null,"Impuesto retenido",286707.81]
[null,null,"Pagos a cuenta - Impuesto sobre créditos y débitos",0,null,{"$f":"IF(AND(Datos!$C$11=\"Informativa\",D131<>0),\"En la DDJJ informativa, este campo debe consignarse en cero (0)\",\"\")","v":""}]
[null,null,"Pagos a cuenta - Percepciones / Retenciones aduaneras",0,null,{"$f":"IF(AND(Datos!$C$11=\"Informativa\",D132<>0),\"En la DDJJ informativa, este campo debe consignarse en cero (0)\",\"\")","v":""}]
[null,null,"Pagos a cuenta - RG (AFIP) 3819/2015 - Cancelaciones en efectivo",0,null,{"$f":"IF(AND(Datos!$C$11=\"Informativa\",D133<>0),\"En la DDJJ informativa, este campo debe consignarse en cero (0)\",\"\")","v":""}]
[null,null,"Pagos a cuenta - Bono ley 27.424",0,null,{"$f":"IF(AND(Datos!$C$11=\"Informativa\",D134<>0),\"En la DDJJ informativa, este campo debe consignarse en cero (0)\",\"\")","v":""}]
[null,null,"Pagos a cuenta - RG 4815 [LEY 27.541 Art. 35 inciso a)] ",42168,null,{"$f":"IF(AND(Datos!$C$11=\"Informativa\",D135<>0),\"En la DDJJ informativa, este campo debe consignarse en cero (0)\",\"\")","v":""}]
[null,null,"Pagos a cuenta - RG 4815 [LEY 27.541 Art. 35 inciso b)] ",2179.46,null,{"$f":"IF(AND(Datos!$C$11=\"Informativa\",D136<>0),\"En la DDJJ informativa, este campo debe consignarse en cero (0)\",\"\")","v":""}]
[null,null,"Pagos a cuenta - RG 4815 [LEY 27.541 Art. 35 inciso c)] ",0,null,{"$f":"IF(AND(Datos!$C$11=\"Informativa\",D137<>0),\"En la DDJJ informativa, este campo debe consignarse en cero (0)\",\"\")","v":""}]
[null,null,"Pagos a cuenta - RG 4815 [LEY 27.541 Art. 35 inciso d)] ",0,null,{"$f":"IF(AND(Datos!$C$11=\"Informativa\",D138<>0),\"En la DDJJ informativa, este campo debe consignarse en cero (0)\",\"\")","v":""}]
[null,null,"Pagos a cuenta - RG 4815 [LEY 27.541 Art. 35 inciso e)] ",0,null,{"$f":"IF(AND(Datos!$C$11=\"Informativa\",D139<>0),\"En la DDJJ informativa, este campo debe consignarse en cero (0)\",\"\")","v":""}]
[null,null,"Pagos a cuenta - Impuesto sobre créditos y débitos - sobre movimientos de fondos propios o de terceros",0,null,{"$f":"IF(AND(Datos!$C$11=\"Informativa\",D140<>0),\"En la DDJJ informativa, este campo debe consignarse en cero (0)\",\"\")","v":""}]
[null,null,"Pagos a cuenta - Resolución General (AFIP) 3819/2015 - Cancelaciones en Efectivo -Servicios de transporte terrestre, aéreo y por vía acuática de pasajeros con destino fuera del país",0,null,{"$f":"IF(AND(Datos!$C$11=\"Informativa\",D141<>0),\"En la DDJJ informativa, este campo debe consignarse en cero (0)\",\"\")","v":""}]
[null,null,"Total pagos a cuenta",{"$f":"SUM(D131:D141)","v":44347.46}]
[null,null,"SALDO A PAGAR",{"$f":"+ROUND(D129,2)-D130-D142","v":0}]

{"sheet":"Empleado07","index":11,"n_rows":143,"n_cols":11,"rows_kept":143,"cut":false,"hidden":false,"merged":[[10,7,11,9]]}
[]
[]
[null,null,"LIQUIDACIÓN DE IMPUESTO A LAS GANANCIAS - 4ta. CATEGORÍA RELACIÓN DE DEPENDENCIA"]
[]
[]
[null,null,"Empleado: Nombre y apellido ","CHIESA MARCOS"]
[null,null,"CUIL del empleado",20303605895,null,{"$f":"cuitValidar(D7)","v":"CUIT/CUIL Válido"}]
[null,null,{"$f":"\"Agente de Retención: \"","v":"Agente de Retención: "},{"$f":"Datos!C7&\" - \"&Datos!C5","v":"33711238269 - OPERACIONES AGROPORTUARIAS S.A."}]
[null,null,{"$f":"\"Período Fiscal: \"","v":"Período Fiscal: "},{"$f":"YEAR(Datos!C13)","v":2021}]
[null,null,"Período trabajado (desde):","2021-01-01"]
[null,null,"Período trabajado (hasta):","2021-09-25",null,null,null,{"$f":"IF(MONTH(D11)>MONTH(Datos!C13),\"El período trabajado no puede ser mayor al período que se informa (mes \"&MONTH(Datos!C13)&\")\",\"\")","v":""}]
[null,null,"Zona geográfica:","Todo el país (excepto zona patagónica)"]
[null,null,"Transporte a larga distancia","No desarrolla la actividad"]
[null,null,"Beneficio promocional 27424?","No"]
[null,null,"Beneficio de la ley 27549?","No"]
[null,null,"El trabajador labora bajo el régimen de teletrabajo (Ley 27555)?","No"]
[null,null,"El trabajador es personal militar en actividad?","No"]
[]
[null,null,"REMUNERACIONES"]
[null,null,"Abonadas por el agente de retención:"]
[null,null,"Remuneración bruta gravada",3367579.1]
[null,null,"Retribuciones no habituales gravadas",0]
[null,null,"SAC primera cuota gravado",0]
[null,null,"SAC segunda cuota gravado",0]
[null,null,"Horas extras remuneración gravada",0,null,null,0,"% de retenciones"]
[null,null,"Movilidad y viáticos remuneración gravada",0]
[null,null,"Material didáctico personal docente remuneración gravada",0]
[null,null,"Remuneración no alcanzada o exenta (sin horas extras)",0]
[null,null,"Remuneración exenta ley 27549",0,null,{"$f":"IF(AND($D$15=\"No\",D29<>0),\"Para que sea procedente el beneficio, modifique el valor en la celda D15\",\"\")","v":""}]
[null,null,"Retribuciones no habituales exentas o no alcanzadas",0]
[null,null,"Horas extras remuneración exenta",130696.28]
[null,null,"Movilidad y viáticos remuneración exenta",0]
[null,null,"Material didáctico personal docente remuneración exenta",0]
[null,null,"Bonos de productividad gravados",0]
[null,null,"Fallos de caja gravados",0]
[null,null,"Conceptos de similar naturaleza gravados",0]
[null,null,"Bonos de productividad exentos",0]
[null,null,"Fallos de caja exentos",0]
[null,null,"Conceptos de similar naturaleza exentos",0]
[null,null,"Compensación de gastos de teletrabajo exentos",0]
[null,null,"Personal militar - suplementos art. 57 ley 19.101 - exentos",0]
[null,null,"SAC primera cuota - No alcanzado o exento",0]
[null,null,"SAC segunda cuota - No alcanzado o exento",0]
[null,null,"Ajustes períodos anteriores - Remuneración gravada",0]
[null,null,"Ajustes períodos anteriores - Remuneración exenta / no alcanzada",0]
[null,null,"Otros empleos:"]
[null,null,"Remuneración bruta gravada ",0]
[null,null,"Retribuciones no habituales gravadas ",0]
[null,null,"SAC primera cuota gravado ",0]
[null,null,"SAC segunda cuota gravado ",0]
[null,null,"Horas extras remuneración gravada ",0,null,null,0,"% de retenciones"]
[null,null,"Movilidad y viáticos remuneración gravada ",0]
[null,null,"Material didáctico personal docente remuneración gravada ",0]
[null,null,"Remuneración no alcanzada o exenta ",0]
[null,null,"Remuneración exenta ley 27549 ",0,null,{"$f":"IF(AND($D$15=\"No\",D55<>0),\"Para que sea procedente el beneficio, modifique el valor en la celda D15\",\"\")","v":""}]
[null,null,"Retribuciones no habituales exentas o no alcanzadas ",0]
[null,null,"Horas extras remuneración exenta o no alcanzada ",0]
[null,null,"Movilidad y viáticos remuneración exenta o no alcanzada ",0]
[null,null,"Material didáctico personal docente remuneración exenta o no alcanzada ",0]
[null,null,"Bonos de productividad gravados ",0]
[null,null,"Fallos de caja gravados ",0]
[null,null,"Conceptos de similar naturaleza gravados ",0]
[null,null,"Bonos de productividad exentos ",0]
[null,null,"Fallos de caja exentos ",0]
[null,null,"Conceptos de similar naturaleza exentos ",0]
[null,null,"Compensación de gastos teletrabajo - exentos ",0]
[null,null,"Personal militar - suplementos art. 57 Ley 19101 - exentos ",0]
[null,null,"SAC primera cuota - No alcanzado o exento ",0]
[null,null,"SAC segunda cuota - No alcanzado o exento ",0]
[null,null,"Ajustes períodos anteriores - Remuneración gravada ",0]
[null,null,"Ajustes períodos anteriores - Remuneración no alcanzada o exenta ",0]
[null,null,"TOTAL REMUNERACIÓN GRAVADA",{"$f":"SUM(D21:E27,D44,D47:D53,D70)","v":3367579.1}]
[null,null,"TOTAL REMUNERACIÓN NO ALCANZADA O EXENTA",{"$f":"SUM(D28:D43,D45,D54:D69,D71)","v":130696.28}]
[null,null,"TOTAL REMUNERACIONES",{"$f":"IF(+D72+D73<0,0,D72+D73)","v":3498275.38}]
[]
[null,null,"DEDUCCIONES GENERALES",null,null,null,null,"Topes máximos legales"]
[null,null,"Aportes a fondos de jubilaciones, retiros, pensiones o subsidios que se destinen a cajas nacionales, provinciales o municipales",423553.52,null,{"$f":"validaciones(D77,H77,0)&IF(D77>$D$74,\" El importe no puede ser mayor a la remuneración total\",\"\")","v":""}]
[null,null,"Aportes a fondos de jubilaciones, retiros, pensiones o subsidios que se destinen a cajas nacionales, provinciales o municipales por otros empleos",0,null,{"$f":"validaciones(D78,H78,0)&IF(D78>$D$74,\" El importe no puede ser mayor a la remuneración total\",\"\")","v":""}]
[null,null,"Aportes a obra sociales",90761.47,null,{"$f":"validaciones(D79,H79,0)&IF(D79>$D$74,\" El importe no puede ser mayor a la remuneración total\",\"\")","v":""}]
[null,null,"Aportes a obra sociales por otros empleos",0,null,{"$f":"validaciones(D80,H80,0)&IF(D80>$D$74,\" El importe no puede ser mayor a la remuneración total\",\"\")","v":""}]
[null,null,"Cuota sindical",93364.38,null,{"$f":"validaciones(D81,H81,0)&IF(D81>$D$74,\" El importe no puede ser mayor a la remuneración total\",\"\")","v":""}]
[null,null,"Cuota sindical por otros empleos",0,null,{"$f":"validaciones(D82,H82,0)&IF(D82>$D$74,\" El importe no puede ser mayor a la remuneración total\",\"\")","v":""}]
[null,null,"Cuotas médico asistenciales",2280,null,{"$f":"validaciones(D83,H83,0)","v":""},null,{"$f":"(D72-SUM(D77:D82,D84:D89,D91,D93:D94,D95:D103))*0.05","v":133308.21850000002}]
[null,null,"Primas de seguro para el caso de muerte",0,null,{"$f":"validaciones(D84,H84,0)&IF(AND(Datos!$C$11=\"Informativa\",D84<>0),\"En la DDJJ informativa, este campo debe consignarse en cero (0)\",\"\")","v":""},null,{"$f":"+Tablas!B2","v":24000}]
[null,null,"Primas por riesgo de muerte y de ahorro de seguros mixtos, excepto para los casos de seguros de retiro privados administrados por entidades sujetas al control de la Superintendencia de Seguros de la Nación",0,null,{"$f":"validaciones(D85,H85,0)&IF(AND(Datos!$C$11=\"Informativa\",D85<>0),\"En la DDJJ informativa, este campo debe consignarse en cero (0)\",\"\")","v":""},null,{"$f":"+H84","v":24000}]
[null,null,"Aportes a planes de seguro de retiro privados administrados por entidades sujetas al control de la Superintendencia de Seguros de la Nación",0,null,{"$f":"validaciones(D86,H86,0)&IF(AND(Datos!$C$11=\"Informativa\",D86<>0),\"En la DDJJ informativa, este campo debe consignarse en cero (0)\",\"\")","v":""},null,{"$f":"+H85","v":24000}]
[null,null,"Cuotapartes de fondos comunes de inversión constituidos con fines de retiro",0,null,{"$f":"validaciones(D87,H87,0)&IF(D87<>0,\"Deberá consignarse en cero (0), hasta que la Autoridad de Aplicación – CNV – autorice a las Entidades a funcionar e implemente el régimen.\",\"\")","v":""},null,0]
[null,null,"Gastos de sepelio",0,null,{"$f":"validaciones(D88,H88,0)","v":""},null,{"$f":"+Tablas!B6","v":996.23}]
[null,null,"Gastos amortización e intereses rodado para corredores y viajantes de comercio",0,null,{"$f":"validaciones(D89,H89,0)&IF(D89>$D$74,\" El importe no puede ser mayor a la remuneración total\",\"\")","v":""}]
[null,null,"Donaciones a fiscos nacional, provinciales y municipales, y a instituciones comprendidas en el artículo 26, incisos e) y f) de la ley",0,null,{"$f":"validaciones(D90,H90,0)","v":""},null,{"$f":"(D72-SUM(D77:D82,D84:D89,D91,D93:D94,D95:D103))*0.05","v":133308.21850000002}]
[null,null,"Descuentos obligatorios establecidos por ley nacional, provincial o municipal",0,null,{"$f":"validaciones(D91,H91,0)&IF(D91>$D$74,\" El importe no puede ser mayor a la remuneración total\",\"\")","v":""}]
[null,null,"Honorarios por servicios de asistencia sanitaria, médica y paramédica",0,null,{"$f":"validaciones(D92,H92,0)&IF(AND(Datos!$C$11=\"Informativa\",D92<>0),\"En la DDJJ informativa, este campo debe consignarse en cero (0)\",\"\")","v":""},null,{"$f":"(D72-SUM(D77:D82,D84:D89,D91,D93:D94,D95:D103))*0.05","v":133308.21850000002}]
[null,null,"Intereses de créditos hipotecarios",0,null,{"$f":"validaciones(D93,H93,0)","v":""},null,{"$f":"+Tablas!B3","v":20000}]
[null,null,"Aportes al capital social o al fondo de riesgo de socios protectores de sociedades de garantía recíproca",0,null,{"$f":"validaciones(D94,H94,0)","v":""}]
[null,null,"Alquileres de inmuebles destinados a casa habitación",0,null,{"$f":"validaciones(D95,H95,0)","v":""},null,{"$f":"IF(Datos!C11=\"Final\",ROUND(Tablas!B4/12*12,2),ROUND(Tablas!B4/12*MONTH(Datos!C13),2))","v":167678.39999999999}]
[null,null,"Empleados del servicio doméstico",0,null,{"$f":"validaciones(D96,H96,0)","v":""},null,{"$f":"Tablas!B4","v":167678.39999999999}]
[null,null,"Gastos de movilidad, viáticos y otras compensaciones análogas abonados por el empleador",0,null,{"$f":"validaciones(D97,H97,0)","v":""},null,{"$f":"IF(D13=\"Desarrolla la actividad\",Tablas!B4,Tablas!B4*0.4)","v":67071.360000000001}]
[null,null,"Gastos por adquisición de indumentaria y/o equipamiento de trabajo",93735.360000000001,null,{"$f":"validaciones(D98,H98,0)","v":""}]
[null,null,"Otras deducciones - aportes a Cajas Complementarias de Previsión, Fondos Compensadores de Previsión o similares",0,null,{"$f":"validaciones(D99,H99,0)","v":""}]
[null,null,"Otras deducciones - Aportes para jubilaciones, retiros y subsidios ANSES",0,null,{"$f":"validaciones(D100,H100,0)","v":""}]
[null,null,"Otras deducciones - Cajas Provinciales o Municipales o de Previsión para Profesionales",0,null,{"$f":"validaciones(D101,H101,0)","v":""}]
[null,null,"Otras deducciones - Actores - Retribución pagada a los representantes - RG 2442/08",0,null,{"$f":"validaciones(D102,H102,0)","v":""}]
[null,null,"Otras deducciones - Fondos compensadores de previsión",0,null,{"$f":"validaciones(D103,H103,0)","v":""}]
[null,null,"Otras deducciones",{"$f":"+SUM(D99:E103)","v":0}]
[null,null,"TOTAL DEDUCCIONES GENERALES",{"$f":"SUM(D77:E103)","v":703694.73},null,null,null,null,null,null,{"$f":"+D72-D105","v":2663884.37}]
[]
[null,null,"DEDUCCIONES PERSONALES",null,null,null,null,"Topes máximos legales"]
[null,null,"Ganancia no imponible",167678.39999999999,null,{"$f":"validaciones(D108,H108,0)","v":""},null,{"$f":"deducciones(1,Datos!C11,MONTH(Datos!$C$13),$D$12)","v":167678.39999999999},null,null,{"$f":"IF(K105-K109<=0,0,IF(K105-K109<=H108,K105-K109,H108))","v":167678.39999999999}]
[null,null,"Deducción especial",804856.34,null,{"$f":"validaciones(D109,H109,0)","v":""},null,{"$f":"deducciones(2,Datos!$C$11,MONTH(Datos!$C$13),$D$12)","v":804856.34},null,null,{"$f":"IF(K105<=H109,K105,H109)","v":804856.34}]
[null,null,"Deducción Especial Incrementada Primera parte del penúltimo párrafo del inciso c) del artículo 30 de la ley del gravamen",0]
[null,null,"Deducción Especial Incrementada Segunda parte del penúltimo párrafo del inciso c) del artículo 30 de la ley del gravamen",0]
[null,null,"Deducción específica",0,null,{"$f":"validaciones(D112,H112,0)","v":""},null,0]
[null,null,"Cargas de familia"]
[null,null,"Cónyuge",0,null,{"$f":"validaciones(D114,H114,0)","v":""},null,{"$f":"cargas_de_familia(4,Datos!$C$11,MONTH(Datos!$C$13),$D$12)","v":156320.63},null,null,{"$f":"IF(K105-K108-K109>=D114,D114,K105-K108-K109)","v":0}]
[null,null,"Cantidad de hijos e hijastros",3,null,{"$f":"validaciones(D115,H115,0)","v":""},null,99]
[null,null,"Deducción total hijos e hijastros",236499.24,null,null,null,{"$f":"cargas_de_familia(3,Datos!$C$11,MONTH(Datos!$C$13),$D$12)*D115","v":236499.24},null,null,{"$f":"IF(K105-K108-K109-K114>=D116,D116,K105-K108-K109-K114)","v":236499.24}]
[null,null,"Cantidad de hijos e hijastros incapacitados para el trabajo",0,null,{"$f":"validaciones(D117,H117,0)","v":""},null,99]
[null,null,"Hijos / Hijastros incapacitados para el trabajo",0,null,null,null,{"$f":"cargas_de_familia(5,Datos!$C$11,MONTH(Datos!$C$13),$D$12)","v":157666.16}]
[null,null,"Total de cargas de familia",{"$f":"+D114+D116+D118","v":236499.24},null,null,null,0]
[null,null,"TOTAL DEDUCCIONES PERSONALES",{"$f":"SUM(D108:D112,D119)","v":1209033.98}]
[]
[null,null,"DETERMINACIÓN DEL IMPUESTO"]
[null,null,"REMUNERACIÓN NETA SUJETA A IMPUESTO -antes de la deducción art. 46 L. 27541-",0]
[null,null,"Deducción inciso a) primer párrafo artículo 30 de la ley (cfr. art. 46 L. 27541)",0,null,null,null,0,null,null,{"$f":"IF(D123-K125<=0,0,IF(D123-K125<=H124,D123-K125,H124))","v":0}]
[null,null,"Deducción inciso c) primer párrafo artículo 30 de la ley (cfr. art. 46 L. 27541)",0,null,null,null,0,null,null,{"$f":"IF(D123<=H125,D123,H125)","v":0}]
[null,null,"REMUNERACIÓN SUJETA A IMPUESTO",{"$f":"IF(+D72-D105-D120<0,0,+D72-D105-D120)","v":1454850.3900000001}]
[null,null,"Alícuota aplicable artículo 94 ley de impuesto a las ganancias",{"$f":"IF(OR(Datos!C11=\"Final\",Datos!C11=\"Anual\"),impuestoAlicuota(D126,D25*(1-G25)+D51*(1-G51),12),impuestoAlicuota(D126,D25*(1-G25)+D51*(1-G51),MONTH(D11)))","v":0.35}]
[null,null,"Alícuota aplicable sin incluir horas extras",{"$f":"IF(OR(Datos!C11=\"Final\",Datos!C11=\"Anual\"),impuestoAlicuota(D126,0,12),impuestoAlicuota(D126,0,MONTH(D11)))","v":0.35}]
[null,null,"IMPUESTO DETERMINADO",{"$f":"IF(D126<0,0,IF(OR(Datos!C11=\"Final\",Datos!C11=\"Anual\"),impuestoDeterminado(D126,D25*(1-G25)+D51*(1-G51),12),impuestoDeterminado(D126,D25*(1-G25)+D51*(1-G51),MONTH(D11))))","v":378196.37149999995}]
[null,null,"Impuesto retenido",378196.37]
[null,null,"Pagos a cuenta - Impuesto sobre créditos y débitos",0,null,{"$f":"IF(AND(Datos!$C$11=\"Informativa\",D131<>0),\"En la DDJJ informativa, este campo debe consignarse en cero (0)\",\"\")","v":""}]
[null,null,"Pagos a cuenta - Percepciones / Retenciones aduaneras",0,null,{"$f":"IF(AND(Datos!$C$11=\"Informativa\",D132<>0),\"En la DDJJ informativa, este campo debe consignarse en cero (0)\",\"\")","v":""}]
[null,null,"Pagos a cuenta - RG (AFIP) 3819/2015 - Cancelaciones en efectivo",0,null,{"$f":"IF(AND(Datos!$C$11=\"Informativa\",D133<>0),\"En la DDJJ informativa, este campo debe consignarse en cero (0)\",\"\")","v":""}]
[null,null,"Pagos a cuenta - Bono ley 27.424",0,null,{"$f":"IF(AND(Datos!$C$11=\"Informativa\",D134<>0),\"En la DDJJ informativa, este campo debe consignarse en cero (0)\",\"\")","v":""}]
[null,null,"Pagos a cuenta - RG 4815 [LEY 27.541 Art. 35 inciso a)] ",0,null,{"$f":"IF(AND(Datos!$C$11=\"Informativa\",D135<>0),\"En la DDJJ informativa, este campo debe consignarse en cero (0)\",\"\")","v":""}]
[null,null,"Pagos a cuenta - RG 4815 [LEY 27.541 Art. 35 inciso b)] ",0,null,{"$f":"IF(AND(Datos!$C$11=\"Informativa\",D136<>0),\"En la DDJJ informativa, este campo debe consignarse en cero (0)\",\"\")","v":""}]
[null,null,"Pagos a cuenta - RG 4815 [LEY 27.541 Art. 35 inciso c)] ",0,null,{"$f":"IF(AND(Datos!$C$11=\"Informativa\",D137<>0),\"En la DDJJ informativa, este campo debe consignarse en cero (0)\",\"\")","v":""}]
[null,null,"Pagos a cuenta - RG 4815 [LEY 27.541 Art. 35 inciso d)] ",0,null,{"$f":"IF(AND(Datos!$C$11=\"Informativa\",D138<>0),\"En la DDJJ informativa, este campo debe consignarse en cero (0)\",\"\")","v":""}]
[null,null,"Pagos a cuenta - RG 4815 [LEY 27.541 Art. 35 inciso e)] ",0,null,{"$f":"IF(AND(Datos!$C$11=\"Informativa\",D139<>0),\"En la DDJJ informativa, este campo debe consignarse en cero (0)\",\"\")","v":""}]
[null,null,"Pagos a cuenta - Impuesto sobre créditos y débitos - sobre movimientos de fondos propios o de terceros",0,null,{"$f":"IF(AND(Datos!$C$11=\"Informativa\",D140<>0),\"En la DDJJ informativa, este campo debe consignarse en cero (0)\",\"\")","v":""}]
[null,null,"Pagos a cuenta - Resolución General (AFIP) 3819/2015 - Cancelaciones en Efectivo -Servicios de transporte terrestre, aéreo y por vía acuática de pasajeros con destino fuera del país",0,null,{"$f":"IF(AND(Datos!$C$11=\"Informativa\",D141<>0),\"En la DDJJ informativa, este campo debe consignarse en cero (0)\",\"\")","v":""}]
[null,null,"Total pagos a cuenta",{"$f":"SUM(D131:D141)","v":0}]
[null,null,"SALDO A PAGAR",{"$f":"+ROUND(D129,2)-D130-D142","v":0}]

{"sheet":"Empleado08","index":12,"n_rows":143,"n_cols":11,"rows_kept":143,"cut":false,"hidden":false,"merged":[[10,7,11,9]]}
[]
[]
[null,null,"LIQUIDACIÓN DE IMPUESTO A LAS GANANCIAS - 4ta. CATEGORÍA RELACIÓN DE DEPENDENCIA"]
[]
[]
[null,null,"Empleado: Nombre y apellido ","TAMAY SERGIO EDUARDO"]
[null,null,"CUIL del empleado",20308513964,null,{"$f":"cuitValidar(D7)","v":"CUIT/CUIL Válido"}]
[null,null,{"$f":"\"Agente de Retención: \"","v":"Agente de Retención: "},{"$f":"Datos!C7&\" - \"&Datos!C5","v":"33711238269 - OPERACIONES AGROPORTUARIAS S.A."}]
[null,null,{"$f":"\"Período Fiscal: \"","v":"Período Fiscal: "},{"$f":"YEAR(Datos!C13)","v":2021}]
[null,null,"Período trabajado (desde):","2021-01-01"]
[null,null,"Período trabajado (hasta):","2021-09-25",null,null,null,{"$f":"IF(MONTH(D11)>MONTH(Datos!C13),\"El período trabajado no puede ser mayor al período que se informa (mes \"&MONTH(Datos!C13)&\")\",\"\")","v":""}]
[null,null,"Zona geográfica:","Todo el país (excepto zona patagónica)"]
[null,null,"Transporte a larga distancia","No desarrolla la actividad"]
[null,null,"Beneficio promocional 27424?","No"]
[null,null,"Beneficio de la ley 27549?","No"]
[null,null,"El trabajador labora bajo el régimen de teletrabajo (Ley 27555)?","No"]
[null,null,"El trabajador es personal militar en actividad?","No"]
[]
[null,null,"REMUNERACIONES"]
[null,null,"Abonadas por el agente de retención:"]
[null,null,"Remuneración bruta gravada",3269000.12]
[null,null,"Retribuciones no habituales gravadas",0]
[null,null,"SAC primera cuota gravado",0]
[null,null,"SAC segunda cuota gravado",0]
[null,null,"Horas extras remuneración gravada",0,null,null,0,"% de retenciones"]
[null,null,"Movilidad y viáticos remuneración gravada",0]
[null,null,"Material didáctico personal docente remuneración gravada",0]
[null,null,"Remuneración no alcanzada o exenta (sin horas extras)",0]
[null,null,"Remuneración exenta ley 27549",0,null,{"$f":"IF(AND($D$15=\"No\",D29<>0),\"Para que sea procedente el beneficio, modifique el valor en la celda D15\",\"\")","v":""}]
[null,null,"Retribuciones no habituales exentas o no alcanzadas",0]
[null,null,"Horas extras remuneración exenta",234183.35]
[null,null,"Movilidad y viáticos remuneración exenta",0]
[null,null,"Material didáctico personal docente remuneración exenta",0]
[null,null,"Bonos de productividad gravados",0]
[null,null,"Fallos de caja gravados",0]
[null,null,"Conceptos de similar naturaleza gravados",0]
[null,null,"Bonos de productividad exentos",0]
[null,null,"Fallos de caja exentos",0]
[null,null,"Conceptos de similar naturaleza exentos",0]
[null,null,"Compensación de gastos de teletrabajo exentos",0]
[null,null,"Personal militar - suplementos art. 57 ley 19.101 - exentos",0]
[null,null,"SAC primera cuota - No alcanzado o exento",0]
[null,null,"SAC segunda cuota - No alcanzado o exento",0]
[null,null,"Ajustes períodos anteriores - Remuneración gravada",0]
[null,null,"Ajustes períodos anteriores - Remuneración exenta / no alcanzada",0]
[null,null,"Otros empleos:"]
[null,null,"Remuneración bruta gravada ",0]
[null,null,"Retribuciones no habituales gravadas ",0]
[null,null,"SAC primera cuota gravado ",0]
[null,null,"SAC segunda cuota gravado ",0]
[null,null,"Horas extras remuneración gravada ",0,null,null,0,"% de retenciones"]
[null,null,"Movilidad y viáticos remuneración gravada ",0]
[null,null,"Material didáctico personal docente remuneración gravada ",0]
[null,null,"Remuneración no alcanzada o exenta ",0]
[null,null,"Remuneración exenta ley 27549 ",0,null,{"$f":"IF(AND($D$15=\"No\",D55<>0),\"Para que sea procedente el beneficio, modifique el valor en la celda D15\",\"\")","v":""}]
[null,null,"Retribuciones no habituales exentas o no alcanzadas ",0]
[null,null,"Horas extras remuneración exenta o no alcanzada ",0]
[null,null,"Movilidad y viáticos remuneración exenta o no alcanzada ",0]
[null,null,"Material didáctico personal docente remuneración exenta o no alcanzada ",0]
[null,null,"Bonos de productividad gravados ",0]
[null,null,"Fallos de caja gravados ",0]
[null,null,"Conceptos de similar naturaleza gravados ",0]
[null,null,"Bonos de productividad exentos ",0]
[null,null,"Fallos de caja exentos ",0]
[null,null,"Conceptos de similar naturaleza exentos ",0]
[null,null,"Compensación de gastos teletrabajo - exentos ",0]
[null,null,"Personal militar - suplementos art. 57 Ley 19101 - exentos ",0]
[null,null,"SAC primera cuota - No alcanzado o exento ",0]
[null,null,"SAC segunda cuota - No alcanzado o exento ",0]
[null,null,"Ajustes períodos anteriores - Remuneración gravada ",0]
[null,null,"Ajustes períodos anteriores - Remuneración no alcanzada o exenta ",0]
[null,null,"TOTAL REMUNERACIÓN GRAVADA",{"$f":"SUM(D21:E27,D44,D47:D53,D70)","v":3269000.12}]
[null,null,"TOTAL REMUNERACIÓN NO ALCANZADA O EXENTA",{"$f":"SUM(D28:D43,D45,D54:D69,D71)","v":234183.35}]
[null,null,"TOTAL REMUNERACIONES",{"$f":"IF(+D72+D73<0,0,D72+D73)","v":3503183.47}]
[]
[null,null,"DEDUCCIONES GENERALES",null,null,null,null,"Topes máximos legales"]
[null,null,"Aportes a fondos de jubilaciones, retiros, pensiones o subsidios que se destinen a cajas nacionales, provinciales o municipales",407012.74,null,{"$f":"validaciones(D77,H77,0)&IF(D77>$D$74,\" El importe no puede ser mayor a la remuneración total\",\"\")","v":""}]
[null,null,"Aportes a fondos de jubilaciones, retiros, pensiones o subsidios que se destinen a cajas nacionales, provinciales o municipales por otros empleos",0,null,{"$f":"validaciones(D78,H78,0)&IF(D78>$D$74,\" El importe no puede ser mayor a la remuneración total\",\"\")","v":""}]
[null,null,"Aportes a obra sociales",87217.02,null,{"$f":"validaciones(D79,H79,0)&IF(D79>$D$74,\" El importe no puede ser mayor a la remuneración total\",\"\")","v":""}]
[null,null,"Aportes a obra sociales por otros empleos",0,null,{"$f":"validaciones(D80,H80,0)&IF(D80>$D$74,\" El importe no puede ser mayor a la remuneración total\",\"\")","v":""}]
[null,null,"Cuota sindical",60462.61,null,{"$f":"validaciones(D81,H81,0)&IF(D81>$D$74,\" El importe no puede ser mayor a la remuneración total\",\"\")","v":""}]
[null,null,"Cuota sindical por otros empleos",0,null,{"$f":"validaciones(D82,H82,0)&IF(D82>$D$74,\" El importe no puede ser mayor a la remuneración total\",\"\")","v":""}]
[null,null,"Cuotas médico asistenciales",115908.36,null,{"$f":"validaciones(D83,H83,0)","v":""},null,{"$f":"(D72-SUM(D77:D82,D84:D89,D91,D93:D94,D95:D103))*0.05","v":127331.46750000001}]
[null,null,"Primas de seguro para el caso de muerte",0,null,{"$f":"validaciones(D84,H84,0)&IF(AND(Datos!$C$11=\"Informativa\",D84<>0),\"En la DDJJ informativa, este campo debe consignarse en cero (0)\",\"\")","v":""},null,{"$f":"+Tablas!B2","v":24000}]
[null,null,"Primas por riesgo de muerte y de ahorro de seguros mixtos, excepto para los casos de seguros de retiro privados administrados por entidades sujetas al control de la Superintendencia de Seguros de la Nación",0,null,{"$f":"validaciones(D85,H85,0)&IF(AND(Datos!$C$11=\"Informativa\",D85<>0),\"En la DDJJ informativa, este campo debe consignarse en cero (0)\",\"\")","v":""},null,{"$f":"+H84","v":24000}]
[null,null,"Aportes a planes de seguro de retiro privados administrados por entidades sujetas al control de la Superintendencia de Seguros de la Nación",0,null,{"$f":"validaciones(D86,H86,0)&IF(AND(Datos!$C$11=\"Informativa\",D86<>0),\"En la DDJJ informativa, este campo debe consignarse en cero (0)\",\"\")","v":""},null,{"$f":"+H85","v":24000}]
[null,null,"Cuotapartes de fondos comunes de inversión constituidos con fines de retiro",0,null,{"$f":"validaciones(D87,H87,0)&IF(D87<>0,\"Deberá consignarse en cero (0), hasta que la Autoridad de Aplicación – CNV – autorice a las Entidades a funcionar e implemente el régimen.\",\"\")","v":""},null,0]
[null,null,"Gastos de sepelio",0,null,{"$f":"validaciones(D88,H88,0)","v":""},null,{"$f":"+Tablas!B6","v":996.23}]
[null,null,"Gastos amortización e intereses rodado para corredores y viajantes de comercio",0,null,{"$f":"validaciones(D89,H89,0)&IF(D89>$D$74,\" El importe no puede ser mayor a la remuneración total\",\"\")","v":""}]
[null,null,"Donaciones a fiscos nacional, provinciales y municipales, y a instituciones comprendidas en el artículo 26, incisos e) y f) de la ley",0,null,{"$f":"validaciones(D90,H90,0)","v":""},null,{"$f":"(D72-SUM(D77:D82,D84:D89,D91,D93:D94,D95:D103))*0.05","v":127331.46750000001}]
[null,null,"Descuentos obligatorios establecidos por ley nacional, provincial o municipal",0,null,{"$f":"validaciones(D91,H91,0)&IF(D91>$D$74,\" El importe no puede ser mayor a la remuneración total\",\"\")","v":""}]
[null,null,"Honorarios por servicios de asistencia sanitaria, médica y paramédica",0,null,{"$f":"validaciones(D92,H92,0)&IF(AND(Datos!$C$11=\"Informativa\",D92<>0),\"En la DDJJ informativa, este campo debe consignarse en cero (0)\",\"\")","v":""},null,{"$f":"(D72-SUM(D77:D82,D84:D89,D91,D93:D94,D95:D103))*0.05","v":127331.46750000001}]
[null,null,"Intereses de créditos hipotecarios",0,null,{"$f":"validaciones(D93,H93,0)","v":""},null,{"$f":"+Tablas!B3","v":20000}]
[null,null,"Aportes al capital social o al fondo de riesgo de socios protectores de sociedades de garantía recíproca",0,null,{"$f":"validaciones(D94,H94,0)","v":""}]
[null,null,"Alquileres de inmuebles destinados a casa habitación",0,null,{"$f":"validaciones(D95,H95,0)","v":""},null,{"$f":"IF(Datos!C11=\"Final\",ROUND(Tablas!B4/12*12,2),ROUND(Tablas!B4/12*MONTH(Datos!C13),2))","v":167678.39999999999}]
[null,null,"Empleados del servicio doméstico",167678.39999999999,null,{"$f":"validaciones(D96,H96,0)","v":""},null,{"$f":"Tablas!B4","v":167678.39999999999}]
[null,null,"Gastos de movilidad, viáticos y otras compensaciones análogas abonados por el empleador",0,null,{"$f":"validaciones(D97,H97,0)","v":""},null,{"$f":"IF(D13=\"Desarrolla la actividad\",Tablas!B4,Tablas!B4*0.4)","v":67071.360000000001}]
[null,null,"Gastos por adquisición de indumentaria y/o equipamiento de trabajo",0,null,{"$f":"validaciones(D98,H98,0)","v":""}]
[null,null,"Otras deducciones - aportes a Cajas Complementarias de Previsión, Fondos Compensadores de Previsión o similares",0,null,{"$f":"validaciones(D99,H99,0)","v":""}]
[null,null,"Otras deducciones - Aportes para jubilaciones, retiros y subsidios ANSES",0,null,{"$f":"validaciones(D100,H100,0)","v":""}]
[null,null,"Otras deducciones - Cajas Provinciales o Municipales o de Previsión para Profesionales",0,null,{"$f":"validaciones(D101,H101,0)","v":""}]
[null,null,"Otras deducciones - Actores - Retribución pagada a los representantes - RG 2442/08",0,null,{"$f":"validaciones(D102,H102,0)","v":""}]
[null,null,"Otras deducciones - Fondos compensadores de previsión",0,null,{"$f":"validaciones(D103,H103,0)","v":""}]
[null,null,"Otras deducciones",{"$f":"+SUM(D99:E103)","v":0}]
[null,null,"TOTAL DEDUCCIONES GENERALES",{"$f":"SUM(D77:E103)","v":838279.13},null,null,null,null,null,null,{"$f":"+D72-D105","v":2430720.9900000002}]
[]
[null,null,"DEDUCCIONES PERSONALES",null,null,null,null,"Topes máximos legales"]
[null,null,"Ganancia no imponible",167678.39999999999,null,{"$f":"validaciones(D108,H108,0)","v":""},null,{"$f":"deducciones(1,Datos!C11,MONTH(Datos!$C$13),$D$12)","v":167678.39999999999},null,null,{"$f":"IF(K105-K109<=0,0,IF(K105-K109<=H108,K105-K109,H108))","v":167678.39999999999}]
[null,null,"Deducción especial",804856.34,null,{"$f":"validaciones(D109,H109,0)","v":""},null,{"$f":"deducciones(2,Datos!$C$11,MONTH(Datos!$C$13),$D$12)","v":804856.34},null,null,{"$f":"IF(K105<=H109,K105,H109)","v":804856.34}]
[null,null,"Deducción Especial Incrementada Primera parte del penúltimo párrafo del inciso c) del artículo 30 de la ley del gravamen",0]
[null,null,"Deducción Especial Incrementada Segunda parte del penúltimo párrafo del inciso c) del artículo 30 de la ley del gravamen",0]
[null,null,"Deducción específica",0,null,{"$f":"validaciones(D112,H112,0)","v":""},null,0]
[null,null,"Cargas de familia"]
[null,null,"Cónyuge",0,null,{"$f":"validaciones(D114,H114,0)","v":""},null,{"$f":"cargas_de_familia(4,Datos!$C$11,MONTH(Datos!$C$13),$D$12)","v":156320.63},null,null,{"$f":"IF(K105-K108-K109>=D114,D114,K105-K108-K109)","v":0}]
[null,null,"Cantidad de hijos e hijastros",1,null,{"$f":"validaciones(D115,H115,0)","v":""},null,99]
[null,null,"Deducción total hijos e hijastros",78833.08,null,null,null,{"$f":"cargas_de_familia(3,Datos!$C$11,MONTH(Datos!$C$13),$D$12)*D115","v":78833.08},null,null,{"$f":"IF(K105-K108-K109-K114>=D116,D116,K105-K108-K109-K114)","v":78833.08}]
[null,null,"Cantidad de hijos e hijastros incapacitados para el trabajo",0,null,{"$f":"validaciones(D117,H117,0)","v":""},null,99]
[null,null,"Hijos / Hijastros incapacitados para el trabajo",0,null,null,null,{"$f":"cargas_de_familia(5,Datos!$C$11,MONTH(Datos!$C$13),$D$12)","v":157666.16}]
[null,null,"Total de cargas de familia",{"$f":"+D114+D116+D118","v":78833.08},null,null,null,0]
[null,null,"TOTAL DEDUCCIONES PERSONALES",{"$f":"SUM(D108:D112,D119)","v":1051367.82}]
[]
[null,null,"DETERMINACIÓN DEL IMPUESTO"]
[null,null,"REMUNERACIÓN NETA SUJETA A IMPUESTO -antes de la deducción art. 46 L. 27541-",0]
[null,null,"Deducción inciso a) primer párrafo artículo 30 de la ley (cfr. art. 46 L. 27541)",0,null,null,null,0,null,null,{"$f":"IF(D123-K125<=0,0,IF(D123-K125<=H124,D123-K125,H124))","v":0}]
[null,null,"Deducción inciso c) primer párrafo artículo 30 de la ley (cfr. art. 46 L. 27541)",0,null,null,null,0,null,null,{"$f":"IF(D123<=H125,D123,H125)","v":0}]
[null,null,"REMUNERACIÓN SUJETA A IMPUESTO",{"$f":"IF(+D72-D105-D120<0,0,+D72-D105-D120)","v":1379353.1700000002}]
[null,null,"Alícuota aplicable artículo 94 ley de impuesto a las ganancias",{"$f":"IF(OR(Datos!C11=\"Final\",Datos!C11=\"Anual\"),impuestoAlicuota(D126,D25*(1-G25)+D51*(1-G51),12),impuestoAlicuota(D126,D25*(1-G25)+D51*(1-G51),MONTH(D11)))","v":0.35}]
[null,null,"Alícuota aplicable sin incluir horas extras",{"$f":"IF(OR(Datos!C11=\"Final\",Datos!C11=\"Anual\"),impuestoAlicuota(D126,0,12),impuestoAlicuota(D126,0,MONTH(D11)))","v":0.35}]
[null,null,"IMPUESTO DETERMINADO",{"$f":"IF(D126<0,0,IF(OR(Datos!C11=\"Final\",Datos!C11=\"Anual\"),impuestoDeterminado(D126,D25*(1-G25)+D51*(1-G51),12),impuestoDeterminado(D126,D25*(1-G25)+D51*(1-G51),MONTH(D11))))","v":351772.34449999995}]
[null,null,"Impuesto retenido",267453.84000000003]
[null,null,"Pagos a cuenta - Impuesto sobre créditos y débitos",0,null,{"$f":"IF(AND(Datos!$C$11=\"Informativa\",D131<>0),\"En la DDJJ informativa, este campo debe consignarse en cero (0)\",\"\")","v":""}]
[null,null,"Pagos a cuenta - Percepciones / Retenciones aduaneras",0,null,{"$f":"IF(AND(Datos!$C$11=\"Informativa\",D132<>0),\"En la DDJJ informativa, este campo debe consignarse en cero (0)\",\"\")","v":""}]
[null,null,"Pagos a cuenta - RG (AFIP) 3819/2015 - Cancelaciones en efectivo",0,null,{"$f":"IF(AND(Datos!$C$11=\"Informativa\",D133<>0),\"En la DDJJ informativa, este campo debe consignarse en cero (0)\",\"\")","v":""}]
[null,null,"Pagos a cuenta - Bono ley 27.424",0,null,{"$f":"IF(AND(Datos!$C$11=\"Informativa\",D134<>0),\"En la DDJJ informativa, este campo debe consignarse en cero (0)\",\"\")","v":""}]
[null,null,"Pagos a cuenta - RG 4815 [LEY 27.541 Art. 35 inciso a)] ",84318.5,null,{"$f":"IF(AND(Datos!$C$11=\"Informativa\",D135<>0),\"En la DDJJ informativa, este campo debe consignarse en cero (0)\",\"\")","v":""}]
[null,null,"Pagos a cuenta - RG 4815 [LEY 27.541 Art. 35 inciso b)] ",0,null,{"$f":"IF(AND(Datos!$C$11=\"Informativa\",D136<>0),\"En la DDJJ informativa, este campo debe consignarse en cero (0)\",\"\")","v":""}]
[null,null,"Pagos a cuenta - RG 4815 [LEY 27.541 Art. 35 inciso c)] ",0,null,{"$f":"IF(AND(Datos!$C$11=\"Informativa\",D137<>0),\"En la DDJJ informativa, este campo debe consignarse en cero (0)\",\"\")","v":""}]
[null,null,"Pagos a cuenta - RG 4815 [LEY 27.541 Art. 35 inciso d)] ",0,null,{"$f":"IF(AND(Datos!$C$11=\"Informativa\",D138<>0),\"En la DDJJ informativa, este campo debe consignarse en cero (0)\",\"\")","v":""}]
[null,null,"Pagos a cuenta - RG 4815 [LEY 27.541 Art. 35 inciso e)] ",0,null,{"$f":"IF(AND(Datos!$C$11=\"Informativa\",D139<>0),\"En la DDJJ informativa, este campo debe consignarse en cero (0)\",\"\")","v":""}]
[null,null,"Pagos a cuenta - Impuesto sobre créditos y débitos - sobre movimientos de fondos propios o de terceros",0,null,{"$f":"IF(AND(Datos!$C$11=\"Informativa\",D140<>0),\"En la DDJJ informativa, este campo debe consignarse en cero (0)\",\"\")","v":""}]
[null,null,"Pagos a cuenta - Resolución General (AFIP) 3819/2015 - Cancelaciones en Efectivo -Servicios de transporte terrestre, aéreo y por vía acuática de pasajeros con destino fuera del país",0,null,{"$f":"IF(AND(Datos!$C$11=\"Informativa\",D141<>0),\"En la DDJJ informativa, este campo debe consignarse en cero (0)\",\"\")","v":""}]
[null,null,"Total pagos a cuenta",{"$f":"SUM(D131:D141)","v":84318.5}]
[null,null,"SALDO A PAGAR",{"$f":"+ROUND(D129,2)-D130-D142","v":0}]

{"sheet":"Empleado09","index":13,"n_rows":143,"n_cols":11,"rows_kept":143,"cut":false,"hidden":false,"merged":[[10,7,11,9]]}
[]
[]
[null,null,"LIQUIDACIÓN DE IMPUESTO A LAS GANANCIAS - 4ta. CATEGORÍA RELACIÓN DE DEPENDENCIA"]
[]
[]
[null,null,"Empleado: Nombre y apellido ","SARANITI ANGEL JESUS"]
[null,null,"CUIL del empleado",20385987928,null,{"$f":"cuitValidar(D7)","v":"CUIT/CUIL Válido"}]
[null,null,{"$f":"\"Agente de Retención: \"","v":"Agente de Retención: "},{"$f":"Datos!C7&\" - \"&Datos!C5","v":"33711238269 - OPERACIONES AGROPORTUARIAS S.A."}]
[null,null,{"$f":"\"Período Fiscal: \"","v":"Período Fiscal: "},{"$f":"YEAR(Datos!C13)","v":2021}]
[null,null,"Período trabajado (desde):","2021-01-01"]
[null,null,"Período trabajado (hasta):","2021-09-25",null,null,null,{"$f":"IF(MONTH(D11)>MONTH(Datos!C13),\"El período trabajado no puede ser mayor al período que se informa (mes \"&MONTH(Datos!C13)&\")\",\"\")","v":""}]
[null,null,"Zona geográfica:","Todo el país (excepto zona patagónica)"]
[null,null,"Transporte a larga distancia","No desarrolla la actividad"]
[null,null,"Beneficio promocional 27424?","No"]
[null,null,"Beneficio de la ley 27549?","No"]
[null,null,"El trabajador labora bajo el régimen de teletrabajo (Ley 27555)?","No"]
[null,null,"El trabajador es personal militar en actividad?","No"]
[]
[null,null,"REMUNERACIONES"]
[null,null,"Abonadas por el agente de retención:"]
[null,null,"Remuneración bruta gravada",3343195.99]
[null,null,"Retribuciones no habituales gravadas",0]
[null,null,"SAC primera cuota gravado",0]
[null,null,"SAC segunda cuota gravado",0]
[null,null,"Horas extras remuneración gravada",0,null,null,0,"% de retenciones"]
[null,null,"Movilidad y viáticos remuneración gravada",0]
[null,null,"Material didáctico personal docente remuneración gravada",0]
[null,null,"Remuneración no alcanzada o exenta (sin horas extras)",0]
[null,null,"Remuneración exenta ley 27549",0,null,{"$f":"IF(AND($D$15=\"No\",D29<>0),\"Para que sea procedente el beneficio, modifique el valor en la celda D15\",\"\")","v":""}]
[null,null,"Retribuciones no habituales exentas o no alcanzadas",0]
[null,null,"Horas extras remuneración exenta",279652.46999999997]
[null,null,"Movilidad y viáticos remuneración exenta",0]
[null,null,"Material didáctico personal docente remuneración exenta",0]
[null,null,"Bonos de productividad gravados",0]
[null,null,"Fallos de caja gravados",0]
[null,null,"Conceptos de similar naturaleza gravados",0]
[null,null,"Bonos de productividad exentos",0]
[null,null,"Fallos de caja exentos",0]
[null,null,"Conceptos de similar naturaleza exentos",0]
[null,null,"Compensación de gastos de teletrabajo exentos",0]
[null,null,"Personal militar - suplementos art. 57 ley 19.101 - exentos",0]
[null,null,"SAC primera cuota - No alcanzado o exento",0]
[null,null,"SAC segunda cuota - No alcanzado o exento",0]
[null,null,"Ajustes períodos anteriores - Remuneración gravada",0]
[null,null,"Ajustes períodos anteriores - Remuneración exenta / no alcanzada",0]
[null,null,"Otros empleos:"]
[null,null,"Remuneración bruta gravada ",0]
[null,null,"Retribuciones no habituales gravadas ",0]
[null,null,"SAC primera cuota gravado ",0]
[null,null,"SAC segunda cuota gravado ",0]
[null,null,"Horas extras remuneración gravada ",0,null,null,0,"% de retenciones"]
[null,null,"Movilidad y viáticos remuneración gravada ",0]
[null,null,"Material didáctico personal docente remuneración gravada ",0]
[null,null,"Remuneración no alcanzada o exenta ",0]
[null,null,"Remuneración exenta ley 27549 ",0,null,{"$f":"IF(AND($D$15=\"No\",D55<>0),\"Para que sea procedente el beneficio, modifique el valor en la celda D15\",\"\")","v":""}]
[null,null,"Retribuciones no habituales exentas o no alcanzadas ",0]
[null,null,"Horas extras remuneración exenta o no alcanzada ",0]
[null,null,"Movilidad y viáticos remuneración exenta o no alcanzada ",0]
[null,null,"Material didáctico personal docente remuneración exenta o no alcanzada ",0]
[null,null,"Bonos de productividad gravados ",0]
[null,null,"Fallos de caja gravados ",0]
[null,null,"Conceptos de similar naturaleza gravados ",0]
[null,null,"Bonos de productividad exentos ",0]
[null,null,"Fallos de caja exentos ",0]
[null,null,"Conceptos de similar naturaleza exentos ",0]
[null,null,"Compensación de gastos teletrabajo - exentos ",0]
[null,null,"Personal militar - suplementos art. 57 Ley 19101 - exentos ",0]
[null,null,"SAC primera cuota - No alcanzado o exento ",0]
[null,null,"SAC segunda cuota - No alcanzado o exento ",0]
[null,null,"Ajustes períodos anteriores - Remuneración gravada ",0]
[null,null,"Ajustes períodos anteriores - Remuneración no alcanzada o exenta ",0]
[null,null,"TOTAL REMUNERACIÓN GRAVADA",{"$f":"SUM(D21:E27,D44,D47:D53,D70)","v":3343195.99}]
[null,null,"TOTAL REMUNERACIÓN NO ALCANZADA O EXENTA",{"$f":"SUM(D28:D43,D45,D54:D69,D71)","v":279652.46999999997}]
[null,null,"TOTAL REMUNERACIONES",{"$f":"IF(+D72+D73<0,0,D72+D73)","v":3622848.46}]
[]
[null,null,"DEDUCCIONES GENERALES",null,null,null,null,"Topes máximos legales"]
[null,null,"Aportes a fondos de jubilaciones, retiros, pensiones o subsidios que se destinen a cajas nacionales, provinciales o municipales",415878.33,null,{"$f":"validaciones(D77,H77,0)&IF(D77>$D$74,\" El importe no puede ser mayor a la remuneración total\",\"\")","v":""}]
[null,null,"Aportes a fondos de jubilaciones, retiros, pensiones o subsidios que se destinen a cajas nacionales, provinciales o municipales por otros empleos",0,null,{"$f":"validaciones(D78,H78,0)&IF(D78>$D$74,\" El importe no puede ser mayor a la remuneración total\",\"\")","v":""}]
[null,null,"Aportes a obra sociales",89116.78,null,{"$f":"validaciones(D79,H79,0)&IF(D79>$D$74,\" El importe no puede ser mayor a la remuneración total\",\"\")","v":""}]
[null,null,"Aportes a obra sociales por otros empleos",0,null,{"$f":"validaciones(D80,H80,0)&IF(D80>$D$74,\" El importe no puede ser mayor a la remuneración total\",\"\")","v":""}]
[null,null,"Cuota sindical",63802.12,null,{"$f":"validaciones(D81,H81,0)&IF(D81>$D$74,\" El importe no puede ser mayor a la remuneración total\",\"\")","v":""}]
[null,null,"Cuota sindical por otros empleos",0,null,{"$f":"validaciones(D82,H82,0)&IF(D82>$D$74,\" El importe no puede ser mayor a la remuneración total\",\"\")","v":""}]
[null,null,"Cuotas médico asistenciales",0,null,{"$f":"validaciones(D83,H83,0)","v":""},null,{"$f":"(D72-SUM(D77:D82,D84:D89,D91,D93:D94,D95:D103))*0.05","v":138719.93800000002}]
[null,null,"Primas de seguro para el caso de muerte",0,null,{"$f":"validaciones(D84,H84,0)&IF(AND(Datos!$C$11=\"Informativa\",D84<>0),\"En la DDJJ informativa, este campo debe consignarse en cero (0)\",\"\")","v":""},null,{"$f":"+Tablas!B2","v":24000}]
[null,null,"Primas por riesgo de muerte y de ahorro de seguros mixtos, excepto para los casos de seguros de retiro privados administrados por entidades sujetas al control de la Superintendencia de Seguros de la Nación",0,null,{"$f":"validaciones(D85,H85,0)&IF(AND(Datos!$C$11=\"Informativa\",D85<>0),\"En la DDJJ informativa, este campo debe consignarse en cero (0)\",\"\")","v":""},null,{"$f":"+H84","v":24000}]
[null,null,"Aportes a planes de seguro de retiro privados administrados por entidades sujetas al control de la Superintendencia de Seguros de la Nación",0,null,{"$f":"validaciones(D86,H86,0)&IF(AND(Datos!$C$11=\"Informativa\",D86<>0),\"En la DDJJ informativa, este campo debe consignarse en cero (0)\",\"\")","v":""},null,{"$f":"+H85","v":24000}]
[null,null,"Cuotapartes de fondos comunes de inversión constituidos con fines de retiro",0,null,{"$f":"validaciones(D87,H87,0)&IF(D87<>0,\"Deberá consignarse en cero (0), hasta que la Autoridad de Aplicación – CNV – autorice a las Entidades a funcionar e implemente el régimen.\",\"\")","v":""},null,0]
[null,null,"Gastos de sepelio",0,null,{"$f":"validaciones(D88,H88,0)","v":""},null,{"$f":"+Tablas!B6","v":996.23}]
[null,null,"Gastos amortización e intereses rodado para corredores y viajantes de comercio",0,null,{"$f":"validaciones(D89,H89,0)&IF(D89>$D$74,\" El importe no puede ser mayor a la remuneración total\",\"\")","v":""}]
[null,null,"Donaciones a fiscos nacional, provinciales y municipales, y a instituciones comprendidas en el artículo 26, incisos e) y f) de la ley",0,null,{"$f":"validaciones(D90,H90,0)","v":""},null,{"$f":"(D72-SUM(D77:D82,D84:D89,D91,D93:D94,D95:D103))*0.05","v":138719.93800000002}]
[null,null,"Descuentos obligatorios establecidos por ley nacional, provincial o municipal",0,null,{"$f":"validaciones(D91,H91,0)&IF(D91>$D$74,\" El importe no puede ser mayor a la remuneración total\",\"\")","v":""}]
[null,null,"Honorarios por servicios de asistencia sanitaria, médica y paramédica",0,null,{"$f":"validaciones(D92,H92,0)&IF(AND(Datos!$C$11=\"Informativa\",D92<>0),\"En la DDJJ informativa, este campo debe consignarse en cero (0)\",\"\")","v":""},null,{"$f":"(D72-SUM(D77:D82,D84:D89,D91,D93:D94,D95:D103))*0.05","v":138719.93800000002}]
[null,null,"Intereses de créditos hipotecarios",0,null,{"$f":"validaciones(D93,H93,0)","v":""},null,{"$f":"+Tablas!B3","v":20000}]
[null,null,"Aportes al capital social o al fondo de riesgo de socios protectores de sociedades de garantía recíproca",0,null,{"$f":"validaciones(D94,H94,0)","v":""}]
[null,null,"Alquileres de inmuebles destinados a casa habitación",0,null,{"$f":"validaciones(D95,H95,0)","v":""},null,{"$f":"IF(Datos!C11=\"Final\",ROUND(Tablas!B4/12*12,2),ROUND(Tablas!B4/12*MONTH(Datos!C13),2))","v":167678.39999999999}]
[null,null,"Empleados del servicio doméstico",0,null,{"$f":"validaciones(D96,H96,0)","v":""},null,{"$f":"Tablas!B4","v":167678.39999999999}]
[null,null,"Gastos de movilidad, viáticos y otras compensaciones análogas abonados por el empleador",0,null,{"$f":"validaciones(D97,H97,0)","v":""},null,{"$f":"IF(D13=\"Desarrolla la actividad\",Tablas!B4,Tablas!B4*0.4)","v":67071.360000000001}]
[null,null,"Gastos por adquisición de indumentaria y/o equipamiento de trabajo",0,null,{"$f":"validaciones(D98,H98,0)","v":""}]
[null,null,"Otras deducciones - aportes a Cajas Complementarias de Previsión, Fondos Compensadores de Previsión o similares",0,null,{"$f":"validaciones(D99,H99,0)","v":""}]
[null,null,"Otras deducciones - Aportes para jubilaciones, retiros y subsidios ANSES",0,null,{"$f":"validaciones(D100,H100,0)","v":""}]
[null,null,"Otras deducciones - Cajas Provinciales o Municipales o de Previsión para Profesionales",0,null,{"$f":"validaciones(D101,H101,0)","v":""}]
[null,null,"Otras deducciones - Actores - Retribución pagada a los representantes - RG 2442/08",0,null,{"$f":"validaciones(D102,H102,0)","v":""}]
[null,null,"Otras deducciones - Fondos compensadores de previsión",0,null,{"$f":"validaciones(D103,H103,0)","v":""}]
[null,null,"Otras deducciones",{"$f":"+SUM(D99:E103)","v":0}]
[null,null,"TOTAL DEDUCCIONES GENERALES",{"$f":"SUM(D77:E103)","v":568797.23},null,null,null,null,null,null,{"$f":"+D72-D105","v":2774398.7600000002}]
[]
[null,null,"DEDUCCIONES PERSONALES",null,null,null,null,"Topes máximos legales"]
[null,null,"Ganancia no imponible",167678.39999999999,null,{"$f":"validaciones(D108,H108,0)","v":""},null,{"$f":"deducciones(1,Datos!C11,MONTH(Datos!$C$13),$D$12)","v":167678.39999999999},null,null,{"$f":"IF(K105-K109<=0,0,IF(K105-K109<=H108,K105-K109,H108))","v":167678.39999999999}]
[null,null,"Deducción especial",804856.34,null,{"$f":"validaciones(D109,H109,0)","v":""},null,{"$f":"deducciones(2,Datos!$C$11,MONTH(Datos!$C$13),$D$12)","v":804856.34},null,null,{"$f":"IF(K105<=H109,K105,H109)","v":804856.34}]
[null,null,"Deducción Especial Incrementada Primera parte del penúltimo párrafo del inciso c) del artículo 30 de la ley del gravamen",0]
[null,null,"Deducción Especial Incrementada Segunda parte del penúltimo párrafo del inciso c) del artículo 30 de la ley del gravamen",0]
[null,null,"Deducción específica",0,null,{"$f":"validaciones(D112,H112,0)","v":""},null,0]
[null,null,"Cargas de familia"]
[null,null,"Cónyuge",0,null,{"$f":"validaciones(D114,H114,0)","v":""},null,{"$f":"cargas_de_familia(4,Datos!$C$11,MONTH(Datos!$C$13),$D$12)","v":156320.63},null,null,{"$f":"IF(K105-K108-K109>=D114,D114,K105-K108-K109)","v":0}]
[null,null,"Cantidad de hijos e hijastros",0,null,{"$f":"validaciones(D115,H115,0)","v":""},null,99]
[null,null,"Deducción total hijos e hijastros",0,null,null,null,{"$f":"cargas_de_familia(3,Datos!$C$11,MONTH(Datos!$C$13),$D$12)*D115","v":0},null,null,{"$f":"IF(K105-K108-K109-K114>=D116,D116,K105-K108-K109-K114)","v":0}]
[null,null,"Cantidad de hijos e hijastros incapacitados para el trabajo",0,null,{"$f":"validaciones(D117,H117,0)","v":""},null,99]
[null,null,"Hijos / Hijastros incapacitados para el trabajo",0,null,null,null,{"$f":"cargas_de_familia(5,Datos!$C$11,MONTH(Datos!$C$13),$D$12)","v":157666.16}]
[null,null,"Total de cargas de familia",{"$f":"+D114+D116+D118","v":0},null,null,null,0]
[null,null,"TOTAL DEDUCCIONES PERSONALES",{"$f":"SUM(D108:D112,D119)","v":972534.74}]
[]
[null,null,"DETERMINACIÓN DEL IMPUESTO"]
[null,null,"REMUNERACIÓN NETA SUJETA A IMPUESTO -antes de la deducción art. 46 L. 27541-",0]
[null,null,"Deducción inciso a) primer párrafo artículo 30 de la ley (cfr. art. 46 L. 27541)",0,null,null,null,0,null,null,{"$f":"IF(D123-K125<=0,0,IF(D123-K125<=H124,D123-K125,H124))","v":0}]
[null,null,"Deducción inciso c) primer párrafo artículo 30 de la ley (cfr. art. 46 L. 27541)",0,null,null,null,0,null,null,{"$f":"IF(D123<=H125,D123,H125)","v":0}]
[null,null,"REMUNERACIÓN SUJETA A IMPUESTO",{"$f":"IF(+D72-D105-D120<0,0,+D72-D105-D120)","v":1801864.0200000003}]
[null,null,"Alícuota aplicable artículo 94 ley de impuesto a las ganancias",{"$f":"IF(OR(Datos!C11=\"Final\",Datos!C11=\"Anual\"),impuestoAlicuota(D126,D25*(1-G25)+D51*(1-G51),12),impuestoAlicuota(D126,D25*(1-G25)+D51*(1-G51),MONTH(D11)))","v":0.35}]
[null,null,"Alícuota aplicable sin incluir horas extras",{"$f":"IF(OR(Datos!C11=\"Final\",Datos!C11=\"Anual\"),impuestoAlicuota(D126,0,12),impuestoAlicuota(D126,0,MONTH(D11)))","v":0.35}]
[null,null,"IMPUESTO DETERMINADO",{"$f":"IF(D126<0,0,IF(OR(Datos!C11=\"Final\",Datos!C11=\"Anual\"),impuestoDeterminado(D126,D25*(1-G25)+D51*(1-G51),12),impuestoDeterminado(D126,D25*(1-G25)+D51*(1-G51),MONTH(D11))))","v":499651.14199999999}]
[null,null,"Impuesto retenido",499651.14]
[null,null,"Pagos a cuenta - Impuesto sobre créditos y débitos",0,null,{"$f":"IF(AND(Datos!$C$11=\"Informativa\",D131<>0),\"En la DDJJ informativa, este campo debe consignarse en cero (0)\",\"\")","v":""}]
[null,null,"Pagos a cuenta - Percepciones / Retenciones aduaneras",0,null,{"$f":"IF(AND(Datos!$C$11=\"Informativa\",D132<>0),\"En la DDJJ informativa, este campo debe consignarse en cero (0)\",\"\")","v":""}]
[null,null,"Pagos a cuenta - RG (AFIP) 3819/2015 - Cancelaciones en efectivo",0,null,{"$f":"IF(AND(Datos!$C$11=\"Informativa\",D133<>0),\"En la DDJJ informativa, este campo debe consignarse en cero (0)\",\"\")","v":""}]
[null,null,"Pagos a cuenta - Bono ley 27.424",0,null,{"$f":"IF(AND(Datos!$C$11=\"Informativa\",D134<>0),\"En la DDJJ informativa, este campo debe consignarse en cero (0)\",\"\")","v":""}]
[null,null,"Pagos a cuenta - RG 4815 [LEY 27.541 Art. 35 inciso a)] ",0,null,{"$f":"IF(AND(Datos!$C$11=\"Informativa\",D135<>0),\"En la DDJJ informativa, este campo debe consignarse en cero (0)\",\"\")","v":""}]
[null,null,"Pagos a cuenta - RG 4815 [LEY 27.541 Art. 35 inciso b)] ",0,null,{"$f":"IF(AND(Datos!$C$11=\"Informativa\",D136<>0),\"En la DDJJ informativa, este campo debe consignarse en cero (0)\",\"\")","v":""}]
[null,null,"Pagos a cuenta - RG 4815 [LEY 27.541 Art. 35 inciso c)] ",0,null,{"$f":"IF(AND(Datos!$C$11=\"Informativa\",D137<>0),\"En la DDJJ informativa, este campo debe consignarse en cero (0)\",\"\")","v":""}]
[null,null,"Pagos a cuenta - RG 4815 [LEY 27.541 Art. 35 inciso d)] ",0,null,{"$f":"IF(AND(Datos!$C$11=\"Informativa\",D138<>0),\"En la DDJJ informativa, este campo debe consignarse en cero (0)\",\"\")","v":""}]
[null,null,"Pagos a cuenta - RG 4815 [LEY 27.541 Art. 35 inciso e)] ",0,null,{"$f":"IF(AND(Datos!$C$11=\"Informativa\",D139<>0),\"En la DDJJ informativa, este campo debe consignarse en cero (0)\",\"\")","v":""}]
[null,null,"Pagos a cuenta - Impuesto sobre créditos y débitos - sobre movimientos de fondos propios o de terceros",0,null,{"$f":"IF(AND(Datos!$C$11=\"Informativa\",D140<>0),\"En la DDJJ informativa, este campo debe consignarse en cero (0)\",\"\")","v":""}]
[null,null,"Pagos a cuenta - Resolución General (AFIP) 3819/2015 - Cancelaciones en Efectivo -Servicios de transporte terrestre, aéreo y por vía acuática de pasajeros con destino fuera del país",0,null,{"$f":"IF(AND(Datos!$C$11=\"Informativa\",D141<>0),\"En la DDJJ informativa, este campo debe consignarse en cero (0)\",\"\")","v":""}]
[null,null,"Total pagos a cuenta",{"$f":"SUM(D131:D141)","v":0}]
[null,null,"SALDO A PAGAR",{"$f":"+ROUND(D129,2)-D130-D142","v":0}]

{"sheet":"Empleado10","index":14,"n_rows":143,"n_cols":11,"rows_kept":143,"cut":false,"hidden":false,"merged":[[10,7,11,9]]}
[]
[]
[null,null,"LIQUIDACIÓN DE IMPUESTO A LAS GANANCIAS - 4ta. CATEGORÍA RELACIÓN DE DEPENDENCIA"]
[]
[]
[null,null,"Empleado: Nombre y apellido ","TORRES CESAR"]
[null,null,"CUIL del empleado",20183399544,null,{"$f":"cuitValidar(D7)","v":"CUIT/CUIL Válido"}]
[null,null,{"$f":"\"Agente de Retención: \"","v":"Agente de Retención: "},{"$f":"Datos!C7&\" - \"&Datos!C5","v":"33711238269 - OPERACIONES AGROPORTUARIAS S.A."}]
[null,null,{"$f":"\"Período Fiscal: \"","v":"Período Fiscal: "},{"$f":"YEAR(Datos!C13)","v":2021}]
[null,null,"Período trabajado (desde):","2021-01-01"]
[null,null,"Período trabajado (hasta):","2021-09-25",null,null,null,{"$f":"IF(MONTH(D11)>MONTH(Datos!C13),\"El período trabajado no puede ser mayor al período que se informa (mes \"&MONTH(Datos!C13)&\")\",\"\")","v":""}]
[null,null,"Zona geográfica:","Todo el país (excepto zona patagónica)"]
[null,null,"Transporte a larga distancia","No desarrolla la actividad"]
[null,null,"Beneficio promocional 27424?","No"]
[null,null,"Beneficio de la ley 27549?","No"]
[null,null,"El trabajador labora bajo el régimen de teletrabajo (Ley 27555)?","No"]
[null,null,"El trabajador es personal militar en actividad?","No"]
[]
[null,null,"REMUNERACIONES"]
[null,null,"Abonadas por el agente de retención:"]
[null,null,"Remuneración bruta gravada",2958428.81]
[null,null,"Retribuciones no habituales gravadas",0]
[null,null,"SAC primera cuota gravado",0]
[null,null,"SAC segunda cuota gravado",0]
[null,null,"Horas extras remuneración gravada",0,null,null,0,"% de retenciones"]
[null,null,"Movilidad y viáticos remuneración gravada",0]
[null,null,"Material didáctico personal docente remuneración gravada",0]
[null,null,"Remuneración no alcanzada o exenta (sin horas extras)",0]
[null,null,"Remuneración exenta ley 27549",0,null,{"$f":"IF(AND($D$15=\"No\",D29<>0),\"Para que sea procedente el beneficio, modifique el valor en la celda D15\",\"\")","v":""}]
[null,null,"Retribuciones no habituales exentas o no alcanzadas",0]
[null,null,"Horas extras remuneración exenta",0]
[null,null,"Movilidad y viáticos remuneración exenta",0]
[null,null,"Material didáctico personal docente remuneración exenta",0]
[null,null,"Bonos de productividad gravados",0]
[null,null,"Fallos de caja gravados",0]
[null,null,"Conceptos de similar naturaleza gravados",0]
[null,null,"Bonos de productividad exentos",0]
[null,null,"Fallos de caja exentos",0]
[null,null,"Conceptos de similar naturaleza exentos",0]
[null,null,"Compensación de gastos de teletrabajo exentos",0]
[null,null,"Personal militar - suplementos art. 57 ley 19.101 - exentos",0]
[null,null,"SAC primera cuota - No alcanzado o exento",0]
[null,null,"SAC segunda cuota - No alcanzado o exento",0]
[null,null,"Ajustes períodos anteriores - Remuneración gravada",0]
[null,null,"Ajustes períodos anteriores - Remuneración exenta / no alcanzada",0]
[null,null,"Otros empleos:"]
[null,null,"Remuneración bruta gravada ",0]
[null,null,"Retribuciones no habituales gravadas ",0]
[null,null,"SAC primera cuota gravado ",0]
[null,null,"SAC segunda cuota gravado ",0]
[null,null,"Horas extras remuneración gravada ",0,null,null,0,"% de retenciones"]
[null,null,"Movilidad y viáticos remuneración gravada ",0]
[null,null,"Material didáctico personal docente remuneración gravada ",0]
[null,null,"Remuneración no alcanzada o exenta ",0]
[null,null,"Remuneración exenta ley 27549 ",0,null,{"$f":"IF(AND($D$15=\"No\",D55<>0),\"Para que sea procedente el beneficio, modifique el valor en la celda D15\",\"\")","v":""}]
[null,null,"Retribuciones no habituales exentas o no alcanzadas ",0]
[null,null,"Horas extras remuneración exenta o no alcanzada ",0]
[null,null,"Movilidad y viáticos remuneración exenta o no alcanzada ",0]
[null,null,"Material didáctico personal docente remuneración exenta o no alcanzada ",0]
[null,null,"Bonos de productividad gravados ",0]
[null,null,"Fallos de caja gravados ",0]
[null,null,"Conceptos de similar naturaleza gravados ",0]
[null,null,"Bonos de productividad exentos ",0]
[null,null,"Fallos de caja exentos ",0]
[null,null,"Conceptos de similar naturaleza exentos ",0]
[null,null,"Compensación de gastos teletrabajo - exentos ",0]
[null,null,"Personal militar - suplementos art. 57 Ley 19101 - exentos ",0]
[null,null,"SAC primera cuota - No alcanzado o exento ",0]
[null,null,"SAC segunda cuota - No alcanzado o exento ",0]
[null,null,"Ajustes períodos anteriores - Remuneración gravada ",0]
[null,null,"Ajustes períodos anteriores - Remuneración no alcanzada o exenta ",0]
[null,null,"TOTAL REMUNERACIÓN GRAVADA",{"$f":"SUM(D21:E27,D44,D47:D53,D70)","v":2958428.81}]
[null,null,"TOTAL REMUNERACIÓN NO ALCANZADA O EXENTA",{"$f":"SUM(D28:D43,D45,D54:D69,D71)","v":0}]
[null,null,"TOTAL REMUNERACIONES",{"$f":"IF(+D72+D73<0,0,D72+D73)","v":2958428.81}]
[]
[null,null,"DEDUCCIONES GENERALES",null,null,null,null,"Topes máximos legales"]
[null,null,"Aportes a fondos de jubilaciones, retiros, pensiones o subsidios que se destinen a cajas nacionales, provinciales o municipales",409403.23,null,{"$f":"validaciones(D77,H77,0)&IF(D77>$D$74,\" El importe no puede ser mayor a la remuneración total\",\"\")","v":""}]
[null,null,"Aportes a fondos de jubilaciones, retiros, pensiones o subsidios que se destinen a cajas nacionales, provinciales o municipales por otros empleos",0,null,{"$f":"validaciones(D78,H78,0)&IF(D78>$D$74,\" El importe no puede ser mayor a la remuneración total\",\"\")","v":""}]
[null,null,"Aportes a obra sociales",87729.26,null,{"$f":"validaciones(D79,H79,0)&IF(D79>$D$74,\" El importe no puede ser mayor a la remuneración total\",\"\")","v":""}]
[null,null,"Aportes a obra sociales por otros empleos",0,null,{"$f":"validaciones(D80,H80,0)&IF(D80>$D$74,\" El importe no puede ser mayor a la remuneración total\",\"\")","v":""}]
[null,null,"Cuota sindical",0,null,{"$f":"validaciones(D81,H81,0)&IF(D81>$D$74,\" El importe no puede ser mayor a la remuneración total\",\"\")","v":""}]
[null,null,"Cuota sindical por otros empleos",0,null,{"$f":"validaciones(D82,H82,0)&IF(D82>$D$74,\" El importe no puede ser mayor a la remuneración total\",\"\")","v":""}]
[null,null,"Cuotas médico asistenciales",0,null,{"$f":"validaciones(D83,H83,0)","v":""},null,{"$f":"(D72-SUM(D77:D82,D84:D89,D91,D93:D94,D95:D103))*0.05","v":123064.81600000002}]
[null,null,"Primas de seguro para el caso de muerte",0,null,{"$f":"validaciones(D84,H84,0)&IF(AND(Datos!$C$11=\"Informativa\",D84<>0),\"En la DDJJ informativa, este campo debe consignarse en cero (0)\",\"\")","v":""},null,{"$f":"+Tablas!B2","v":24000}]
[null,null,"Primas por riesgo de muerte y de ahorro de seguros mixtos, excepto para los casos de seguros de retiro privados administrados por entidades sujetas al control de la Superintendencia de Seguros de la Nación",0,null,{"$f":"validaciones(D85,H85,0)&IF(AND(Datos!$C$11=\"Informativa\",D85<>0),\"En la DDJJ informativa, este campo debe consignarse en cero (0)\",\"\")","v":""},null,{"$f":"+H84","v":24000}]
[null,null,"Aportes a planes de seguro de retiro privados administrados por entidades sujetas al control de la Superintendencia de Seguros de la Nación",0,null,{"$f":"validaciones(D86,H86,0)&IF(AND(Datos!$C$11=\"Informativa\",D86<>0),\"En la DDJJ informativa, este campo debe consignarse en cero (0)\",\"\")","v":""},null,{"$f":"+H85","v":24000}]
[null,null,"Cuotapartes de fondos comunes de inversión constituidos con fines de retiro",0,null,{"$f":"validaciones(D87,H87,0)&IF(D87<>0,\"Deberá consignarse en cero (0), hasta que la Autoridad de Aplicación – CNV – autorice a las Entidades a funcionar e implemente el régimen.\",\"\")","v":""},null,0]
[null,null,"Gastos de sepelio",0,null,{"$f":"validaciones(D88,H88,0)","v":""},null,{"$f":"+Tablas!B6","v":996.23}]
[null,null,"Gastos amortización e intereses rodado para corredores y viajantes de comercio",0,null,{"$f":"validaciones(D89,H89,0)&IF(D89>$D$74,\" El importe no puede ser mayor a la remuneración total\",\"\")","v":""}]
[null,null,"Donaciones a fiscos nacional, provinciales y municipales, y a instituciones comprendidas en el artículo 26, incisos e) y f) de la ley",0,null,{"$f":"validaciones(D90,H90,0)","v":""},null,{"$f":"(D72-SUM(D77:D82,D84:D89,D91,D93:D94,D95:D103))*0.05","v":123064.81600000002}]
[null,null,"Descuentos obligatorios establecidos por ley nacional, provincial o municipal",0,null,{"$f":"validaciones(D91,H91,0)&IF(D91>$D$74,\" El importe no puede ser mayor a la remuneración total\",\"\")","v":""}]
[null,null,"Honorarios por servicios de asistencia sanitaria, médica y paramédica",0,null,{"$f":"validaciones(D92,H92,0)&IF(AND(Datos!$C$11=\"Informativa\",D92<>0),\"En la DDJJ informativa, este campo debe consignarse en cero (0)\",\"\")","v":""},null,{"$f":"(D72-SUM(D77:D82,D84:D89,D91,D93:D94,D95:D103))*0.05","v":123064.81600000002}]
[null,null,"Intereses de créditos hipotecarios",0,null,{"$f":"validaciones(D93,H93,0)","v":""},null,{"$f":"+Tablas!B3","v":20000}]
[null,null,"Aportes al capital social o al fondo de riesgo de socios protectores de sociedades de garantía recíproca",0,null,{"$f":"validaciones(D94,H94,0)","v":""}]
[null,null,"Alquileres de inmuebles destinados a casa habitación",0,null,{"$f":"validaciones(D95,H95,0)","v":""},null,{"$f":"IF(Datos!C11=\"Final\",ROUND(Tablas!B4/12*12,2),ROUND(Tablas!B4/12*MONTH(Datos!C13),2))","v":167678.39999999999}]
[null,null,"Empleados del servicio doméstico",0,null,{"$f":"validaciones(D96,H96,0)","v":""},null,{"$f":"Tablas!B4","v":167678.39999999999}]
[null,null,"Gastos de movilidad, viáticos y otras compensaciones análogas abonados por el empleador",0,null,{"$f":"validaciones(D97,H97,0)","v":""},null,{"$f":"IF(D13=\"Desarrolla la actividad\",Tablas!B4,Tablas!B4*0.4)","v":67071.360000000001}]
[null,null,"Gastos por adquisición de indumentaria y/o equipamiento de trabajo",0,null,{"$f":"validaciones(D98,H98,0)","v":""}]
[null,null,"Otras deducciones - aportes a Cajas Complementarias de Previsión, Fondos Compensadores de Previsión o similares",0,null,{"$f":"validaciones(D99,H99,0)","v":""}]
[null,null,"Otras deducciones - Aportes para jubilaciones, retiros y subsidios ANSES",0,null,{"$f":"validaciones(D100,H100,0)","v":""}]
[null,null,"Otras deducciones - Cajas Provinciales o Municipales o de Previsión para Profesionales",0,null,{"$f":"validaciones(D101,H101,0)","v":""}]
[null,null,"Otras deducciones - Actores - Retribución pagada a los representantes - RG 2442/08",0,null,{"$f":"validaciones(D102,H102,0)","v":""}]
[null,null,"Otras deducciones - Fondos compensadores de previsión",0,null,{"$f":"validaciones(D103,H103,0)","v":""}]
[null,null,"Otras deducciones",{"$f":"+SUM(D99:E103)","v":0}]
[null,null,"TOTAL DEDUCCIONES GENERALES",{"$f":"SUM(D77:E103)","v":497132.49},null,null,null,null,null,null,{"$f":"+D72-D105","v":2461296.3200000003}]
[]
[null,null,"DEDUCCIONES PERSONALES",null,null,null,null,"Topes máximos legales"]
[null,null,"Ganancia no imponible",167678.39999999999,null,{"$f":"validaciones(D108,H108,0)","v":""},null,{"$f":"deducciones(1,Datos!C11,MONTH(Datos!$C$13),$D$12)","v":167678.39999999999},null,null,{"$f":"IF(K105-K109<=0,0,IF(K105-K109<=H108,K105-K109,H108))","v":167678.39999999999}]
[null,null,"Deducción especial",804856.34,null,{"$f":"validaciones(D109,H109,0)","v":""},null,{"$f":"deducciones(2,Datos!$C$11,MONTH(Datos!$C$13),$D$12)","v":804856.34},null,null,{"$f":"IF(K105<=H109,K105,H109)","v":804856.34}]
[null,null,"Deducción Especial Incrementada Primera parte del penúltimo párrafo del inciso c) del artículo 30 de la ley del gravamen",0]
[null,null,"Deducción Especial Incrementada Segunda parte del penúltimo párrafo del inciso c) del artículo 30 de la ley del gravamen",0]
[null,null,"Deducción específica",0,null,{"$f":"validaciones(D112,H112,0)","v":""},null,0]
[null,null,"Cargas de familia"]
[null,null,"Cónyuge",0,null,{"$f":"validaciones(D114,H114,0)","v":""},null,{"$f":"cargas_de_familia(4,Datos!$C$11,MONTH(Datos!$C$13),$D$12)","v":156320.63},null,null,{"$f":"IF(K105-K108-K109>=D114,D114,K105-K108-K109)","v":0}]
[null,null,"Cantidad de hijos e hijastros",0,null,{"$f":"validaciones(D115,H115,0)","v":""},null,99]
[null,null,"Deducción total hijos e hijastros",0,null,null,null,{"$f":"cargas_de_familia(3,Datos!$C$11,MONTH(Datos!$C$13),$D$12)*D115","v":0},null,null,{"$f":"IF(K105-K108-K109-K114>=D116,D116,K105-K108-K109-K114)","v":0}]
[null,null,"Cantidad de hijos e hijastros incapacitados para el trabajo",0,null,{"$f":"validaciones(D117,H117,0)","v":""},null,99]
[null,null,"Hijos / Hijastros incapacitados para el trabajo",0,null,null,null,{"$f":"cargas_de_familia(5,Datos!$C$11,MONTH(Datos!$C$13),$D$12)","v":157666.16}]
[null,null,"Total de cargas de familia",{"$f":"+D114+D116+D118","v":0},null,null,null,0]
[null,null,"TOTAL DEDUCCIONES PERSONALES",{"$f":"SUM(D108:D112,D119)","v":972534.74}]
[]
[null,null,"DETERMINACIÓN DEL IMPUESTO"]
[null,null,"REMUNERACIÓN NETA SUJETA A IMPUESTO -antes de la deducción art. 46 L. 27541-",0]
[null,null,"Deducción inciso a) primer párrafo artículo 30 de la ley (cfr. art. 46 L. 27541)",0,null,null,null,0,null,null,{"$f":"IF(D123-K125<=0,0,IF(D123-K125<=H124,D123-K125,H124))","v":0}]
[null,null,"Deducción inciso c) primer párrafo artículo 30 de la ley (cfr. art. 46 L. 27541)",0,null,null,null,0,null,null,{"$f":"IF(D123<=H125,D123,H125)","v":0}]
[null,null,"REMUNERACIÓN SUJETA A IMPUESTO",{"$f":"IF(+D72-D105-D120<0,0,+D72-D105-D120)","v":1488761.5800000003}]
[null,null,"Alícuota aplicable artículo 94 ley de impuesto a las ganancias",{"$f":"IF(OR(Datos!C11=\"Final\",Datos!C11=\"Anual\"),impuestoAlicuota(D126,D25*(1-G25)+D51*(1-G51),12),impuestoAlicuota(D126,D25*(1-G25)+D51*(1-G51),MONTH(D11)))","v":0.35}]
[null,null,"Alícuota aplicable sin incluir horas extras",{"$f":"IF(OR(Datos!C11=\"Final\",Datos!C11=\"Anual\"),impuestoAlicuota(D126,0,12),impuestoAlicuota(D126,0,MONTH(D11)))","v":0.35}]
[null,null,"IMPUESTO DETERMINADO",{"$f":"IF(D126<0,0,IF(OR(Datos!C11=\"Final\",Datos!C11=\"Anual\"),impuestoDeterminado(D126,D25*(1-G25)+D51*(1-G51),12),impuestoDeterminado(D126,D25*(1-G25)+D51*(1-G51),MONTH(D11))))","v":390065.288}]
[null,null,"Impuesto retenido",349339.29]
[null,null,"Pagos a cuenta - Impuesto sobre créditos y débitos",0,null,{"$f":"IF(AND(Datos!$C$11=\"Informativa\",D131<>0),\"En la DDJJ informativa, este campo debe consignarse en cero (0)\",\"\")","v":""}]
[null,null,"Pagos a cuenta - Percepciones / Retenciones aduaneras",0,null,{"$f":"IF(AND(Datos!$C$11=\"Informativa\",D132<>0),\"En la DDJJ informativa, este campo debe consignarse en cero (0)\",\"\")","v":""}]
[null,null,"Pagos a cuenta - RG (AFIP) 3819/2015 - Cancelaciones en efectivo",0,null,{"$f":"IF(AND(Datos!$C$11=\"Informativa\",D133<>0),\"En la DDJJ informativa, este campo debe consignarse en cero (0)\",\"\")","v":""}]
[null,null,"Pagos a cuenta - Bono ley 27.424",0,null,{"$f":"IF(AND(Datos!$C$11=\"Informativa\",D134<>0),\"En la DDJJ informativa, este campo debe consignarse en cero (0)\",\"\")","v":""}]
[null,null,"Pagos a cuenta - RG 4815 [LEY 27.541 Art. 35 inciso a)] ",40726,null,{"$f":"IF(AND(Datos!$C$11=\"Informativa\",D135<>0),\"En la DDJJ informativa, este campo debe consignarse en cero (0)\",\"\")","v":""}]
[null,null,"Pagos a cuenta - RG 4815 [LEY 27.541 Art. 35 inciso b)] ",0,null,{"$f":"IF(AND(Datos!$C$11=\"Informativa\",D136<>0),\"En la DDJJ informativa, este campo debe consignarse en cero (0)\",\"\")","v":""}]
[null,null,"Pagos a cuenta - RG 4815 [LEY 27.541 Art. 35 inciso c)] ",0,null,{"$f":"IF(AND(Datos!$C$11=\"Informativa\",D137<>0),\"En la DDJJ informativa, este campo debe consignarse en cero (0)\",\"\")","v":""}]
[null,null,"Pagos a cuenta - RG 4815 [LEY 27.541 Art. 35 inciso d)] ",0,null,{"$f":"IF(AND(Datos!$C$11=\"Informativa\",D138<>0),\"En la DDJJ informativa, este campo debe consignarse en cero (0)\",\"\")","v":""}]
[null,null,"Pagos a cuenta - RG 4815 [LEY 27.541 Art. 35 inciso e)] ",0,null,{"$f":"IF(AND(Datos!$C$11=\"Informativa\",D139<>0),\"En la DDJJ informativa, este campo debe consignarse en cero (0)\",\"\")","v":""}]
[null,null,"Pagos a cuenta - Impuesto sobre créditos y débitos - sobre movimientos de fondos propios o de terceros",0,null,{"$f":"IF(AND(Datos!$C$11=\"Informativa\",D140<>0),\"En la DDJJ informativa, este campo debe consignarse en cero (0)\",\"\")","v":""}]
[null,null,"Pagos a cuenta - Resolución General (AFIP) 3819/2015 - Cancelaciones en Efectivo -Servicios de transporte terrestre, aéreo y por vía acuática de pasajeros con destino fuera del país",0,null,{"$f":"IF(AND(Datos!$C$11=\"Informativa\",D141<>0),\"En la DDJJ informativa, este campo debe consignarse en cero (0)\",\"\")","v":""}]
[null,null,"Total pagos a cuenta",{"$f":"SUM(D131:D141)","v":40726}]
[null,null,"SALDO A PAGAR",{"$f":"+ROUND(D129,2)-D130-D142","v":0}]

{"sheet":"Empleado11","index":15,"n_rows":143,"n_cols":11,"rows_kept":143,"cut":false,"hidden":false,"merged":[[10,7,11,9]]}
[]
[]
[null,null,"LIQUIDACIÓN DE IMPUESTO A LAS GANANCIAS - 4ta. CATEGORÍA RELACIÓN DE DEPENDENCIA"]
[]
[]
[null,null,"Empleado: Nombre y apellido ","ELZAURDIA FERNANDO MARTIN"]
[null,null,"CUIL del empleado",20259476012,null,{"$f":"cuitValidar(D7)","v":"CUIT/CUIL Válido"}]
[null,null,{"$f":"\"Agente de Retención: \"","v":"Agente de Retención: "},{"$f":"Datos!C7&\" - \"&Datos!C5","v":"33711238269 - OPERACIONES AGROPORTUARIAS S.A."}]
[null,null,{"$f":"\"Período Fiscal: \"","v":"Período Fiscal: "},{"$f":"YEAR(Datos!C13)","v":2021}]
[null,null,"Período trabajado (desde):","2021-01-01"]
[null,null,"Período trabajado (hasta):","2021-09-25",null,null,null,{"$f":"IF(MONTH(D11)>MONTH(Datos!C13),\"El período trabajado no puede ser mayor al período que se informa (mes \"&MONTH(Datos!C13)&\")\",\"\")","v":""}]
[null,null,"Zona geográfica:","Todo el país (excepto zona patagónica)"]
[null,null,"Transporte a larga distancia","No desarrolla la actividad"]
[null,null,"Beneficio promocional 27424?","No"]
[null,null,"Beneficio de la ley 27549?","No"]
[null,null,"El trabajador labora bajo el régimen de teletrabajo (Ley 27555)?","No"]
[null,null,"El trabajador es personal militar en actividad?","No"]
[]
[null,null,"REMUNERACIONES"]
[null,null,"Abonadas por el agente de retención:"]
[null,null,"Remuneración bruta gravada",2697517.05]
[null,null,"Retribuciones no habituales gravadas",0]
[null,null,"SAC primera cuota gravado",0]
[null,null,"SAC segunda cuota gravado",0]
[null,null,"Horas extras remuneración gravada",0,null,null,0,"% de retenciones"]
[null,null,"Movilidad y viáticos remuneración gravada",0]
[null,null,"Material didáctico personal docente remuneración gravada",0]
[null,null,"Remuneración no alcanzada o exenta (sin horas extras)",0]
[null,null,"Remuneración exenta ley 27549",0,null,{"$f":"IF(AND($D$15=\"No\",D29<>0),\"Para que sea procedente el beneficio, modifique el valor en la celda D15\",\"\")","v":""}]
[null,null,"Retribuciones no habituales exentas o no alcanzadas",0]
[null,null,"Horas extras remuneración exenta",105903.28]
[null,null,"Movilidad y viáticos remuneración exenta",0]
[null,null,"Material didáctico personal docente remuneración exenta",0]
[null,null,"Bonos de productividad gravados",0]
[null,null,"Fallos de caja gravados",0]
[null,null,"Conceptos de similar naturaleza gravados",0]
[null,null,"Bonos de productividad exentos",0]
[null,null,"Fallos de caja exentos",0]
[null,null,"Conceptos de similar naturaleza exentos",0]
[null,null,"Compensación de gastos de teletrabajo exentos",0]
[null,null,"Personal militar - suplementos art. 57 ley 19.101 - exentos",0]
[null,null,"SAC primera cuota - No alcanzado o exento",0]
[null,null,"SAC segunda cuota - No alcanzado o exento",0]
[null,null,"Ajustes períodos anteriores - Remuneración gravada",0]
[null,null,"Ajustes períodos anteriores - Remuneración exenta / no alcanzada",0]
[null,null,"Otros empleos:"]
[null,null,"Remuneración bruta gravada ",0]
[null,null,"Retribuciones no habituales gravadas ",0]
[null,null,"SAC primera cuota gravado ",0]
[null,null,"SAC segunda cuota gravado ",0]
[null,null,"Horas extras remuneración gravada ",0,null,null,0,"% de retenciones"]
[null,null,"Movilidad y viáticos remuneración gravada ",0]
[null,null,"Material didáctico personal docente remuneración gravada ",0]
[null,null,"Remuneración no alcanzada o exenta ",0]
[null,null,"Remuneración exenta ley 27549 ",0,null,{"$f":"IF(AND($D$15=\"No\",D55<>0),\"Para que sea procedente el beneficio, modifique el valor en la celda D15\",\"\")","v":""}]
[null,null,"Retribuciones no habituales exentas o no alcanzadas ",0]
[null,null,"Horas extras remuneración exenta o no alcanzada ",0]
[null,null,"Movilidad y viáticos remuneración exenta o no alcanzada ",0]
[null,null,"Material didáctico personal docente remuneración exenta o no alcanzada ",0]
[null,null,"Bonos de productividad gravados ",0]
[null,null,"Fallos de caja gravados ",0]
[null,null,"Conceptos de similar naturaleza gravados ",0]
[null,null,"Bonos de productividad exentos ",0]
[null,null,"Fallos de caja exentos ",0]
[null,null,"Conceptos de similar naturaleza exentos ",0]
[null,null,"Compensación de gastos teletrabajo - exentos ",0]
[null,null,"Personal militar - suplementos art. 57 Ley 19101 - exentos ",0]
[null,null,"SAC primera cuota - No alcanzado o exento ",0]
[null,null,"SAC segunda cuota - No alcanzado o exento ",0]
[null,null,"Ajustes períodos anteriores - Remuneración gravada ",0]
[null,null,"Ajustes períodos anteriores - Remuneración no alcanzada o exenta ",0]
[null,null,"TOTAL REMUNERACIÓN GRAVADA",{"$f":"SUM(D21:E27,D44,D47:D53,D70)","v":2697517.05}]
[null,null,"TOTAL REMUNERACIÓN NO ALCANZADA O EXENTA",{"$f":"SUM(D28:D43,D45,D54:D69,D71)","v":105903.28}]
[null,null,"TOTAL REMUNERACIONES",{"$f":"IF(+D72+D73<0,0,D72+D73)","v":2803420.3299999996},{"$f":"+D72-D105","v":2244097.5699999998}]
[]
[null,null,"DEDUCCIONES GENERALES",null,null,null,null,"Topes máximos legales"]
[null,null,"Aportes a fondos de jubilaciones, retiros, pensiones o subsidios que se destinen a cajas nacionales, provinciales o municipales",334027.90000000002,null,{"$f":"validaciones(D77,H77,0)&IF(D77>$D$74,\" El importe no puede ser mayor a la remuneración total\",\"\")","v":""}]
[null,null,"Aportes a fondos de jubilaciones, retiros, pensiones o subsidios que se destinen a cajas nacionales, provinciales o municipales por otros empleos",0,null,{"$f":"validaciones(D78,H78,0)&IF(D78>$D$74,\" El importe no puede ser mayor a la remuneración total\",\"\")","v":""}]
[null,null,"Aportes a obra sociales",71577.41,null,{"$f":"validaciones(D79,H79,0)&IF(D79>$D$74,\" El importe no puede ser mayor a la remuneración total\",\"\")","v":""}]
[null,null,"Aportes a obra sociales por otros empleos",0,null,{"$f":"validaciones(D80,H80,0)&IF(D80>$D$74,\" El importe no puede ser mayor a la remuneración total\",\"\")","v":""}]
[null,null,"Cuota sindical",47814.17,null,{"$f":"validaciones(D81,H81,0)&IF(D81>$D$74,\" El importe no puede ser mayor a la remuneración total\",\"\")","v":""}]
[null,null,"Cuota sindical por otros empleos",0,null,{"$f":"validaciones(D82,H82,0)&IF(D82>$D$74,\" El importe no puede ser mayor a la remuneración total\",\"\")","v":""}]
[null,null,"Cuotas médico asistenciales",0,null,{"$f":"validaciones(D83,H83,0)","v":""},null,{"$f":"(D72-SUM(D77:D82,D84:D89,D91,D93:D94,D95:D103))*0.05","v":112204.87849999999}]
[null,null,"Primas de seguro para el caso de muerte",0,null,{"$f":"validaciones(D84,H84,0)&IF(AND(Datos!$C$11=\"Informativa\",D84<>0),\"En la DDJJ informativa, este campo debe consignarse en cero (0)\",\"\")","v":""},null,{"$f":"+Tablas!B2","v":24000}]
[null,null,"Primas por riesgo de muerte y de ahorro de seguros mixtos, excepto para los casos de seguros de retiro privados administrados por entidades sujetas al control de la Superintendencia de Seguros de la Nación",0,null,{"$f":"validaciones(D85,H85,0)&IF(AND(Datos!$C$11=\"Informativa\",D85<>0),\"En la DDJJ informativa, este campo debe consignarse en cero (0)\",\"\")","v":""},null,{"$f":"+H84","v":24000}]
[null,null,"Aportes a planes de seguro de retiro privados administrados por entidades sujetas al control de la Superintendencia de Seguros de la Nación",0,null,{"$f":"validaciones(D86,H86,0)&IF(AND(Datos!$C$11=\"Informativa\",D86<>0),\"En la DDJJ informativa, este campo debe consignarse en cero (0)\",\"\")","v":""},null,{"$f":"+H85","v":24000}]
[null,null,"Cuotapartes de fondos comunes de inversión constituidos con fines de retiro",0,null,{"$f":"validaciones(D87,H87,0)&IF(D87<>0,\"Deberá consignarse en cero (0), hasta que la Autoridad de Aplicación – CNV – autorice a las Entidades a funcionar e implemente el régimen.\",\"\")","v":""},null,0]
[null,null,"Gastos de sepelio",0,null,{"$f":"validaciones(D88,H88,0)","v":""},null,{"$f":"+Tablas!B6","v":996.23}]
[null,null,"Gastos amortización e intereses rodado para corredores y viajantes de comercio",0,null,{"$f":"validaciones(D89,H89,0)&IF(D89>$D$74,\" El importe no puede ser mayor a la remuneración total\",\"\")","v":""}]
[null,null,"Donaciones a fiscos nacional, provinciales y municipales, y a instituciones comprendidas en el artículo 26, incisos e) y f) de la ley",0,null,{"$f":"validaciones(D90,H90,0)","v":""},null,{"$f":"(D72-SUM(D77:D82,D84:D89,D91,D93:D94,D95:D103))*0.05","v":112204.87849999999}]
[null,null,"Descuentos obligatorios establecidos por ley nacional, provincial o municipal",0,null,{"$f":"validaciones(D91,H91,0)&IF(D91>$D$74,\" El importe no puede ser mayor a la remuneración total\",\"\")","v":""}]
[null,null,"Honorarios por servicios de asistencia sanitaria, médica y paramédica",0,null,{"$f":"validaciones(D92,H92,0)&IF(AND(Datos!$C$11=\"Informativa\",D92<>0),\"En la DDJJ informativa, este campo debe consignarse en cero (0)\",\"\")","v":""},null,{"$f":"(D72-SUM(D77:D82,D84:D89,D91,D93:D94,D95:D103))*0.05","v":112204.87849999999}]
[null,null,"Intereses de créditos hipotecarios",0,null,{"$f":"validaciones(D93,H93,0)","v":""},null,{"$f":"+Tablas!B3","v":20000}]
[null,null,"Aportes al capital social o al fondo de riesgo de socios protectores de sociedades de garantía recíproca",0,null,{"$f":"validaciones(D94,H94,0)","v":""}]
[null,null,"Alquileres de inmuebles destinados a casa habitación",0,null,{"$f":"validaciones(D95,H95,0)","v":""},null,{"$f":"IF(Datos!C11=\"Final\",ROUND(Tablas!B4/12*12,2),ROUND(Tablas!B4/12*MONTH(Datos!C13),2))","v":167678.39999999999}]
[null,null,"Empleados del servicio doméstico",0,null,{"$f":"validaciones(D96,H96,0)","v":""},null,{"$f":"Tablas!B4","v":167678.39999999999}]
[null,null,"Gastos de movilidad, viáticos y otras compensaciones análogas abonados por el empleador",0,null,{"$f":"validaciones(D97,H97,0)","v":""},null,{"$f":"IF(D13=\"Desarrolla la actividad\",Tablas!B4,Tablas!B4*0.4)","v":67071.360000000001}]
[null,null,"Gastos por adquisición de indumentaria y/o equipamiento de trabajo",0,null,{"$f":"validaciones(D98,H98,0)","v":""}]
[null,null,"Otras deducciones - aportes a Cajas Complementarias de Previsión, Fondos Compensadores de Previsión o similares",0,null,{"$f":"validaciones(D99,H99,0)","v":""}]
[null,null,"Otras deducciones - Aportes para jubilaciones, retiros y subsidios ANSES",0,null,{"$f":"validaciones(D100,H100,0)","v":""}]
[null,null,"Otras deducciones - Cajas Provinciales o Municipales o de Previsión para Profesionales",0,null,{"$f":"validaciones(D101,H101,0)","v":""}]
[null,null,"Otras deducciones - Actores - Retribución pagada a los representantes - RG 2442/08",0,null,{"$f":"validaciones(D102,H102,0)","v":""}]
[null,null,"Otras deducciones - Fondos compensadores de previsión",0,null,{"$f":"validaciones(D103,H103,0)","v":""}]
[null,null,"Otras deducciones",{"$f":"+SUM(D99:E103)","v":0}]
[null,null,"TOTAL DEDUCCIONES GENERALES",{"$f":"SUM(D77:E103)","v":453419.48000000004},null,null,null,null,null,null,{"$f":"+D72-D105","v":2244097.5699999998}]
[]
[null,null,"DEDUCCIONES PERSONALES",null,null,null,null,"Topes máximos legales"]
[null,null,"Ganancia no imponible",167678.39999999999,null,{"$f":"validaciones(D108,H108,0)","v":""},null,{"$f":"deducciones(1,Datos!C11,MONTH(Datos!$C$13),$D$12)","v":167678.39999999999},null,null,{"$f":"IF(K105-K109<=0,0,IF(K105-K109<=H108,K105-K109,H108))","v":167678.39999999999}]
[null,null,"Deducción especial",804856.34,null,{"$f":"validaciones(D109,H109,0)","v":""},null,{"$f":"deducciones(2,Datos!$C$11,MONTH(Datos!$C$13),$D$12)","v":804856.34},null,null,{"$f":"IF(K105<=H109,K105,H109)","v":804856.34}]
[null,null,"Deducción Especial Incrementada Primera parte del penúltimo párrafo del inciso c) del artículo 30 de la ley del gravamen",0]
[null,null,"Deducción Especial Incrementada Segunda parte del penúltimo párrafo del inciso c) del artículo 30 de la ley del gravamen",28712]
[null,null,"Deducción específica",0,null,{"$f":"validaciones(D112,H112,0)","v":""},null,0]
[null,null,"Cargas de familia"]
[null,null,"Cónyuge",156320.63,null,{"$f":"validaciones(D114,H114,0)","v":""},null,{"$f":"cargas_de_familia(4,Datos!$C$11,MONTH(Datos!$C$13),$D$12)","v":156320.63},null,null,{"$f":"IF(K105-K108-K109>=D114,D114,K105-K108-K109)","v":156320.63}]
[null,null,"Cantidad de hijos e hijastros",2,null,{"$f":"validaciones(D115,H115,0)","v":""},null,99]
[null,null,"Deducción total hijos e hijastros",157666.16,null,null,null,{"$f":"cargas_de_familia(3,Datos!$C$11,MONTH(Datos!$C$13),$D$12)*D115","v":157666.16},null,null,{"$f":"IF(K105-K108-K109-K114>=D116,D116,K105-K108-K109-K114)","v":157666.16}]
[null,null,"Cantidad de hijos e hijastros incapacitados para el trabajo",0,null,{"$f":"validaciones(D117,H117,0)","v":""},null,99]
[null,null,"Hijos / Hijastros incapacitados para el trabajo",0,null,null,null,{"$f":"cargas_de_familia(5,Datos!$C$11,MONTH(Datos!$C$13),$D$12)","v":157666.16}]
[null,null,"Total de cargas de familia",{"$f":"+D114+D116+D118","v":313986.79000000004},null,null,null,0]
[null,null,"TOTAL DEDUCCIONES PERSONALES",{"$f":"SUM(D108:D112,D119)","v":1315233.53}]
[]
[null,null,"DETERMINACIÓN DEL IMPUESTO"]
[null,null,"REMUNERACIÓN NETA SUJETA A IMPUESTO -antes de la deducción art. 46 L. 27541-",0]
[null,null,"Deducción inciso a) primer párrafo artículo 30 de la ley (cfr. art. 46 L. 27541)",0,null,null,null,0,null,null,{"$f":"IF(D123-K125<=0,0,IF(D123-K125<=H124,D123-K125,H124))","v":0}]
[null,null,"Deducción inciso c) primer párrafo artículo 30 de la ley (cfr. art. 46 L. 27541)",0,null,null,null,0,null,null,{"$f":"IF(D123<=H125,D123,H125)","v":0}]
[null,null,"REMUNERACIÓN SUJETA A IMPUESTO",{"$f":"IF(+D72-D105-D120<0,0,+D72-D105-D120)","v":928864.0399999998}]
[null,null,"Alícuota aplicable artículo 94 ley de impuesto a las ganancias",{"$f":"IF(OR(Datos!C11=\"Final\",Datos!C11=\"Anual\"),impuestoAlicuota(D126,D25*(1-G25)+D51*(1-G51),12),impuestoAlicuota(D126,D25*(1-G25)+D51*(1-G51),MONTH(D11)))","v":0.31}]
[null,null,"Alícuota aplicable sin incluir horas extras",{"$f":"IF(OR(Datos!C11=\"Final\",Datos!C11=\"Anual\"),impuestoAlicuota(D126,0,12),impuestoAlicuota(D126,0,MONTH(D11)))","v":0.31}]
[null,null,"IMPUESTO DETERMINADO",{"$f":"IF(D126<0,0,IF(OR(Datos!C11=\"Final\",Datos!C11=\"Anual\"),impuestoDeterminado(D126,D25*(1-G25)+D51*(1-G51),12),impuestoDeterminado(D126,D25*(1-G25)+D51*(1-G51),MONTH(D11))))","v":198247.48230000003}]
[null,null,"Impuesto retenido",198247.48]
[null,null,"Pagos a cuenta - Impuesto sobre créditos y débitos",0,null,{"$f":"IF(AND(Datos!$C$11=\"Informativa\",D131<>0),\"En la DDJJ informativa, este campo debe consignarse en cero (0)\",\"\")","v":""}]
[null,null,"Pagos a cuenta - Percepciones / Retenciones aduaneras",0,null,{"$f":"IF(AND(Datos!$C$11=\"Informativa\",D132<>0),\"En la DDJJ informativa, este campo debe consignarse en cero (0)\",\"\")","v":""}]
[null,null,"Pagos a cuenta - RG (AFIP) 3819/2015 - Cancelaciones en efectivo",0,null,{"$f":"IF(AND(Datos!$C$11=\"Informativa\",D133<>0),\"En la DDJJ informativa, este campo debe consignarse en cero (0)\",\"\")","v":""}]
[null,null,"Pagos a cuenta - Bono ley 27.424",0,null,{"$f":"IF(AND(Datos!$C$11=\"Informativa\",D134<>0),\"En la DDJJ informativa, este campo debe consignarse en cero (0)\",\"\")","v":""}]
[null,null,"Pagos a cuenta - RG 4815 [LEY 27.541 Art. 35 inciso a)] ",0,null,{"$f":"IF(AND(Datos!$C$11=\"Informativa\",D135<>0),\"En la DDJJ informativa, este campo debe consignarse en cero (0)\",\"\")","v":""}]
[null,null,"Pagos a cuenta - RG 4815 [LEY 27.541 Art. 35 inciso b)] ",0,null,{"$f":"IF(AND(Datos!$C$11=\"Informativa\",D136<>0),\"En la DDJJ informativa, este campo debe consignarse en cero (0)\",\"\")","v":""}]
[null,null,"Pagos a cuenta - RG 4815 [LEY 27.541 Art. 35 inciso c)] ",0,null,{"$f":"IF(AND(Datos!$C$11=\"Informativa\",D137<>0),\"En la DDJJ informativa, este campo debe consignarse en cero (0)\",\"\")","v":""}]
[null,null,"Pagos a cuenta - RG 4815 [LEY 27.541 Art. 35 inciso d)] ",0,null,{"$f":"IF(AND(Datos!$C$11=\"Informativa\",D138<>0),\"En la DDJJ informativa, este campo debe consignarse en cero (0)\",\"\")","v":""}]
[null,null,"Pagos a cuenta - RG 4815 [LEY 27.541 Art. 35 inciso e)] ",0,null,{"$f":"IF(AND(Datos!$C$11=\"Informativa\",D139<>0),\"En la DDJJ informativa, este campo debe consignarse en cero (0)\",\"\")","v":""}]
[null,null,"Pagos a cuenta - Impuesto sobre créditos y débitos - sobre movimientos de fondos propios o de terceros",0,null,{"$f":"IF(AND(Datos!$C$11=\"Informativa\",D140<>0),\"En la DDJJ informativa, este campo debe consignarse en cero (0)\",\"\")","v":""}]
[null,null,"Pagos a cuenta - Resolución General (AFIP) 3819/2015 - Cancelaciones en Efectivo -Servicios de transporte terrestre, aéreo y por vía acuática de pasajeros con destino fuera del país",0,null,{"$f":"IF(AND(Datos!$C$11=\"Informativa\",D141<>0),\"En la DDJJ informativa, este campo debe consignarse en cero (0)\",\"\")","v":""}]
[null,null,"Total pagos a cuenta",{"$f":"SUM(D131:D141)","v":0}]
[null,null,"SALDO A PAGAR",{"$f":"+ROUND(D129,2)-D130-D142","v":0}]

{"sheet":"Empleado12","index":16,"n_rows":143,"n_cols":11,"rows_kept":143,"cut":false,"hidden":false,"merged":[[10,7,11,9]]}
[]
[]
[null,null,"LIQUIDACIÓN DE IMPUESTO A LAS GANANCIAS - 4ta. CATEGORÍA RELACIÓN DE DEPENDENCIA"]
[]
[]
[null,null,"Empleado: Nombre y apellido ","RUIZ KLUG TOMAS GABRIEL"]
[null,null,"CUIL del empleado",20388488116,null,{"$f":"cuitValidar(D7)","v":"CUIT/CUIL Válido"}]
[null,null,{"$f":"\"Agente de Retención: \"","v":"Agente de Retención: "},{"$f":"Datos!C7&\" - \"&Datos!C5","v":"33711238269 - OPERACIONES AGROPORTUARIAS S.A."}]
[null,null,{"$f":"\"Período Fiscal: \"","v":"Período Fiscal: "},{"$f":"YEAR(Datos!C13)","v":2021}]
[null,null,"Período trabajado (desde):","2021-01-01"]
[null,null,"Período trabajado (hasta):","2021-09-25",null,null,null,{"$f":"IF(MONTH(D11)>MONTH(Datos!C13),\"El período trabajado no puede ser mayor al período que se informa (mes \"&MONTH(Datos!C13)&\")\",\"\")","v":""}]
[null,null,"Zona geográfica:","Todo el país (excepto zona patagónica)"]
[null,null,"Transporte a larga distancia","No desarrolla la actividad"]
[null,null,"Beneficio promocional 27424?","No"]
[null,null,"Beneficio de la ley 27549?","No"]
[null,null,"El trabajador labora bajo el régimen de teletrabajo (Ley 27555)?","No"]
[null,null,"El trabajador es personal militar en actividad?","No"]
[]
[null,null,"REMUNERACIONES"]
[null,null,"Abonadas por el agente de retención:"]
[null,null,"Remuneración bruta gravada",3666872.48]
[null,null,"Retribuciones no habituales gravadas",0]
[null,null,"SAC primera cuota gravado",0]
[null,null,"SAC segunda cuota gravado",0]
[null,null,"Horas extras remuneración gravada",0,null,null,0,"% de retenciones"]
[null,null,"Movilidad y viáticos remuneración gravada",0]
[null,null,"Material didáctico personal docente remuneración gravada",0]
[null,null,"Remuneración no alcanzada o exenta (sin horas extras)",0]
[null,null,"Remuneración exenta ley 27549",0,null,{"$f":"IF(AND($D$15=\"No\",D29<>0),\"Para que sea procedente el beneficio, modifique el valor en la celda D15\",\"\")","v":""}]
[null,null,"Retribuciones no habituales exentas o no alcanzadas",0]
[null,null,"Horas extras remuneración exenta",321985.36]
[null,null,"Movilidad y viáticos remuneración exenta",0]
[null,null,"Material didáctico personal docente remuneración exenta",0]
[null,null,"Bonos de productividad gravados",0]
[null,null,"Fallos de caja gravados",0]
[null,null,"Conceptos de similar naturaleza gravados",0]
[null,null,"Bonos de productividad exentos",0]
[null,null,"Fallos de caja exentos",0]
[null,null,"Conceptos de similar naturaleza exentos",0]
[null,null,"Compensación de gastos de teletrabajo exentos",0]
[null,null,"Personal militar - suplementos art. 57 ley 19.101 - exentos",0]
[null,null,"SAC primera cuota - No alcanzado o exento",0]
[null,null,"SAC segunda cuota - No alcanzado o exento",0]
[null,null,"Ajustes períodos anteriores - Remuneración gravada",0]
[null,null,"Ajustes períodos anteriores - Remuneración exenta / no alcanzada",0]
[null,null,"Otros empleos:"]
[null,null,"Remuneración bruta gravada ",0]
[null,null,"Retribuciones no habituales gravadas ",0]
[null,null,"SAC primera cuota gravado ",0]
[null,null,"SAC segunda cuota gravado ",0]
[null,null,"Horas extras remuneración gravada ",0,null,null,0,"% de retenciones"]
[null,null,"Movilidad y viáticos remuneración gravada ",0]
[null,null,"Material didáctico personal docente remuneración gravada ",0]
[null,null,"Remuneración no alcanzada o exenta ",0]
[null,null,"Remuneración exenta ley 27549 ",0,null,{"$f":"IF(AND($D$15=\"No\",D55<>0),\"Para que sea procedente el beneficio, modifique el valor en la celda D15\",\"\")","v":""}]
[null,null,"Retribuciones no habituales exentas o no alcanzadas ",0]
[null,null,"Horas extras remuneración exenta o no alcanzada ",0]
[null,null,"Movilidad y viáticos remuneración exenta o no alcanzada ",0]
[null,null,"Material didáctico personal docente remuneración exenta o no alcanzada ",0]
[null,null,"Bonos de productividad gravados ",0]
[null,null,"Fallos de caja gravados ",0]
[null,null,"Conceptos de similar naturaleza gravados ",0]
[null,null,"Bonos de productividad exentos ",0]
[null,null,"Fallos de caja exentos ",0]
[null,null,"Conceptos de similar naturaleza exentos ",0]
[null,null,"Compensación de gastos teletrabajo - exentos ",0]
[null,null,"Personal militar - suplementos art. 57 Ley 19101 - exentos ",0]
[null,null,"SAC primera cuota - No alcanzado o exento ",0]
[null,null,"SAC segunda cuota - No alcanzado o exento ",0]
[null,null,"Ajustes períodos anteriores - Remuneración gravada ",0]
[null,null,"Ajustes períodos anteriores - Remuneración no alcanzada o exenta ",0]
[null,null,"TOTAL REMUNERACIÓN GRAVADA",{"$f":"SUM(D21:E27,D44,D47:D53,D70)","v":3666872.48}]
[null,null,"TOTAL REMUNERACIÓN NO ALCANZADA O EXENTA",{"$f":"SUM(D28:D43,D45,D54:D69,D71)","v":321985.36}]
[null,null,"TOTAL REMUNERACIONES",{"$f":"IF(+D72+D73<0,0,D72+D73)","v":3988857.84}]
[]
[null,null,"DEDUCCIONES GENERALES",null,null,null,null,"Topes máximos legales"]
[null,null,"Aportes a fondos de jubilaciones, retiros, pensiones o subsidios que se destinen a cajas nacionales, provinciales o municipales",463242.11,null,{"$f":"validaciones(D77,H77,0)&IF(D77>$D$74,\" El importe no puede ser mayor a la remuneración total\",\"\")","v":""}]
[null,null,"Aportes a fondos de jubilaciones, retiros, pensiones o subsidios que se destinen a cajas nacionales, provinciales o municipales por otros empleos",0,null,{"$f":"validaciones(D78,H78,0)&IF(D78>$D$74,\" El importe no puede ser mayor a la remuneración total\",\"\")","v":""}]
[null,null,"Aportes a obra sociales",99266.17,null,{"$f":"validaciones(D79,H79,0)&IF(D79>$D$74,\" El importe no puede ser mayor a la remuneración total\",\"\")","v":""}]
[null,null,"Aportes a obra sociales por otros empleos",0,null,{"$f":"validaciones(D80,H80,0)&IF(D80>$D$74,\" El importe no puede ser mayor a la remuneración total\",\"\")","v":""}]
[null,null,"Cuota sindical",104089.24,null,{"$f":"validaciones(D81,H81,0)&IF(D81>$D$74,\" El importe no puede ser mayor a la remuneración total\",\"\")","v":""}]
[null,null,"Cuota sindical por otros empleos",0,null,{"$f":"validaciones(D82,H82,0)&IF(D82>$D$74,\" El importe no puede ser mayor a la remuneración total\",\"\")","v":""}]
[null,null,"Cuotas médico asistenciales",0,null,{"$f":"validaciones(D83,H83,0)","v":""},null,{"$f":"(D72-SUM(D77:D82,D84:D89,D91,D93:D94,D95:D103))*0.05","v":150013.74799999999}]
[null,null,"Primas de seguro para el caso de muerte",0,null,{"$f":"validaciones(D84,H84,0)&IF(AND(Datos!$C$11=\"Informativa\",D84<>0),\"En la DDJJ informativa, este campo debe consignarse en cero (0)\",\"\")","v":""},null,{"$f":"+Tablas!B2","v":24000}]
[null,null,"Primas por riesgo de muerte y de ahorro de seguros mixtos, excepto para los casos de seguros de retiro privados administrados por entidades sujetas al control de la Superintendencia de Seguros de la Nación",0,null,{"$f":"validaciones(D85,H85,0)&IF(AND(Datos!$C$11=\"Informativa\",D85<>0),\"En la DDJJ informativa, este campo debe consignarse en cero (0)\",\"\")","v":""},null,{"$f":"+H84","v":24000}]
[null,null,"Aportes a planes de seguro de retiro privados administrados por entidades sujetas al control de la Superintendencia de Seguros de la Nación",0,null,{"$f":"validaciones(D86,H86,0)&IF(AND(Datos!$C$11=\"Informativa\",D86<>0),\"En la DDJJ informativa, este campo debe consignarse en cero (0)\",\"\")","v":""},null,{"$f":"+H85","v":24000}]
[null,null,"Cuotapartes de fondos comunes de inversión constituidos con fines de retiro",0,null,{"$f":"validaciones(D87,H87,0)&IF(D87<>0,\"Deberá consignarse en cero (0), hasta que la Autoridad de Aplicación – CNV – autorice a las Entidades a funcionar e implemente el régimen.\",\"\")","v":""},null,0]
[null,null,"Gastos de sepelio",0,null,{"$f":"validaciones(D88,H88,0)","v":""},null,{"$f":"+Tablas!B6","v":996.23}]
[null,null,"Gastos amortización e intereses rodado para corredores y viajantes de comercio",0,null,{"$f":"validaciones(D89,H89,0)&IF(D89>$D$74,\" El importe no puede ser mayor a la remuneración total\",\"\")","v":""}]
[null,null,"Donaciones a fiscos nacional, provinciales y municipales, y a instituciones comprendidas en el artículo 26, incisos e) y f) de la ley",0,null,{"$f":"validaciones(D90,H90,0)","v":""},null,{"$f":"(D72-SUM(D77:D82,D84:D89,D91,D93:D94,D95:D103))*0.05","v":150013.74799999999}]
[null,null,"Descuentos obligatorios establecidos por ley nacional, provincial o municipal",0,null,{"$f":"validaciones(D91,H91,0)&IF(D91>$D$74,\" El importe no puede ser mayor a la remuneración total\",\"\")","v":""}]
[null,null,"Honorarios por servicios de asistencia sanitaria, médica y paramédica",0,null,{"$f":"validaciones(D92,H92,0)&IF(AND(Datos!$C$11=\"Informativa\",D92<>0),\"En la DDJJ informativa, este campo debe consignarse en cero (0)\",\"\")","v":""},null,{"$f":"(D72-SUM(D77:D82,D84:D89,D91,D93:D94,D95:D103))*0.05","v":150013.74799999999}]
[null,null,"Intereses de créditos hipotecarios",0,null,{"$f":"validaciones(D93,H93,0)","v":""},null,{"$f":"+Tablas!B3","v":20000}]
[null,null,"Aportes al capital social o al fondo de riesgo de socios protectores de sociedades de garantía recíproca",0,null,{"$f":"validaciones(D94,H94,0)","v":""}]
[null,null,"Alquileres de inmuebles destinados a casa habitación",0,null,{"$f":"validaciones(D95,H95,0)","v":""},null,{"$f":"IF(Datos!C11=\"Final\",ROUND(Tablas!B4/12*12,2),ROUND(Tablas!B4/12*MONTH(Datos!C13),2))","v":167678.39999999999}]
[null,null,"Empleados del servicio doméstico",0,null,{"$f":"validaciones(D96,H96,0)","v":""},null,{"$f":"Tablas!B4","v":167678.39999999999}]
[null,null,"Gastos de movilidad, viáticos y otras compensaciones análogas abonados por el empleador",0,null,{"$f":"validaciones(D97,H97,0)","v":""},null,{"$f":"IF(D13=\"Desarrolla la actividad\",Tablas!B4,Tablas!B4*0.4)","v":67071.360000000001}]
[null,null,"Gastos por adquisición de indumentaria y/o equipamiento de trabajo",0,null,{"$f":"validaciones(D98,H98,0)","v":""}]
[null,null,"Otras deducciones - aportes a Cajas Complementarias de Previsión, Fondos Compensadores de Previsión o similares",0,null,{"$f":"validaciones(D99,H99,0)","v":""}]
[null,null,"Otras deducciones - Aportes para jubilaciones, retiros y subsidios ANSES",0,null,{"$f":"validaciones(D100,H100,0)","v":""}]
[null,null,"Otras deducciones - Cajas Provinciales o Municipales o de Previsión para Profesionales",0,null,{"$f":"validaciones(D101,H101,0)","v":""}]
[null,null,"Otras deducciones - Actores - Retribución pagada a los representantes - RG 2442/08",0,null,{"$f":"validaciones(D102,H102,0)","v":""}]
[null,null,"Otras deducciones - Fondos compensadores de previsión",0,null,{"$f":"validaciones(D103,H103,0)","v":""}]
[null,null,"Otras deducciones",{"$f":"+SUM(D99:E103)","v":0}]
[null,null,"TOTAL DEDUCCIONES GENERALES",{"$f":"SUM(D77:E103)","v":666597.52},null,null,null,null,null,null,{"$f":"+D72-D105","v":3000274.96}]
[]
[null,null,"DEDUCCIONES PERSONALES",null,null,null,null,"Topes máximos legales"]
[null,null,"Ganancia no imponible",167678.39999999999,null,{"$f":"validaciones(D108,H108,0)","v":""},null,{"$f":"deducciones(1,Datos!C11,MONTH(Datos!$C$13),$D$12)","v":167678.39999999999},null,null,{"$f":"IF(K105-K109<=0,0,IF(K105-K109<=H108,K105-K109,H108))","v":167678.39999999999}]
[null,null,"Deducción especial",804856.34,null,{"$f":"validaciones(D109,H109,0)","v":""},null,{"$f":"deducciones(2,Datos!$C$11,MONTH(Datos!$C$13),$D$12)","v":804856.34},null,null,{"$f":"IF(K105<=H109,K105,H109)","v":804856.34}]
[null,null,"Deducción Especial Incrementada Primera parte del penúltimo párrafo del inciso c) del artículo 30 de la ley del gravamen",0]
[null,null,"Deducción Especial Incrementada Segunda parte del penúltimo párrafo del inciso c) del artículo 30 de la ley del gravamen",0]
[null,null,"Deducción específica",0,null,{"$f":"validaciones(D112,H112,0)","v":""},null,0]
[null,null,"Cargas de familia"]
[null,null,"Cónyuge",0,null,{"$f":"validaciones(D114,H114,0)","v":""},null,{"$f":"cargas_de_familia(4,Datos!$C$11,MONTH(Datos!$C$13),$D$12)","v":156320.63},null,null,{"$f":"IF(K105-K108-K109>=D114,D114,K105-K108-K109)","v":0}]
[null,null,"Cantidad de hijos e hijastros",0,null,{"$f":"validaciones(D115,H115,0)","v":""},null,99]
[null,null,"Deducción total hijos e hijastros",0,null,null,null,{"$f":"cargas_de_familia(3,Datos!$C$11,MONTH(Datos!$C$13),$D$12)*D115","v":0},null,null,{"$f":"IF(K105-K108-K109-K114>=D116,D116,K105-K108-K109-K114)","v":0}]
[null,null,"Cantidad de hijos e hijastros incapacitados para el trabajo",0,null,{"$f":"validaciones(D117,H117,0)","v":""},null,99]
[null,null,"Hijos / Hijastros incapacitados para el trabajo",0,null,null,null,{"$f":"cargas_de_familia(5,Datos!$C$11,MONTH(Datos!$C$13),$D$12)","v":157666.16}]
[null,null,"Total de cargas de familia",{"$f":"+D114+D116+D118","v":0},null,null,null,0]
[null,null,"TOTAL DEDUCCIONES PERSONALES",{"$f":"SUM(D108:D112,D119)","v":972534.74}]
[]
[null,null,"DETERMINACIÓN DEL IMPUESTO"]
[null,null,"REMUNERACIÓN NETA SUJETA A IMPUESTO -antes de la deducción art. 46 L. 27541-",0]
[null,null,"Deducción inciso a) primer párrafo artículo 30 de la ley (cfr. art. 46 L. 27541)",0,null,null,null,0,null,null,{"$f":"IF(D123-K125<=0,0,IF(D123-K125<=H124,D123-K125,H124))","v":0}]
[null,null,"Deducción inciso c) primer párrafo artículo 30 de la ley (cfr. art. 46 L. 27541)",0,null,null,null,0,null,null,{"$f":"IF(D123<=H125,D123,H125)","v":0}]
[null,null,"REMUNERACIÓN SUJETA A IMPUESTO",{"$f":"IF(+D72-D105-D120<0,0,+D72-D105-D120)","v":2027740.22}]
[null,null,"Alícuota aplicable artículo 94 ley de impuesto a las ganancias",{"$f":"IF(OR(Datos!C11=\"Final\",Datos!C11=\"Anual\"),impuestoAlicuota(D126,D25*(1-G25)+D51*(1-G51),12),impuestoAlicuota(D126,D25*(1-G25)+D51*(1-G51),MONTH(D11)))","v":0.35}]
[null,null,"Alícuota aplicable sin incluir horas extras",{"$f":"IF(OR(Datos!C11=\"Final\",Datos!C11=\"Anual\"),impuestoAlicuota(D126,0,12),impuestoAlicuota(D126,0,MONTH(D11)))","v":0.35}]
[null,null,"IMPUESTO DETERMINADO",{"$f":"IF(D126<0,0,IF(OR(Datos!C11=\"Final\",Datos!C11=\"Anual\"),impuestoDeterminado(D126,D25*(1-G25)+D51*(1-G51),12),impuestoDeterminado(D126,D25*(1-G25)+D51*(1-G51),MONTH(D11))))","v":578707.81199999992}]
[null,null,"Impuesto retenido",578707.81000000006]
[null,null,"Pagos a cuenta - Impuesto sobre créditos y débitos",0,null,{"$f":"IF(AND(Datos!$C$11=\"Informativa\",D131<>0),\"En la DDJJ informativa, este campo debe consignarse en cero (0)\",\"\")","v":""}]
[null,null,"Pagos a cuenta - Percepciones / Retenciones aduaneras",0,null,{"$f":"IF(AND(Datos!$C$11=\"Informativa\",D132<>0),\"En la DDJJ informativa, este campo debe consignarse en cero (0)\",\"\")","v":""}]
[null,null,"Pagos a cuenta - RG (AFIP) 3819/2015 - Cancelaciones en efectivo",0,null,{"$f":"IF(AND(Datos!$C$11=\"Informativa\",D133<>0),\"En la DDJJ informativa, este campo debe consignarse en cero (0)\",\"\")","v":""}]
[null,null,"Pagos a cuenta - Bono ley 27.424",0,null,{"$f":"IF(AND(Datos!$C$11=\"Informativa\",D134<>0),\"En la DDJJ informativa, este campo debe consignarse en cero (0)\",\"\")","v":""}]
[null,null,"Pagos a cuenta - RG 4815 [LEY 27.541 Art. 35 inciso a)] ",0,null,{"$f":"IF(AND(Datos!$C$11=\"Informativa\",D135<>0),\"En la DDJJ informativa, este campo debe consignarse en cero (0)\",\"\")","v":""}]
[null,null,"Pagos a cuenta - RG 4815 [LEY 27.541 Art. 35 inciso b)] ",0,null,{"$f":"IF(AND(Datos!$C$11=\"Informativa\",D136<>0),\"En la DDJJ informativa, este campo debe consignarse en cero (0)\",\"\")","v":""}]
[null,null,"Pagos a cuenta - RG 4815 [LEY 27.541 Art. 35 inciso c)] ",0,null,{"$f":"IF(AND(Datos!$C$11=\"Informativa\",D137<>0),\"En la DDJJ informativa, este campo debe consignarse en cero (0)\",\"\")","v":""}]
[null,null,"Pagos a cuenta - RG 4815 [LEY 27.541 Art. 35 inciso d)] ",0,null,{"$f":"IF(AND(Datos!$C$11=\"Informativa\",D138<>0),\"En la DDJJ informativa, este campo debe consignarse en cero (0)\",\"\")","v":""}]
[null,null,"Pagos a cuenta - RG 4815 [LEY 27.541 Art. 35 inciso e)] ",0,null,{"$f":"IF(AND(Datos!$C$11=\"Informativa\",D139<>0),\"En la DDJJ informativa, este campo debe consignarse en cero (0)\",\"\")","v":""}]
[null,null,"Pagos a cuenta - Impuesto sobre créditos y débitos - sobre movimientos de fondos propios o de terceros",0,null,{"$f":"IF(AND(Datos!$C$11=\"Informativa\",D140<>0),\"En la DDJJ informativa, este campo debe consignarse en cero (0)\",\"\")","v":""}]
[null,null,"Pagos a cuenta - Resolución General (AFIP) 3819/2015 - Cancelaciones en Efectivo -Servicios de transporte terrestre, aéreo y por vía acuática de pasajeros con destino fuera del país",0,null,{"$f":"IF(AND(Datos!$C$11=\"Informativa\",D141<>0),\"En la DDJJ informativa, este campo debe consignarse en cero (0)\",\"\")","v":""}]
[null,null,"Total pagos a cuenta",{"$f":"SUM(D131:D141)","v":0}]
[null,null,"SALDO A PAGAR",{"$f":"+ROUND(D129,2)-D130-D142","v":0}]

{"sheet":"Empleado13","index":17,"n_rows":143,"n_cols":11,"rows_kept":143,"cut":false,"hidden":false,"merged":[[10,7,11,9]]}
[]
[]
[null,null,"LIQUIDACIÓN DE IMPUESTO A LAS GANANCIAS - 4ta. CATEGORÍA RELACIÓN DE DEPENDENCIA"]
[]
[]
[null,null,"Empleado: Nombre y apellido ","HERRERO AGUSTIN"]
[null,null,"CUIL del empleado",20316239391,null,{"$f":"cuitValidar(D7)","v":"CUIT/CUIL Válido"}]
[null,null,{"$f":"\"Agente de Retención: \"","v":"Agente de Retención: "},{"$f":"Datos!C7&\" - \"&Datos!C5","v":"33711238269 - OPERACIONES AGROPORTUARIAS S.A."}]
[null,null,{"$f":"\"Período Fiscal: \"","v":"Período Fiscal: "},{"$f":"YEAR(Datos!C13)","v":2021}]
[null,null,"Período trabajado (desde):","2021-01-01"]
[null,null,"Período trabajado (hasta):","2021-09-25",null,null,null,{"$f":"IF(MONTH(D11)>MONTH(Datos!C13),\"El período trabajado no puede ser mayor al período que se informa (mes \"&MONTH(Datos!C13)&\")\",\"\")","v":""}]
[null,null,"Zona geográfica:","Todo el país (excepto zona patagónica)"]
[null,null,"Transporte a larga distancia","No desarrolla la actividad"]
[null,null,"Beneficio promocional 27424?","No"]
[null,null,"Beneficio de la ley 27549?","No"]
[null,null,"El trabajador labora bajo el régimen de teletrabajo (Ley 27555)?","No"]
[null,null,"El trabajador es personal militar en actividad?","No"]
[]
[null,null,"REMUNERACIONES"]
[null,null,"Abonadas por el agente de retención:"]
[null,null,"Remuneración bruta gravada",2404209.67]
[null,null,"Retribuciones no habituales gravadas",0]
[null,null,"SAC primera cuota gravado",0]
[null,null,"SAC segunda cuota gravado",0]
[null,null,"Horas extras remuneración gravada",0,null,null,0,"% de retenciones"]
[null,null,"Movilidad y viáticos remuneración gravada",0]
[null,null,"Material didáctico personal docente remuneración gravada",0]
[null,null,"Remuneración no alcanzada o exenta (sin horas extras)",0]
[null,null,"Remuneración exenta ley 27549",0,null,{"$f":"IF(AND($D$15=\"No\",D29<>0),\"Para que sea procedente el beneficio, modifique el valor en la celda D15\",\"\")","v":""}]
[null,null,"Retribuciones no habituales exentas o no alcanzadas",0]
[null,null,"Horas extras remuneración exenta",88929.65]
[null,null,"Movilidad y viáticos remuneración exenta",0]
[null,null,"Material didáctico personal docente remuneración exenta",0]
[null,null,"Bonos de productividad gravados",0]
[null,null,"Fallos de caja gravados",0]
[null,null,"Conceptos de similar naturaleza gravados",0]
[null,null,"Bonos de productividad exentos",0]
[null,null,"Fallos de caja exentos",0]
[null,null,"Conceptos de similar naturaleza exentos",0]
[null,null,"Compensación de gastos de teletrabajo exentos",0]
[null,null,"Personal militar - suplementos art. 57 ley 19.101 - exentos",0]
[null,null,"SAC primera cuota - No alcanzado o exento",0]
[null,null,"SAC segunda cuota - No alcanzado o exento",0]
[null,null,"Ajustes períodos anteriores - Remuneración gravada",0]
[null,null,"Ajustes períodos anteriores - Remuneración exenta / no alcanzada",0]
[null,null,"Otros empleos:"]
[null,null,"Remuneración bruta gravada ",0]
[null,null,"Retribuciones no habituales gravadas ",0]
[null,null,"SAC primera cuota gravado ",0]
[null,null,"SAC segunda cuota gravado ",0]
[null,null,"Horas extras remuneración gravada ",0,null,null,0,"% de retenciones"]
[null,null,"Movilidad y viáticos remuneración gravada ",0]
[null,null,"Material didáctico personal docente remuneración gravada ",0]
[null,null,"Remuneración no alcanzada o exenta ",0]
[null,null,"Remuneración exenta ley 27549 ",0,null,{"$f":"IF(AND($D$15=\"No\",D55<>0),\"Para que sea procedente el beneficio, modifique el valor en la celda D15\",\"\")","v":""}]
[null,null,"Retribuciones no habituales exentas o no alcanzadas ",0]
[null,null,"Horas extras remuneración exenta o no alcanzada ",0]
[null,null,"Movilidad y viáticos remuneración exenta o no alcanzada ",0]
[null,null,"Material didáctico personal docente remuneración exenta o no alcanzada ",0]
[null,null,"Bonos de productividad gravados ",0]
[null,null,"Fallos de caja gravados ",0]
[null,null,"Conceptos de similar naturaleza gravados ",0]
[null,null,"Bonos de productividad exentos ",0]
[null,null,"Fallos de caja exentos ",0]
[null,null,"Conceptos de similar naturaleza exentos ",0]
[null,null,"Compensación de gastos teletrabajo - exentos ",0]
[null,null,"Personal militar - suplementos art. 57 Ley 19101 - exentos ",0]
[null,null,"SAC primera cuota - No alcanzado o exento ",0]
[null,null,"SAC segunda cuota - No alcanzado o exento ",0]
[null,null,"Ajustes períodos anteriores - Remuneración gravada ",0]
[null,null,"Ajustes períodos anteriores - Remuneración no alcanzada o exenta ",0]
[null,null,"TOTAL REMUNERACIÓN GRAVADA",{"$f":"SUM(D21:E27,D44,D47:D53,D70)","v":2404209.67}]
[null,null,"TOTAL REMUNERACIÓN NO ALCANZADA O EXENTA",{"$f":"SUM(D28:D43,D45,D54:D69,D71)","v":88929.65}]
[null,null,"TOTAL REMUNERACIONES",{"$f":"IF(+D72+D73<0,0,D72+D73)","v":2493139.3199999998}]
[]
[null,null,"DEDUCCIONES GENERALES",null,null,null,null,"Topes máximos legales"]
[null,null,"Aportes a fondos de jubilaciones, retiros, pensiones o subsidios que se destinen a cajas nacionales, provinciales o municipales",301292.82,null,{"$f":"validaciones(D77,H77,0)&IF(D77>$D$74,\" El importe no puede ser mayor a la remuneración total\",\"\")","v":""}]
[null,null,"Aportes a fondos de jubilaciones, retiros, pensiones o subsidios que se destinen a cajas nacionales, provinciales o municipales por otros empleos",0,null,{"$f":"validaciones(D78,H78,0)&IF(D78>$D$74,\" El importe no puede ser mayor a la remuneración total\",\"\")","v":""}]
[null,null,"Aportes a obra sociales",64562.75,null,{"$f":"validaciones(D79,H79,0)&IF(D79>$D$74,\" El importe no puede ser mayor a la remuneración total\",\"\")","v":""}]
[null,null,"Aportes a obra sociales por otros empleos",0,null,{"$f":"validaciones(D80,H80,0)&IF(D80>$D$74,\" El importe no puede ser mayor a la remuneración total\",\"\")","v":""}]
[null,null,"Cuota sindical",57568.28,null,{"$f":"validaciones(D81,H81,0)&IF(D81>$D$74,\" El importe no puede ser mayor a la remuneración total\",\"\")","v":""}]
[null,null,"Cuota sindical por otros empleos",0,null,{"$f":"validaciones(D82,H82,0)&IF(D82>$D$74,\" El importe no puede ser mayor a la remuneración total\",\"\")","v":""}]
[null,null,"Cuotas médico asistenciales",0,null,{"$f":"validaciones(D83,H83,0)","v":""},null,{"$f":"(D72-SUM(D77:D82,D84:D89,D91,D93:D94,D95:D103))*0.05","v":99039.290999999997}]
[null,null,"Primas de seguro para el caso de muerte",0,null,{"$f":"validaciones(D84,H84,0)&IF(AND(Datos!$C$11=\"Informativa\",D84<>0),\"En la DDJJ informativa, este campo debe consignarse en cero (0)\",\"\")","v":""},null,{"$f":"+Tablas!B2","v":24000}]
[null,null,"Primas por riesgo de muerte y de ahorro de seguros mixtos, excepto para los casos de seguros de retiro privados administrados por entidades sujetas al control de la Superintendencia de Seguros de la Nación",0,null,{"$f":"validaciones(D85,H85,0)&IF(AND(Datos!$C$11=\"Informativa\",D85<>0),\"En la DDJJ informativa, este campo debe consignarse en cero (0)\",\"\")","v":""},null,{"$f":"+H84","v":24000}]
[null,null,"Aportes a planes de seguro de retiro privados administrados por entidades sujetas al control de la Superintendencia de Seguros de la Nación",0,null,{"$f":"validaciones(D86,H86,0)&IF(AND(Datos!$C$11=\"Informativa\",D86<>0),\"En la DDJJ informativa, este campo debe consignarse en cero (0)\",\"\")","v":""},null,{"$f":"+H85","v":24000}]
[null,null,"Cuotapartes de fondos comunes de inversión constituidos con fines de retiro",0,null,{"$f":"validaciones(D87,H87,0)&IF(D87<>0,\"Deberá consignarse en cero (0), hasta que la Autoridad de Aplicación – CNV – autorice a las Entidades a funcionar e implemente el régimen.\",\"\")","v":""},null,0]
[null,null,"Gastos de sepelio",0,null,{"$f":"validaciones(D88,H88,0)","v":""},null,{"$f":"+Tablas!B6","v":996.23}]
[null,null,"Gastos amortización e intereses rodado para corredores y viajantes de comercio",0,null,{"$f":"validaciones(D89,H89,0)&IF(D89>$D$74,\" El importe no puede ser mayor a la remuneración total\",\"\")","v":""}]
[null,null,"Donaciones a fiscos nacional, provinciales y municipales, y a instituciones comprendidas en el artículo 26, incisos e) y f) de la ley",3600,null,{"$f":"validaciones(D90,H90,0)","v":""},null,{"$f":"(D72-SUM(D77:D82,D84:D89,D91,D93:D94,D95:D103))*0.05","v":99039.290999999997}]
[null,null,"Descuentos obligatorios establecidos por ley nacional, provincial o municipal",0,null,{"$f":"validaciones(D91,H91,0)&IF(D91>$D$74,\" El importe no puede ser mayor a la remuneración total\",\"\")","v":""}]
[null,null,"Honorarios por servicios de asistencia sanitaria, médica y paramédica",0,null,{"$f":"validaciones(D92,H92,0)&IF(AND(Datos!$C$11=\"Informativa\",D92<>0),\"En la DDJJ informativa, este campo debe consignarse en cero (0)\",\"\")","v":""},null,{"$f":"(D72-SUM(D77:D82,D84:D89,D91,D93:D94,D95:D103))*0.05","v":99039.290999999997}]
[null,null,"Intereses de créditos hipotecarios",0,null,{"$f":"validaciones(D93,H93,0)","v":""},null,{"$f":"+Tablas!B3","v":20000}]
[null,null,"Aportes al capital social o al fondo de riesgo de socios protectores de sociedades de garantía recíproca",0,null,{"$f":"validaciones(D94,H94,0)","v":""}]
[null,null,"Alquileres de inmuebles destinados a casa habitación",0,null,{"$f":"validaciones(D95,H95,0)","v":""},null,{"$f":"IF(Datos!C11=\"Final\",ROUND(Tablas!B4/12*12,2),ROUND(Tablas!B4/12*MONTH(Datos!C13),2))","v":167678.39999999999}]
[null,null,"Empleados del servicio doméstico",0,null,{"$f":"validaciones(D96,H96,0)","v":""},null,{"$f":"Tablas!B4","v":167678.39999999999}]
[null,null,"Gastos de movilidad, viáticos y otras compensaciones análogas abonados por el empleador",0,null,{"$f":"validaciones(D97,H97,0)","v":""},null,{"$f":"IF(D13=\"Desarrolla la actividad\",Tablas!B4,Tablas!B4*0.4)","v":67071.360000000001}]
[null,null,"Gastos por adquisición de indumentaria y/o equipamiento de trabajo",0,null,{"$f":"validaciones(D98,H98,0)","v":""}]
[null,null,"Otras deducciones - aportes a Cajas Complementarias de Previsión, Fondos Compensadores de Previsión o similares",0,null,{"$f":"validaciones(D99,H99,0)","v":""}]
[null,null,"Otras deducciones - Aportes para jubilaciones, retiros y subsidios ANSES",0,null,{"$f":"validaciones(D100,H100,0)","v":""}]
[null,null,"Otras deducciones - Cajas Provinciales o Municipales o de Previsión para Profesionales",0,null,{"$f":"validaciones(D101,H101,0)","v":""}]
[null,null,"Otras deducciones - Actores - Retribución pagada a los representantes - RG 2442/08",0,null,{"$f":"validaciones(D102,H102,0)","v":""}]
[null,null,"Otras deducciones - Fondos compensadores de previsión",0,null,{"$f":"validaciones(D103,H103,0)","v":""}]
[null,null,"Otras deducciones",{"$f":"+SUM(D99:E103)","v":0}]
[null,null,"TOTAL DEDUCCIONES GENERALES",{"$f":"SUM(D77:E103)","v":427023.85},null,null,null,null,null,null,{"$f":"+D72-D105","v":1977185.8199999998}]
[]
[null,null,"DEDUCCIONES PERSONALES",null,null,null,null,"Topes máximos legales"]
[null,null,"Ganancia no imponible",167678.39999999999,null,{"$f":"validaciones(D108,H108,0)","v":""},null,{"$f":"deducciones(1,Datos!C11,MONTH(Datos!$C$13),$D$12)","v":167678.39999999999},null,null,{"$f":"IF(K105-K109<=0,0,IF(K105-K109<=H108,K105-K109,H108))","v":167678.39999999999}]
[null,null,"Deducción especial",804856.34,null,{"$f":"validaciones(D109,H109,0)","v":""},null,{"$f":"deducciones(2,Datos!$C$11,MONTH(Datos!$C$13),$D$12)","v":804856.34},null,null,{"$f":"IF(K105<=H109,K105,H109)","v":804856.34}]
[null,null,"Deducción Especial Incrementada Primera parte del penúltimo párrafo del inciso c) del artículo 30 de la ley del gravamen",740867.81]
[null,null,"Deducción Especial Incrementada Segunda parte del penúltimo párrafo del inciso c) del artículo 30 de la ley del gravamen",37495]
[null,null,"Deducción específica",0,null,{"$f":"validaciones(D112,H112,0)","v":""},null,0]
[null,null,"Cargas de familia"]
[null,null,"Cónyuge",0,null,{"$f":"validaciones(D114,H114,0)","v":""},null,{"$f":"cargas_de_familia(4,Datos!$C$11,MONTH(Datos!$C$13),$D$12)","v":156320.63},null,null,{"$f":"IF(K105-K108-K109>=D114,D114,K105-K108-K109)","v":0}]
[null,null,"Cantidad de hijos e hijastros",0,null,{"$f":"validaciones(D115,H115,0)","v":""},null,99]
[null,null,"Deducción total hijos e hijastros",0,null,null,null,{"$f":"cargas_de_familia(3,Datos!$C$11,MONTH(Datos!$C$13),$D$12)*D115","v":0},null,null,{"$f":"IF(K105-K108-K109-K114>=D116,D116,K105-K108-K109-K114)","v":0}]
[null,null,"Cantidad de hijos e hijastros incapacitados para el trabajo",0,null,{"$f":"validaciones(D117,H117,0)","v":""},null,99]
[null,null,"Hijos / Hijastros incapacitados para el trabajo",0,null,null,null,{"$f":"cargas_de_familia(5,Datos!$C$11,MONTH(Datos!$C$13),$D$12)","v":157666.16}]
[null,null,"Total de cargas de familia",{"$f":"+D114+D116+D118","v":0},null,null,null,0]
[null,null,"TOTAL DEDUCCIONES PERSONALES",{"$f":"SUM(D108:D112,D119)","v":1750897.55}]
[]
[null,null,"DETERMINACIÓN DEL IMPUESTO"]
[null,null,"REMUNERACIÓN NETA SUJETA A IMPUESTO -antes de la deducción art. 46 L. 27541-",0]
[null,null,"Deducción inciso a) primer párrafo artículo 30 de la ley (cfr. art. 46 L. 27541)",0,null,null,null,0,null,null,{"$f":"IF(D123-K125<=0,0,IF(D123-K125<=H124,D123-K125,H124))","v":0}]
[null,null,"Deducción inciso c) primer párrafo artículo 30 de la ley (cfr. art. 46 L. 27541)",0,null,null,null,0,null,null,{"$f":"IF(D123<=H125,D123,H125)","v":0}]
[null,null,"REMUNERACIÓN SUJETA A IMPUESTO",{"$f":"IF(+D72-D105-D120<0,0,+D72-D105-D120)","v":226288.26999999979}]
[null,null,"Alícuota aplicable artículo 94 ley de impuesto a las ganancias",{"$f":"IF(OR(Datos!C11=\"Final\",Datos!C11=\"Anual\"),impuestoAlicuota(D126,D25*(1-G25)+D51*(1-G51),12),impuestoAlicuota(D126,D25*(1-G25)+D51*(1-G51),MONTH(D11)))","v":0.15}]
[null,null,"Alícuota aplicable sin incluir horas extras",{"$f":"IF(OR(Datos!C11=\"Final\",Datos!C11=\"Anual\"),impuestoAlicuota(D126,0,12),impuestoAlicuota(D126,0,MONTH(D11)))","v":0.15}]
[null,null,"IMPUESTO DETERMINADO",{"$f":"IF(D126<0,0,IF(OR(Datos!C11=\"Final\",Datos!C11=\"Anual\"),impuestoDeterminado(D126,D25*(1-G25)+D51*(1-G51),12),impuestoDeterminado(D126,D25*(1-G25)+D51*(1-G51),MONTH(D11))))","v":21682.041000000001}]
[null,null,"Impuesto retenido",21682.04]
[null,null,"Pagos a cuenta - Impuesto sobre créditos y débitos",0,null,{"$f":"IF(AND(Datos!$C$11=\"Informativa\",D131<>0),\"En la DDJJ informativa, este campo debe consignarse en cero (0)\",\"\")","v":""}]
[null,null,"Pagos a cuenta - Percepciones / Retenciones aduaneras",0,null,{"$f":"IF(AND(Datos!$C$11=\"Informativa\",D132<>0),\"En la DDJJ informativa, este campo debe consignarse en cero (0)\",\"\")","v":""}]
[null,null,"Pagos a cuenta - RG (AFIP) 3819/2015 - Cancelaciones en efectivo",0,null,{"$f":"IF(AND(Datos!$C$11=\"Informativa\",D133<>0),\"En la DDJJ informativa, este campo debe consignarse en cero (0)\",\"\")","v":""}]
[null,null,"Pagos a cuenta - Bono ley 27.424",0,null,{"$f":"IF(AND(Datos!$C$11=\"Informativa\",D134<>0),\"En la DDJJ informativa, este campo debe consignarse en cero (0)\",\"\")","v":""}]
[null,null,"Pagos a cuenta - RG 4815 [LEY 27.541 Art. 35 inciso a)] ",0,null,{"$f":"IF(AND(Datos!$C$11=\"Informativa\",D135<>0),\"En la DDJJ informativa, este campo debe consignarse en cero (0)\",\"\")","v":""}]
[null,null,"Pagos a cuenta - RG 4815 [LEY 27.541 Art. 35 inciso b)] ",0,null,{"$f":"IF(AND(Datos!$C$11=\"Informativa\",D136<>0),\"En la DDJJ informativa, este campo debe consignarse en cero (0)\",\"\")","v":""}]
[null,null,"Pagos a cuenta - RG 4815 [LEY 27.541 Art. 35 inciso c)] ",0,null,{"$f":"IF(AND(Datos!$C$11=\"Informativa\",D137<>0),\"En la DDJJ informativa, este campo debe consignarse en cero (0)\",\"\")","v":""}]
[null,null,"Pagos a cuenta - RG 4815 [LEY 27.541 Art. 35 inciso d)] ",0,null,{"$f":"IF(AND(Datos!$C$11=\"Informativa\",D138<>0),\"En la DDJJ informativa, este campo debe consignarse en cero (0)\",\"\")","v":""}]
[null,null,"Pagos a cuenta - RG 4815 [LEY 27.541 Art. 35 inciso e)] ",0,null,{"$f":"IF(AND(Datos!$C$11=\"Informativa\",D139<>0),\"En la DDJJ informativa, este campo debe consignarse en cero (0)\",\"\")","v":""}]
[null,null,"Pagos a cuenta - Impuesto sobre créditos y débitos - sobre movimientos de fondos propios o de terceros",0,null,{"$f":"IF(AND(Datos!$C$11=\"Informativa\",D140<>0),\"En la DDJJ informativa, este campo debe consignarse en cero (0)\",\"\")","v":""}]
[null,null,"Pagos a cuenta - Resolución General (AFIP) 3819/2015 - Cancelaciones en Efectivo -Servicios de transporte terrestre, aéreo y por vía acuática de pasajeros con destino fuera del país",0,null,{"$f":"IF(AND(Datos!$C$11=\"Informativa\",D141<>0),\"En la DDJJ informativa, este campo debe consignarse en cero (0)\",\"\")","v":""}]
[null,null,"Total pagos a cuenta",{"$f":"SUM(D131:D141)","v":0}]
[null,null,"SALDO A PAGAR",{"$f":"+ROUND(D129,2)-D130-D142","v":0}]

{"sheet":"Empleado14","index":18,"n_rows":143,"n_cols":11,"rows_kept":143,"cut":false,"hidden":false,"merged":[[10,7,11,9]]}
[]
[]
[null,null,"LIQUIDACIÓN DE IMPUESTO A LAS GANANCIAS - 4ta. CATEGORÍA RELACIÓN DE DEPENDENCIA"]
[]
[]
[null,null,"Empleado: Nombre y apellido ","MUÑOZ SALDIAS CRISTIAN MAURICIO"]
[null,null,"CUIL del empleado",20926235517,null,{"$f":"cuitValidar(D7)","v":"CUIT/CUIL Válido"}]
[null,null,{"$f":"\"Agente de Retención: \"","v":"Agente de Retención: "},{"$f":"Datos!C7&\" - \"&Datos!C5","v":"33711238269 - OPERACIONES AGROPORTUARIAS S.A."}]
[null,null,{"$f":"\"Período Fiscal: \"","v":"Período Fiscal: "},{"$f":"YEAR(Datos!C13)","v":2021}]
[null,null,"Período trabajado (desde):","2021-01-01"]
[null,null,"Período trabajado (hasta):","2021-09-25",null,null,null,{"$f":"IF(MONTH(D11)>MONTH(Datos!C13),\"El período trabajado no puede ser mayor al período que se informa (mes \"&MONTH(Datos!C13)&\")\",\"\")","v":""}]
[null,null,"Zona geográfica:","Todo el país (excepto zona patagónica)"]
[null,null,"Transporte a larga distancia","No desarrolla la actividad"]
[null,null,"Beneficio promocional 27424?","No"]
[null,null,"Beneficio de la ley 27549?","No"]
[null,null,"El trabajador labora bajo el régimen de teletrabajo (Ley 27555)?","No"]
[null,null,"El trabajador es personal militar en actividad?","No"]
[]
[null,null,"REMUNERACIONES"]
[null,null,"Abonadas por el agente de retención:"]
[null,null,"Remuneración bruta gravada",2735949.57]
[null,null,"Retribuciones no habituales gravadas",0]
[null,null,"SAC primera cuota gravado",0]
[null,null,"SAC segunda cuota gravado",0]
[null,null,"Horas extras remuneración gravada",0,null,null,0,"% de retenciones"]
[null,null,"Movilidad y viáticos remuneración gravada",0]
[null,null,"Material didáctico personal docente remuneración gravada",0]
[null,null,"Remuneración no alcanzada o exenta (sin horas extras)",0]
[null,null,"Remuneración exenta ley 27549",0,null,{"$f":"IF(AND($D$15=\"No\",D29<>0),\"Para que sea procedente el beneficio, modifique el valor en la celda D15\",\"\")","v":""}]
[null,null,"Retribuciones no habituales exentas o no alcanzadas",0]
[null,null,"Horas extras remuneración exenta",0]
[null,null,"Movilidad y viáticos remuneración exenta",0]
[null,null,"Material didáctico personal docente remuneración exenta",0]
[null,null,"Bonos de productividad gravados",0]
[null,null,"Fallos de caja gravados",0]
[null,null,"Conceptos de similar naturaleza gravados",0]
[null,null,"Bonos de productividad exentos",0]
[null,null,"Fallos de caja exentos",0]
[null,null,"Conceptos de similar naturaleza exentos",0]
[null,null,"Compensación de gastos de teletrabajo exentos",0]
[null,null,"Personal militar - suplementos art. 57 ley 19.101 - exentos",0]
[null,null,"SAC primera cuota - No alcanzado o exento",0]
[null,null,"SAC segunda cuota - No alcanzado o exento",0]
[null,null,"Ajustes períodos anteriores - Remuneración gravada",0]
[null,null,"Ajustes períodos anteriores - Remuneración exenta / no alcanzada",0]
[null,null,"Otros empleos:"]
[null,null,"Remuneración bruta gravada ",0]
[null,null,"Retribuciones no habituales gravadas ",0]
[null,null,"SAC primera cuota gravado ",0]
[null,null,"SAC segunda cuota gravado ",0]
[null,null,"Horas extras remuneración gravada ",0,null,null,0,"% de retenciones"]
[null,null,"Movilidad y viáticos remuneración gravada ",0]
[null,null,"Material didáctico personal docente remuneración gravada ",0]
[null,null,"Remuneración no alcanzada o exenta ",0]
[null,null,"Remuneración exenta ley 27549 ",0,null,{"$f":"IF(AND($D$15=\"No\",D55<>0),\"Para que sea procedente el beneficio, modifique el valor en la celda D15\",\"\")","v":""}]
[null,null,"Retribuciones no habituales exentas o no alcanzadas ",0]
[null,null,"Horas extras remuneración exenta o no alcanzada ",0]
[null,null,"Movilidad y viáticos remuneración exenta o no alcanzada ",0]
[null,null,"Material didáctico personal docente remuneración exenta o no alcanzada ",0]
[null,null,"Bonos de productividad gravados ",0]
[null,null,"Fallos de caja gravados ",0]
[null,null,"Conceptos de similar naturaleza gravados ",0]
[null,null,"Bonos de productividad exentos ",0]
[null,null,"Fallos de caja exentos ",0]
[null,null,"Conceptos de similar naturaleza exentos ",0]
[null,null,"Compensación de gastos teletrabajo - exentos ",0]
[null,null,"Personal militar - suplementos art. 57 Ley 19101 - exentos ",0]
[null,null,"SAC primera cuota - No alcanzado o exento ",0]
[null,null,"SAC segunda cuota - No alcanzado o exento ",0]
[null,null,"Ajustes períodos anteriores - Remuneración gravada ",0]
[null,null,"Ajustes períodos anteriores - Remuneración no alcanzada o exenta ",0]
[null,null,"TOTAL REMUNERACIÓN GRAVADA",{"$f":"SUM(D21:E27,D44,D47:D53,D70)","v":2735949.57}]
[null,null,"TOTAL REMUNERACIÓN NO ALCANZADA O EXENTA",{"$f":"SUM(D28:D43,D45,D54:D69,D71)","v":0}]
[null,null,"TOTAL REMUNERACIONES",{"$f":"IF(+D72+D73<0,0,D72+D73)","v":2735949.57}]
[]
[null,null,"DEDUCCIONES GENERALES",null,null,null,null,"Topes máximos legales"]
[null,null,"Aportes a fondos de jubilaciones, retiros, pensiones o subsidios que se destinen a cajas nacionales, provinciales o municipales",335077.01,null,{"$f":"validaciones(D77,H77,0)&IF(D77>$D$74,\" El importe no puede ser mayor a la remuneración total\",\"\")","v":""}]
[null,null,"Aportes a fondos de jubilaciones, retiros, pensiones o subsidios que se destinen a cajas nacionales, provinciales o municipales por otros empleos",0,null,{"$f":"validaciones(D78,H78,0)&IF(D78>$D$74,\" El importe no puede ser mayor a la remuneración total\",\"\")","v":""}]
[null,null,"Aportes a obra sociales",71802.22,null,{"$f":"validaciones(D79,H79,0)&IF(D79>$D$74,\" El importe no puede ser mayor a la remuneración total\",\"\")","v":""}]
[null,null,"Aportes a obra sociales por otros empleos",0,null,{"$f":"validaciones(D80,H80,0)&IF(D80>$D$74,\" El importe no puede ser mayor a la remuneración total\",\"\")","v":""}]
[null,null,"Cuota sindical",80154.89,null,{"$f":"validaciones(D81,H81,0)&IF(D81>$D$74,\" El importe no puede ser mayor a la remuneración total\",\"\")","v":""}]
[null,null,"Cuota sindical por otros empleos",0,null,{"$f":"validaciones(D82,H82,0)&IF(D82>$D$74,\" El importe no puede ser mayor a la remuneración total\",\"\")","v":""}]
[null,null,"Cuotas médico asistenciales",0,null,{"$f":"validaciones(D83,H83,0)","v":""},null,{"$f":"(D72-SUM(D77:D82,D84:D89,D91,D93:D94,D95:D103))*0.05","v":112445.77249999999}]
[null,null,"Primas de seguro para el caso de muerte",0,null,{"$f":"validaciones(D84,H84,0)&IF(AND(Datos!$C$11=\"Informativa\",D84<>0),\"En la DDJJ informativa, este campo debe consignarse en cero (0)\",\"\")","v":""},null,{"$f":"+Tablas!B2","v":24000}]
[null,null,"Primas por riesgo de muerte y de ahorro de seguros mixtos, excepto para los casos de seguros de retiro privados administrados por entidades sujetas al control de la Superintendencia de Seguros de la Nación",0,null,{"$f":"validaciones(D85,H85,0)&IF(AND(Datos!$C$11=\"Informativa\",D85<>0),\"En la DDJJ informativa, este campo debe consignarse en cero (0)\",\"\")","v":""},null,{"$f":"+H84","v":24000}]
[null,null,"Aportes a planes de seguro de retiro privados administrados por entidades sujetas al control de la Superintendencia de Seguros de la Nación",0,null,{"$f":"validaciones(D86,H86,0)&IF(AND(Datos!$C$11=\"Informativa\",D86<>0),\"En la DDJJ informativa, este campo debe consignarse en cero (0)\",\"\")","v":""},null,{"$f":"+H85","v":24000}]
[null,null,"Cuotapartes de fondos comunes de inversión constituidos con fines de retiro",0,null,{"$f":"validaciones(D87,H87,0)&IF(D87<>0,\"Deberá consignarse en cero (0), hasta que la Autoridad de Aplicación – CNV – autorice a las Entidades a funcionar e implemente el régimen.\",\"\")","v":""},null,0]
[null,null,"Gastos de sepelio",0,null,{"$f":"validaciones(D88,H88,0)","v":""},null,{"$f":"+Tablas!B6","v":996.23}]
[null,null,"Gastos amortización e intereses rodado para corredores y viajantes de comercio",0,null,{"$f":"validaciones(D89,H89,0)&IF(D89>$D$74,\" El importe no puede ser mayor a la remuneración total\",\"\")","v":""}]
[null,null,"Donaciones a fiscos nacional, provinciales y municipales, y a instituciones comprendidas en el artículo 26, incisos e) y f) de la ley",0,null,{"$f":"validaciones(D90,H90,0)","v":""},null,{"$f":"(D72-SUM(D77:D82,D84:D89,D91,D93:D94,D95:D103))*0.05","v":112445.77249999999}]
[null,null,"Descuentos obligatorios establecidos por ley nacional, provincial o municipal",0,null,{"$f":"validaciones(D91,H91,0)&IF(D91>$D$74,\" El importe no puede ser mayor a la remuneración total\",\"\")","v":""}]
[null,null,"Honorarios por servicios de asistencia sanitaria, médica y paramédica",0,null,{"$f":"validaciones(D92,H92,0)&IF(AND(Datos!$C$11=\"Informativa\",D92<>0),\"En la DDJJ informativa, este campo debe consignarse en cero (0)\",\"\")","v":""},null,{"$f":"(D72-SUM(D77:D82,D84:D89,D91,D93:D94,D95:D103))*0.05","v":112445.77249999999}]
[null,null,"Intereses de créditos hipotecarios",0,null,{"$f":"validaciones(D93,H93,0)","v":""},null,{"$f":"+Tablas!B3","v":20000}]
[null,null,"Aportes al capital social o al fondo de riesgo de socios protectores de sociedades de garantía recíproca",0,null,{"$f":"validaciones(D94,H94,0)","v":""}]
[null,null,"Alquileres de inmuebles destinados a casa habitación",0,null,{"$f":"validaciones(D95,H95,0)","v":""},null,{"$f":"IF(Datos!C11=\"Final\",ROUND(Tablas!B4/12*12,2),ROUND(Tablas!B4/12*MONTH(Datos!C13),2))","v":167678.39999999999}]
[null,null,"Empleados del servicio doméstico",0,null,{"$f":"validaciones(D96,H96,0)","v":""},null,{"$f":"Tablas!B4","v":167678.39999999999}]
[null,null,"Gastos de movilidad, viáticos y otras compensaciones análogas abonados por el empleador",0,null,{"$f":"validaciones(D97,H97,0)","v":""},null,{"$f":"IF(D13=\"Desarrolla la actividad\",Tablas!B4,Tablas!B4*0.4)","v":67071.360000000001}]
[null,null,"Gastos por adquisición de indumentaria y/o equipamiento de trabajo",0,null,{"$f":"validaciones(D98,H98,0)","v":""}]
[null,null,"Otras deducciones - aportes a Cajas Complementarias de Previsión, Fondos Compensadores de Previsión o similares",0,null,{"$f":"validaciones(D99,H99,0)","v":""}]
[null,null,"Otras deducciones - Aportes para jubilaciones, retiros y subsidios ANSES",0,null,{"$f":"validaciones(D100,H100,0)","v":""}]
[null,null,"Otras deducciones - Cajas Provinciales o Municipales o de Previsión para Profesionales",0,null,{"$f":"validaciones(D101,H101,0)","v":""}]
[null,null,"Otras deducciones - Actores - Retribución pagada a los representantes - RG 2442/08",0,null,{"$f":"validaciones(D102,H102,0)","v":""}]
[null,null,"Otras deducciones - Fondos compensadores de previsión",0,null,{"$f":"validaciones(D103,H103,0)","v":""}]
[null,null,"Otras deducciones",{"$f":"+SUM(D99:E103)","v":0}]
[null,null,"TOTAL DEDUCCIONES GENERALES",{"$f":"SUM(D77:E103)","v":487034.12},null,null,null,null,null,null,{"$f":"+D72-D105","v":2248915.4499999997}]
[]
[null,null,"DEDUCCIONES PERSONALES",null,null,null,null,"Topes máximos legales"]
[null,null,"Ganancia no imponible",167678.39999999999,null,{"$f":"validaciones(D108,H108,0)","v":""},null,{"$f":"deducciones(1,Datos!C11,MONTH(Datos!$C$13),$D$12)","v":167678.39999999999},null,null,{"$f":"IF(K105-K109<=0,0,IF(K105-K109<=H108,K105-K109,H108))","v":167678.39999999999}]
[null,null,"Deducción especial",804856.34,null,{"$f":"validaciones(D109,H109,0)","v":""},null,{"$f":"deducciones(2,Datos!$C$11,MONTH(Datos!$C$13),$D$12)","v":804856.34},null,null,{"$f":"IF(K105<=H109,K105,H109)","v":804856.34}]
[null,null,"Deducción Especial Incrementada Primera parte del penúltimo párrafo del inciso c) del artículo 30 de la ley del gravamen",0]
[null,null,"Deducción Especial Incrementada Segunda parte del penúltimo párrafo del inciso c) del artículo 30 de la ley del gravamen",0]
[null,null,"Deducción específica",0,null,{"$f":"validaciones(D112,H112,0)","v":""},null,0]
[null,null,"Cargas de familia"]
[null,null,"Cónyuge",156320.63,null,{"$f":"validaciones(D114,H114,0)","v":""},null,{"$f":"cargas_de_familia(4,Datos!$C$11,MONTH(Datos!$C$13),$D$12)","v":156320.63},null,null,{"$f":"IF(K105-K108-K109>=D114,D114,K105-K108-K109)","v":156320.63}]
[null,null,"Cantidad de hijos e hijastros",0,null,{"$f":"validaciones(D115,H115,0)","v":""},null,99]
[null,null,"Deducción total hijos e hijastros",0,null,null,null,{"$f":"cargas_de_familia(3,Datos!$C$11,MONTH(Datos!$C$13),$D$12)*D115","v":0},null,null,{"$f":"IF(K105-K108-K109-K114>=D116,D116,K105-K108-K109-K114)","v":0}]
[null,null,"Cantidad de hijos e hijastros incapacitados para el trabajo",0,null,{"$f":"validaciones(D117,H117,0)","v":""},null,99]
[null,null,"Hijos / Hijastros incapacitados para el trabajo",0,null,null,null,{"$f":"cargas_de_familia(5,Datos!$C$11,MONTH(Datos!$C$13),$D$12)","v":157666.16}]
[null,null,"Total de cargas de familia",{"$f":"+D114+D116+D118","v":156320.63},null,null,null,0]
[null,null,"TOTAL DEDUCCIONES PERSONALES",{"$f":"SUM(D108:D112,D119)","v":1128855.3700000001}]
[]
[null,null,"DETERMINACIÓN DEL IMPUESTO"]
[null,null,"REMUNERACIÓN NETA SUJETA A IMPUESTO -antes de la deducción art. 46 L. 27541-",0]
[null,null,"Deducción inciso a) primer párrafo artículo 30 de la ley (cfr. art. 46 L. 27541)",0,null,null,null,0,null,null,{"$f":"IF(D123-K125<=0,0,IF(D123-K125<=H124,D123-K125,H124))","v":0}]
[null,null,"Deducción inciso c) primer párrafo artículo 30 de la ley (cfr. art. 46 L. 27541)",0,null,null,null,0,null,null,{"$f":"IF(D123<=H125,D123,H125)","v":0}]
[null,null,"REMUNERACIÓN SUJETA A IMPUESTO",{"$f":"IF(+D72-D105-D120<0,0,+D72-D105-D120)","v":1120060.0799999996}]
[null,null,"Alícuota aplicable artículo 94 ley de impuesto a las ganancias",{"$f":"IF(OR(Datos!C11=\"Final\",Datos!C11=\"Anual\"),impuestoAlicuota(D126,D25*(1-G25)+D51*(1-G51),12),impuestoAlicuota(D126,D25*(1-G25)+D51*(1-G51),MONTH(D11)))","v":0.35}]
[null,null,"Alícuota aplicable sin incluir horas extras",{"$f":"IF(OR(Datos!C11=\"Final\",Datos!C11=\"Anual\"),impuestoAlicuota(D126,0,12),impuestoAlicuota(D126,0,MONTH(D11)))","v":0.35}]
[null,null,"IMPUESTO DETERMINADO",{"$f":"IF(D126<0,0,IF(OR(Datos!C11=\"Final\",Datos!C11=\"Anual\"),impuestoDeterminado(D126,D25*(1-G25)+D51*(1-G51),12),impuestoDeterminado(D126,D25*(1-G25)+D51*(1-G51),MONTH(D11))))","v":261019.76300000001}]
[null,null,"Impuesto retenido",235441.76]
[null,null,"Pagos a cuenta - Impuesto sobre créditos y débitos",0,null,{"$f":"IF(AND(Datos!$C$11=\"Informativa\",D131<>0),\"En la DDJJ informativa, este campo debe consignarse en cero (0)\",\"\")","v":""}]
[null,null,"Pagos a cuenta - Percepciones / Retenciones aduaneras",0,null,{"$f":"IF(AND(Datos!$C$11=\"Informativa\",D132<>0),\"En la DDJJ informativa, este campo debe consignarse en cero (0)\",\"\")","v":""}]
[null,null,"Pagos a cuenta - RG (AFIP) 3819/2015 - Cancelaciones en efectivo",0,null,{"$f":"IF(AND(Datos!$C$11=\"Informativa\",D133<>0),\"En la DDJJ informativa, este campo debe consignarse en cero (0)\",\"\")","v":""}]
[null,null,"Pagos a cuenta - Bono ley 27.424",0,null,{"$f":"IF(AND(Datos!$C$11=\"Informativa\",D134<>0),\"En la DDJJ informativa, este campo debe consignarse en cero (0)\",\"\")","v":""}]
[null,null,"Pagos a cuenta - RG 4815 [LEY 27.541 Art. 35 inciso a)] ",25578,null,{"$f":"IF(AND(Datos!$C$11=\"Informativa\",D135<>0),\"En la DDJJ informativa, este campo debe consignarse en cero (0)\",\"\")","v":""}]
[null,null,"Pagos a cuenta - RG 4815 [LEY 27.541 Art. 35 inciso b)] ",0,null,{"$f":"IF(AND(Datos!$C$11=\"Informativa\",D136<>0),\"En la DDJJ informativa, este campo debe consignarse en cero (0)\",\"\")","v":""}]
[null,null,"Pagos a cuenta - RG 4815 [LEY 27.541 Art. 35 inciso c)] ",0,null,{"$f":"IF(AND(Datos!$C$11=\"Informativa\",D137<>0),\"En la DDJJ informativa, este campo debe consignarse en cero (0)\",\"\")","v":""}]
[null,null,"Pagos a cuenta - RG 4815 [LEY 27.541 Art. 35 inciso d)] ",0,null,{"$f":"IF(AND(Datos!$C$11=\"Informativa\",D138<>0),\"En la DDJJ informativa, este campo debe consignarse en cero (0)\",\"\")","v":""}]
[null,null,"Pagos a cuenta - RG 4815 [LEY 27.541 Art. 35 inciso e)] ",0,null,{"$f":"IF(AND(Datos!$C$11=\"Informativa\",D139<>0),\"En la DDJJ informativa, este campo debe consignarse en cero (0)\",\"\")","v":""}]
[null,null,"Pagos a cuenta - Impuesto sobre créditos y débitos - sobre movimientos de fondos propios o de terceros",0,null,{"$f":"IF(AND(Datos!$C$11=\"Informativa\",D140<>0),\"En la DDJJ informativa, este campo debe consignarse en cero (0)\",\"\")","v":""}]
[null,null,"Pagos a cuenta - Resolución General (AFIP) 3819/2015 - Cancelaciones en Efectivo -Servicios de transporte terrestre, aéreo y por vía acuática de pasajeros con destino fuera del país",0,null,{"$f":"IF(AND(Datos!$C$11=\"Informativa\",D141<>0),\"En la DDJJ informativa, este campo debe consignarse en cero (0)\",\"\")","v":""}]
[null,null,"Total pagos a cuenta",{"$f":"SUM(D131:D141)","v":25578}]
[null,null,"SALDO A PAGAR",{"$f":"+ROUND(D129,2)-D130-D142","v":0}]

{"sheet":"Empleado15","index":19,"n_rows":143,"n_cols":11,"rows_kept":143,"cut":false,"hidden":false,"merged":[[10,7,11,9]]}
[]
[]
[null,null,"LIQUIDACIÓN DE IMPUESTO A LAS GANANCIAS - 4ta. CATEGORÍA RELACIÓN DE DEPENDENCIA"]
[]
[]
[null,null,"Empleado: Nombre y apellido ","CORREA DIEGO DANIEL"]
[null,null,"CUIL del empleado",20253172615,null,{"$f":"cuitValidar(D7)","v":"CUIT/CUIL Válido"}]
[null,null,{"$f":"\"Agente de Retención: \"","v":"Agente de Retención: "},{"$f":"Datos!C7&\" - \"&Datos!C5","v":"33711238269 - OPERACIONES AGROPORTUARIAS S.A."}]
[null,null,{"$f":"\"Período Fiscal: \"","v":"Período Fiscal: "},{"$f":"YEAR(Datos!C13)","v":2021}]
[null,null,"Período trabajado (desde):","2021-01-01"]
[null,null,"Período trabajado (hasta):","2021-09-25",null,null,null,{"$f":"IF(MONTH(D11)>MONTH(Datos!C13),\"El período trabajado no puede ser mayor al período que se informa (mes \"&MONTH(Datos!C13)&\")\",\"\")","v":""}]
[null,null,"Zona geográfica:","Todo el país (excepto zona patagónica)"]
[null,null,"Transporte a larga distancia","No desarrolla la actividad"]
[null,null,"Beneficio promocional 27424?","No"]
[null,null,"Beneficio de la ley 27549?","No"]
[null,null,"El trabajador labora bajo el régimen de teletrabajo (Ley 27555)?","No"]
[null,null,"El trabajador es personal militar en actividad?","No"]
[]
[null,null,"REMUNERACIONES"]
[null,null,"Abonadas por el agente de retención:"]
[null,null,"Remuneración bruta gravada",2085030.49]
[null,null,"Retribuciones no habituales gravadas",0]
[null,null,"SAC primera cuota gravado",0]
[null,null,"SAC segunda cuota gravado",0]
[null,null,"Horas extras remuneración gravada",0,null,null,0,"% de retenciones"]
[null,null,"Movilidad y viáticos remuneración gravada",0]
[null,null,"Material didáctico personal docente remuneración gravada",0]
[null,null,"Remuneración no alcanzada o exenta (sin horas extras)",0]
[null,null,"Remuneración exenta ley 27549",0,null,{"$f":"IF(AND($D$15=\"No\",D29<>0),\"Para que sea procedente el beneficio, modifique el valor en la celda D15\",\"\")","v":""}]
[null,null,"Retribuciones no habituales exentas o no alcanzadas",0]
[null,null,"Horas extras remuneración exenta",0]
[null,null,"Movilidad y viáticos remuneración exenta",0]
[null,null,"Material didáctico personal docente remuneración exenta",0]
[null,null,"Bonos de productividad gravados",0]
[null,null,"Fallos de caja gravados",0]
[null,null,"Conceptos de similar naturaleza gravados",0]
[null,null,"Bonos de productividad exentos",0]
[null,null,"Fallos de caja exentos",0]
[null,null,"Conceptos de similar naturaleza exentos",0]
[null,null,"Compensación de gastos de teletrabajo exentos",0]
[null,null,"Personal militar - suplementos art. 57 ley 19.101 - exentos",0]
[null,null,"SAC primera cuota - No alcanzado o exento",0]
[null,null,"SAC segunda cuota - No alcanzado o exento",0]
[null,null,"Ajustes períodos anteriores - Remuneración gravada",0]
[null,null,"Ajustes períodos anteriores - Remuneración exenta / no alcanzada",0]
[null,null,"Otros empleos:"]
[null,null,"Remuneración bruta gravada ",0]
[null,null,"Retribuciones no habituales gravadas ",0]
[null,null,"SAC primera cuota gravado ",0]
[null,null,"SAC segunda cuota gravado ",0]
[null,null,"Horas extras remuneración gravada ",0,null,null,0,"% de retenciones"]
[null,null,"Movilidad y viáticos remuneración gravada ",0]
[null,null,"Material didáctico personal docente remuneración gravada ",0]
[null,null,"Remuneración no alcanzada o exenta ",0]
[null,null,"Remuneración exenta ley 27549 ",0,null,{"$f":"IF(AND($D$15=\"No\",D55<>0),\"Para que sea procedente el beneficio, modifique el valor en la celda D15\",\"\")","v":""}]
[null,null,"Retribuciones no habituales exentas o no alcanzadas ",0]
[null,null,"Horas extras remuneración exenta o no alcanzada ",0]
[null,null,"Movilidad y viáticos remuneración exenta o no alcanzada ",0]
[null,null,"Material didáctico personal docente remuneración exenta o no alcanzada ",0]
[null,null,"Bonos de productividad gravados ",0]
[null,null,"Fallos de caja gravados ",0]
[null,null,"Conceptos de similar naturaleza gravados ",0]
[null,null,"Bonos de productividad exentos ",0]
[null,null,"Fallos de caja exentos ",0]
[null,null,"Conceptos de similar naturaleza exentos ",0]
[null,null,"Compensación de gastos teletrabajo - exentos ",0]
[null,null,"Personal militar - suplementos art. 57 Ley 19101 - exentos ",0]
[null,null,"SAC primera cuota - No alcanzado o exento ",0]
[null,null,"SAC segunda cuota - No alcanzado o exento ",0]
[null,null,"Ajustes períodos anteriores - Remuneración gravada ",0]
[null,null,"Ajustes períodos anteriores - Remuneración no alcanzada o exenta ",0]
[null,null,"TOTAL REMUNERACIÓN GRAVADA",{"$f":"SUM(D21:E27,D44,D47:D53,D70)","v":2085030.49}]
[null,null,"TOTAL REMUNERACIÓN NO ALCANZADA O EXENTA",{"$f":"SUM(D28:D43,D45,D54:D69,D71)","v":0}]
[null,null,"TOTAL REMUNERACIONES",{"$f":"IF(+D72+D73<0,0,D72+D73)","v":2085030.49}]
[]
[null,null,"DEDUCCIONES GENERALES",null,null,null,null,"Topes máximos legales"]
[null,null,"Aportes a fondos de jubilaciones, retiros, pensiones o subsidios que se destinen a cajas nacionales, provinciales o municipales",255022.39,null,{"$f":"validaciones(D77,H77,0)&IF(D77>$D$74,\" El importe no puede ser mayor a la remuneración total\",\"\")","v":""}]
[null,null,"Aportes a fondos de jubilaciones, retiros, pensiones o subsidios que se destinen a cajas nacionales, provinciales o municipales por otros empleos",0,null,{"$f":"validaciones(D78,H78,0)&IF(D78>$D$74,\" El importe no puede ser mayor a la remuneración total\",\"\")","v":""}]
[null,null,"Aportes a obra sociales",54647.66,null,{"$f":"validaciones(D79,H79,0)&IF(D79>$D$74,\" El importe no puede ser mayor a la remuneración total\",\"\")","v":""}]
[null,null,"Aportes a obra sociales por otros empleos",0,null,{"$f":"validaciones(D80,H80,0)&IF(D80>$D$74,\" El importe no puede ser mayor a la remuneración total\",\"\")","v":""}]
[null,null,"Cuota sindical",40418.21,null,{"$f":"validaciones(D81,H81,0)&IF(D81>$D$74,\" El importe no puede ser mayor a la remuneración total\",\"\")","v":""}]
[null,null,"Cuota sindical por otros empleos",0,null,{"$f":"validaciones(D82,H82,0)&IF(D82>$D$74,\" El importe no puede ser mayor a la remuneración total\",\"\")","v":""}]
[null,null,"Cuotas médico asistenciales",0,null,{"$f":"validaciones(D83,H83,0)","v":""},null,{"$f":"(D72-SUM(D77:D82,D84:D89,D91,D93:D94,D95:D103))*0.05","v":86747.111499999999}]
[null,null,"Primas de seguro para el caso de muerte",0,null,{"$f":"validaciones(D84,H84,0)&IF(AND(Datos!$C$11=\"Informativa\",D84<>0),\"En la DDJJ informativa, este campo debe consignarse en cero (0)\",\"\")","v":""},null,{"$f":"+Tablas!B2","v":24000}]
[null,null,"Primas por riesgo de muerte y de ahorro de seguros mixtos, excepto para los casos de seguros de retiro privados administrados por entidades sujetas al control de la Superintendencia de Seguros de la Nación",0,null,{"$f":"validaciones(D85,H85,0)&IF(AND(Datos!$C$11=\"Informativa\",D85<>0),\"En la DDJJ informativa, este campo debe consignarse en cero (0)\",\"\")","v":""},null,{"$f":"+H84","v":24000}]
[null,null,"Aportes a planes de seguro de retiro privados administrados por entidades sujetas al control de la Superintendencia de Seguros de la Nación",0,null,{"$f":"validaciones(D86,H86,0)&IF(AND(Datos!$C$11=\"Informativa\",D86<>0),\"En la DDJJ informativa, este campo debe consignarse en cero (0)\",\"\")","v":""},null,{"$f":"+H85","v":24000}]
[null,null,"Cuotapartes de fondos comunes de inversión constituidos con fines de retiro",0,null,{"$f":"validaciones(D87,H87,0)&IF(D87<>0,\"Deberá consignarse en cero (0), hasta que la Autoridad de Aplicación – CNV – autorice a las Entidades a funcionar e implemente el régimen.\",\"\")","v":""},null,0]
[null,null,"Gastos de sepelio",0,null,{"$f":"validaciones(D88,H88,0)","v":""},null,{"$f":"+Tablas!B6","v":996.23}]
[null,null,"Gastos amortización e intereses rodado para corredores y viajantes de comercio",0,null,{"$f":"validaciones(D89,H89,0)&IF(D89>$D$74,\" El importe no puede ser mayor a la remuneración total\",\"\")","v":""}]
[null,null,"Donaciones a fiscos nacional, provinciales y municipales, y a instituciones comprendidas en el artículo 26, incisos e) y f) de la ley",0,null,{"$f":"validaciones(D90,H90,0)","v":""},null,{"$f":"(D72-SUM(D77:D82,D84:D89,D91,D93:D94,D95:D103))*0.05","v":86747.111499999999}]
[null,null,"Descuentos obligatorios establecidos por ley nacional, provincial o municipal",0,null,{"$f":"validaciones(D91,H91,0)&IF(D91>$D$74,\" El importe no puede ser mayor a la remuneración total\",\"\")","v":""}]
[null,null,"Honorarios por servicios de asistencia sanitaria, médica y paramédica",0,null,{"$f":"validaciones(D92,H92,0)&IF(AND(Datos!$C$11=\"Informativa\",D92<>0),\"En la DDJJ informativa, este campo debe consignarse en cero (0)\",\"\")","v":""},null,{"$f":"(D72-SUM(D77:D82,D84:D89,D91,D93:D94,D95:D103))*0.05","v":86747.111499999999}]
[null,null,"Intereses de créditos hipotecarios",0,null,{"$f":"validaciones(D93,H93,0)","v":""},null,{"$f":"+Tablas!B3","v":20000}]
[null,null,"Aportes al capital social o al fondo de riesgo de socios protectores de sociedades de garantía recíproca",0,null,{"$f":"validaciones(D94,H94,0)","v":""}]
[null,null,"Alquileres de inmuebles destinados a casa habitación",0,null,{"$f":"validaciones(D95,H95,0)","v":""},null,{"$f":"IF(Datos!C11=\"Final\",ROUND(Tablas!B4/12*12,2),ROUND(Tablas!B4/12*MONTH(Datos!C13),2))","v":167678.39999999999}]
[null,null,"Empleados del servicio doméstico",0,null,{"$f":"validaciones(D96,H96,0)","v":""},null,{"$f":"Tablas!B4","v":167678.39999999999}]
[null,null,"Gastos de movilidad, viáticos y otras compensaciones análogas abonados por el empleador",0,null,{"$f":"validaciones(D97,H97,0)","v":""},null,{"$f":"IF(D13=\"Desarrolla la actividad\",Tablas!B4,Tablas!B4*0.4)","v":67071.360000000001}]
[null,null,"Gastos por adquisición de indumentaria y/o equipamiento de trabajo",0,null,{"$f":"validaciones(D98,H98,0)","v":""}]
[null,null,"Otras deducciones - aportes a Cajas Complementarias de Previsión, Fondos Compensadores de Previsión o similares",0,null,{"$f":"validaciones(D99,H99,0)","v":""}]
[null,null,"Otras deducciones - Aportes para jubilaciones, retiros y subsidios ANSES",0,null,{"$f":"validaciones(D100,H100,0)","v":""}]
[null,null,"Otras deducciones - Cajas Provinciales o Municipales o de Previsión para Profesionales",0,null,{"$f":"validaciones(D101,H101,0)","v":""}]
[null,null,"Otras deducciones - Actores - Retribución pagada a los representantes - RG 2442/08",0,null,{"$f":"validaciones(D102,H102,0)","v":""}]
[null,null,"Otras deducciones - Fondos compensadores de previsión",0,null,{"$f":"validaciones(D103,H103,0)","v":""}]
[null,null,"Otras deducciones",{"$f":"+SUM(D99:E103)","v":0}]
[null,null,"TOTAL DEDUCCIONES GENERALES",{"$f":"SUM(D77:E103)","v":350088.26000000007},null,null,null,null,null,null,{"$f":"+D72-D105","v":1734942.23}]
[]
[null,null,"DEDUCCIONES PERSONALES",null,null,null,null,"Topes máximos legales"]
[null,null,"Ganancia no imponible",167678.39999999999,null,{"$f":"validaciones(D108,H108,0)","v":""},null,{"$f":"deducciones(1,Datos!C11,MONTH(Datos!$C$13),$D$12)","v":167678.39999999999},null,null,{"$f":"IF(K105-K109<=0,0,IF(K105-K109<=H108,K105-K109,H108))","v":167678.39999999999}]
[null,null,"Deducción especial",804856.34,null,{"$f":"validaciones(D109,H109,0)","v":""},null,{"$f":"deducciones(2,Datos!$C$11,MONTH(Datos!$C$13),$D$12)","v":804856.34},null,null,{"$f":"IF(K105<=H109,K105,H109)","v":804856.34}]
[null,null,"Deducción Especial Incrementada Primera parte del penúltimo párrafo del inciso c) del artículo 30 de la ley del gravamen",702678.83]
[null,null,"Deducción Especial Incrementada Segunda parte del penúltimo párrafo del inciso c) del artículo 30 de la ley del gravamen",127960]
[null,null,"Deducción específica",0,null,{"$f":"validaciones(D112,H112,0)","v":""},null,0]
[null,null,"Cargas de familia"]
[null,null,"Cónyuge",0,null,{"$f":"validaciones(D114,H114,0)","v":""},null,{"$f":"cargas_de_familia(4,Datos!$C$11,MONTH(Datos!$C$13),$D$12)","v":156320.63},null,null,{"$f":"IF(K105-K108-K109>=D114,D114,K105-K108-K109)","v":0}]
[null,null,"Cantidad de hijos e hijastros",0,null,{"$f":"validaciones(D115,H115,0)","v":""},null,99]
[null,null,"Deducción total hijos e hijastros",0,null,null,null,{"$f":"cargas_de_familia(3,Datos!$C$11,MONTH(Datos!$C$13),$D$12)*D115","v":0},null,null,{"$f":"IF(K105-K108-K109-K114>=D116,D116,K105-K108-K109-K114)","v":0}]
[null,null,"Cantidad de hijos e hijastros incapacitados para el trabajo",0,null,{"$f":"validaciones(D117,H117,0)","v":""},null,99]
[null,null,"Hijos / Hijastros incapacitados para el trabajo",0,null,null,null,{"$f":"cargas_de_familia(5,Datos!$C$11,MONTH(Datos!$C$13),$D$12)","v":157666.16}]
[null,null,"Total de cargas de familia",{"$f":"+D114+D116+D118","v":0},null,null,null,0]
[null,null,"TOTAL DEDUCCIONES PERSONALES",{"$f":"SUM(D108:D112,D119)","v":1803173.5699999998}]
[]
[null,null,"DETERMINACIÓN DEL IMPUESTO"]
[null,null,"REMUNERACIÓN NETA SUJETA A IMPUESTO -antes de la deducción art. 46 L. 27541-",0]
[null,null,"Deducción inciso a) primer párrafo artículo 30 de la ley (cfr. art. 46 L. 27541)",0,null,null,null,0,null,null,{"$f":"IF(D123-K125<=0,0,IF(D123-K125<=H124,D123-K125,H124))","v":0}]
[null,null,"Deducción inciso c) primer párrafo artículo 30 de la ley (cfr. art. 46 L. 27541)",0,null,null,null,0,null,null,{"$f":"IF(D123<=H125,D123,H125)","v":0}]
[null,null,"REMUNERACIÓN SUJETA A IMPUESTO",{"$f":"IF(+D72-D105-D120<0,0,+D72-D105-D120)","v":0}]
[null,null,"Alícuota aplicable artículo 94 ley de impuesto a las ganancias",{"$f":"IF(OR(Datos!C11=\"Final\",Datos!C11=\"Anual\"),impuestoAlicuota(D126,D25*(1-G25)+D51*(1-G51),12),impuestoAlicuota(D126,D25*(1-G25)+D51*(1-G51),MONTH(D11)))","v":0}]
[null,null,"Alícuota aplicable sin incluir horas extras",{"$f":"IF(OR(Datos!C11=\"Final\",Datos!C11=\"Anual\"),impuestoAlicuota(D126,0,12),impuestoAlicuota(D126,0,MONTH(D11)))","v":0}]
[null,null,"IMPUESTO DETERMINADO",{"$f":"IF(D126<0,0,IF(OR(Datos!C11=\"Final\",Datos!C11=\"Anual\"),impuestoDeterminado(D126,D25*(1-G25)+D51*(1-G51),12),impuestoDeterminado(D126,D25*(1-G25)+D51*(1-G51),MONTH(D11))))","v":0}]
[null,null,"Impuesto retenido",0]
[null,null,"Pagos a cuenta - Impuesto sobre créditos y débitos",0,null,{"$f":"IF(AND(Datos!$C$11=\"Informativa\",D131<>0),\"En la DDJJ informativa, este campo debe consignarse en cero (0)\",\"\")","v":""}]
[null,null,"Pagos a cuenta - Percepciones / Retenciones aduaneras",0,null,{"$f":"IF(AND(Datos!$C$11=\"Informativa\",D132<>0),\"En la DDJJ informativa, este campo debe consignarse en cero (0)\",\"\")","v":""}]
[null,null,"Pagos a cuenta - RG (AFIP) 3819/2015 - Cancelaciones en efectivo",0,null,{"$f":"IF(AND(Datos!$C$11=\"Informativa\",D133<>0),\"En la DDJJ informativa, este campo debe consignarse en cero (0)\",\"\")","v":""}]
[null,null,"Pagos a cuenta - Bono ley 27.424",0,null,{"$f":"IF(AND(Datos!$C$11=\"Informativa\",D134<>0),\"En la DDJJ informativa, este campo debe consignarse en cero (0)\",\"\")","v":""}]
[null,null,"Pagos a cuenta - RG 4815 [LEY 27.541 Art. 35 inciso a)] ",0,null,{"$f":"IF(AND(Datos!$C$11=\"Informativa\",D135<>0),\"En la DDJJ informativa, este campo debe consignarse en cero (0)\",\"\")","v":""}]
[null,null,"Pagos a cuenta - RG 4815 [LEY 27.541 Art. 35 inciso b)] ",0,null,{"$f":"IF(AND(Datos!$C$11=\"Informativa\",D136<>0),\"En la DDJJ informativa, este campo debe consignarse en cero (0)\",\"\")","v":""}]
[null,null,"Pagos a cuenta - RG 4815 [LEY 27.541 Art. 35 inciso c)] ",0,null,{"$f":"IF(AND(Datos!$C$11=\"Informativa\",D137<>0),\"En la DDJJ informativa, este campo debe consignarse en cero (0)\",\"\")","v":""}]
[null,null,"Pagos a cuenta - RG 4815 [LEY 27.541 Art. 35 inciso d)] ",0,null,{"$f":"IF(AND(Datos!$C$11=\"Informativa\",D138<>0),\"En la DDJJ informativa, este campo debe consignarse en cero (0)\",\"\")","v":""}]
[null,null,"Pagos a cuenta - RG 4815 [LEY 27.541 Art. 35 inciso e)] ",0,null,{"$f":"IF(AND(Datos!$C$11=\"Informativa\",D139<>0),\"En la DDJJ informativa, este campo debe consignarse en cero (0)\",\"\")","v":""}]
[null,null,"Pagos a cuenta - Impuesto sobre créditos y débitos - sobre movimientos de fondos propios o de terceros",0,null,{"$f":"IF(AND(Datos!$C$11=\"Informativa\",D140<>0),\"En la DDJJ informativa, este campo debe consignarse en cero (0)\",\"\")","v":""}]
[null,null,"Pagos a cuenta - Resolución General (AFIP) 3819/2015 - Cancelaciones en Efectivo -Servicios de transporte terrestre, aéreo y por vía acuática de pasajeros con destino fuera del país",0,null,{"$f":"IF(AND(Datos!$C$11=\"Informativa\",D141<>0),\"En la DDJJ informativa, este campo debe consignarse en cero (0)\",\"\")","v":""}]
[null,null,"Total pagos a cuenta",{"$f":"SUM(D131:D141)","v":0}]
[null,null,"SALDO A PAGAR",{"$f":"+ROUND(D129,2)-D130-D142","v":0}]

{"sheet":"Empleado16","index":20,"n_rows":143,"n_cols":11,"rows_kept":143,"cut":false,"hidden":false,"merged":[[10,7,11,9]]}
[]
[]
[null,null,"LIQUIDACIÓN DE IMPUESTO A LAS GANANCIAS - 4ta. CATEGORÍA RELACIÓN DE DEPENDENCIA"]
[]
[]
[null,null,"Empleado: Nombre y apellido ","EGUIA MENEGUZZER RENZO"]
[null,null,"CUIL del empleado",20321661441,null,{"$f":"cuitValidar(D7)","v":"CUIT/CUIL Válido"}]
[null,null,{"$f":"\"Agente de Retención: \"","v":"Agente de Retención: "},{"$f":"Datos!C7&\" - \"&Datos!C5","v":"33711238269 - OPERACIONES AGROPORTUARIAS S.A."}]
[null,null,{"$f":"\"Período Fiscal: \"","v":"Período Fiscal: "},{"$f":"YEAR(Datos!C13)","v":2021}]
[null,null,"Período trabajado (desde):","2021-01-01"]
[null,null,"Período trabajado (hasta):","2021-09-25",null,null,null,{"$f":"IF(MONTH(D11)>MONTH(Datos!C13),\"El período trabajado no puede ser mayor al período que se informa (mes \"&MONTH(Datos!C13)&\")\",\"\")","v":""}]
[null,null,"Zona geográfica:","Todo el país (excepto zona patagónica)"]
[null,null,"Transporte a larga distancia","No desarrolla la actividad"]
[null,null,"Beneficio promocional 27424?","No"]
[null,null,"Beneficio de la ley 27549?","No"]
[null,null,"El trabajador labora bajo el régimen de teletrabajo (Ley 27555)?","No"]
[null,null,"El trabajador es personal militar en actividad?","No"]
[]
[null,null,"REMUNERACIONES"]
[null,null,"Abonadas por el agente de retención:"]
[null,null,"Remuneración bruta gravada",1843357.35]
[null,null,"Retribuciones no habituales gravadas",0]
[null,null,"SAC primera cuota gravado",0]
[null,null,"SAC segunda cuota gravado",0]
[null,null,"Horas extras remuneración gravada",0,null,null,0,"% de retenciones"]
[null,null,"Movilidad y viáticos remuneración gravada",0]
[null,null,"Material didáctico personal docente remuneración gravada",0]
[null,null,"Remuneración no alcanzada o exenta (sin horas extras)",0]
[null,null,"Remuneración exenta ley 27549",0,null,{"$f":"IF(AND($D$15=\"No\",D29<>0),\"Para que sea procedente el beneficio, modifique el valor en la celda D15\",\"\")","v":""}]
[null,null,"Retribuciones no habituales exentas o no alcanzadas",0]
[null,null,"Horas extras remuneración exenta",0]
[null,null,"Movilidad y viáticos remuneración exenta",0]
[null,null,"Material didáctico personal docente remuneración exenta",0]
[null,null,"Bonos de productividad gravados",0]
[null,null,"Fallos de caja gravados",0]
[null,null,"Conceptos de similar naturaleza gravados",0]
[null,null,"Bonos de productividad exentos",0]
[null,null,"Fallos de caja exentos",0]
[null,null,"Conceptos de similar naturaleza exentos",0]
[null,null,"Compensación de gastos de teletrabajo exentos",0]
[null,null,"Personal militar - suplementos art. 57 ley 19.101 - exentos",0]
[null,null,"SAC primera cuota - No alcanzado o exento",0]
[null,null,"SAC segunda cuota - No alcanzado o exento",0]
[null,null,"Ajustes períodos anteriores - Remuneración gravada",0]
[null,null,"Ajustes períodos anteriores - Remuneración exenta / no alcanzada",0]
[null,null,"Otros empleos:"]
[null,null,"Remuneración bruta gravada ",0]
[null,null,"Retribuciones no habituales gravadas ",0]
[null,null,"SAC primera cuota gravado ",0]
[null,null,"SAC segunda cuota gravado ",0]
[null,null,"Horas extras remuneración gravada ",0,null,null,0,"% de retenciones"]
[null,null,"Movilidad y viáticos remuneración gravada ",0]
[null,null,"Material didáctico personal docente remuneración gravada ",0]
[null,null,"Remuneración no alcanzada o exenta ",0]
[null,null,"Remuneración exenta ley 27549 ",0,null,{"$f":"IF(AND($D$15=\"No\",D55<>0),\"Para que sea procedente el beneficio, modifique el valor en la celda D15\",\"\")","v":""}]
[null,null,"Retribuciones no habituales exentas o no alcanzadas ",0]
[null,null,"Horas extras remuneración exenta o no alcanzada ",0]
[null,null,"Movilidad y viáticos remuneración exenta o no alcanzada ",0]
[null,null,"Material didáctico personal docente remuneración exenta o no alcanzada ",0]
[null,null,"Bonos de productividad gravados ",0]
[null,null,"Fallos de caja gravados ",0]
[null,null,"Conceptos de similar naturaleza gravados ",0]
[null,null,"Bonos de productividad exentos ",0]
[null,null,"Fallos de caja exentos ",0]
[null,null,"Conceptos de similar naturaleza exentos ",0]
[null,null,"Compensación de gastos teletrabajo - exentos ",0]
[null,null,"Personal militar - suplementos art. 57 Ley 19101 - exentos ",0]
[null,null,"SAC primera cuota - No alcanzado o exento ",0]
[null,null,"SAC segunda cuota - No alcanzado o exento ",0]
[null,null,"Ajustes períodos anteriores - Remuneración gravada ",0]
[null,null,"Ajustes períodos anteriores - Remuneración no alcanzada o exenta ",0]
[null,null,"TOTAL REMUNERACIÓN GRAVADA",{"$f":"SUM(D21:E27,D44,D47:D53,D70)","v":1843357.35}]
[null,null,"TOTAL REMUNERACIÓN NO ALCANZADA O EXENTA",{"$f":"SUM(D28:D43,D45,D54:D69,D71)","v":0}]
[null,null,"TOTAL REMUNERACIONES",{"$f":"IF(+D72+D73<0,0,D72+D73)","v":1843357.35}]
[]
[null,null,"DEDUCCIONES GENERALES",null,null,null,null,"Topes máximos legales"]
[null,null,"Aportes a fondos de jubilaciones, retiros, pensiones o subsidios que se destinen a cajas nacionales, provinciales o municipales",223563.11,null,{"$f":"validaciones(D77,H77,0)&IF(D77>$D$74,\" El importe no puede ser mayor a la remuneración total\",\"\")","v":""}]
[null,null,"Aportes a fondos de jubilaciones, retiros, pensiones o subsidios que se destinen a cajas nacionales, provinciales o municipales por otros empleos",0,null,{"$f":"validaciones(D78,H78,0)&IF(D78>$D$74,\" El importe no puede ser mayor a la remuneración total\",\"\")","v":""}]
[null,null,"Aportes a obra sociales",47906.38,null,{"$f":"validaciones(D79,H79,0)&IF(D79>$D$74,\" El importe no puede ser mayor a la remuneración total\",\"\")","v":""}]
[null,null,"Aportes a obra sociales por otros empleos",0,null,{"$f":"validaciones(D80,H80,0)&IF(D80>$D$74,\" El importe no puede ser mayor a la remuneración total\",\"\")","v":""}]
[null,null,"Cuota sindical",53377.120000000003,null,{"$f":"validaciones(D81,H81,0)&IF(D81>$D$74,\" El importe no puede ser mayor a la remuneración total\",\"\")","v":""}]
[null,null,"Cuota sindical por otros empleos",0,null,{"$f":"validaciones(D82,H82,0)&IF(D82>$D$74,\" El importe no puede ser mayor a la remuneración total\",\"\")","v":""}]
[null,null,"Cuotas médico asistenciales",0,null,{"$f":"validaciones(D83,H83,0)","v":""},null,{"$f":"(D72-SUM(D77:D82,D84:D89,D91,D93:D94,D95:D103))*0.05","v":75925.537000000011}]
[null,null,"Primas de seguro para el caso de muerte",0,null,{"$f":"validaciones(D84,H84,0)&IF(AND(Datos!$C$11=\"Informativa\",D84<>0),\"En la DDJJ informativa, este campo debe consignarse en cero (0)\",\"\")","v":""},null,{"$f":"+Tablas!B2","v":24000}]
[null,null,"Primas por riesgo de muerte y de ahorro de seguros mixtos, excepto para los casos de seguros de retiro privados administrados por entidades sujetas al control de la Superintendencia de Seguros de la Nación",0,null,{"$f":"validaciones(D85,H85,0)&IF(AND(Datos!$C$11=\"Informativa\",D85<>0),\"En la DDJJ informativa, este campo debe consignarse en cero (0)\",\"\")","v":""},null,{"$f":"+H84","v":24000}]
[null,null,"Aportes a planes de seguro de retiro privados administrados por entidades sujetas al control de la Superintendencia de Seguros de la Nación",0,null,{"$f":"validaciones(D86,H86,0)&IF(AND(Datos!$C$11=\"Informativa\",D86<>0),\"En la DDJJ informativa, este campo debe consignarse en cero (0)\",\"\")","v":""},null,{"$f":"+H85","v":24000}]
[null,null,"Cuotapartes de fondos comunes de inversión constituidos con fines de retiro",0,null,{"$f":"validaciones(D87,H87,0)&IF(D87<>0,\"Deberá consignarse en cero (0), hasta que la Autoridad de Aplicación – CNV – autorice a las Entidades a funcionar e implemente el régimen.\",\"\")","v":""},null,0]
[null,null,"Gastos de sepelio",0,null,{"$f":"validaciones(D88,H88,0)","v":""},null,{"$f":"+Tablas!B6","v":996.23}]
[null,null,"Gastos amortización e intereses rodado para corredores y viajantes de comercio",0,null,{"$f":"validaciones(D89,H89,0)&IF(D89>$D$74,\" El importe no puede ser mayor a la remuneración total\",\"\")","v":""}]
[null,null,"Donaciones a fiscos nacional, provinciales y municipales, y a instituciones comprendidas en el artículo 26, incisos e) y f) de la ley",0,null,{"$f":"validaciones(D90,H90,0)","v":""},null,{"$f":"(D72-SUM(D77:D82,D84:D89,D91,D93:D94,D95:D103))*0.05","v":75925.537000000011}]
[null,null,"Descuentos obligatorios establecidos por ley nacional, provincial o municipal",0,null,{"$f":"validaciones(D91,H91,0)&IF(D91>$D$74,\" El importe no puede ser mayor a la remuneración total\",\"\")","v":""}]
[null,null,"Honorarios por servicios de asistencia sanitaria, médica y paramédica",0,null,{"$f":"validaciones(D92,H92,0)&IF(AND(Datos!$C$11=\"Informativa\",D92<>0),\"En la DDJJ informativa, este campo debe consignarse en cero (0)\",\"\")","v":""},null,{"$f":"(D72-SUM(D77:D82,D84:D89,D91,D93:D94,D95:D103))*0.05","v":75925.537000000011}]
[null,null,"Intereses de créditos hipotecarios",0,null,{"$f":"validaciones(D93,H93,0)","v":""},null,{"$f":"+Tablas!B3","v":20000}]
[null,null,"Aportes al capital social o al fondo de riesgo de socios protectores de sociedades de garantía recíproca",0,null,{"$f":"validaciones(D94,H94,0)","v":""}]
[null,null,"Alquileres de inmuebles destinados a casa habitación",0,null,{"$f":"validaciones(D95,H95,0)","v":""},null,{"$f":"IF(Datos!C11=\"Final\",ROUND(Tablas!B4/12*12,2),ROUND(Tablas!B4/12*MONTH(Datos!C13),2))","v":167678.39999999999}]
[null,null,"Empleados del servicio doméstico",0,null,{"$f":"validaciones(D96,H96,0)","v":""},null,{"$f":"Tablas!B4","v":167678.39999999999}]
[null,null,"Gastos de movilidad, viáticos y otras compensaciones análogas abonados por el empleador",0,null,{"$f":"validaciones(D97,H97,0)","v":""},null,{"$f":"IF(D13=\"Desarrolla la actividad\",Tablas!B4,Tablas!B4*0.4)","v":67071.360000000001}]
[null,null,"Gastos por adquisición de indumentaria y/o equipamiento de trabajo",0,null,{"$f":"validaciones(D98,H98,0)","v":""}]
[null,null,"Otras deducciones - aportes a Cajas Complementarias de Previsión, Fondos Compensadores de Previsión o similares",0,null,{"$f":"validaciones(D99,H99,0)","v":""}]
[null,null,"Otras deducciones - Aportes para jubilaciones, retiros y subsidios ANSES",0,null,{"$f":"validaciones(D100,H100,0)","v":""}]
[null,null,"Otras deducciones - Cajas Provinciales o Municipales o de Previsión para Profesionales",0,null,{"$f":"validaciones(D101,H101,0)","v":""}]
[null,null,"Otras deducciones - Actores - Retribución pagada a los representantes - RG 2442/08",0,null,{"$f":"validaciones(D102,H102,0)","v":""}]
[null,null,"Otras deducciones - Fondos compensadores de previsión",0,null,{"$f":"validaciones(D103,H103,0)","v":""}]
[null,null,"Otras deducciones",{"$f":"+SUM(D99:E103)","v":0}]
[null,null,"TOTAL DEDUCCIONES GENERALES",{"$f":"SUM(D77:E103)","v":324846.61},null,null,null,null,null,null,{"$f":"+D72-D105","v":1518510.7400000002}]
[]
[null,null,"DEDUCCIONES PERSONALES",null,null,null,null,"Topes máximos legales"]
[null,null,"Ganancia no imponible",167678.39999999999,null,{"$f":"validaciones(D108,H108,0)","v":""},null,{"$f":"deducciones(1,Datos!C11,MONTH(Datos!$C$13),$D$12)","v":167678.39999999999},null,null,{"$f":"IF(K105-K109<=0,0,IF(K105-K109<=H108,K105-K109,H108))","v":167678.39999999999}]
[null,null,"Deducción especial",804856.34,null,{"$f":"validaciones(D109,H109,0)","v":""},null,{"$f":"deducciones(2,Datos!$C$11,MONTH(Datos!$C$13),$D$12)","v":804856.34},null,null,{"$f":"IF(K105<=H109,K105,H109)","v":804856.34}]
[null,null,"Deducción Especial Incrementada Primera parte del penúltimo párrafo del inciso c) del artículo 30 de la ley del gravamen",239679.25]
[null,null,"Deducción Especial Incrementada Segunda parte del penúltimo párrafo del inciso c) del artículo 30 de la ley del gravamen",1335]
[null,null,"Deducción específica",0,null,{"$f":"validaciones(D112,H112,0)","v":""},null,0]
[null,null,"Cargas de familia"]
[null,null,"Cónyuge",0,null,{"$f":"validaciones(D114,H114,0)","v":""},null,{"$f":"cargas_de_familia(4,Datos!$C$11,MONTH(Datos!$C$13),$D$12)","v":156320.63},null,null,{"$f":"IF(K105-K108-K109>=D114,D114,K105-K108-K109)","v":0}]
[null,null,"Cantidad de hijos e hijastros",0,null,{"$f":"validaciones(D115,H115,0)","v":""},null,99]
[null,null,"Deducción total hijos e hijastros",0,null,null,null,{"$f":"cargas_de_familia(3,Datos!$C$11,MONTH(Datos!$C$13),$D$12)*D115","v":0},null,null,{"$f":"IF(K105-K108-K109-K114>=D116,D116,K105-K108-K109-K114)","v":0}]
[null,null,"Cantidad de hijos e hijastros incapacitados para el trabajo",0,null,{"$f":"validaciones(D117,H117,0)","v":""},null,99]
[null,null,"Hijos / Hijastros incapacitados para el trabajo",0,null,null,null,{"$f":"cargas_de_familia(5,Datos!$C$11,MONTH(Datos!$C$13),$D$12)","v":157666.16}]
[null,null,"Total de cargas de familia",{"$f":"+D114+D116+D118","v":0},null,null,null,0]
[null,null,"TOTAL DEDUCCIONES PERSONALES",{"$f":"SUM(D108:D112,D119)","v":1213548.99}]
[]
[null,null,"DETERMINACIÓN DEL IMPUESTO"]
[null,null,"REMUNERACIÓN NETA SUJETA A IMPUESTO -antes de la deducción art. 46 L. 27541-",0]
[null,null,"Deducción inciso a) primer párrafo artículo 30 de la ley (cfr. art. 46 L. 27541)",0,null,null,null,0,null,null,{"$f":"IF(D123-K125<=0,0,IF(D123-K125<=H124,D123-K125,H124))","v":0}]
[null,null,"Deducción inciso c) primer párrafo artículo 30 de la ley (cfr. art. 46 L. 27541)",0,null,null,null,0,null,null,{"$f":"IF(D123<=H125,D123,H125)","v":0}]
[null,null,"REMUNERACIÓN SUJETA A IMPUESTO",{"$f":"IF(+D72-D105-D120<0,0,+D72-D105-D120)","v":304961.75000000023}]
[null,null,"Alícuota aplicable artículo 94 ley de impuesto a las ganancias",{"$f":"IF(OR(Datos!C11=\"Final\",Datos!C11=\"Anual\"),impuestoAlicuota(D126,D25*(1-G25)+D51*(1-G51),12),impuestoAlicuota(D126,D25*(1-G25)+D51*(1-G51),MONTH(D11)))","v":0.19}]
[null,null,"Alícuota aplicable sin incluir horas extras",{"$f":"IF(OR(Datos!C11=\"Final\",Datos!C11=\"Anual\"),impuestoAlicuota(D126,0,12),impuestoAlicuota(D126,0,MONTH(D11)))","v":0.19}]
[null,null,"IMPUESTO DETERMINADO",{"$f":"IF(D126<0,0,IF(OR(Datos!C11=\"Final\",Datos!C11=\"Anual\"),impuestoDeterminado(D126,D25*(1-G25)+D51*(1-G51),12),impuestoDeterminado(D126,D25*(1-G25)+D51*(1-G51),MONTH(D11))))","v":35356.312300000005}]
[null,null,"Impuesto retenido",35356.31]
[null,null,"Pagos a cuenta - Impuesto sobre créditos y débitos",0,null,{"$f":"IF(AND(Datos!$C$11=\"Informativa\",D131<>0),\"En la DDJJ informativa, este campo debe consignarse en cero (0)\",\"\")","v":""}]
[null,null,"Pagos a cuenta - Percepciones / Retenciones aduaneras",0,null,{"$f":"IF(AND(Datos!$C$11=\"Informativa\",D132<>0),\"En la DDJJ informativa, este campo debe consignarse en cero (0)\",\"\")","v":""}]
[null,null,"Pagos a cuenta - RG (AFIP) 3819/2015 - Cancelaciones en efectivo",0,null,{"$f":"IF(AND(Datos!$C$11=\"Informativa\",D133<>0),\"En la DDJJ informativa, este campo debe consignarse en cero (0)\",\"\")","v":""}]
[null,null,"Pagos a cuenta - Bono ley 27.424",0,null,{"$f":"IF(AND(Datos!$C$11=\"Informativa\",D134<>0),\"En la DDJJ informativa, este campo debe consignarse en cero (0)\",\"\")","v":""}]
[null,null,"Pagos a cuenta - RG 4815 [LEY 27.541 Art. 35 inciso a)] ",0,null,{"$f":"IF(AND(Datos!$C$11=\"Informativa\",D135<>0),\"En la DDJJ informativa, este campo debe consignarse en cero (0)\",\"\")","v":""}]
[null,null,"Pagos a cuenta - RG 4815 [LEY 27.541 Art. 35 inciso b)] ",0,null,{"$f":"IF(AND(Datos!$C$11=\"Informativa\",D136<>0),\"En la DDJJ informativa, este campo debe consignarse en cero (0)\",\"\")","v":""}]
[null,null,"Pagos a cuenta - RG 4815 [LEY 27.541 Art. 35 inciso c)] ",0,null,{"$f":"IF(AND(Datos!$C$11=\"Informativa\",D137<>0),\"En la DDJJ informativa, este campo debe consignarse en cero (0)\",\"\")","v":""}]
[null,null,"Pagos a cuenta - RG 4815 [LEY 27.541 Art. 35 inciso d)] ",0,null,{"$f":"IF(AND(Datos!$C$11=\"Informativa\",D138<>0),\"En la DDJJ informativa, este campo debe consignarse en cero (0)\",\"\")","v":""}]
[null,null,"Pagos a cuenta - RG 4815 [LEY 27.541 Art. 35 inciso e)] ",0,null,{"$f":"IF(AND(Datos!$C$11=\"Informativa\",D139<>0),\"En la DDJJ informativa, este campo debe consignarse en cero (0)\",\"\")","v":""}]
[null,null,"Pagos a cuenta - Impuesto sobre créditos y débitos - sobre movimientos de fondos propios o de terceros",0,null,{"$f":"IF(AND(Datos!$C$11=\"Informativa\",D140<>0),\"En la DDJJ informativa, este campo debe consignarse en cero (0)\",\"\")","v":""}]
[null,null,"Pagos a cuenta - Resolución General (AFIP) 3819/2015 - Cancelaciones en Efectivo -Servicios de transporte terrestre, aéreo y por vía acuática de pasajeros con destino fuera del país",0,null,{"$f":"IF(AND(Datos!$C$11=\"Informativa\",D141<>0),\"En la DDJJ informativa, este campo debe consignarse en cero (0)\",\"\")","v":""}]
[null,null,"Total pagos a cuenta",{"$f":"SUM(D131:D141)","v":0}]
[null,null,"SALDO A PAGAR",{"$f":"+ROUND(D129,2)-D130-D142","v":0}]

{"sheet":"Empleado17","index":21,"n_rows":143,"n_cols":11,"rows_kept":143,"cut":false,"hidden":false,"merged":[[10,7,11,9]]}
[]
[]
[null,null,"LIQUIDACIÓN DE IMPUESTO A LAS GANANCIAS - 4ta. CATEGORÍA RELACIÓN DE DEPENDENCIA"]
[]
[]
[null,null,"Empleado: Nombre y apellido ","HEIMSATH DANIEL GUSTAVO"]
[null,null,"CUIL del empleado",23184701839,null,{"$f":"cuitValidar(D7)","v":"CUIT/CUIL Válido"}]
[null,null,{"$f":"\"Agente de Retención: \"","v":"Agente de Retención: "},{"$f":"Datos!C7&\" - \"&Datos!C5","v":"33711238269 - OPERACIONES AGROPORTUARIAS S.A."}]
[null,null,{"$f":"\"Período Fiscal: \"","v":"Período Fiscal: "},{"$f":"YEAR(Datos!C13)","v":2021}]
[null,null,"Período trabajado (desde):","2021-01-01"]
[null,null,"Período trabajado (hasta):","2021-09-25",null,null,null,{"$f":"IF(MONTH(D11)>MONTH(Datos!C13),\"El período trabajado no puede ser mayor al período que se informa (mes \"&MONTH(Datos!C13)&\")\",\"\")","v":""}]
[null,null,"Zona geográfica:","Todo el país (excepto zona patagónica)"]
[null,null,"Transporte a larga distancia","No desarrolla la actividad"]
[null,null,"Beneficio promocional 27424?","No"]
[null,null,"Beneficio de la ley 27549?","No"]
[null,null,"El trabajador labora bajo el régimen de teletrabajo (Ley 27555)?","No"]
[null,null,"El trabajador es personal militar en actividad?","No"]
[]
[null,null,"REMUNERACIONES"]
[null,null,"Abonadas por el agente de retención:"]
[null,null,"Remuneración bruta gravada",1761395.99]
[null,null,"Retribuciones no habituales gravadas",0]
[null,null,"SAC primera cuota gravado",0]
[null,null,"SAC segunda cuota gravado",0]
[null,null,"Horas extras remuneración gravada",0,null,null,0,"% de retenciones"]
[null,null,"Movilidad y viáticos remuneración gravada",0]
[null,null,"Material didáctico personal docente remuneración gravada",0]
[null,null,"Remuneración no alcanzada o exenta (sin horas extras)",0]
[null,null,"Remuneración exenta ley 27549",0,null,{"$f":"IF(AND($D$15=\"No\",D29<>0),\"Para que sea procedente el beneficio, modifique el valor en la celda D15\",\"\")","v":""}]
[null,null,"Retribuciones no habituales exentas o no alcanzadas",0]
[null,null,"Horas extras remuneración exenta",0]
[null,null,"Movilidad y viáticos remuneración exenta",0]
[null,null,"Material didáctico personal docente remuneración exenta",0]
[null,null,"Bonos de productividad gravados",0]
[null,null,"Fallos de caja gravados",0]
[null,null,"Conceptos de similar naturaleza gravados",0]
[null,null,"Bonos de productividad exentos",0]
[null,null,"Fallos de caja exentos",0]
[null,null,"Conceptos de similar naturaleza exentos",0]
[null,null,"Compensación de gastos de teletrabajo exentos",0]
[null,null,"Personal militar - suplementos art. 57 ley 19.101 - exentos",0]
[null,null,"SAC primera cuota - No alcanzado o exento",0]
[null,null,"SAC segunda cuota - No alcanzado o exento",0]
[null,null,"Ajustes períodos anteriores - Remuneración gravada",0]
[null,null,"Ajustes períodos anteriores - Remuneración exenta / no alcanzada",0]
[null,null,"Otros empleos:"]
[null,null,"Remuneración bruta gravada ",0]
[null,null,"Retribuciones no habituales gravadas ",0]
[null,null,"SAC primera cuota gravado ",0]
[null,null,"SAC segunda cuota gravado ",0]
[null,null,"Horas extras remuneración gravada ",0,null,null,0,"% de retenciones"]
[null,null,"Movilidad y viáticos remuneración gravada ",0]
[null,null,"Material didáctico personal docente remuneración gravada ",0]
[null,null,"Remuneración no alcanzada o exenta ",0]
[null,null,"Remuneración exenta ley 27549 ",0,null,{"$f":"IF(AND($D$15=\"No\",D55<>0),\"Para que sea procedente el beneficio, modifique el valor en la celda D15\",\"\")","v":""}]
[null,null,"Retribuciones no habituales exentas o no alcanzadas ",0]
[null,null,"Horas extras remuneración exenta o no alcanzada ",0]
[null,null,"Movilidad y viáticos remuneración exenta o no alcanzada ",0]
[null,null,"Material didáctico personal docente remuneración exenta o no alcanzada ",0]
[null,null,"Bonos de productividad gravados ",0]
[null,null,"Fallos de caja gravados ",0]
[null,null,"Conceptos de similar naturaleza gravados ",0]
[null,null,"Bonos de productividad exentos ",0]
[null,null,"Fallos de caja exentos ",0]
[null,null,"Conceptos de similar naturaleza exentos ",0]
[null,null,"Compensación de gastos teletrabajo - exentos ",0]
[null,null,"Personal militar - suplementos art. 57 Ley 19101 - exentos ",0]
[null,null,"SAC primera cuota - No alcanzado o exento ",0]
[null,null,"SAC segunda cuota - No alcanzado o exento ",0]
[null,null,"Ajustes períodos anteriores - Remuneración gravada ",0]
[null,null,"Ajustes períodos anteriores - Remuneración no alcanzada o exenta ",0]
[null,null,"TOTAL REMUNERACIÓN GRAVADA",{"$f":"SUM(D21:E27,D44,D47:D53,D70)","v":1761395.99}]
[null,null,"TOTAL REMUNERACIÓN NO ALCANZADA O EXENTA",{"$f":"SUM(D28:D43,D45,D54:D69,D71)","v":0}]
[null,null,"TOTAL REMUNERACIONES",{"$f":"IF(+D72+D73<0,0,D72+D73)","v":1761395.99}]
[]
[null,null,"DEDUCCIONES GENERALES",null,null,null,null,"Topes máximos legales"]
[null,null,"Aportes a fondos de jubilaciones, retiros, pensiones o subsidios que se destinen a cajas nacionales, provinciales o municipales",213968.67,null,{"$f":"validaciones(D77,H77,0)&IF(D77>$D$74,\" El importe no puede ser mayor a la remuneración total\",\"\")","v":""}]
[null,null,"Aportes a fondos de jubilaciones, retiros, pensiones o subsidios que se destinen a cajas nacionales, provinciales o municipales por otros empleos",0,null,{"$f":"validaciones(D78,H78,0)&IF(D78>$D$74,\" El importe no puede ser mayor a la remuneración total\",\"\")","v":""}]
[null,null,"Aportes a obra sociales",45850.43,null,{"$f":"validaciones(D79,H79,0)&IF(D79>$D$74,\" El importe no puede ser mayor a la remuneración total\",\"\")","v":""}]
[null,null,"Aportes a obra sociales por otros empleos",0,null,{"$f":"validaciones(D80,H80,0)&IF(D80>$D$74,\" El importe no puede ser mayor a la remuneración total\",\"\")","v":""}]
[null,null,"Cuota sindical",33945.519999999997,null,{"$f":"validaciones(D81,H81,0)&IF(D81>$D$74,\" El importe no puede ser mayor a la remuneración total\",\"\")","v":""}]
[null,null,"Cuota sindical por otros empleos",0,null,{"$f":"validaciones(D82,H82,0)&IF(D82>$D$74,\" El importe no puede ser mayor a la remuneración total\",\"\")","v":""}]
[null,null,"Cuotas médico asistenciales",0,null,{"$f":"validaciones(D83,H83,0)","v":""},null,{"$f":"(D72-SUM(D77:D82,D84:D89,D91,D93:D94,D95:D103))*0.05","v":73381.568500000008}]
[null,null,"Primas de seguro para el caso de muerte",0,null,{"$f":"validaciones(D84,H84,0)&IF(AND(Datos!$C$11=\"Informativa\",D84<>0),\"En la DDJJ informativa, este campo debe consignarse en cero (0)\",\"\")","v":""},null,{"$f":"+Tablas!B2","v":24000}]
[null,null,"Primas por riesgo de muerte y de ahorro de seguros mixtos, excepto para los casos de seguros de retiro privados administrados por entidades sujetas al control de la Superintendencia de Seguros de la Nación",0,null,{"$f":"validaciones(D85,H85,0)&IF(AND(Datos!$C$11=\"Informativa\",D85<>0),\"En la DDJJ informativa, este campo debe consignarse en cero (0)\",\"\")","v":""},null,{"$f":"+H84","v":24000}]
[null,null,"Aportes a planes de seguro de retiro privados administrados por entidades sujetas al control de la Superintendencia de Seguros de la Nación",0,null,{"$f":"validaciones(D86,H86,0)&IF(AND(Datos!$C$11=\"Informativa\",D86<>0),\"En la DDJJ informativa, este campo debe consignarse en cero (0)\",\"\")","v":""},null,{"$f":"+H85","v":24000}]
[null,null,"Cuotapartes de fondos comunes de inversión constituidos con fines de retiro",0,null,{"$f":"validaciones(D87,H87,0)&IF(D87<>0,\"Deberá consignarse en cero (0), hasta que la Autoridad de Aplicación – CNV – autorice a las Entidades a funcionar e implemente el régimen.\",\"\")","v":""},null,0]
[null,null,"Gastos de sepelio",0,null,{"$f":"validaciones(D88,H88,0)","v":""},null,{"$f":"+Tablas!B6","v":996.23}]
[null,null,"Gastos amortización e intereses rodado para corredores y viajantes de comercio",0,null,{"$f":"validaciones(D89,H89,0)&IF(D89>$D$74,\" El importe no puede ser mayor a la remuneración total\",\"\")","v":""}]
[null,null,"Donaciones a fiscos nacional, provinciales y municipales, y a instituciones comprendidas en el artículo 26, incisos e) y f) de la ley",0,null,{"$f":"validaciones(D90,H90,0)","v":""},null,{"$f":"(D72-SUM(D77:D82,D84:D89,D91,D93:D94,D95:D103))*0.05","v":73381.568500000008}]
[null,null,"Descuentos obligatorios establecidos por ley nacional, provincial o municipal",0,null,{"$f":"validaciones(D91,H91,0)&IF(D91>$D$74,\" El importe no puede ser mayor a la remuneración total\",\"\")","v":""}]
[null,null,"Honorarios por servicios de asistencia sanitaria, médica y paramédica",0,null,{"$f":"validaciones(D92,H92,0)&IF(AND(Datos!$C$11=\"Informativa\",D92<>0),\"En la DDJJ informativa, este campo debe consignarse en cero (0)\",\"\")","v":""},null,{"$f":"(D72-SUM(D77:D82,D84:D89,D91,D93:D94,D95:D103))*0.05","v":73381.568500000008}]
[null,null,"Intereses de créditos hipotecarios",0,null,{"$f":"validaciones(D93,H93,0)","v":""},null,{"$f":"+Tablas!B3","v":20000}]
[null,null,"Aportes al capital social o al fondo de riesgo de socios protectores de sociedades de garantía recíproca",0,null,{"$f":"validaciones(D94,H94,0)","v":""}]
[null,null,"Alquileres de inmuebles destinados a casa habitación",0,null,{"$f":"validaciones(D95,H95,0)","v":""},null,{"$f":"IF(Datos!C11=\"Final\",ROUND(Tablas!B4/12*12,2),ROUND(Tablas!B4/12*MONTH(Datos!C13),2))","v":167678.39999999999}]
[null,null,"Empleados del servicio doméstico",0,null,{"$f":"validaciones(D96,H96,0)","v":""},null,{"$f":"Tablas!B4","v":167678.39999999999}]
[null,null,"Gastos de movilidad, viáticos y otras compensaciones análogas abonados por el empleador",0,null,{"$f":"validaciones(D97,H97,0)","v":""},null,{"$f":"IF(D13=\"Desarrolla la actividad\",Tablas!B4,Tablas!B4*0.4)","v":67071.360000000001}]
[null,null,"Gastos por adquisición de indumentaria y/o equipamiento de trabajo",0,null,{"$f":"validaciones(D98,H98,0)","v":""}]
[null,null,"Otras deducciones - aportes a Cajas Complementarias de Previsión, Fondos Compensadores de Previsión o similares",0,null,{"$f":"validaciones(D99,H99,0)","v":""}]
[null,null,"Otras deducciones - Aportes para jubilaciones, retiros y subsidios ANSES",0,null,{"$f":"validaciones(D100,H100,0)","v":""}]
[null,null,"Otras deducciones - Cajas Provinciales o Municipales o de Previsión para Profesionales",0,null,{"$f":"validaciones(D101,H101,0)","v":""}]
[null,null,"Otras deducciones - Actores - Retribución pagada a los representantes - RG 2442/08",0,null,{"$f":"validaciones(D102,H102,0)","v":""}]
[null,null,"Otras deducciones - Fondos compensadores de previsión",0,null,{"$f":"validaciones(D103,H103,0)","v":""}]
[null,null,"Otras deducciones",{"$f":"+SUM(D99:E103)","v":0}]
[null,null,"TOTAL DEDUCCIONES GENERALES",{"$f":"SUM(D77:E103)","v":293764.62},null,null,null,null,null,null,{"$f":"+D72-D105","v":1467631.37}]
[]
[null,null,"DEDUCCIONES PERSONALES",null,null,null,null,"Topes máximos legales"]
[null,null,"Ganancia no imponible",167678.39999999999,null,{"$f":"validaciones(D108,H108,0)","v":""},null,{"$f":"deducciones(1,Datos!C11,MONTH(Datos!$C$13),$D$12)","v":167678.39999999999},null,null,{"$f":"IF(K105-K109<=0,0,IF(K105-K109<=H108,K105-K109,H108))","v":167678.39999999999}]
[null,null,"Deducción especial",804856.34,null,{"$f":"validaciones(D109,H109,0)","v":""},null,{"$f":"deducciones(2,Datos!$C$11,MONTH(Datos!$C$13),$D$12)","v":804856.34},null,null,{"$f":"IF(K105<=H109,K105,H109)","v":804856.34}]
[null,null,"Deducción Especial Incrementada Primera parte del penúltimo párrafo del inciso c) del artículo 30 de la ley del gravamen",480632.5]
[null,null,"Deducción Especial Incrementada Segunda parte del penúltimo párrafo del inciso c) del artículo 30 de la ley del gravamen",41348]
[null,null,"Deducción específica",0,null,{"$f":"validaciones(D112,H112,0)","v":""},null,0]
[null,null,"Cargas de familia"]
[null,null,"Cónyuge",0,null,{"$f":"validaciones(D114,H114,0)","v":""},null,{"$f":"cargas_de_familia(4,Datos!$C$11,MONTH(Datos!$C$13),$D$12)","v":156320.63},null,null,{"$f":"IF(K105-K108-K109>=D114,D114,K105-K108-K109)","v":0}]
[null,null,"Cantidad de hijos e hijastros",0,null,{"$f":"validaciones(D115,H115,0)","v":""},null,99]
[null,null,"Deducción total hijos e hijastros",0,null,null,null,{"$f":"cargas_de_familia(3,Datos!$C$11,MONTH(Datos!$C$13),$D$12)*D115","v":0},null,null,{"$f":"IF(K105-K108-K109-K114>=D116,D116,K105-K108-K109-K114)","v":0}]
[null,null,"Cantidad de hijos e hijastros incapacitados para el trabajo",0,null,{"$f":"validaciones(D117,H117,0)","v":""},null,99]
[null,null,"Hijos / Hijastros incapacitados para el trabajo",0,null,null,null,{"$f":"cargas_de_familia(5,Datos!$C$11,MONTH(Datos!$C$13),$D$12)","v":157666.16}]
[null,null,"Total de cargas de familia",{"$f":"+D114+D116+D118","v":0},null,null,null,0]
[null,null,"TOTAL DEDUCCIONES PERSONALES",{"$f":"SUM(D108:D112,D119)","v":1494515.24}]
[]
[null,null,"DETERMINACIÓN DEL IMPUESTO"]
[null,null,"REMUNERACIÓN NETA SUJETA A IMPUESTO -antes de la deducción art. 46 L. 27541-",0]
[null,null,"Deducción inciso a) primer párrafo artículo 30 de la ley (cfr. art. 46 L. 27541)",0,null,null,null,0,null,null,{"$f":"IF(D123-K125<=0,0,IF(D123-K125<=H124,D123-K125,H124))","v":0}]
[null,null,"Deducción inciso c) primer párrafo artículo 30 de la ley (cfr. art. 46 L. 27541)",0,null,null,null,0,null,null,{"$f":"IF(D123<=H125,D123,H125)","v":0}]
[null,null,"REMUNERACIÓN SUJETA A IMPUESTO",{"$f":"IF(+D72-D105-D120<0,0,+D72-D105-D120)","v":0}]
[null,null,"Alícuota aplicable artículo 94 ley de impuesto a las ganancias",{"$f":"IF(OR(Datos!C11=\"Final\",Datos!C11=\"Anual\"),impuestoAlicuota(D126,D25*(1-G25)+D51*(1-G51),12),impuestoAlicuota(D126,D25*(1-G25)+D51*(1-G51),MONTH(D11)))","v":0}]
[null,null,"Alícuota aplicable sin incluir horas extras",{"$f":"IF(OR(Datos!C11=\"Final\",Datos!C11=\"Anual\"),impuestoAlicuota(D126,0,12),impuestoAlicuota(D126,0,MONTH(D11)))","v":0}]
[null,null,"IMPUESTO DETERMINADO",{"$f":"IF(D126<0,0,IF(OR(Datos!C11=\"Final\",Datos!C11=\"Anual\"),impuestoDeterminado(D126,D25*(1-G25)+D51*(1-G51),12),impuestoDeterminado(D126,D25*(1-G25)+D51*(1-G51),MONTH(D11))))","v":0}]
[null,null,"Impuesto retenido",0]
[null,null,"Pagos a cuenta - Impuesto sobre créditos y débitos",0,null,{"$f":"IF(AND(Datos!$C$11=\"Informativa\",D131<>0),\"En la DDJJ informativa, este campo debe consignarse en cero (0)\",\"\")","v":""}]
[null,null,"Pagos a cuenta - Percepciones / Retenciones aduaneras",0,null,{"$f":"IF(AND(Datos!$C$11=\"Informativa\",D132<>0),\"En la DDJJ informativa, este campo debe consignarse en cero (0)\",\"\")","v":""}]
[null,null,"Pagos a cuenta - RG (AFIP) 3819/2015 - Cancelaciones en efectivo",0,null,{"$f":"IF(AND(Datos!$C$11=\"Informativa\",D133<>0),\"En la DDJJ informativa, este campo debe consignarse en cero (0)\",\"\")","v":""}]
[null,null,"Pagos a cuenta - Bono ley 27.424",0,null,{"$f":"IF(AND(Datos!$C$11=\"Informativa\",D134<>0),\"En la DDJJ informativa, este campo debe consignarse en cero (0)\",\"\")","v":""}]
[null,null,"Pagos a cuenta - RG 4815 [LEY 27.541 Art. 35 inciso a)] ",20072.5,null,{"$f":"IF(AND(Datos!$C$11=\"Informativa\",D135<>0),\"En la DDJJ informativa, este campo debe consignarse en cero (0)\",\"\")","v":""}]
[null,null,"Pagos a cuenta - RG 4815 [LEY 27.541 Art. 35 inciso b)] ",0,null,{"$f":"IF(AND(Datos!$C$11=\"Informativa\",D136<>0),\"En la DDJJ informativa, este campo debe consignarse en cero (0)\",\"\")","v":""}]
[null,null,"Pagos a cuenta - RG 4815 [LEY 27.541 Art. 35 inciso c)] ",0,null,{"$f":"IF(AND(Datos!$C$11=\"Informativa\",D137<>0),\"En la DDJJ informativa, este campo debe consignarse en cero (0)\",\"\")","v":""}]
[null,null,"Pagos a cuenta - RG 4815 [LEY 27.541 Art. 35 inciso d)] ",0,null,{"$f":"IF(AND(Datos!$C$11=\"Informativa\",D138<>0),\"En la DDJJ informativa, este campo debe consignarse en cero (0)\",\"\")","v":""}]
[null,null,"Pagos a cuenta - RG 4815 [LEY 27.541 Art. 35 inciso e)] ",0,null,{"$f":"IF(AND(Datos!$C$11=\"Informativa\",D139<>0),\"En la DDJJ informativa, este campo debe consignarse en cero (0)\",\"\")","v":""}]
[null,null,"Pagos a cuenta - Impuesto sobre créditos y débitos - sobre movimientos de fondos propios o de terceros",0,null,{"$f":"IF(AND(Datos!$C$11=\"Informativa\",D140<>0),\"En la DDJJ informativa, este campo debe consignarse en cero (0)\",\"\")","v":""}]
[null,null,"Pagos a cuenta - Resolución General (AFIP) 3819/2015 - Cancelaciones en Efectivo -Servicios de transporte terrestre, aéreo y por vía acuática de pasajeros con destino fuera del país",0,null,{"$f":"IF(AND(Datos!$C$11=\"Informativa\",D141<>0),\"En la DDJJ informativa, este campo debe consignarse en cero (0)\",\"\")","v":""}]
[null,null,"Total pagos a cuenta",{"$f":"SUM(D131:D141)","v":20072.5}]
[null,null,"SALDO A PAGAR",{"$f":"+ROUND(D129,2)-D130-D142","v":-20072.5}]

{"sheet":"Empleado18","index":22,"n_rows":143,"n_cols":11,"rows_kept":143,"cut":false,"hidden":false,"merged":[[10,7,11,9]]}
[]
[]
[null,null,"LIQUIDACIÓN DE IMPUESTO A LAS GANANCIAS - 4ta. CATEGORÍA RELACIÓN DE DEPENDENCIA"]
[]
[]
[null,null,"Empleado: Nombre y apellido ","MIGLIO EMILIANO DAVID"]
[null,null,"CUIL del empleado",20381344437,null,{"$f":"cuitValidar(D7)","v":"CUIT/CUIL Válido"}]
[null,null,{"$f":"\"Agente de Retención: \"","v":"Agente de Retención: "},{"$f":"Datos!C7&\" - \"&Datos!C5","v":"33711238269 - OPERACIONES AGROPORTUARIAS S.A."}]
[null,null,{"$f":"\"Período Fiscal: \"","v":"Período Fiscal: "},{"$f":"YEAR(Datos!C13)","v":2021}]
[null,null,"Período trabajado (desde):","2021-01-01"]
[null,null,"Período trabajado (hasta):","2021-09-25",null,null,null,{"$f":"IF(MONTH(D11)>MONTH(Datos!C13),\"El período trabajado no puede ser mayor al período que se informa (mes \"&MONTH(Datos!C13)&\")\",\"\")","v":""}]
[null,null,"Zona geográfica:","Todo el país (excepto zona patagónica)"]
[null,null,"Transporte a larga distancia","No desarrolla la actividad"]
[null,null,"Beneficio promocional 27424?","No"]
[null,null,"Beneficio de la ley 27549?","No"]
[null,null,"El trabajador labora bajo el régimen de teletrabajo (Ley 27555)?","No"]
[null,null,"El trabajador es personal militar en actividad?","No"]
[]
[null,null,"REMUNERACIONES"]
[null,null,"Abonadas por el agente de retención:"]
[null,null,"Remuneración bruta gravada",2552056.31]
[null,null,"Retribuciones no habituales gravadas",0]
[null,null,"SAC primera cuota gravado",0]
[null,null,"SAC segunda cuota gravado",0]
[null,null,"Horas extras remuneración gravada",0,null,null,0,"% de retenciones"]
[null,null,"Movilidad y viáticos remuneración gravada",0]
[null,null,"Material didáctico personal docente remuneración gravada",0]
[null,null,"Remuneración no alcanzada o exenta (sin horas extras)",0]
[null,null,"Remuneración exenta ley 27549",0,null,{"$f":"IF(AND($D$15=\"No\",D29<>0),\"Para que sea procedente el beneficio, modifique el valor en la celda D15\",\"\")","v":""}]
[null,null,"Retribuciones no habituales exentas o no alcanzadas",0]
[null,null,"Horas extras remuneración exenta",0]
[null,null,"Movilidad y viáticos remuneración exenta",0]
[null,null,"Material didáctico personal docente remuneración exenta",0]
[null,null,"Bonos de productividad gravados",0]
[null,null,"Fallos de caja gravados",0]
[null,null,"Conceptos de similar naturaleza gravados",0]
[null,null,"Bonos de productividad exentos",0]
[null,null,"Fallos de caja exentos",0]
[null,null,"Conceptos de similar naturaleza exentos",0]
[null,null,"Compensación de gastos de teletrabajo exentos",0]
[null,null,"Personal militar - suplementos art. 57 ley 19.101 - exentos",0]
[null,null,"SAC primera cuota - No alcanzado o exento",0]
[null,null,"SAC segunda cuota - No alcanzado o exento",0]
[null,null,"Ajustes períodos anteriores - Remuneración gravada",0]
[null,null,"Ajustes períodos anteriores - Remuneración exenta / no alcanzada",0]
[null,null,"Otros empleos:"]
[null,null,"Remuneración bruta gravada ",0]
[null,null,"Retribuciones no habituales gravadas ",0]
[null,null,"SAC primera cuota gravado ",0]
[null,null,"SAC segunda cuota gravado ",0]
[null,null,"Horas extras remuneración gravada ",0,null,null,0,"% de retenciones"]
[null,null,"Movilidad y viáticos remuneración gravada ",0]
[null,null,"Material didáctico personal docente remuneración gravada ",0]
[null,null,"Remuneración no alcanzada o exenta ",0]
[null,null,"Remuneración exenta ley 27549 ",0,null,{"$f":"IF(AND($D$15=\"No\",D55<>0),\"Para que sea procedente el beneficio, modifique el valor en la celda D15\",\"\")","v":""}]
[null,null,"Retribuciones no habituales exentas o no alcanzadas ",0]
[null,null,"Horas extras remuneración exenta o no alcanzada ",0]
[null,null,"Movilidad y viáticos remuneración exenta o no alcanzada ",0]
[null,null,"Material didáctico personal docente remuneración exenta o no alcanzada ",0]
[null,null,"Bonos de productividad gravados ",0]
[null,null,"Fallos de caja gravados ",0]
[null,null,"Conceptos de similar naturaleza gravados ",0]
[null,null,"Bonos de productividad exentos ",0]
[null,null,"Fallos de caja exentos ",0]
[null,null,"Conceptos de similar naturaleza exentos ",0]
[null,null,"Compensación de gastos teletrabajo - exentos ",0]
[null,null,"Personal militar - suplementos art. 57 Ley 19101 - exentos ",0]
[null,null,"SAC primera cuota - No alcanzado o exento ",0]
[null,null,"SAC segunda cuota - No alcanzado o exento ",0]
[null,null,"Ajustes períodos anteriores - Remuneración gravada ",0]
[null,null,"Ajustes períodos anteriores - Remuneración no alcanzada o exenta ",0]
[null,null,"TOTAL REMUNERACIÓN GRAVADA",{"$f":"SUM(D21:E27,D44,D47:D53,D70)","v":2552056.31}]
[null,null,"TOTAL REMUNERACIÓN NO ALCANZADA O EXENTA",{"$f":"SUM(D28:D43,D45,D54:D69,D71)","v":0}]
[null,null,"TOTAL REMUNERACIONES",{"$f":"IF(+D72+D73<0,0,D72+D73)","v":2552056.31}]
[]
[null,null,"DEDUCCIONES GENERALES",null,null,null,null,"Topes máximos legales"]
[null,null,"Aportes a fondos de jubilaciones, retiros, pensiones o subsidios que se destinen a cajas nacionales, provinciales o municipales",312208.07,null,{"$f":"validaciones(D77,H77,0)&IF(D77>$D$74,\" El importe no puede ser mayor a la remuneración total\",\"\")","v":""}]
[null,null,"Aportes a fondos de jubilaciones, retiros, pensiones o subsidios que se destinen a cajas nacionales, provinciales o municipales por otros empleos",0,null,{"$f":"validaciones(D78,H78,0)&IF(D78>$D$74,\" El importe no puede ser mayor a la remuneración total\",\"\")","v":""}]
[null,null,"Aportes a obra sociales",66901.73,null,{"$f":"validaciones(D79,H79,0)&IF(D79>$D$74,\" El importe no puede ser mayor a la remuneración total\",\"\")","v":""}]
[null,null,"Aportes a obra sociales por otros empleos",0,null,{"$f":"validaciones(D80,H80,0)&IF(D80>$D$74,\" El importe no puede ser mayor a la remuneración total\",\"\")","v":""}]
[null,null,"Cuota sindical",66242.91,null,{"$f":"validaciones(D81,H81,0)&IF(D81>$D$74,\" El importe no puede ser mayor a la remuneración total\",\"\")","v":""}]
[null,null,"Cuota sindical por otros empleos",0,null,{"$f":"validaciones(D82,H82,0)&IF(D82>$D$74,\" El importe no puede ser mayor a la remuneración total\",\"\")","v":""}]
[null,null,"Cuotas médico asistenciales",0,null,{"$f":"validaciones(D83,H83,0)","v":""},null,{"$f":"(D72-SUM(D77:D82,D84:D89,D91,D93:D94,D95:D103))*0.05","v":105335.18000000001}]
[null,null,"Primas de seguro para el caso de muerte",0,null,{"$f":"validaciones(D84,H84,0)&IF(AND(Datos!$C$11=\"Informativa\",D84<>0),\"En la DDJJ informativa, este campo debe consignarse en cero (0)\",\"\")","v":""},null,{"$f":"+Tablas!B2","v":24000}]
[null,null,"Primas por riesgo de muerte y de ahorro de seguros mixtos, excepto para los casos de seguros de retiro privados administrados por entidades sujetas al control de la Superintendencia de Seguros de la Nación",0,null,{"$f":"validaciones(D85,H85,0)&IF(AND(Datos!$C$11=\"Informativa\",D85<>0),\"En la DDJJ informativa, este campo debe consignarse en cero (0)\",\"\")","v":""},null,{"$f":"+H84","v":24000}]
[null,null,"Aportes a planes de seguro de retiro privados administrados por entidades sujetas al control de la Superintendencia de Seguros de la Nación",0,null,{"$f":"validaciones(D86,H86,0)&IF(AND(Datos!$C$11=\"Informativa\",D86<>0),\"En la DDJJ informativa, este campo debe consignarse en cero (0)\",\"\")","v":""},null,{"$f":"+H85","v":24000}]
[null,null,"Cuotapartes de fondos comunes de inversión constituidos con fines de retiro",0,null,{"$f":"validaciones(D87,H87,0)&IF(D87<>0,\"Deberá consignarse en cero (0), hasta que la Autoridad de Aplicación – CNV – autorice a las Entidades a funcionar e implemente el régimen.\",\"\")","v":""},null,0]
[null,null,"Gastos de sepelio",0,null,{"$f":"validaciones(D88,H88,0)","v":""},null,{"$f":"+Tablas!B6","v":996.23}]
[null,null,"Gastos amortización e intereses rodado para corredores y viajantes de comercio",0,null,{"$f":"validaciones(D89,H89,0)&IF(D89>$D$74,\" El importe no puede ser mayor a la remuneración total\",\"\")","v":""}]
[null,null,"Donaciones a fiscos nacional, provinciales y municipales, y a instituciones comprendidas en el artículo 26, incisos e) y f) de la ley",0,null,{"$f":"validaciones(D90,H90,0)","v":""},null,{"$f":"(D72-SUM(D77:D82,D84:D89,D91,D93:D94,D95:D103))*0.05","v":105335.18000000001}]
[null,null,"Descuentos obligatorios establecidos por ley nacional, provincial o municipal",0,null,{"$f":"validaciones(D91,H91,0)&IF(D91>$D$74,\" El importe no puede ser mayor a la remuneración total\",\"\")","v":""}]
[null,null,"Honorarios por servicios de asistencia sanitaria, médica y paramédica",0,null,{"$f":"validaciones(D92,H92,0)&IF(AND(Datos!$C$11=\"Informativa\",D92<>0),\"En la DDJJ informativa, este campo debe consignarse en cero (0)\",\"\")","v":""},null,{"$f":"(D72-SUM(D77:D82,D84:D89,D91,D93:D94,D95:D103))*0.05","v":105335.18000000001}]
[null,null,"Intereses de créditos hipotecarios",0,null,{"$f":"validaciones(D93,H93,0)","v":""},null,{"$f":"+Tablas!B3","v":20000}]
[null,null,"Aportes al capital social o al fondo de riesgo de socios protectores de sociedades de garantía recíproca",0,null,{"$f":"validaciones(D94,H94,0)","v":""}]
[null,null,"Alquileres de inmuebles destinados a casa habitación",0,null,{"$f":"validaciones(D95,H95,0)","v":""},null,{"$f":"IF(Datos!C11=\"Final\",ROUND(Tablas!B4/12*12,2),ROUND(Tablas!B4/12*MONTH(Datos!C13),2))","v":167678.39999999999}]
[null,null,"Empleados del servicio doméstico",0,null,{"$f":"validaciones(D96,H96,0)","v":""},null,{"$f":"Tablas!B4","v":167678.39999999999}]
[null,null,"Gastos de movilidad, viáticos y otras compensaciones análogas abonados por el empleador",0,null,{"$f":"validaciones(D97,H97,0)","v":""},null,{"$f":"IF(D13=\"Desarrolla la actividad\",Tablas!B4,Tablas!B4*0.4)","v":67071.360000000001}]
[null,null,"Gastos por adquisición de indumentaria y/o equipamiento de trabajo",0,null,{"$f":"validaciones(D98,H98,0)","v":""}]
[null,null,"Otras deducciones - aportes a Cajas Complementarias de Previsión, Fondos Compensadores de Previsión o similares",0,null,{"$f":"validaciones(D99,H99,0)","v":""}]
[null,null,"Otras deducciones - Aportes para jubilaciones, retiros y subsidios ANSES",0,null,{"$f":"validaciones(D100,H100,0)","v":""}]
[null,null,"Otras deducciones - Cajas Provinciales o Municipales o de Previsión para Profesionales",0,null,{"$f":"validaciones(D101,H101,0)","v":""}]
[null,null,"Otras deducciones - Actores - Retribución pagada a los representantes - RG 2442/08",0,null,{"$f":"validaciones(D102,H102,0)","v":""}]
[null,null,"Otras deducciones - Fondos compensadores de previsión",0,null,{"$f":"validaciones(D103,H103,0)","v":""}]
[null,null,"Otras deducciones",{"$f":"+SUM(D99:E103)","v":0}]
[null,null,"TOTAL DEDUCCIONES GENERALES",{"$f":"SUM(D77:E103)","v":445352.70999999996},null,null,null,null,null,null,{"$f":"+D72-D105","v":2106703.6}]
[]
[null,null,"DEDUCCIONES PERSONALES",null,null,null,null,"Topes máximos legales"]
[null,null,"Ganancia no imponible",167678.39999999999,null,{"$f":"validaciones(D108,H108,0)","v":""},null,{"$f":"deducciones(1,Datos!C11,MONTH(Datos!$C$13),$D$12)","v":167678.39999999999},null,null,{"$f":"IF(K105-K109<=0,0,IF(K105-K109<=H108,K105-K109,H108))","v":167678.39999999999}]
[null,null,"Deducción especial",804856.34,null,{"$f":"validaciones(D109,H109,0)","v":""},null,{"$f":"deducciones(2,Datos!$C$11,MONTH(Datos!$C$13),$D$12)","v":804856.34},null,null,{"$f":"IF(K105<=H109,K105,H109)","v":804856.34}]
[null,null,"Deducción Especial Incrementada Primera parte del penúltimo párrafo del inciso c) del artículo 30 de la ley del gravamen",775707.31]
[null,null,"Deducción Especial Incrementada Segunda parte del penúltimo párrafo del inciso c) del artículo 30 de la ley del gravamen",0]
[null,null,"Deducción específica",0,null,{"$f":"validaciones(D112,H112,0)","v":""},null,0]
[null,null,"Cargas de familia"]
[null,null,"Cónyuge",0,null,{"$f":"validaciones(D114,H114,0)","v":""},null,{"$f":"cargas_de_familia(4,Datos!$C$11,MONTH(Datos!$C$13),$D$12)","v":156320.63},null,null,{"$f":"IF(K105-K108-K109>=D114,D114,K105-K108-K109)","v":0}]
[null,null,"Cantidad de hijos e hijastros",0,null,{"$f":"validaciones(D115,H115,0)","v":""},null,99]
[null,null,"Deducción total hijos e hijastros",0,null,null,null,{"$f":"cargas_de_familia(3,Datos!$C$11,MONTH(Datos!$C$13),$D$12)*D115","v":0},null,null,{"$f":"IF(K105-K108-K109-K114>=D116,D116,K105-K108-K109-K114)","v":0}]
[null,null,"Cantidad de hijos e hijastros incapacitados para el trabajo",0,null,{"$f":"validaciones(D117,H117,0)","v":""},null,99]
[null,null,"Hijos / Hijastros incapacitados para el trabajo",0,null,null,null,{"$f":"cargas_de_familia(5,Datos!$C$11,MONTH(Datos!$C$13),$D$12)","v":157666.16}]
[null,null,"Total de cargas de familia",{"$f":"+D114+D116+D118","v":0},null,null,null,0]
[null,null,"TOTAL DEDUCCIONES PERSONALES",{"$f":"SUM(D108:D112,D119)","v":1748242.05}]
[]
[null,null,"DETERMINACIÓN DEL IMPUESTO"]
[null,null,"REMUNERACIÓN NETA SUJETA A IMPUESTO -antes de la deducción art. 46 L. 27541-",0]
[null,null,"Deducción inciso a) primer párrafo artículo 30 de la ley (cfr. art. 46 L. 27541)",0,null,null,null,0,null,null,{"$f":"IF(D123-K125<=0,0,IF(D123-K125<=H124,D123-K125,H124))","v":0}]
[null,null,"Deducción inciso c) primer párrafo artículo 30 de la ley (cfr. art. 46 L. 27541)",0,null,null,null,0,null,null,{"$f":"IF(D123<=H125,D123,H125)","v":0}]
[null,null,"REMUNERACIÓN SUJETA A IMPUESTO",{"$f":"IF(+D72-D105-D120<0,0,+D72-D105-D120)","v":358461.55000000005}]
[null,null,"Alícuota aplicable artículo 94 ley de impuesto a las ganancias",{"$f":"IF(OR(Datos!C11=\"Final\",Datos!C11=\"Anual\"),impuestoAlicuota(D126,D25*(1-G25)+D51*(1-G51),12),impuestoAlicuota(D126,D25*(1-G25)+D51*(1-G51),MONTH(D11)))","v":0.19}]
[null,null,"Alícuota aplicable sin incluir horas extras",{"$f":"IF(OR(Datos!C11=\"Final\",Datos!C11=\"Anual\"),impuestoAlicuota(D126,0,12),impuestoAlicuota(D126,0,MONTH(D11)))","v":0.19}]
[null,null,"IMPUESTO DETERMINADO",{"$f":"IF(D126<0,0,IF(OR(Datos!C11=\"Final\",Datos!C11=\"Anual\"),impuestoDeterminado(D126,D25*(1-G25)+D51*(1-G51),12),impuestoDeterminado(D126,D25*(1-G25)+D51*(1-G51),MONTH(D11))))","v":45521.274299999997}]
[null,null,"Impuesto retenido",0]
[null,null,"Pagos a cuenta - Impuesto sobre créditos y débitos",0,null,{"$f":"IF(AND(Datos!$C$11=\"Informativa\",D131<>0),\"En la DDJJ informativa, este campo debe consignarse en cero (0)\",\"\")","v":""}]
[null,null,"Pagos a cuenta - Percepciones / Retenciones aduaneras",0,null,{"$f":"IF(AND(Datos!$C$11=\"Informativa\",D132<>0),\"En la DDJJ informativa, este campo debe consignarse en cero (0)\",\"\")","v":""}]
[null,null,"Pagos a cuenta - RG (AFIP) 3819/2015 - Cancelaciones en efectivo",0,null,{"$f":"IF(AND(Datos!$C$11=\"Informativa\",D133<>0),\"En la DDJJ informativa, este campo debe consignarse en cero (0)\",\"\")","v":""}]
[null,null,"Pagos a cuenta - Bono ley 27.424",0,null,{"$f":"IF(AND(Datos!$C$11=\"Informativa\",D134<>0),\"En la DDJJ informativa, este campo debe consignarse en cero (0)\",\"\")","v":""}]
[null,null,"Pagos a cuenta - RG 4815 [LEY 27.541 Art. 35 inciso a)] ",51700.97,null,{"$f":"IF(AND(Datos!$C$11=\"Informativa\",D135<>0),\"En la DDJJ informativa, este campo debe consignarse en cero (0)\",\"\")","v":""}]
[null,null,"Pagos a cuenta - RG 4815 [LEY 27.541 Art. 35 inciso b)] ",0,null,{"$f":"IF(AND(Datos!$C$11=\"Informativa\",D136<>0),\"En la DDJJ informativa, este campo debe consignarse en cero (0)\",\"\")","v":""}]
[null,null,"Pagos a cuenta - RG 4815 [LEY 27.541 Art. 35 inciso c)] ",0,null,{"$f":"IF(AND(Datos!$C$11=\"Informativa\",D137<>0),\"En la DDJJ informativa, este campo debe consignarse en cero (0)\",\"\")","v":""}]
[null,null,"Pagos a cuenta - RG 4815 [LEY 27.541 Art. 35 inciso d)] ",0,null,{"$f":"IF(AND(Datos!$C$11=\"Informativa\",D138<>0),\"En la DDJJ informativa, este campo debe consignarse en cero (0)\",\"\")","v":""}]
[null,null,"Pagos a cuenta - RG 4815 [LEY 27.541 Art. 35 inciso e)] ",0,null,{"$f":"IF(AND(Datos!$C$11=\"Informativa\",D139<>0),\"En la DDJJ informativa, este campo debe consignarse en cero (0)\",\"\")","v":""}]
[null,null,"Pagos a cuenta - Impuesto sobre créditos y débitos - sobre movimientos de fondos propios o de terceros",0,null,{"$f":"IF(AND(Datos!$C$11=\"Informativa\",D140<>0),\"En la DDJJ informativa, este campo debe consignarse en cero (0)\",\"\")","v":""}]
[null,null,"Pagos a cuenta - Resolución General (AFIP) 3819/2015 - Cancelaciones en Efectivo -Servicios de transporte terrestre, aéreo y por vía acuática de pasajeros con destino fuera del país",0,null,{"$f":"IF(AND(Datos!$C$11=\"Informativa\",D141<>0),\"En la DDJJ informativa, este campo debe consignarse en cero (0)\",\"\")","v":""}]
[null,null,"Total pagos a cuenta",{"$f":"SUM(D131:D141)","v":51700.97}]
[null,null,"SALDO A PAGAR",{"$f":"+ROUND(D129,2)-D130-D142","v":-6179.7000000000044}]

{"sheet":"Empleado19","index":23,"n_rows":143,"n_cols":11,"rows_kept":143,"cut":false,"hidden":false,"merged":[[10,7,11,9]]}
[]
[]
[null,null,"LIQUIDACIÓN DE IMPUESTO A LAS GANANCIAS - 4ta. CATEGORÍA RELACIÓN DE DEPENDENCIA"]
[]
[]
[null,null,"Empleado: Nombre y apellido ","LESCARAY PAZ ANA BELEN"]
[null,null,"CUIL del empleado",27385959538,null,{"$f":"cuitValidar(D7)","v":"CUIT/CUIL Válido"}]
[null,null,{"$f":"\"Agente de Retención: \"","v":"Agente de Retención: "},{"$f":"Datos!C7&\" - \"&Datos!C5","v":"33711238269 - OPERACIONES AGROPORTUARIAS S.A."}]
[null,null,{"$f":"\"Período Fiscal: \"","v":"Período Fiscal: "},{"$f":"YEAR(Datos!C13)","v":2021}]
[null,null,"Período trabajado (desde):","2021-01-01"]
[null,null,"Período trabajado (hasta):","2021-09-25",null,null,null,{"$f":"IF(MONTH(D11)>MONTH(Datos!C13),\"El período trabajado no puede ser mayor al período que se informa (mes \"&MONTH(Datos!C13)&\")\",\"\")","v":""}]
[null,null,"Zona geográfica:","Todo el país (excepto zona patagónica)"]
[null,null,"Transporte a larga distancia","No desarrolla la actividad"]
[null,null,"Beneficio promocional 27424?","No"]
[null,null,"Beneficio de la ley 27549?","No"]
[null,null,"El trabajador labora bajo el régimen de teletrabajo (Ley 27555)?","No"]
[null,null,"El trabajador es personal militar en actividad?","No"]
[]
[null,null,"REMUNERACIONES"]
[null,null,"Abonadas por el agente de retención:"]
[null,null,"Remuneración bruta gravada",1857750.27]
[null,null,"Retribuciones no habituales gravadas",0]
[null,null,"SAC primera cuota gravado",0]
[null,null,"SAC segunda cuota gravado",0]
[null,null,"Horas extras remuneración gravada",0,null,null,0,"% de retenciones"]
[null,null,"Movilidad y viáticos remuneración gravada",0]
[null,null,"Material didáctico personal docente remuneración gravada",0]
[null,null,"Remuneración no alcanzada o exenta (sin horas extras)",0]
[null,null,"Remuneración exenta ley 27549",0,null,{"$f":"IF(AND($D$15=\"No\",D29<>0),\"Para que sea procedente el beneficio, modifique el valor en la celda D15\",\"\")","v":""}]
[null,null,"Retribuciones no habituales exentas o no alcanzadas",0]
[null,null,"Horas extras remuneración exenta",0]
[null,null,"Movilidad y viáticos remuneración exenta",0]
[null,null,"Material didáctico personal docente remuneración exenta",0]
[null,null,"Bonos de productividad gravados",0]
[null,null,"Fallos de caja gravados",0]
[null,null,"Conceptos de similar naturaleza gravados",0]
[null,null,"Bonos de productividad exentos",0]
[null,null,"Fallos de caja exentos",0]
[null,null,"Conceptos de similar naturaleza exentos",0]
[null,null,"Compensación de gastos de teletrabajo exentos",0]
[null,null,"Personal militar - suplementos art. 57 ley 19.101 - exentos",0]
[null,null,"SAC primera cuota - No alcanzado o exento",0]
[null,null,"SAC segunda cuota - No alcanzado o exento",0]
[null,null,"Ajustes períodos anteriores - Remuneración gravada",0]
[null,null,"Ajustes períodos anteriores - Remuneración exenta / no alcanzada",0]
[null,null,"Otros empleos:"]
[null,null,"Remuneración bruta gravada ",0]
[null,null,"Retribuciones no habituales gravadas ",0]
[null,null,"SAC primera cuota gravado ",0]
[null,null,"SAC segunda cuota gravado ",0]
[null,null,"Horas extras remuneración gravada ",0,null,null,0,"% de retenciones"]
[null,null,"Movilidad y viáticos remuneración gravada ",0]
[null,null,"Material didáctico personal docente remuneración gravada ",0]
[null,null,"Remuneración no alcanzada o exenta ",0]
[null,null,"Remuneración exenta ley 27549 ",0,null,{"$f":"IF(AND($D$15=\"No\",D55<>0),\"Para que sea procedente el beneficio, modifique el valor en la celda D15\",\"\")","v":""}]
[null,null,"Retribuciones no habituales exentas o no alcanzadas ",0]
[null,null,"Horas extras remuneración exenta o no alcanzada ",0]
[null,null,"Movilidad y viáticos remuneración exenta o no alcanzada ",0]
[null,null,"Material didáctico personal docente remuneración exenta o no alcanzada ",0]
[null,null,"Bonos de productividad gravados ",0]
[null,null,"Fallos de caja gravados ",0]
[null,null,"Conceptos de similar naturaleza gravados ",0]
[null,null,"Bonos de productividad exentos ",0]
[null,null,"Fallos de caja exentos ",0]
[null,null,"Conceptos de similar naturaleza exentos ",0]
[null,null,"Compensación de gastos teletrabajo - exentos ",0]
[null,null,"Personal militar - suplementos art. 57 Ley 19101 - exentos ",0]
[null,null,"SAC primera cuota - No alcanzado o exento ",0]
[null,null,"SAC segunda cuota - No alcanzado o exento ",0]
[null,null,"Ajustes períodos anteriores - Remuneración gravada ",0]
[null,null,"Ajustes períodos anteriores - Remuneración no alcanzada o exenta ",0]
[null,null,"TOTAL REMUNERACIÓN GRAVADA",{"$f":"SUM(D21:E27,D44,D47:D53,D70)","v":1857750.27}]
[null,null,"TOTAL REMUNERACIÓN NO ALCANZADA O EXENTA",{"$f":"SUM(D28:D43,D45,D54:D69,D71)","v":0}]
[null,null,"TOTAL REMUNERACIONES",{"$f":"IF(+D72+D73<0,0,D72+D73)","v":1857750.27}]
[]
[null,null,"DEDUCCIONES GENERALES",null,null,null,null,"Topes máximos legales"]
[null,null,"Aportes a fondos de jubilaciones, retiros, pensiones o subsidios que se destinen a cajas nacionales, provinciales o municipales",225324.39,null,{"$f":"validaciones(D77,H77,0)&IF(D77>$D$74,\" El importe no puede ser mayor a la remuneración total\",\"\")","v":""}]
[null,null,"Aportes a fondos de jubilaciones, retiros, pensiones o subsidios que se destinen a cajas nacionales, provinciales o municipales por otros empleos",0,null,{"$f":"validaciones(D78,H78,0)&IF(D78>$D$74,\" El importe no puede ser mayor a la remuneración total\",\"\")","v":""}]
[null,null,"Aportes a obra sociales",48283.8,null,{"$f":"validaciones(D79,H79,0)&IF(D79>$D$74,\" El importe no puede ser mayor a la remuneración total\",\"\")","v":""}]
[null,null,"Aportes a obra sociales por otros empleos",0,null,{"$f":"validaciones(D80,H80,0)&IF(D80>$D$74,\" El importe no puede ser mayor a la remuneración total\",\"\")","v":""}]
[null,null,"Cuota sindical",53808.91,null,{"$f":"validaciones(D81,H81,0)&IF(D81>$D$74,\" El importe no puede ser mayor a la remuneración total\",\"\")","v":""}]
[null,null,"Cuota sindical por otros empleos",0,null,{"$f":"validaciones(D82,H82,0)&IF(D82>$D$74,\" El importe no puede ser mayor a la remuneración total\",\"\")","v":""}]
[null,null,"Cuotas médico asistenciales",0,null,{"$f":"validaciones(D83,H83,0)","v":""},null,{"$f":"(D72-SUM(D77:D82,D84:D89,D91,D93:D94,D95:D103))*0.05","v":76516.658500000005}]
[null,null,"Primas de seguro para el caso de muerte",0,null,{"$f":"validaciones(D84,H84,0)&IF(AND(Datos!$C$11=\"Informativa\",D84<>0),\"En la DDJJ informativa, este campo debe consignarse en cero (0)\",\"\")","v":""},null,{"$f":"+Tablas!B2","v":24000}]
[null,null,"Primas por riesgo de muerte y de ahorro de seguros mixtos, excepto para los casos de seguros de retiro privados administrados por entidades sujetas al control de la Superintendencia de Seguros de la Nación",0,null,{"$f":"validaciones(D85,H85,0)&IF(AND(Datos!$C$11=\"Informativa\",D85<>0),\"En la DDJJ informativa, este campo debe consignarse en cero (0)\",\"\")","v":""},null,{"$f":"+H84","v":24000}]
[null,null,"Aportes a planes de seguro de retiro privados administrados por entidades sujetas al control de la Superintendencia de Seguros de la Nación",0,null,{"$f":"validaciones(D86,H86,0)&IF(AND(Datos!$C$11=\"Informativa\",D86<>0),\"En la DDJJ informativa, este campo debe consignarse en cero (0)\",\"\")","v":""},null,{"$f":"+H85","v":24000}]
[null,null,"Cuotapartes de fondos comunes de inversión constituidos con fines de retiro",0,null,{"$f":"validaciones(D87,H87,0)&IF(D87<>0,\"Deberá consignarse en cero (0), hasta que la Autoridad de Aplicación – CNV – autorice a las Entidades a funcionar e implemente el régimen.\",\"\")","v":""},null,0]
[null,null,"Gastos de sepelio",0,null,{"$f":"validaciones(D88,H88,0)","v":""},null,{"$f":"+Tablas!B6","v":996.23}]
[null,null,"Gastos amortización e intereses rodado para corredores y viajantes de comercio",0,null,{"$f":"validaciones(D89,H89,0)&IF(D89>$D$74,\" El importe no puede ser mayor a la remuneración total\",\"\")","v":""}]
[null,null,"Donaciones a fiscos nacional, provinciales y municipales, y a instituciones comprendidas en el artículo 26, incisos e) y f) de la ley",0,null,{"$f":"validaciones(D90,H90,0)","v":""},null,{"$f":"(D72-SUM(D77:D82,D84:D89,D91,D93:D94,D95:D103))*0.05","v":76516.658500000005}]
[null,null,"Descuentos obligatorios establecidos por ley nacional, provincial o municipal",0,null,{"$f":"validaciones(D91,H91,0)&IF(D91>$D$74,\" El importe no puede ser mayor a la remuneración total\",\"\")","v":""}]
[null,null,"Honorarios por servicios de asistencia sanitaria, médica y paramédica",0,null,{"$f":"validaciones(D92,H92,0)&IF(AND(Datos!$C$11=\"Informativa\",D92<>0),\"En la DDJJ informativa, este campo debe consignarse en cero (0)\",\"\")","v":""},null,{"$f":"(D72-SUM(D77:D82,D84:D89,D91,D93:D94,D95:D103))*0.05","v":76516.658500000005}]
[null,null,"Intereses de créditos hipotecarios",0,null,{"$f":"validaciones(D93,H93,0)","v":""},null,{"$f":"+Tablas!B3","v":20000}]
[null,null,"Aportes al capital social o al fondo de riesgo de socios protectores de sociedades de garantía recíproca",0,null,{"$f":"validaciones(D94,H94,0)","v":""}]
[null,null,"Alquileres de inmuebles destinados a casa habitación",0,null,{"$f":"validaciones(D95,H95,0)","v":""},null,{"$f":"IF(Datos!C11=\"Final\",ROUND(Tablas!B4/12*12,2),ROUND(Tablas!B4/12*MONTH(Datos!C13),2))","v":167678.39999999999}]
[null,null,"Empleados del servicio doméstico",0,null,{"$f":"validaciones(D96,H96,0)","v":""},null,{"$f":"Tablas!B4","v":167678.39999999999}]
[null,null,"Gastos de movilidad, viáticos y otras compensaciones análogas abonados por el empleador",0,null,{"$f":"validaciones(D97,H97,0)","v":""},null,{"$f":"IF(D13=\"Desarrolla la actividad\",Tablas!B4,Tablas!B4*0.4)","v":67071.360000000001}]
[null,null,"Gastos por adquisición de indumentaria y/o equipamiento de trabajo",0,null,{"$f":"validaciones(D98,H98,0)","v":""}]
[null,null,"Otras deducciones - aportes a Cajas Complementarias de Previsión, Fondos Compensadores de Previsión o similares",0,null,{"$f":"validaciones(D99,H99,0)","v":""}]
[null,null,"Otras deducciones - Aportes para jubilaciones, retiros y subsidios ANSES",0,null,{"$f":"validaciones(D100,H100,0)","v":""}]
[null,null,"Otras deducciones - Cajas Provinciales o Municipales o de Previsión para Profesionales",0,null,{"$f":"validaciones(D101,H101,0)","v":""}]
[null,null,"Otras deducciones - Actores - Retribución pagada a los representantes - RG 2442/08",0,null,{"$f":"validaciones(D102,H102,0)","v":""}]
[null,null,"Otras deducciones - Fondos compensadores de previsión",0,null,{"$f":"validaciones(D103,H103,0)","v":""}]
[null,null,"Otras deducciones",{"$f":"+SUM(D99:E103)","v":0}]
[null,null,"TOTAL DEDUCCIONES GENERALES",{"$f":"SUM(D77:E103)","v":327417.09999999998},null,null,null,null,null,null,{"$f":"+D72-D105","v":1530333.17}]
[]
[null,null,"DEDUCCIONES PERSONALES",null,null,null,null,"Topes máximos legales"]
[null,null,"Ganancia no imponible",167678.39999999999,null,{"$f":"validaciones(D108,H108,0)","v":""},null,{"$f":"deducciones(1,Datos!C11,MONTH(Datos!$C$13),$D$12)","v":167678.39999999999},null,null,{"$f":"IF(K105-K109<=0,0,IF(K105-K109<=H108,K105-K109,H108))","v":167678.39999999999}]
[null,null,"Deducción especial",804856.34,null,{"$f":"validaciones(D109,H109,0)","v":""},null,{"$f":"deducciones(2,Datos!$C$11,MONTH(Datos!$C$13),$D$12)","v":804856.34},null,null,{"$f":"IF(K105<=H109,K105,H109)","v":804856.34}]
[null,null,"Deducción Especial Incrementada Primera parte del penúltimo párrafo del inciso c) del artículo 30 de la ley del gravamen",287754.46999999997]
[null,null,"Deducción Especial Incrementada Segunda parte del penúltimo párrafo del inciso c) del artículo 30 de la ley del gravamen",0]
[null,null,"Deducción específica",0,null,{"$f":"validaciones(D112,H112,0)","v":""},null,0]
[null,null,"Cargas de familia"]
[null,null,"Cónyuge",0,null,{"$f":"validaciones(D114,H114,0)","v":""},null,{"$f":"cargas_de_familia(4,Datos!$C$11,MONTH(Datos!$C$13),$D$12)","v":156320.63},null,null,{"$f":"IF(K105-K108-K109>=D114,D114,K105-K108-K109)","v":0}]
[null,null,"Cantidad de hijos e hijastros",0,null,{"$f":"validaciones(D115,H115,0)","v":""},null,99]
[null,null,"Deducción total hijos e hijastros",0,null,null,null,{"$f":"cargas_de_familia(3,Datos!$C$11,MONTH(Datos!$C$13),$D$12)*D115","v":0},null,null,{"$f":"IF(K105-K108-K109-K114>=D116,D116,K105-K108-K109-K114)","v":0}]
[null,null,"Cantidad de hijos e hijastros incapacitados para el trabajo",0,null,{"$f":"validaciones(D117,H117,0)","v":""},null,99]
[null,null,"Hijos / Hijastros incapacitados para el trabajo",0,null,null,null,{"$f":"cargas_de_familia(5,Datos!$C$11,MONTH(Datos!$C$13),$D$12)","v":157666.16}]
[null,null,"Total de cargas de familia",{"$f":"+D114+D116+D118","v":0},null,null,null,0]
[null,null,"TOTAL DEDUCCIONES PERSONALES",{"$f":"SUM(D108:D112,D119)","v":1260289.21}]
[]
[null,null,"DETERMINACIÓN DEL IMPUESTO"]
[null,null,"REMUNERACIÓN NETA SUJETA A IMPUESTO -antes de la deducción art. 46 L. 27541-",0]
[null,null,"Deducción inciso a) primer párrafo artículo 30 de la ley (cfr. art. 46 L. 27541)",0,null,null,null,0,null,null,{"$f":"IF(D123-K125<=0,0,IF(D123-K125<=H124,D123-K125,H124))","v":0}]
[null,null,"Deducción inciso c) primer párrafo artículo 30 de la ley (cfr. art. 46 L. 27541)",0,null,null,null,0,null,null,{"$f":"IF(D123<=H125,D123,H125)","v":0}]
[null,null,"REMUNERACIÓN SUJETA A IMPUESTO",{"$f":"IF(+D72-D105-D120<0,0,+D72-D105-D120)","v":270043.95999999996}]
[null,null,"Alícuota aplicable artículo 94 ley de impuesto a las ganancias",{"$f":"IF(OR(Datos!C11=\"Final\",Datos!C11=\"Anual\"),impuestoAlicuota(D126,D25*(1-G25)+D51*(1-G51),12),impuestoAlicuota(D126,D25*(1-G25)+D51*(1-G51),MONTH(D11)))","v":0.19}]
[null,null,"Alícuota aplicable sin incluir horas extras",{"$f":"IF(OR(Datos!C11=\"Final\",Datos!C11=\"Anual\"),impuestoAlicuota(D126,0,12),impuestoAlicuota(D126,0,MONTH(D11)))","v":0.19}]
[null,null,"IMPUESTO DETERMINADO",{"$f":"IF(D126<0,0,IF(OR(Datos!C11=\"Final\",Datos!C11=\"Anual\"),impuestoDeterminado(D126,D25*(1-G25)+D51*(1-G51),12),impuestoDeterminado(D126,D25*(1-G25)+D51*(1-G51),MONTH(D11))))","v":28721.932200000007}]
[null,null,"Impuesto retenido",0]
[null,null,"Pagos a cuenta - Impuesto sobre créditos y débitos",0,null,{"$f":"IF(AND(Datos!$C$11=\"Informativa\",D131<>0),\"En la DDJJ informativa, este campo debe consignarse en cero (0)\",\"\")","v":""}]
[null,null,"Pagos a cuenta - Percepciones / Retenciones aduaneras",0,null,{"$f":"IF(AND(Datos!$C$11=\"Informativa\",D132<>0),\"En la DDJJ informativa, este campo debe consignarse en cero (0)\",\"\")","v":""}]
[null,null,"Pagos a cuenta - RG (AFIP) 3819/2015 - Cancelaciones en efectivo",0,null,{"$f":"IF(AND(Datos!$C$11=\"Informativa\",D133<>0),\"En la DDJJ informativa, este campo debe consignarse en cero (0)\",\"\")","v":""}]
[null,null,"Pagos a cuenta - Bono ley 27.424",0,null,{"$f":"IF(AND(Datos!$C$11=\"Informativa\",D134<>0),\"En la DDJJ informativa, este campo debe consignarse en cero (0)\",\"\")","v":""}]
[null,null,"Pagos a cuenta - RG 4815 [LEY 27.541 Art. 35 inciso a)] ",29258.25,null,{"$f":"IF(AND(Datos!$C$11=\"Informativa\",D135<>0),\"En la DDJJ informativa, este campo debe consignarse en cero (0)\",\"\")","v":""}]
[null,null,"Pagos a cuenta - RG 4815 [LEY 27.541 Art. 35 inciso b)] ",0,null,{"$f":"IF(AND(Datos!$C$11=\"Informativa\",D136<>0),\"En la DDJJ informativa, este campo debe consignarse en cero (0)\",\"\")","v":""}]
[null,null,"Pagos a cuenta - RG 4815 [LEY 27.541 Art. 35 inciso c)] ",0,null,{"$f":"IF(AND(Datos!$C$11=\"Informativa\",D137<>0),\"En la DDJJ informativa, este campo debe consignarse en cero (0)\",\"\")","v":""}]
[null,null,"Pagos a cuenta - RG 4815 [LEY 27.541 Art. 35 inciso d)] ",0,null,{"$f":"IF(AND(Datos!$C$11=\"Informativa\",D138<>0),\"En la DDJJ informativa, este campo debe consignarse en cero (0)\",\"\")","v":""}]
[null,null,"Pagos a cuenta - RG 4815 [LEY 27.541 Art. 35 inciso e)] ",0,null,{"$f":"IF(AND(Datos!$C$11=\"Informativa\",D139<>0),\"En la DDJJ informativa, este campo debe consignarse en cero (0)\",\"\")","v":""}]
[null,null,"Pagos a cuenta - Impuesto sobre créditos y débitos - sobre movimientos de fondos propios o de terceros",0,null,{"$f":"IF(AND(Datos!$C$11=\"Informativa\",D140<>0),\"En la DDJJ informativa, este campo debe consignarse en cero (0)\",\"\")","v":""}]
[null,null,"Pagos a cuenta - Resolución General (AFIP) 3819/2015 - Cancelaciones en Efectivo -Servicios de transporte terrestre, aéreo y por vía acuática de pasajeros con destino fuera del país",0,null,{"$f":"IF(AND(Datos!$C$11=\"Informativa\",D141<>0),\"En la DDJJ informativa, este campo debe consignarse en cero (0)\",\"\")","v":""}]
[null,null,"Total pagos a cuenta",{"$f":"SUM(D131:D141)","v":29258.25}]
[null,null,"SALDO A PAGAR",{"$f":"+ROUND(D129,2)-D130-D142","v":-536.31999999999971}]

{"sheet":"Empleado20","index":24,"n_rows":143,"n_cols":11,"rows_kept":143,"cut":false,"hidden":false,"merged":[[10,7,11,9]]}
[]
[]
[null,null,"LIQUIDACIÓN DE IMPUESTO A LAS GANANCIAS - 4ta. CATEGORÍA RELACIÓN DE DEPENDENCIA"]
[]
[]
[null,null,"Empleado: Nombre y apellido ","BRUCELLARIA CRISTIAN JOSE"]
[null,null,"CUIL del empleado",20233894754,null,{"$f":"cuitValidar(D7)","v":"CUIT/CUIL Válido"}]
[null,null,{"$f":"\"Agente de Retención: \"","v":"Agente de Retención: "},{"$f":"Datos!C7&\" - \"&Datos!C5","v":"33711238269 - OPERACIONES AGROPORTUARIAS S.A."}]
[null,null,{"$f":"\"Período Fiscal: \"","v":"Período Fiscal: "},{"$f":"YEAR(Datos!C13)","v":2021}]
[null,null,"Período trabajado (desde):","2021-01-01"]
[null,null,"Período trabajado (hasta):","2021-09-25",null,null,null,{"$f":"IF(MONTH(D11)>MONTH(Datos!C13),\"El período trabajado no puede ser mayor al período que se informa (mes \"&MONTH(Datos!C13)&\")\",\"\")","v":""}]
[null,null,"Zona geográfica:","Todo el país (excepto zona patagónica)"]
[null,null,"Transporte a larga distancia","No desarrolla la actividad"]
[null,null,"Beneficio promocional 27424?","No"]
[null,null,"Beneficio de la ley 27549?","No"]
[null,null,"El trabajador labora bajo el régimen de teletrabajo (Ley 27555)?","No"]
[null,null,"El trabajador es personal militar en actividad?","No"]
[]
[null,null,"REMUNERACIONES"]
[null,null,"Abonadas por el agente de retención:"]
[null,null,"Remuneración bruta gravada",2238067.5]
[null,null,"Retribuciones no habituales gravadas",0]
[null,null,"SAC primera cuota gravado",0]
[null,null,"SAC segunda cuota gravado",0]
[null,null,"Horas extras remuneración gravada",0,null,null,0,"% de retenciones"]
[null,null,"Movilidad y viáticos remuneración gravada",0]
[null,null,"Material didáctico personal docente remuneración gravada",0]
[null,null,"Remuneración no alcanzada o exenta (sin horas extras)",0]
[null,null,"Remuneración exenta ley 27549",0,null,{"$f":"IF(AND($D$15=\"No\",D29<>0),\"Para que sea procedente el beneficio, modifique el valor en la celda D15\",\"\")","v":""}]
[null,null,"Retribuciones no habituales exentas o no alcanzadas",0]
[null,null,"Horas extras remuneración exenta",0]
[null,null,"Movilidad y viáticos remuneración exenta",0]
[null,null,"Material didáctico personal docente remuneración exenta",0]
[null,null,"Bonos de productividad gravados",0]
[null,null,"Fallos de caja gravados",0]
[null,null,"Conceptos de similar naturaleza gravados",0]
[null,null,"Bonos de productividad exentos",0]
[null,null,"Fallos de caja exentos",0]
[null,null,"Conceptos de similar naturaleza exentos",0]
[null,null,"Compensación de gastos de teletrabajo exentos",0]
[null,null,"Personal militar - suplementos art. 57 ley 19.101 - exentos",0]
[null,null,"SAC primera cuota - No alcanzado o exento",0]
[null,null,"SAC segunda cuota - No alcanzado o exento",0]
[null,null,"Ajustes períodos anteriores - Remuneración gravada",0]
[null,null,"Ajustes períodos anteriores - Remuneración exenta / no alcanzada",0]
[null,null,"Otros empleos:"]
[null,null,"Remuneración bruta gravada ",0]
[null,null,"Retribuciones no habituales gravadas ",0]
[null,null,"SAC primera cuota gravado ",0]
[null,null,"SAC segunda cuota gravado ",0]
[null,null,"Horas extras remuneración gravada ",0,null,null,0,"% de retenciones"]
[null,null,"Movilidad y viáticos remuneración gravada ",0]
[null,null,"Material didáctico personal docente remuneración gravada ",0]
[null,null,"Remuneración no alcanzada o exenta ",0]
[null,null,"Remuneración exenta ley 27549 ",0,null,{"$f":"IF(AND($D$15=\"No\",D55<>0),\"Para que sea procedente el beneficio, modifique el valor en la celda D15\",\"\")","v":""}]
[null,null,"Retribuciones no habituales exentas o no alcanzadas ",0]
[null,null,"Horas extras remuneración exenta o no alcanzada ",0]
[null,null,"Movilidad y viáticos remuneración exenta o no alcanzada ",0]
[null,null,"Material didáctico personal docente remuneración exenta o no alcanzada ",0]
[null,null,"Bonos de productividad gravados ",0]
[null,null,"Fallos de caja gravados ",0]
[null,null,"Conceptos de similar naturaleza gravados ",0]
[null,null,"Bonos de productividad exentos ",0]
[null,null,"Fallos de caja exentos ",0]
[null,null,"Conceptos de similar naturaleza exentos ",0]
[null,null,"Compensación de gastos teletrabajo - exentos ",0]
[null,null,"Personal militar - suplementos art. 57 Ley 19101 - exentos ",0]
[null,null,"SAC primera cuota - No alcanzado o exento ",0]
[null,null,"SAC segunda cuota - No alcanzado o exento ",0]
[null,null,"Ajustes períodos anteriores - Remuneración gravada ",0]
[null,null,"Ajustes períodos anteriores - Remuneración no alcanzada o exenta ",0]
[null,null,"TOTAL REMUNERACIÓN GRAVADA",{"$f":"SUM(D21:E27,D44,D47:D53,D70)","v":2238067.5}]
[null,null,"TOTAL REMUNERACIÓN NO ALCANZADA O EXENTA",{"$f":"SUM(D28:D43,D45,D54:D69,D71)","v":0}]
[null,null,"TOTAL REMUNERACIONES",{"$f":"IF(+D72+D73<0,0,D72+D73)","v":2238067.5}]
[]
[null,null,"DEDUCCIONES GENERALES",null,null,null,null,"Topes máximos legales"]
[null,null,"Aportes a fondos de jubilaciones, retiros, pensiones o subsidios que se destinen a cajas nacionales, provinciales o municipales",274652.42,null,{"$f":"validaciones(D77,H77,0)&IF(D77>$D$74,\" El importe no puede ser mayor a la remuneración total\",\"\")","v":""}]
[null,null,"Aportes a fondos de jubilaciones, retiros, pensiones o subsidios que se destinen a cajas nacionales, provinciales o municipales por otros empleos",0,null,{"$f":"validaciones(D78,H78,0)&IF(D78>$D$74,\" El importe no puede ser mayor a la remuneración total\",\"\")","v":""}]
[null,null,"Aportes a obra sociales",58854.09,null,{"$f":"validaciones(D79,H79,0)&IF(D79>$D$74,\" El importe no puede ser mayor a la remuneración total\",\"\")","v":""}]
[null,null,"Aportes a obra sociales por otros empleos",0,null,{"$f":"validaciones(D80,H80,0)&IF(D80>$D$74,\" El importe no puede ser mayor a la remuneración total\",\"\")","v":""}]
[null,null,"Cuota sindical",57666.080000000002,null,{"$f":"validaciones(D81,H81,0)&IF(D81>$D$74,\" El importe no puede ser mayor a la remuneración total\",\"\")","v":""}]
[null,null,"Cuota sindical por otros empleos",0,null,{"$f":"validaciones(D82,H82,0)&IF(D82>$D$74,\" El importe no puede ser mayor a la remuneración total\",\"\")","v":""}]
[null,null,"Cuotas médico asistenciales",0,null,{"$f":"validaciones(D83,H83,0)","v":""},null,{"$f":"(D72-SUM(D77:D82,D84:D89,D91,D93:D94,D95:D103))*0.05","v":92344.745500000005}]
[null,null,"Primas de seguro para el caso de muerte",0,null,{"$f":"validaciones(D84,H84,0)&IF(AND(Datos!$C$11=\"Informativa\",D84<>0),\"En la DDJJ informativa, este campo debe consignarse en cero (0)\",\"\")","v":""},null,{"$f":"+Tablas!B2","v":24000}]
[null,null,"Primas por riesgo de muerte y de ahorro de seguros mixtos, excepto para los casos de seguros de retiro privados administrados por entidades sujetas al control de la Superintendencia de Seguros de la Nación",0,null,{"$f":"validaciones(D85,H85,0)&IF(AND(Datos!$C$11=\"Informativa\",D85<>0),\"En la DDJJ informativa, este campo debe consignarse en cero (0)\",\"\")","v":""},null,{"$f":"+H84","v":24000}]
[null,null,"Aportes a planes de seguro de retiro privados administrados por entidades sujetas al control de la Superintendencia de Seguros de la Nación",0,null,{"$f":"validaciones(D86,H86,0)&IF(AND(Datos!$C$11=\"Informativa\",D86<>0),\"En la DDJJ informativa, este campo debe consignarse en cero (0)\",\"\")","v":""},null,{"$f":"+H85","v":24000}]
[null,null,"Cuotapartes de fondos comunes de inversión constituidos con fines de retiro",0,null,{"$f":"validaciones(D87,H87,0)&IF(D87<>0,\"Deberá consignarse en cero (0), hasta que la Autoridad de Aplicación – CNV – autorice a las Entidades a funcionar e implemente el régimen.\",\"\")","v":""},null,0]
[null,null,"Gastos de sepelio",0,null,{"$f":"validaciones(D88,H88,0)","v":""},null,{"$f":"+Tablas!B6","v":996.23}]
[null,null,"Gastos amortización e intereses rodado para corredores y viajantes de comercio",0,null,{"$f":"validaciones(D89,H89,0)&IF(D89>$D$74,\" El importe no puede ser mayor a la remuneración total\",\"\")","v":""}]
[null,null,"Donaciones a fiscos nacional, provinciales y municipales, y a instituciones comprendidas en el artículo 26, incisos e) y f) de la ley",0,null,{"$f":"validaciones(D90,H90,0)","v":""},null,{"$f":"(D72-SUM(D77:D82,D84:D89,D91,D93:D94,D95:D103))*0.05","v":92344.745500000005}]
[null,null,"Descuentos obligatorios establecidos por ley nacional, provincial o municipal",0,null,{"$f":"validaciones(D91,H91,0)&IF(D91>$D$74,\" El importe no puede ser mayor a la remuneración total\",\"\")","v":""}]
[null,null,"Honorarios por servicios de asistencia sanitaria, médica y paramédica",0,null,{"$f":"validaciones(D92,H92,0)&IF(AND(Datos!$C$11=\"Informativa\",D92<>0),\"En la DDJJ informativa, este campo debe consignarse en cero (0)\",\"\")","v":""},null,{"$f":"(D72-SUM(D77:D82,D84:D89,D91,D93:D94,D95:D103))*0.05","v":92344.745500000005}]
[null,null,"Intereses de créditos hipotecarios",0,null,{"$f":"validaciones(D93,H93,0)","v":""},null,{"$f":"+Tablas!B3","v":20000}]
[null,null,"Aportes al capital social o al fondo de riesgo de socios protectores de sociedades de garantía recíproca",0,null,{"$f":"validaciones(D94,H94,0)","v":""}]
[null,null,"Alquileres de inmuebles destinados a casa habitación",0,null,{"$f":"validaciones(D95,H95,0)","v":""},null,{"$f":"IF(Datos!C11=\"Final\",ROUND(Tablas!B4/12*12,2),ROUND(Tablas!B4/12*MONTH(Datos!C13),2))","v":167678.39999999999}]
[null,null,"Empleados del servicio doméstico",0,null,{"$f":"validaciones(D96,H96,0)","v":""},null,{"$f":"Tablas!B4","v":167678.39999999999}]
[null,null,"Gastos de movilidad, viáticos y otras compensaciones análogas abonados por el empleador",0,null,{"$f":"validaciones(D97,H97,0)","v":""},null,{"$f":"IF(D13=\"Desarrolla la actividad\",Tablas!B4,Tablas!B4*0.4)","v":67071.360000000001}]
[null,null,"Gastos por adquisición de indumentaria y/o equipamiento de trabajo",0,null,{"$f":"validaciones(D98,H98,0)","v":""}]
[null,null,"Otras deducciones - aportes a Cajas Complementarias de Previsión, Fondos Compensadores de Previsión o similares",0,null,{"$f":"validaciones(D99,H99,0)","v":""}]
[null,null,"Otras deducciones - Aportes para jubilaciones, retiros y subsidios ANSES",0,null,{"$f":"validaciones(D100,H100,0)","v":""}]
[null,null,"Otras deducciones - Cajas Provinciales o Municipales o de Previsión para Profesionales",0,null,{"$f":"validaciones(D101,H101,0)","v":""}]
[null,null,"Otras deducciones - Actores - Retribución pagada a los representantes - RG 2442/08",0,null,{"$f":"validaciones(D102,H102,0)","v":""}]
[null,null,"Otras deducciones - Fondos compensadores de previsión",0,null,{"$f":"validaciones(D103,H103,0)","v":""}]
[null,null,"Otras deducciones",{"$f":"+SUM(D99:E103)","v":0}]
[null,null,"TOTAL DEDUCCIONES GENERALES",{"$f":"SUM(D77:E103)","v":391172.59},null,null,null,null,null,null,{"$f":"+D72-D105","v":1846894.91}]
[]
[null,null,"DEDUCCIONES PERSONALES",null,null,null,null,"Topes máximos legales"]
[null,null,"Ganancia no imponible",167678.39999999999,null,{"$f":"validaciones(D108,H108,0)","v":""},null,{"$f":"deducciones(1,Datos!C11,MONTH(Datos!$C$13),$D$12)","v":167678.39999999999},null,null,{"$f":"IF(K105-K109<=0,0,IF(K105-K109<=H108,K105-K109,H108))","v":167678.39999999999}]
[null,null,"Deducción especial",804856.34,null,{"$f":"validaciones(D109,H109,0)","v":""},null,{"$f":"deducciones(2,Datos!$C$11,MONTH(Datos!$C$13),$D$12)","v":804856.34},null,null,{"$f":"IF(K105<=H109,K105,H109)","v":804856.34}]
[null,null,"Deducción Especial Incrementada Primera parte del penúltimo párrafo del inciso c) del artículo 30 de la ley del gravamen",489703.67999999999]
[null,null,"Deducción Especial Incrementada Segunda parte del penúltimo párrafo del inciso c) del artículo 30 de la ley del gravamen",19916]
[null,null,"Deducción específica",0,null,{"$f":"validaciones(D112,H112,0)","v":""},null,0]
[null,null,"Cargas de familia"]
[null,null,"Cónyuge",0,null,{"$f":"validaciones(D114,H114,0)","v":""},null,{"$f":"cargas_de_familia(4,Datos!$C$11,MONTH(Datos!$C$13),$D$12)","v":156320.63},null,null,{"$f":"IF(K105-K108-K109>=D114,D114,K105-K108-K109)","v":0}]
[null,null,"Cantidad de hijos e hijastros",0,null,{"$f":"validaciones(D115,H115,0)","v":""},null,99]
[null,null,"Deducción total hijos e hijastros",0,null,null,null,{"$f":"cargas_de_familia(3,Datos!$C$11,MONTH(Datos!$C$13),$D$12)*D115","v":0},null,null,{"$f":"IF(K105-K108-K109-K114>=D116,D116,K105-K108-K109-K114)","v":0}]
[null,null,"Cantidad de hijos e hijastros incapacitados para el trabajo",0,null,{"$f":"validaciones(D117,H117,0)","v":""},null,99]
[null,null,"Hijos / Hijastros incapacitados para el trabajo",0,null,null,null,{"$f":"cargas_de_familia(5,Datos!$C$11,MONTH(Datos!$C$13),$D$12)","v":157666.16}]
[null,null,"Total de cargas de familia",{"$f":"+D114+D116+D118","v":0},null,null,null,0]
[null,null,"TOTAL DEDUCCIONES PERSONALES",{"$f":"SUM(D108:D112,D119)","v":1482154.42}]
[]
[null,null,"DETERMINACIÓN DEL IMPUESTO"]
[null,null,"REMUNERACIÓN NETA SUJETA A IMPUESTO -antes de la deducción art. 46 L. 27541-",0]
[null,null,"Deducción inciso a) primer párrafo artículo 30 de la ley (cfr. art. 46 L. 27541)",0,null,null,null,0,null,null,{"$f":"IF(D123-K125<=0,0,IF(D123-K125<=H124,D123-K125,H124))","v":0}]
[null,null,"Deducción inciso c) primer párrafo artículo 30 de la ley (cfr. art. 46 L. 27541)",0,null,null,null,0,null,null,{"$f":"IF(D123<=H125,D123,H125)","v":0}]
[null,null,"REMUNERACIÓN SUJETA A IMPUESTO",{"$f":"IF(+D72-D105-D120<0,0,+D72-D105-D120)","v":364740.49}]
[null,null,"Alícuota aplicable artículo 94 ley de impuesto a las ganancias",{"$f":"IF(OR(Datos!C11=\"Final\",Datos!C11=\"Anual\"),impuestoAlicuota(D126,D25*(1-G25)+D51*(1-G51),12),impuestoAlicuota(D126,D25*(1-G25)+D51*(1-G51),MONTH(D11)))","v":0.19}]
[null,null,"Alícuota aplicable sin incluir horas extras",{"$f":"IF(OR(Datos!C11=\"Final\",Datos!C11=\"Anual\"),impuestoAlicuota(D126,0,12),impuestoAlicuota(D126,0,MONTH(D11)))","v":0.19}]
[null,null,"IMPUESTO DETERMINADO",{"$f":"IF(D126<0,0,IF(OR(Datos!C11=\"Final\",Datos!C11=\"Anual\"),impuestoDeterminado(D126,D25*(1-G25)+D51*(1-G51),12),impuestoDeterminado(D126,D25*(1-G25)+D51*(1-G51),MONTH(D11))))","v":46714.272900000004}]
[null,null,"Impuesto retenido",46714.27]
[null,null,"Pagos a cuenta - Impuesto sobre créditos y débitos",0,null,{"$f":"IF(AND(Datos!$C$11=\"Informativa\",D131<>0),\"En la DDJJ informativa, este campo debe consignarse en cero (0)\",\"\")","v":""}]
[null,null,"Pagos a cuenta - Percepciones / Retenciones aduaneras",0,null,{"$f":"IF(AND(Datos!$C$11=\"Informativa\",D132<>0),\"En la DDJJ informativa, este campo debe consignarse en cero (0)\",\"\")","v":""}]
[null,null,"Pagos a cuenta - RG (AFIP) 3819/2015 - Cancelaciones en efectivo",0,null,{"$f":"IF(AND(Datos!$C$11=\"Informativa\",D133<>0),\"En la DDJJ informativa, este campo debe consignarse en cero (0)\",\"\")","v":""}]
[null,null,"Pagos a cuenta - Bono ley 27.424",0,null,{"$f":"IF(AND(Datos!$C$11=\"Informativa\",D134<>0),\"En la DDJJ informativa, este campo debe consignarse en cero (0)\",\"\")","v":""}]
[null,null,"Pagos a cuenta - RG 4815 [LEY 27.541 Art. 35 inciso a)] ",0,null,{"$f":"IF(AND(Datos!$C$11=\"Informativa\",D135<>0),\"En la DDJJ informativa, este campo debe consignarse en cero (0)\",\"\")","v":""}]
[null,null,"Pagos a cuenta - RG 4815 [LEY 27.541 Art. 35 inciso b)] ",0,null,{"$f":"IF(AND(Datos!$C$11=\"Informativa\",D136<>0),\"En la DDJJ informativa, este campo debe consignarse en cero (0)\",\"\")","v":""}]
[null,null,"Pagos a cuenta - RG 4815 [LEY 27.541 Art. 35 inciso c)] ",0,null,{"$f":"IF(AND(Datos!$C$11=\"Informativa\",D137<>0),\"En la DDJJ informativa, este campo debe consignarse en cero (0)\",\"\")","v":""}]
[null,null,"Pagos a cuenta - RG 4815 [LEY 27.541 Art. 35 inciso d)] ",0,null,{"$f":"IF(AND(Datos!$C$11=\"Informativa\",D138<>0),\"En la DDJJ informativa, este campo debe consignarse en cero (0)\",\"\")","v":""}]
[null,null,"Pagos a cuenta - RG 4815 [LEY 27.541 Art. 35 inciso e)] ",0,null,{"$f":"IF(AND(Datos!$C$11=\"Informativa\",D139<>0),\"En la DDJJ informativa, este campo debe consignarse en cero (0)\",\"\")","v":""}]
[null,null,"Pagos a cuenta - Impuesto sobre créditos y débitos - sobre movimientos de fondos propios o de terceros",0,null,{"$f":"IF(AND(Datos!$C$11=\"Informativa\",D140<>0),\"En la DDJJ informativa, este campo debe consignarse en cero (0)\",\"\")","v":""}]
[null,null,"Pagos a cuenta - Resolución General (AFIP) 3819/2015 - Cancelaciones en Efectivo -Servicios de transporte terrestre, aéreo y por vía acuática de pasajeros con destino fuera del país",0,null,{"$f":"IF(AND(Datos!$C$11=\"Informativa\",D141<>0),\"En la DDJJ informativa, este campo debe consignarse en cero (0)\",\"\")","v":""}]
[null,null,"Total pagos a cuenta",{"$f":"SUM(D131:D141)","v":0}]
[null,null,"SALDO A PAGAR",{"$f":"+ROUND(D129,2)-D130-D142","v":0}]

{"sheet":"Empleado21","index":25,"n_rows":143,"n_cols":11,"rows_kept":143,"cut":false,"hidden":false,"merged":[[10,7,11,9]]}
[]
[]
[null,null,"LIQUIDACIÓN DE IMPUESTO A LAS GANANCIAS - 4ta. CATEGORÍA RELACIÓN DE DEPENDENCIA"]
[]
[]
[null,null,"Empleado: Nombre y apellido ","MERINO LUCIANO"]
[null,null,"CUIL del empleado",20302935727,null,{"$f":"cuitValidar(D7)","v":"CUIT/CUIL Válido"}]
[null,null,{"$f":"\"Agente de Retención: \"","v":"Agente de Retención: "},{"$f":"Datos!C7&\" - \"&Datos!C5","v":"33711238269 - OPERACIONES AGROPORTUARIAS S.A."}]
[null,null,{"$f":"\"Período Fiscal: \"","v":"Período Fiscal: "},{"$f":"YEAR(Datos!C13)","v":2021}]
[null,null,"Período trabajado (desde):","2021-01-01"]
[null,null,"Período trabajado (hasta):","2021-09-25",null,null,null,{"$f":"IF(MONTH(D11)>MONTH(Datos!C13),\"El período trabajado no puede ser mayor al período que se informa (mes \"&MONTH(Datos!C13)&\")\",\"\")","v":""}]
[null,null,"Zona geográfica:","Todo el país (excepto zona patagónica)"]
[null,null,"Transporte a larga distancia","No desarrolla la actividad"]
[null,null,"Beneficio promocional 27424?","No"]
[null,null,"Beneficio de la ley 27549?","No"]
[null,null,"El trabajador labora bajo el régimen de teletrabajo (Ley 27555)?","No"]
[null,null,"El trabajador es personal militar en actividad?","No"]
[]
[null,null,"REMUNERACIONES"]
[null,null,"Abonadas por el agente de retención:"]
[null,null,"Remuneración bruta gravada",2228403.15]
[null,null,"Retribuciones no habituales gravadas",0]
[null,null,"SAC primera cuota gravado",0]
[null,null,"SAC segunda cuota gravado",0]
[null,null,"Horas extras remuneración gravada",0,null,null,0,"% de retenciones"]
[null,null,"Movilidad y viáticos remuneración gravada",0]
[null,null,"Material didáctico personal docente remuneración gravada",0]
[null,null,"Remuneración no alcanzada o exenta (sin horas extras)",0]
[null,null,"Remuneración exenta ley 27549",0,null,{"$f":"IF(AND($D$15=\"No\",D29<>0),\"Para que sea procedente el beneficio, modifique el valor en la celda D15\",\"\")","v":""}]
[null,null,"Retribuciones no habituales exentas o no alcanzadas",0]
[null,null,"Horas extras remuneración exenta",0]
[null,null,"Movilidad y viáticos remuneración exenta",0]
[null,null,"Material didáctico personal docente remuneración exenta",0]
[null,null,"Bonos de productividad gravados",0]
[null,null,"Fallos de caja gravados",0]
[null,null,"Conceptos de similar naturaleza gravados",0]
[null,null,"Bonos de productividad exentos",0]
[null,null,"Fallos de caja exentos",0]
[null,null,"Conceptos de similar naturaleza exentos",0]
[null,null,"Compensación de gastos de teletrabajo exentos",0]
[null,null,"Personal militar - suplementos art. 57 ley 19.101 - exentos",0]
[null,null,"SAC primera cuota - No alcanzado o exento",0]
[null,null,"SAC segunda cuota - No alcanzado o exento",0]
[null,null,"Ajustes períodos anteriores - Remuneración gravada",0]
[null,null,"Ajustes períodos anteriores - Remuneración exenta / no alcanzada",0]
[null,null,"Otros empleos:"]
[null,null,"Remuneración bruta gravada ",0]
[null,null,"Retribuciones no habituales gravadas ",0]
[null,null,"SAC primera cuota gravado ",0]
[null,null,"SAC segunda cuota gravado ",0]
[null,null,"Horas extras remuneración gravada ",0,null,null,0,"% de retenciones"]
[null,null,"Movilidad y viáticos remuneración gravada ",0]
[null,null,"Material didáctico personal docente remuneración gravada ",0]
[null,null,"Remuneración no alcanzada o exenta ",0]
[null,null,"Remuneración exenta ley 27549 ",0,null,{"$f":"IF(AND($D$15=\"No\",D55<>0),\"Para que sea procedente el beneficio, modifique el valor en la celda D15\",\"\")","v":""}]
[null,null,"Retribuciones no habituales exentas o no alcanzadas ",0]
[null,null,"Horas extras remuneración exenta o no alcanzada ",0]
[null,null,"Movilidad y viáticos remuneración exenta o no alcanzada ",0]
[null,null,"Material didáctico personal docente remuneración exenta o no alcanzada ",0]
[null,null,"Bonos de productividad gravados ",0]
[null,null,"Fallos de caja gravados ",0]
[null,null,"Conceptos de similar naturaleza gravados ",0]
[null,null,"Bonos de productividad exentos ",0]
[null,null,"Fallos de caja exentos ",0]
[null,null,"Conceptos de similar naturaleza exentos ",0]
[null,null,"Compensación de gastos teletrabajo - exentos ",0]
[null,null,"Personal militar - suplementos art. 57 Ley 19101 - exentos ",0]
[null,null,"SAC primera cuota - No alcanzado o exento ",0]
[null,null,"SAC segunda cuota - No alcanzado o exento ",0]
[null,null,"Ajustes períodos anteriores - Remuneración gravada ",0]
[null,null,"Ajustes períodos anteriores - Remuneración no alcanzada o exenta ",0]
[null,null,"TOTAL REMUNERACIÓN GRAVADA",{"$f":"SUM(D21:E27,D44,D47:D53,D70)","v":2228403.15}]
[null,null,"TOTAL REMUNERACIÓN NO ALCANZADA O EXENTA",{"$f":"SUM(D28:D43,D45,D54:D69,D71)","v":0}]
[null,null,"TOTAL REMUNERACIONES",{"$f":"IF(+D72+D73<0,0,D72+D73)","v":2228403.15}]
[]
[null,null,"DEDUCCIONES GENERALES",null,null,null,null,"Topes máximos legales"]
[null,null,"Aportes a fondos de jubilaciones, retiros, pensiones o subsidios que se destinen a cajas nacionales, provinciales o municipales",271229.42,null,{"$f":"validaciones(D77,H77,0)&IF(D77>$D$74,\" El importe no puede ser mayor a la remuneración total\",\"\")","v":""}]
[null,null,"Aportes a fondos de jubilaciones, retiros, pensiones o subsidios que se destinen a cajas nacionales, provinciales o municipales por otros empleos",0,null,{"$f":"validaciones(D78,H78,0)&IF(D78>$D$74,\" El importe no puede ser mayor a la remuneración total\",\"\")","v":""}]
[null,null,"Aportes a obra sociales",58120.59,null,{"$f":"validaciones(D79,H79,0)&IF(D79>$D$74,\" El importe no puede ser mayor a la remuneración total\",\"\")","v":""}]
[null,null,"Aportes a obra sociales por otros empleos",0,null,{"$f":"validaciones(D80,H80,0)&IF(D80>$D$74,\" El importe no puede ser mayor a la remuneración total\",\"\")","v":""}]
[null,null,"Cuota sindical",64928.49,null,{"$f":"validaciones(D81,H81,0)&IF(D81>$D$74,\" El importe no puede ser mayor a la remuneración total\",\"\")","v":""}]
[null,null,"Cuota sindical por otros empleos",0,null,{"$f":"validaciones(D82,H82,0)&IF(D82>$D$74,\" El importe no puede ser mayor a la remuneración total\",\"\")","v":""}]
[null,null,"Cuotas médico asistenciales",0,null,{"$f":"validaciones(D83,H83,0)","v":""},null,{"$f":"(D72-SUM(D77:D82,D84:D89,D91,D93:D94,D95:D103))*0.05","v":91706.232499999998}]
[null,null,"Primas de seguro para el caso de muerte",0,null,{"$f":"validaciones(D84,H84,0)&IF(AND(Datos!$C$11=\"Informativa\",D84<>0),\"En la DDJJ informativa, este campo debe consignarse en cero (0)\",\"\")","v":""},null,{"$f":"+Tablas!B2","v":24000}]
[null,null,"Primas por riesgo de muerte y de ahorro de seguros mixtos, excepto para los casos de seguros de retiro privados administrados por entidades sujetas al control de la Superintendencia de Seguros de la Nación",0,null,{"$f":"validaciones(D85,H85,0)&IF(AND(Datos!$C$11=\"Informativa\",D85<>0),\"En la DDJJ informativa, este campo debe consignarse en cero (0)\",\"\")","v":""},null,{"$f":"+H84","v":24000}]
[null,null,"Aportes a planes de seguro de retiro privados administrados por entidades sujetas al control de la Superintendencia de Seguros de la Nación",0,null,{"$f":"validaciones(D86,H86,0)&IF(AND(Datos!$C$11=\"Informativa\",D86<>0),\"En la DDJJ informativa, este campo debe consignarse en cero (0)\",\"\")","v":""},null,{"$f":"+H85","v":24000}]
[null,null,"Cuotapartes de fondos comunes de inversión constituidos con fines de retiro",0,null,{"$f":"validaciones(D87,H87,0)&IF(D87<>0,\"Deberá consignarse en cero (0), hasta que la Autoridad de Aplicación – CNV – autorice a las Entidades a funcionar e implemente el régimen.\",\"\")","v":""},null,0]
[null,null,"Gastos de sepelio",0,null,{"$f":"validaciones(D88,H88,0)","v":""},null,{"$f":"+Tablas!B6","v":996.23}]
[null,null,"Gastos amortización e intereses rodado para corredores y viajantes de comercio",0,null,{"$f":"validaciones(D89,H89,0)&IF(D89>$D$74,\" El importe no puede ser mayor a la remuneración total\",\"\")","v":""}]
[null,null,"Donaciones a fiscos nacional, provinciales y municipales, y a instituciones comprendidas en el artículo 26, incisos e) y f) de la ley",0,null,{"$f":"validaciones(D90,H90,0)","v":""},null,{"$f":"(D72-SUM(D77:D82,D84:D89,D91,D93:D94,D95:D103))*0.05","v":91706.232499999998}]
[null,null,"Descuentos obligatorios establecidos por ley nacional, provincial o municipal",0,null,{"$f":"validaciones(D91,H91,0)&IF(D91>$D$74,\" El importe no puede ser mayor a la remuneración total\",\"\")","v":""}]
[null,null,"Honorarios por servicios de asistencia sanitaria, médica y paramédica",0,null,{"$f":"validaciones(D92,H92,0)&IF(AND(Datos!$C$11=\"Informativa\",D92<>0),\"En la DDJJ informativa, este campo debe consignarse en cero (0)\",\"\")","v":""},null,{"$f":"(D72-SUM(D77:D82,D84:D89,D91,D93:D94,D95:D103))*0.05","v":91706.232499999998}]
[null,null,"Intereses de créditos hipotecarios",0,null,{"$f":"validaciones(D93,H93,0)","v":""},null,{"$f":"+Tablas!B3","v":20000}]
[null,null,"Aportes al capital social o al fondo de riesgo de socios protectores de sociedades de garantía recíproca",0,null,{"$f":"validaciones(D94,H94,0)","v":""}]
[null,null,"Alquileres de inmuebles destinados a casa habitación",0,null,{"$f":"validaciones(D95,H95,0)","v":""},null,{"$f":"IF(Datos!C11=\"Final\",ROUND(Tablas!B4/12*12,2),ROUND(Tablas!B4/12*MONTH(Datos!C13),2))","v":167678.39999999999}]
[null,null,"Empleados del servicio doméstico",0,null,{"$f":"validaciones(D96,H96,0)","v":""},null,{"$f":"Tablas!B4","v":167678.39999999999}]
[null,null,"Gastos de movilidad, viáticos y otras compensaciones análogas abonados por el empleador",0,null,{"$f":"validaciones(D97,H97,0)","v":""},null,{"$f":"IF(D13=\"Desarrolla la actividad\",Tablas!B4,Tablas!B4*0.4)","v":67071.360000000001}]
[null,null,"Gastos por adquisición de indumentaria y/o equipamiento de trabajo",0,null,{"$f":"validaciones(D98,H98,0)","v":""}]
[null,null,"Otras deducciones - aportes a Cajas Complementarias de Previsión, Fondos Compensadores de Previsión o similares",0,null,{"$f":"validaciones(D99,H99,0)","v":""}]
[null,null,"Otras deducciones - Aportes para jubilaciones, retiros y subsidios ANSES",0,null,{"$f":"validaciones(D100,H100,0)","v":""}]
[null,null,"Otras deducciones - Cajas Provinciales o Municipales o de Previsión para Profesionales",0,null,{"$f":"validaciones(D101,H101,0)","v":""}]
[null,null,"Otras deducciones - Actores - Retribución pagada a los representantes - RG 2442/08",0,null,{"$f":"validaciones(D102,H102,0)","v":""}]
[null,null,"Otras deducciones - Fondos compensadores de previsión",0,null,{"$f":"validaciones(D103,H103,0)","v":""}]
[null,null,"Otras deducciones",{"$f":"+SUM(D99:E103)","v":0}]
[null,null,"TOTAL DEDUCCIONES GENERALES",{"$f":"SUM(D77:E103)","v":394278.5},null,null,null,null,null,null,{"$f":"+D72-D105","v":1834124.65}]
[]
[null,null,"DEDUCCIONES PERSONALES",null,null,null,null,"Topes máximos legales"]
[null,null,"Ganancia no imponible",167678.39999999999,null,{"$f":"validaciones(D108,H108,0)","v":""},null,{"$f":"deducciones(1,Datos!C11,MONTH(Datos!$C$13),$D$12)","v":167678.39999999999},null,null,{"$f":"IF(K105-K109<=0,0,IF(K105-K109<=H108,K105-K109,H108))","v":167678.39999999999}]
[null,null,"Deducción especial",804856.34,null,{"$f":"validaciones(D109,H109,0)","v":""},null,{"$f":"deducciones(2,Datos!$C$11,MONTH(Datos!$C$13),$D$12)","v":804856.34},null,null,{"$f":"IF(K105<=H109,K105,H109)","v":804856.34}]
[null,null,"Deducción Especial Incrementada Primera parte del penúltimo párrafo del inciso c) del artículo 30 de la ley del gravamen",449417.77]
[null,null,"Deducción Especial Incrementada Segunda parte del penúltimo párrafo del inciso c) del artículo 30 de la ley del gravamen",22187]
[null,null,"Deducción específica",0,null,{"$f":"validaciones(D112,H112,0)","v":""},null,0]
[null,null,"Cargas de familia"]
[null,null,"Cónyuge",0,null,{"$f":"validaciones(D114,H114,0)","v":""},null,{"$f":"cargas_de_familia(4,Datos!$C$11,MONTH(Datos!$C$13),$D$12)","v":156320.63},null,null,{"$f":"IF(K105-K108-K109>=D114,D114,K105-K108-K109)","v":0}]
[null,null,"Cantidad de hijos e hijastros",0,null,{"$f":"validaciones(D115,H115,0)","v":""},null,99]
[null,null,"Deducción total hijos e hijastros",0,null,null,null,{"$f":"cargas_de_familia(3,Datos!$C$11,MONTH(Datos!$C$13),$D$12)*D115","v":0},null,null,{"$f":"IF(K105-K108-K109-K114>=D116,D116,K105-K108-K109-K114)","v":0}]
[null,null,"Cantidad de hijos e hijastros incapacitados para el trabajo",0,null,{"$f":"validaciones(D117,H117,0)","v":""},null,99]
[null,null,"Hijos / Hijastros incapacitados para el trabajo",0,null,null,null,{"$f":"cargas_de_familia(5,Datos!$C$11,MONTH(Datos!$C$13),$D$12)","v":157666.16}]
[null,null,"Total de cargas de familia",{"$f":"+D114+D116+D118","v":0},null,null,null,0]
[null,null,"TOTAL DEDUCCIONES PERSONALES",{"$f":"SUM(D108:D112,D119)","v":1444139.51}]
[]
[null,null,"DETERMINACIÓN DEL IMPUESTO"]
[null,null,"REMUNERACIÓN NETA SUJETA A IMPUESTO -antes de la deducción art. 46 L. 27541-",0]
[null,null,"Deducción inciso a) primer párrafo artículo 30 de la ley (cfr. art. 46 L. 27541)",0,null,null,null,0,null,null,{"$f":"IF(D123-K125<=0,0,IF(D123-K125<=H124,D123-K125,H124))","v":0}]
[null,null,"Deducción inciso c) primer párrafo artículo 30 de la ley (cfr. art. 46 L. 27541)",0,null,null,null,0,null,null,{"$f":"IF(D123<=H125,D123,H125)","v":0}]
[null,null,"REMUNERACIÓN SUJETA A IMPUESTO",{"$f":"IF(+D72-D105-D120<0,0,+D72-D105-D120)","v":389985.1399999999}]
[null,null,"Alícuota aplicable artículo 94 ley de impuesto a las ganancias",{"$f":"IF(OR(Datos!C11=\"Final\",Datos!C11=\"Anual\"),impuestoAlicuota(D126,D25*(1-G25)+D51*(1-G51),12),impuestoAlicuota(D126,D25*(1-G25)+D51*(1-G51),MONTH(D11)))","v":0.23}]
[null,null,"Alícuota aplicable sin incluir horas extras",{"$f":"IF(OR(Datos!C11=\"Final\",Datos!C11=\"Anual\"),impuestoAlicuota(D126,0,12),impuestoAlicuota(D126,0,MONTH(D11)))","v":0.23}]
[null,null,"IMPUESTO DETERMINADO",{"$f":"IF(D126<0,0,IF(OR(Datos!C11=\"Final\",Datos!C11=\"Anual\"),impuestoDeterminado(D126,D25*(1-G25)+D51*(1-G51),12),impuestoDeterminado(D126,D25*(1-G25)+D51*(1-G51),MONTH(D11))))","v":51622.324400000005}]
[null,null,"Impuesto retenido",51622.32]
[null,null,"Pagos a cuenta - Impuesto sobre créditos y débitos",0,null,{"$f":"IF(AND(Datos!$C$11=\"Informativa\",D131<>0),\"En la DDJJ informativa, este campo debe consignarse en cero (0)\",\"\")","v":""}]
[null,null,"Pagos a cuenta - Percepciones / Retenciones aduaneras",0,null,{"$f":"IF(AND(Datos!$C$11=\"Informativa\",D132<>0),\"En la DDJJ informativa, este campo debe consignarse en cero (0)\",\"\")","v":""}]
[null,null,"Pagos a cuenta - RG (AFIP) 3819/2015 - Cancelaciones en efectivo",0,null,{"$f":"IF(AND(Datos!$C$11=\"Informativa\",D133<>0),\"En la DDJJ informativa, este campo debe consignarse en cero (0)\",\"\")","v":""}]
[null,null,"Pagos a cuenta - Bono ley 27.424",0,null,{"$f":"IF(AND(Datos!$C$11=\"Informativa\",D134<>0),\"En la DDJJ informativa, este campo debe consignarse en cero (0)\",\"\")","v":""}]
[null,null,"Pagos a cuenta - RG 4815 [LEY 27.541 Art. 35 inciso a)] ",0,null,{"$f":"IF(AND(Datos!$C$11=\"Informativa\",D135<>0),\"En la DDJJ informativa, este campo debe consignarse en cero (0)\",\"\")","v":""}]
[null,null,"Pagos a cuenta - RG 4815 [LEY 27.541 Art. 35 inciso b)] ",0,null,{"$f":"IF(AND(Datos!$C$11=\"Informativa\",D136<>0),\"En la DDJJ informativa, este campo debe consignarse en cero (0)\",\"\")","v":""}]
[null,null,"Pagos a cuenta - RG 4815 [LEY 27.541 Art. 35 inciso c)] ",0,null,{"$f":"IF(AND(Datos!$C$11=\"Informativa\",D137<>0),\"En la DDJJ informativa, este campo debe consignarse en cero (0)\",\"\")","v":""}]
[null,null,"Pagos a cuenta - RG 4815 [LEY 27.541 Art. 35 inciso d)] ",0,null,{"$f":"IF(AND(Datos!$C$11=\"Informativa\",D138<>0),\"En la DDJJ informativa, este campo debe consignarse en cero (0)\",\"\")","v":""}]
[null,null,"Pagos a cuenta - RG 4815 [LEY 27.541 Art. 35 inciso e)] ",0,null,{"$f":"IF(AND(Datos!$C$11=\"Informativa\",D139<>0),\"En la DDJJ informativa, este campo debe consignarse en cero (0)\",\"\")","v":""}]
[null,null,"Pagos a cuenta - Impuesto sobre créditos y débitos - sobre movimientos de fondos propios o de terceros",0,null,{"$f":"IF(AND(Datos!$C$11=\"Informativa\",D140<>0),\"En la DDJJ informativa, este campo debe consignarse en cero (0)\",\"\")","v":""}]
[null,null,"Pagos a cuenta - Resolución General (AFIP) 3819/2015 - Cancelaciones en Efectivo -Servicios de transporte terrestre, aéreo y por vía acuática de pasajeros con destino fuera del país",0,null,{"$f":"IF(AND(Datos!$C$11=\"Informativa\",D141<>0),\"En la DDJJ informativa, este campo debe consignarse en cero (0)\",\"\")","v":""}]
[null,null,"Total pagos a cuenta",{"$f":"SUM(D131:D141)","v":0}]
[null,null,"SALDO A PAGAR",{"$f":"+ROUND(D129,2)-D130-D142","v":0}]

{"sheet":"Empleado22","index":26,"n_rows":143,"n_cols":11,"rows_kept":143,"cut":false,"hidden":false,"merged":[[10,7,11,9]]}
[]
[]
[null,null,"LIQUIDACIÓN DE IMPUESTO A LAS GANANCIAS - 4ta. CATEGORÍA RELACIÓN DE DEPENDENCIA"]
[]
[]
[null,null,"Empleado: Nombre y apellido ","VILARIÑO MARIA LAURA"]
[null,null,"CUIL del empleado",27928827041,null,{"$f":"cuitValidar(D7)","v":"CUIT/CUIL Válido"}]
[null,null,{"$f":"\"Agente de Retención: \"","v":"Agente de Retención: "},{"$f":"Datos!C7&\" - \"&Datos!C5","v":"33711238269 - OPERACIONES AGROPORTUARIAS S.A."}]
[null,null,{"$f":"\"Período Fiscal: \"","v":"Período Fiscal: "},{"$f":"YEAR(Datos!C13)","v":2021}]
[null,null,"Período trabajado (desde):","2021-01-01"]
[null,null,"Período trabajado (hasta):","2021-09-25",null,null,null,{"$f":"IF(MONTH(D11)>MONTH(Datos!C13),\"El período trabajado no puede ser mayor al período que se informa (mes \"&MONTH(Datos!C13)&\")\",\"\")","v":""}]
[null,null,"Zona geográfica:","Todo el país (excepto zona patagónica)"]
[null,null,"Transporte a larga distancia","No desarrolla la actividad"]
[null,null,"Beneficio promocional 27424?","No"]
[null,null,"Beneficio de la ley 27549?","No"]
[null,null,"El trabajador labora bajo el régimen de teletrabajo (Ley 27555)?","No"]
[null,null,"El trabajador es personal militar en actividad?","No"]
[]
[null,null,"REMUNERACIONES"]
[null,null,"Abonadas por el agente de retención:"]
[null,null,"Remuneración bruta gravada",2000883.59]
[null,null,"Retribuciones no habituales gravadas",0]
[null,null,"SAC primera cuota gravado",0]
[null,null,"SAC segunda cuota gravado",0]
[null,null,"Horas extras remuneración gravada",0,null,null,0,"% de retenciones"]
[null,null,"Movilidad y viáticos remuneración gravada",0]
[null,null,"Material didáctico personal docente remuneración gravada",0]
[null,null,"Remuneración no alcanzada o exenta (sin horas extras)",0]
[null,null,"Remuneración exenta ley 27549",0,null,{"$f":"IF(AND($D$15=\"No\",D29<>0),\"Para que sea procedente el beneficio, modifique el valor en la celda D15\",\"\")","v":""}]
[null,null,"Retribuciones no habituales exentas o no alcanzadas",0]
[null,null,"Horas extras remuneración exenta",0]
[null,null,"Movilidad y viáticos remuneración exenta",0]
[null,null,"Material didáctico personal docente remuneración exenta",0]
[null,null,"Bonos de productividad gravados",0]
[null,null,"Fallos de caja gravados",0]
[null,null,"Conceptos de similar naturaleza gravados",0]
[null,null,"Bonos de productividad exentos",0]
[null,null,"Fallos de caja exentos",0]
[null,null,"Conceptos de similar naturaleza exentos",0]
[null,null,"Compensación de gastos de teletrabajo exentos",0]
[null,null,"Personal militar - suplementos art. 57 ley 19.101 - exentos",0]
[null,null,"SAC primera cuota - No alcanzado o exento",0]
[null,null,"SAC segunda cuota - No alcanzado o exento",0]
[null,null,"Ajustes períodos anteriores - Remuneración gravada",0]
[null,null,"Ajustes períodos anteriores - Remuneración exenta / no alcanzada",0]
[null,null,"Otros empleos:"]
[null,null,"Remuneración bruta gravada ",0]
[null,null,"Retribuciones no habituales gravadas ",0]
[null,null,"SAC primera cuota gravado ",0]
[null,null,"SAC segunda cuota gravado ",0]
[null,null,"Horas extras remuneración gravada ",0,null,null,0,"% de retenciones"]
[null,null,"Movilidad y viáticos remuneración gravada ",0]
[null,null,"Material didáctico personal docente remuneración gravada ",0]
[null,null,"Remuneración no alcanzada o exenta ",0]
[null,null,"Remuneración exenta ley 27549 ",0,null,{"$f":"IF(AND($D$15=\"No\",D55<>0),\"Para que sea procedente el beneficio, modifique el valor en la celda D15\",\"\")","v":""}]
[null,null,"Retribuciones no habituales exentas o no alcanzadas ",0]
[null,null,"Horas extras remuneración exenta o no alcanzada ",0]
[null,null,"Movilidad y viáticos remuneración exenta o no alcanzada ",0]
[null,null,"Material didáctico personal docente remuneración exenta o no alcanzada ",0]
[null,null,"Bonos de productividad gravados ",0]
[null,null,"Fallos de caja gravados ",0]
[null,null,"Conceptos de similar naturaleza gravados ",0]
[null,null,"Bonos de productividad exentos ",0]
[null,null,"Fallos de caja exentos ",0]
[null,null,"Conceptos de similar naturaleza exentos ",0]
[null,null,"Compensación de gastos teletrabajo - exentos ",0]
[null,null,"Personal militar - suplementos art. 57 Ley 19101 - exentos ",0]
[null,null,"SAC primera cuota - No alcanzado o exento ",0]
[null,null,"SAC segunda cuota - No alcanzado o exento ",0]
[null,null,"Ajustes períodos anteriores - Remuneración gravada ",0]
[null,null,"Ajustes períodos anteriores - Remuneración no alcanzada o exenta ",0]
[null,null,"TOTAL REMUNERACIÓN GRAVADA",{"$f":"SUM(D21:E27,D44,D47:D53,D70)","v":2000883.59}]
[null,null,"TOTAL REMUNERACIÓN NO ALCANZADA O EXENTA",{"$f":"SUM(D28:D43,D45,D54:D69,D71)","v":0}]
[null,null,"TOTAL REMUNERACIONES",{"$f":"IF(+D72+D73<0,0,D72+D73)","v":2000883.59}]
[]
[null,null,"DEDUCCIONES GENERALES",null,null,null,null,"Topes máximos legales"]
[null,null,"Aportes a fondos de jubilaciones, retiros, pensiones o subsidios que se destinen a cajas nacionales, provinciales o municipales",272639.02,null,{"$f":"validaciones(D77,H77,0)&IF(D77>$D$74,\" El importe no puede ser mayor a la remuneración total\",\"\")","v":""}]
[null,null,"Aportes a fondos de jubilaciones, retiros, pensiones o subsidios que se destinen a cajas nacionales, provinciales o municipales por otros empleos",0,null,{"$f":"validaciones(D78,H78,0)&IF(D78>$D$74,\" El importe no puede ser mayor a la remuneración total\",\"\")","v":""}]
[null,null,"Aportes a obra sociales",84978.4,null,{"$f":"validaciones(D79,H79,0)&IF(D79>$D$74,\" El importe no puede ser mayor a la remuneración total\",\"\")","v":""}]
[null,null,"Aportes a obra sociales por otros empleos",0,null,{"$f":"validaciones(D80,H80,0)&IF(D80>$D$74,\" El importe no puede ser mayor a la remuneración total\",\"\")","v":""}]
[null,null,"Cuota sindical",0,null,{"$f":"validaciones(D81,H81,0)&IF(D81>$D$74,\" El importe no puede ser mayor a la remuneración total\",\"\")","v":""}]
[null,null,"Cuota sindical por otros empleos",0,null,{"$f":"validaciones(D82,H82,0)&IF(D82>$D$74,\" El importe no puede ser mayor a la remuneración total\",\"\")","v":""}]
[null,null,"Cuotas médico asistenciales",0,null,{"$f":"validaciones(D83,H83,0)","v":""},null,{"$f":"(D72-SUM(D77:D82,D84:D89,D91,D93:D94,D95:D103))*0.05","v":75487.216}]
[null,null,"Primas de seguro para el caso de muerte",0,null,{"$f":"validaciones(D84,H84,0)&IF(AND(Datos!$C$11=\"Informativa\",D84<>0),\"En la DDJJ informativa, este campo debe consignarse en cero (0)\",\"\")","v":""},null,{"$f":"+Tablas!B2","v":24000}]
[null,null,"Primas por riesgo de muerte y de ahorro de seguros mixtos, excepto para los casos de seguros de retiro privados administrados por entidades sujetas al control de la Superintendencia de Seguros de la Nación",0,null,{"$f":"validaciones(D85,H85,0)&IF(AND(Datos!$C$11=\"Informativa\",D85<>0),\"En la DDJJ informativa, este campo debe consignarse en cero (0)\",\"\")","v":""},null,{"$f":"+H84","v":24000}]
[null,null,"Aportes a planes de seguro de retiro privados administrados por entidades sujetas al control de la Superintendencia de Seguros de la Nación",0,null,{"$f":"validaciones(D86,H86,0)&IF(AND(Datos!$C$11=\"Informativa\",D86<>0),\"En la DDJJ informativa, este campo debe consignarse en cero (0)\",\"\")","v":""},null,{"$f":"+H85","v":24000}]
[null,null,"Cuotapartes de fondos comunes de inversión constituidos con fines de retiro",0,null,{"$f":"validaciones(D87,H87,0)&IF(D87<>0,\"Deberá consignarse en cero (0), hasta que la Autoridad de Aplicación – CNV – autorice a las Entidades a funcionar e implemente el régimen.\",\"\")","v":""},null,0]
[null,null,"Gastos de sepelio",0,null,{"$f":"validaciones(D88,H88,0)","v":""},null,{"$f":"+Tablas!B6","v":996.23}]
[null,null,"Gastos amortización e intereses rodado para corredores y viajantes de comercio",0,null,{"$f":"validaciones(D89,H89,0)&IF(D89>$D$74,\" El importe no puede ser mayor a la remuneración total\",\"\")","v":""}]
[null,null,"Donaciones a fiscos nacional, provinciales y municipales, y a instituciones comprendidas en el artículo 26, incisos e) y f) de la ley",0,null,{"$f":"validaciones(D90,H90,0)","v":""},null,{"$f":"(D72-SUM(D77:D82,D84:D89,D91,D93:D94,D95:D103))*0.05","v":75487.216}]
[null,null,"Descuentos obligatorios establecidos por ley nacional, provincial o municipal",0,null,{"$f":"validaciones(D91,H91,0)&IF(D91>$D$74,\" El importe no puede ser mayor a la remuneración total\",\"\")","v":""}]
[null,null,"Honorarios por servicios de asistencia sanitaria, médica y paramédica",0,null,{"$f":"validaciones(D92,H92,0)&IF(AND(Datos!$C$11=\"Informativa\",D92<>0),\"En la DDJJ informativa, este campo debe consignarse en cero (0)\",\"\")","v":""},null,{"$f":"(D72-SUM(D77:D82,D84:D89,D91,D93:D94,D95:D103))*0.05","v":75487.216}]
[null,null,"Intereses de créditos hipotecarios",0,null,{"$f":"validaciones(D93,H93,0)","v":""},null,{"$f":"+Tablas!B3","v":20000}]
[null,null,"Aportes al capital social o al fondo de riesgo de socios protectores de sociedades de garantía recíproca",0,null,{"$f":"validaciones(D94,H94,0)","v":""}]
[null,null,"Alquileres de inmuebles destinados a casa habitación",118800,null,{"$f":"validaciones(D95,H95,0)","v":""},null,{"$f":"IF(Datos!C11=\"Final\",ROUND(Tablas!B4/12*12,2),ROUND(Tablas!B4/12*MONTH(Datos!C13),2))","v":167678.39999999999}]
[null,null,"Empleados del servicio doméstico",0,null,{"$f":"validaciones(D96,H96,0)","v":""},null,{"$f":"Tablas!B4","v":167678.39999999999}]
[null,null,"Gastos de movilidad, viáticos y otras compensaciones análogas abonados por el empleador",0,null,{"$f":"validaciones(D97,H97,0)","v":""},null,{"$f":"IF(D13=\"Desarrolla la actividad\",Tablas!B4,Tablas!B4*0.4)","v":67071.360000000001}]
[null,null,"Gastos por adquisición de indumentaria y/o equipamiento de trabajo",14721.85,null,{"$f":"validaciones(D98,H98,0)","v":""}]
[null,null,"Otras deducciones - aportes a Cajas Complementarias de Previsión, Fondos Compensadores de Previsión o similares",0,null,{"$f":"validaciones(D99,H99,0)","v":""}]
[null,null,"Otras deducciones - Aportes para jubilaciones, retiros y subsidios ANSES",0,null,{"$f":"validaciones(D100,H100,0)","v":""}]
[null,null,"Otras deducciones - Cajas Provinciales o Municipales o de Previsión para Profesionales",0,null,{"$f":"validaciones(D101,H101,0)","v":""}]
[null,null,"Otras deducciones - Actores - Retribución pagada a los representantes - RG 2442/08",0,null,{"$f":"validaciones(D102,H102,0)","v":""}]
[null,null,"Otras deducciones - Fondos compensadores de previsión",0,null,{"$f":"validaciones(D103,H103,0)","v":""}]
[null,null,"Otras deducciones",{"$f":"+SUM(D99:E103)","v":0}]
[null,null,"TOTAL DEDUCCIONES GENERALES",{"$f":"SUM(D77:E103)","v":491139.27},null,null,null,null,null,null,{"$f":"+D72-D105","v":1509744.32}]
[]
[null,null,"DEDUCCIONES PERSONALES",null,null,null,null,"Topes máximos legales"]
[null,null,"Ganancia no imponible",167678.39999999999,null,{"$f":"validaciones(D108,H108,0)","v":""},null,{"$f":"deducciones(1,Datos!C11,MONTH(Datos!$C$13),$D$12)","v":167678.39999999999},null,null,{"$f":"IF(K105-K109<=0,0,IF(K105-K109<=H108,K105-K109,H108))","v":167678.39999999999}]
[null,null,"Deducción especial",804856.34,null,{"$f":"validaciones(D109,H109,0)","v":""},null,{"$f":"deducciones(2,Datos!$C$11,MONTH(Datos!$C$13),$D$12)","v":804856.34},null,null,{"$f":"IF(K105<=H109,K105,H109)","v":804856.34}]
[null,null,"Deducción Especial Incrementada Primera parte del penúltimo párrafo del inciso c) del artículo 30 de la ley del gravamen",539059.59]
[null,null,"Deducción Especial Incrementada Segunda parte del penúltimo párrafo del inciso c) del artículo 30 de la ley del gravamen",0]
[null,null,"Deducción específica",0,null,{"$f":"validaciones(D112,H112,0)","v":""},null,0]
[null,null,"Cargas de familia"]
[null,null,"Cónyuge",0,null,{"$f":"validaciones(D114,H114,0)","v":""},null,{"$f":"cargas_de_familia(4,Datos!$C$11,MONTH(Datos!$C$13),$D$12)","v":156320.63},null,null,{"$f":"IF(K105-K108-K109>=D114,D114,K105-K108-K109)","v":0}]
[null,null,"Cantidad de hijos e hijastros",0,null,{"$f":"validaciones(D115,H115,0)","v":""},null,99]
[null,null,"Deducción total hijos e hijastros",0,null,null,null,{"$f":"cargas_de_familia(3,Datos!$C$11,MONTH(Datos!$C$13),$D$12)*D115","v":0},null,null,{"$f":"IF(K105-K108-K109-K114>=D116,D116,K105-K108-K109-K114)","v":0}]
[null,null,"Cantidad de hijos e hijastros incapacitados para el trabajo",0,null,{"$f":"validaciones(D117,H117,0)","v":""},null,99]
[null,null,"Hijos / Hijastros incapacitados para el trabajo",0,null,null,null,{"$f":"cargas_de_familia(5,Datos!$C$11,MONTH(Datos!$C$13),$D$12)","v":157666.16}]
[null,null,"Total de cargas de familia",{"$f":"+D114+D116+D118","v":0},null,null,null,0]
[null,null,"TOTAL DEDUCCIONES PERSONALES",{"$f":"SUM(D108:D112,D119)","v":1511594.33}]
[]
[null,null,"DETERMINACIÓN DEL IMPUESTO"]
[null,null,"REMUNERACIÓN NETA SUJETA A IMPUESTO -antes de la deducción art. 46 L. 27541-",0]
[null,null,"Deducción inciso a) primer párrafo artículo 30 de la ley (cfr. art. 46 L. 27541)",0,null,null,null,0,null,null,{"$f":"IF(D123-K125<=0,0,IF(D123-K125<=H124,D123-K125,H124))","v":0}]
[null,null,"Deducción inciso c) primer párrafo artículo 30 de la ley (cfr. art. 46 L. 27541)",0,null,null,null,0,null,null,{"$f":"IF(D123<=H125,D123,H125)","v":0}]
[null,null,"REMUNERACIÓN SUJETA A IMPUESTO",{"$f":"IF(+D72-D105-D120<0,0,+D72-D105-D120)","v":0}]
[null,null,"Alícuota aplicable artículo 94 ley de impuesto a las ganancias",{"$f":"IF(OR(Datos!C11=\"Final\",Datos!C11=\"Anual\"),impuestoAlicuota(D126,D25*(1-G25)+D51*(1-G51),12),impuestoAlicuota(D126,D25*(1-G25)+D51*(1-G51),MONTH(D11)))","v":0}]
[null,null,"Alícuota aplicable sin incluir horas extras",{"$f":"IF(OR(Datos!C11=\"Final\",Datos!C11=\"Anual\"),impuestoAlicuota(D126,0,12),impuestoAlicuota(D126,0,MONTH(D11)))","v":0}]
[null,null,"IMPUESTO DETERMINADO",{"$f":"IF(D126<0,0,IF(OR(Datos!C11=\"Final\",Datos!C11=\"Anual\"),impuestoDeterminado(D126,D25*(1-G25)+D51*(1-G51),12),impuestoDeterminado(D126,D25*(1-G25)+D51*(1-G51),MONTH(D11))))","v":0}]
[null,null,"Impuesto retenido",0]
[null,null,"Pagos a cuenta - Impuesto sobre créditos y débitos",0,null,{"$f":"IF(AND(Datos!$C$11=\"Informativa\",D131<>0),\"En la DDJJ informativa, este campo debe consignarse en cero (0)\",\"\")","v":""}]
[null,null,"Pagos a cuenta - Percepciones / Retenciones aduaneras",0,null,{"$f":"IF(AND(Datos!$C$11=\"Informativa\",D132<>0),\"En la DDJJ informativa, este campo debe consignarse en cero (0)\",\"\")","v":""}]
[null,null,"Pagos a cuenta - RG (AFIP) 3819/2015 - Cancelaciones en efectivo",0,null,{"$f":"IF(AND(Datos!$C$11=\"Informativa\",D133<>0),\"En la DDJJ informativa, este campo debe consignarse en cero (0)\",\"\")","v":""}]
[null,null,"Pagos a cuenta - Bono ley 27.424",0,null,{"$f":"IF(AND(Datos!$C$11=\"Informativa\",D134<>0),\"En la DDJJ informativa, este campo debe consignarse en cero (0)\",\"\")","v":""}]
[null,null,"Pagos a cuenta - RG 4815 [LEY 27.541 Art. 35 inciso a)] ",84486.5,null,{"$f":"IF(AND(Datos!$C$11=\"Informativa\",D135<>0),\"En la DDJJ informativa, este campo debe consignarse en cero (0)\",\"\")","v":""}]
[null,null,"Pagos a cuenta - RG 4815 [LEY 27.541 Art. 35 inciso b)] ",12132.39,null,{"$f":"IF(AND(Datos!$C$11=\"Informativa\",D136<>0),\"En la DDJJ informativa, este campo debe consignarse en cero (0)\",\"\")","v":""}]
[null,null,"Pagos a cuenta - RG 4815 [LEY 27.541 Art. 35 inciso c)] ",0,null,{"$f":"IF(AND(Datos!$C$11=\"Informativa\",D137<>0),\"En la DDJJ informativa, este campo debe consignarse en cero (0)\",\"\")","v":""}]
[null,null,"Pagos a cuenta - RG 4815 [LEY 27.541 Art. 35 inciso d)] ",0,null,{"$f":"IF(AND(Datos!$C$11=\"Informativa\",D138<>0),\"En la DDJJ informativa, este campo debe consignarse en cero (0)\",\"\")","v":""}]
[null,null,"Pagos a cuenta - RG 4815 [LEY 27.541 Art. 35 inciso e)] ",0,null,{"$f":"IF(AND(Datos!$C$11=\"Informativa\",D139<>0),\"En la DDJJ informativa, este campo debe consignarse en cero (0)\",\"\")","v":""}]
[null,null,"Pagos a cuenta - Impuesto sobre créditos y débitos - sobre movimientos de fondos propios o de terceros",0,null,{"$f":"IF(AND(Datos!$C$11=\"Informativa\",D140<>0),\"En la DDJJ informativa, este campo debe consignarse en cero (0)\",\"\")","v":""}]
[null,null,"Pagos a cuenta - Resolución General (AFIP) 3819/2015 - Cancelaciones en Efectivo -Servicios de transporte terrestre, aéreo y por vía acuática de pasajeros con destino fuera del país",0,null,{"$f":"IF(AND(Datos!$C$11=\"Informativa\",D141<>0),\"En la DDJJ informativa, este campo debe consignarse en cero (0)\",\"\")","v":""}]
[null,null,"Total pagos a cuenta",{"$f":"SUM(D131:D141)","v":96618.89}]
[null,null,"SALDO A PAGAR",{"$f":"+ROUND(D129,2)-D130-D142","v":-96618.89}]

{"sheet":"Empleado23","index":27,"n_rows":143,"n_cols":11,"rows_kept":143,"cut":false,"hidden":false,"merged":[[10,7,11,9]]}
[]
[]
[null,null,"LIQUIDACIÓN DE IMPUESTO A LAS GANANCIAS - 4ta. CATEGORÍA RELACIÓN DE DEPENDENCIA"]
[]
[]
[null,null,"Empleado: Nombre y apellido ","NACIMENTO IGNACIO ISAIAS"]
[null,null,"CUIL del empleado",20428296789,null,{"$f":"cuitValidar(D7)","v":"CUIT/CUIL Válido"}]
[null,null,{"$f":"\"Agente de Retención: \"","v":"Agente de Retención: "},{"$f":"Datos!C7&\" - \"&Datos!C5","v":"33711238269 - OPERACIONES AGROPORTUARIAS S.A."}]
[null,null,{"$f":"\"Período Fiscal: \"","v":"Período Fiscal: "},{"$f":"YEAR(Datos!C13)","v":2021}]
[null,null,"Período trabajado (desde):","2021-01-01"]
[null,null,"Período trabajado (hasta):","2021-09-25",null,null,null,{"$f":"IF(MONTH(D11)>MONTH(Datos!C13),\"El período trabajado no puede ser mayor al período que se informa (mes \"&MONTH(Datos!C13)&\")\",\"\")","v":""}]
[null,null,"Zona geográfica:","Todo el país (excepto zona patagónica)"]
[null,null,"Transporte a larga distancia","No desarrolla la actividad"]
[null,null,"Beneficio promocional 27424?","No"]
[null,null,"Beneficio de la ley 27549?","No"]
[null,null,"El trabajador labora bajo el régimen de teletrabajo (Ley 27555)?","No"]
[null,null,"El trabajador es personal militar en actividad?","No"]
[]
[null,null,"REMUNERACIONES"]
[null,null,"Abonadas por el agente de retención:"]
[null,null,"Remuneración bruta gravada",1698181.68]
[null,null,"Retribuciones no habituales gravadas",0]
[null,null,"SAC primera cuota gravado",0]
[null,null,"SAC segunda cuota gravado",0]
[null,null,"Horas extras remuneración gravada",0,null,null,0,"% de retenciones"]
[null,null,"Movilidad y viáticos remuneración gravada",0]
[null,null,"Material didáctico personal docente remuneración gravada",0]
[null,null,"Remuneración no alcanzada o exenta (sin horas extras)",0]
[null,null,"Remuneración exenta ley 27549",0,null,{"$f":"IF(AND($D$15=\"No\",D29<>0),\"Para que sea procedente el beneficio, modifique el valor en la celda D15\",\"\")","v":""}]
[null,null,"Retribuciones no habituales exentas o no alcanzadas",0]
[null,null,"Horas extras remuneración exenta",0]
[null,null,"Movilidad y viáticos remuneración exenta",0]
[null,null,"Material didáctico personal docente remuneración exenta",0]
[null,null,"Bonos de productividad gravados",0]
[null,null,"Fallos de caja gravados",0]
[null,null,"Conceptos de similar naturaleza gravados",0]
[null,null,"Bonos de productividad exentos",0]
[null,null,"Fallos de caja exentos",0]
[null,null,"Conceptos de similar naturaleza exentos",0]
[null,null,"Compensación de gastos de teletrabajo exentos",0]
[null,null,"Personal militar - suplementos art. 57 ley 19.101 - exentos",0]
[null,null,"SAC primera cuota - No alcanzado o exento",0]
[null,null,"SAC segunda cuota - No alcanzado o exento",0]
[null,null,"Ajustes períodos anteriores - Remuneración gravada",0]
[null,null,"Ajustes períodos anteriores - Remuneración exenta / no alcanzada",0]
[null,null,"Otros empleos:"]
[null,null,"Remuneración bruta gravada ",0]
[null,null,"Retribuciones no habituales gravadas ",0]
[null,null,"SAC primera cuota gravado ",0]
[null,null,"SAC segunda cuota gravado ",0]
[null,null,"Horas extras remuneración gravada ",0,null,null,0,"% de retenciones"]
[null,null,"Movilidad y viáticos remuneración gravada ",0]
[null,null,"Material didáctico personal docente remuneración gravada ",0]
[null,null,"Remuneración no alcanzada o exenta ",0]
[null,null,"Remuneración exenta ley 27549 ",0,null,{"$f":"IF(AND($D$15=\"No\",D55<>0),\"Para que sea procedente el beneficio, modifique el valor en la celda D15\",\"\")","v":""}]
[null,null,"Retribuciones no habituales exentas o no alcanzadas ",0]
[null,null,"Horas extras remuneración exenta o no alcanzada ",0]
[null,null,"Movilidad y viáticos remuneración exenta o no alcanzada ",0]
[null,null,"Material didáctico personal docente remuneración exenta o no alcanzada ",0]
[null,null,"Bonos de productividad gravados ",0]
[null,null,"Fallos de caja gravados ",0]
[null,null,"Conceptos de similar naturaleza gravados ",0]
[null,null,"Bonos de productividad exentos ",0]
[null,null,"Fallos de caja exentos ",0]
[null,null,"Conceptos de similar naturaleza exentos ",0]
[null,null,"Compensación de gastos teletrabajo - exentos ",0]
[null,null,"Personal militar - suplementos art. 57 Ley 19101 - exentos ",0]
[null,null,"SAC primera cuota - No alcanzado o exento ",0]
[null,null,"SAC segunda cuota - No alcanzado o exento ",0]
[null,null,"Ajustes períodos anteriores - Remuneración gravada ",0]
[null,null,"Ajustes períodos anteriores - Remuneración no alcanzada o exenta ",0]
[null,null,"TOTAL REMUNERACIÓN GRAVADA",{"$f":"SUM(D21:E27,D44,D47:D53,D70)","v":1698181.68}]
[null,null,"TOTAL REMUNERACIÓN NO ALCANZADA O EXENTA",{"$f":"SUM(D28:D43,D45,D54:D69,D71)","v":0}]
[null,null,"TOTAL REMUNERACIONES",{"$f":"IF(+D72+D73<0,0,D72+D73)","v":1698181.68}]
[]
[null,null,"DEDUCCIONES GENERALES",null,null,null,null,"Topes máximos legales"]
[null,null,"Aportes a fondos de jubilaciones, retiros, pensiones o subsidios que se destinen a cajas nacionales, provinciales o municipales",214197.81,null,{"$f":"validaciones(D77,H77,0)&IF(D77>$D$74,\" El importe no puede ser mayor a la remuneración total\",\"\")","v":""}]
[null,null,"Aportes a fondos de jubilaciones, retiros, pensiones o subsidios que se destinen a cajas nacionales, provinciales o municipales por otros empleos",0,null,{"$f":"validaciones(D78,H78,0)&IF(D78>$D$74,\" El importe no puede ser mayor a la remuneración total\",\"\")","v":""}]
[null,null,"Aportes a obra sociales",45899.53,null,{"$f":"validaciones(D79,H79,0)&IF(D79>$D$74,\" El importe no puede ser mayor a la remuneración total\",\"\")","v":""}]
[null,null,"Aportes a obra sociales por otros empleos",0,null,{"$f":"validaciones(D80,H80,0)&IF(D80>$D$74,\" El importe no puede ser mayor a la remuneración total\",\"\")","v":""}]
[null,null,"Cuota sindical",33963.629999999997,null,{"$f":"validaciones(D81,H81,0)&IF(D81>$D$74,\" El importe no puede ser mayor a la remuneración total\",\"\")","v":""}]
[null,null,"Cuota sindical por otros empleos",0,null,{"$f":"validaciones(D82,H82,0)&IF(D82>$D$74,\" El importe no puede ser mayor a la remuneración total\",\"\")","v":""}]
[null,null,"Cuotas médico asistenciales",0,null,{"$f":"validaciones(D83,H83,0)","v":""},null,{"$f":"(D72-SUM(D77:D82,D84:D89,D91,D93:D94,D95:D103))*0.05","v":70206.035499999998}]
[null,null,"Primas de seguro para el caso de muerte",0,null,{"$f":"validaciones(D84,H84,0)&IF(AND(Datos!$C$11=\"Informativa\",D84<>0),\"En la DDJJ informativa, este campo debe consignarse en cero (0)\",\"\")","v":""},null,{"$f":"+Tablas!B2","v":24000}]
[null,null,"Primas por riesgo de muerte y de ahorro de seguros mixtos, excepto para los casos de seguros de retiro privados administrados por entidades sujetas al control de la Superintendencia de Seguros de la Nación",0,null,{"$f":"validaciones(D85,H85,0)&IF(AND(Datos!$C$11=\"Informativa\",D85<>0),\"En la DDJJ informativa, este campo debe consignarse en cero (0)\",\"\")","v":""},null,{"$f":"+H84","v":24000}]
[null,null,"Aportes a planes de seguro de retiro privados administrados por entidades sujetas al control de la Superintendencia de Seguros de la Nación",0,null,{"$f":"validaciones(D86,H86,0)&IF(AND(Datos!$C$11=\"Informativa\",D86<>0),\"En la DDJJ informativa, este campo debe consignarse en cero (0)\",\"\")","v":""},null,{"$f":"+H85","v":24000}]
[null,null,"Cuotapartes de fondos comunes de inversión constituidos con fines de retiro",0,null,{"$f":"validaciones(D87,H87,0)&IF(D87<>0,\"Deberá consignarse en cero (0), hasta que la Autoridad de Aplicación – CNV – autorice a las Entidades a funcionar e implemente el régimen.\",\"\")","v":""},null,0]
[null,null,"Gastos de sepelio",0,null,{"$f":"validaciones(D88,H88,0)","v":""},null,{"$f":"+Tablas!B6","v":996.23}]
[null,null,"Gastos amortización e intereses rodado para corredores y viajantes de comercio",0,null,{"$f":"validaciones(D89,H89,0)&IF(D89>$D$74,\" El importe no puede ser mayor a la remuneración total\",\"\")","v":""}]
[null,null,"Donaciones a fiscos nacional, provinciales y municipales, y a instituciones comprendidas en el artículo 26, incisos e) y f) de la ley",0,null,{"$f":"validaciones(D90,H90,0)","v":""},null,{"$f":"(D72-SUM(D77:D82,D84:D89,D91,D93:D94,D95:D103))*0.05","v":70206.035499999998}]
[null,null,"Descuentos obligatorios establecidos por ley nacional, provincial o municipal",0,null,{"$f":"validaciones(D91,H91,0)&IF(D91>$D$74,\" El importe no puede ser mayor a la remuneración total\",\"\")","v":""}]
[null,null,"Honorarios por servicios de asistencia sanitaria, médica y paramédica",0,null,{"$f":"validaciones(D92,H92,0)&IF(AND(Datos!$C$11=\"Informativa\",D92<>0),\"En la DDJJ informativa, este campo debe consignarse en cero (0)\",\"\")","v":""},null,{"$f":"(D72-SUM(D77:D82,D84:D89,D91,D93:D94,D95:D103))*0.05","v":70206.035499999998}]
[null,null,"Intereses de créditos hipotecarios",0,null,{"$f":"validaciones(D93,H93,0)","v":""},null,{"$f":"+Tablas!B3","v":20000}]
[null,null,"Aportes al capital social o al fondo de riesgo de socios protectores de sociedades de garantía recíproca",0,null,{"$f":"validaciones(D94,H94,0)","v":""}]
[null,null,"Alquileres de inmuebles destinados a casa habitación",0,null,{"$f":"validaciones(D95,H95,0)","v":""},null,{"$f":"IF(Datos!C11=\"Final\",ROUND(Tablas!B4/12*12,2),ROUND(Tablas!B4/12*MONTH(Datos!C13),2))","v":167678.39999999999}]
[null,null,"Empleados del servicio doméstico",0,null,{"$f":"validaciones(D96,H96,0)","v":""},null,{"$f":"Tablas!B4","v":167678.39999999999}]
[null,null,"Gastos de movilidad, viáticos y otras compensaciones análogas abonados por el empleador",0,null,{"$f":"validaciones(D97,H97,0)","v":""},null,{"$f":"IF(D13=\"Desarrolla la actividad\",Tablas!B4,Tablas!B4*0.4)","v":67071.360000000001}]
[null,null,"Gastos por adquisición de indumentaria y/o equipamiento de trabajo",0,null,{"$f":"validaciones(D98,H98,0)","v":""}]
[null,null,"Otras deducciones - aportes a Cajas Complementarias de Previsión, Fondos Compensadores de Previsión o similares",0,null,{"$f":"validaciones(D99,H99,0)","v":""}]
[null,null,"Otras deducciones - Aportes para jubilaciones, retiros y subsidios ANSES",0,null,{"$f":"validaciones(D100,H100,0)","v":""}]
[null,null,"Otras deducciones - Cajas Provinciales o Municipales o de Previsión para Profesionales",0,null,{"$f":"validaciones(D101,H101,0)","v":""}]
[null,null,"Otras deducciones - Actores - Retribución pagada a los representantes - RG 2442/08",0,null,{"$f":"validaciones(D102,H102,0)","v":""}]
[null,null,"Otras deducciones - Fondos compensadores de previsión",0,null,{"$f":"validaciones(D103,H103,0)","v":""}]
[null,null,"Otras deducciones",{"$f":"+SUM(D99:E103)","v":0}]
[null,null,"TOTAL DEDUCCIONES GENERALES",{"$f":"SUM(D77:E103)","v":294060.96999999997},null,null,null,null,null,null,{"$f":"+D72-D105","v":1404120.71}]
[]
[null,null,"DEDUCCIONES PERSONALES",null,null,null,null,"Topes máximos legales"]
[null,null,"Ganancia no imponible",167678.39999999999,null,{"$f":"validaciones(D108,H108,0)","v":""},null,{"$f":"deducciones(1,Datos!C11,MONTH(Datos!$C$13),$D$12)","v":167678.39999999999},null,null,{"$f":"IF(K105-K109<=0,0,IF(K105-K109<=H108,K105-K109,H108))","v":167678.39999999999}]
[null,null,"Deducción especial",804856.34,null,{"$f":"validaciones(D109,H109,0)","v":""},null,{"$f":"deducciones(2,Datos!$C$11,MONTH(Datos!$C$13),$D$12)","v":804856.34},null,null,{"$f":"IF(K105<=H109,K105,H109)","v":804856.34}]
[null,null,"Deducción Especial Incrementada Primera parte del penúltimo párrafo del inciso c) del artículo 30 de la ley del gravamen",90354.74]
[null,null,"Deducción Especial Incrementada Segunda parte del penúltimo párrafo del inciso c) del artículo 30 de la ley del gravamen",0]
[null,null,"Deducción específica",0,null,{"$f":"validaciones(D112,H112,0)","v":""},null,0]
[null,null,"Cargas de familia"]
[null,null,"Cónyuge",0,null,{"$f":"validaciones(D114,H114,0)","v":""},null,{"$f":"cargas_de_familia(4,Datos!$C$11,MONTH(Datos!$C$13),$D$12)","v":156320.63},null,null,{"$f":"IF(K105-K108-K109>=D114,D114,K105-K108-K109)","v":0}]
[null,null,"Cantidad de hijos e hijastros",0,null,{"$f":"validaciones(D115,H115,0)","v":""},null,99]
[null,null,"Deducción total hijos e hijastros",0,null,null,null,{"$f":"cargas_de_familia(3,Datos!$C$11,MONTH(Datos!$C$13),$D$12)*D115","v":0},null,null,{"$f":"IF(K105-K108-K109-K114>=D116,D116,K105-K108-K109-K114)","v":0}]
[null,null,"Cantidad de hijos e hijastros incapacitados para el trabajo",0,null,{"$f":"validaciones(D117,H117,0)","v":""},null,99]
[null,null,"Hijos / Hijastros incapacitados para el trabajo",0,null,null,null,{"$f":"cargas_de_familia(5,Datos!$C$11,MONTH(Datos!$C$13),$D$12)","v":157666.16}]
[null,null,"Total de cargas de familia",{"$f":"+D114+D116+D118","v":0},null,null,null,0]
[null,null,"TOTAL DEDUCCIONES PERSONALES",{"$f":"SUM(D108:D112,D119)","v":1062889.48}]
[]
[null,null,"DETERMINACIÓN DEL IMPUESTO"]
[null,null,"REMUNERACIÓN NETA SUJETA A IMPUESTO -antes de la deducción art. 46 L. 27541-",0]
[null,null,"Deducción inciso a) primer párrafo artículo 30 de la ley (cfr. art. 46 L. 27541)",0,null,null,null,0,null,null,{"$f":"IF(D123-K125<=0,0,IF(D123-K125<=H124,D123-K125,H124))","v":0}]
[null,null,"Deducción inciso c) primer párrafo artículo 30 de la ley (cfr. art. 46 L. 27541)",0,null,null,null,0,null,null,{"$f":"IF(D123<=H125,D123,H125)","v":0}]
[null,null,"REMUNERACIÓN SUJETA A IMPUESTO",{"$f":"IF(+D72-D105-D120<0,0,+D72-D105-D120)","v":341231.23}]
[null,null,"Alícuota aplicable artículo 94 ley de impuesto a las ganancias",{"$f":"IF(OR(Datos!C11=\"Final\",Datos!C11=\"Anual\"),impuestoAlicuota(D126,D25*(1-G25)+D51*(1-G51),12),impuestoAlicuota(D126,D25*(1-G25)+D51*(1-G51),MONTH(D11)))","v":0.19}]
[null,null,"Alícuota aplicable sin incluir horas extras",{"$f":"IF(OR(Datos!C11=\"Final\",Datos!C11=\"Anual\"),impuestoAlicuota(D126,0,12),impuestoAlicuota(D126,0,MONTH(D11)))","v":0.19}]
[null,null,"IMPUESTO DETERMINADO",{"$f":"IF(D126<0,0,IF(OR(Datos!C11=\"Final\",Datos!C11=\"Anual\"),impuestoDeterminado(D126,D25*(1-G25)+D51*(1-G51),12),impuestoDeterminado(D126,D25*(1-G25)+D51*(1-G51),MONTH(D11))))","v":42247.513500000001}]
[null,null,"Impuesto retenido",42247.51]
[null,null,"Pagos a cuenta - Impuesto sobre créditos y débitos",0,null,{"$f":"IF(AND(Datos!$C$11=\"Informativa\",D131<>0),\"En la DDJJ informativa, este campo debe consignarse en cero (0)\",\"\")","v":""}]
[null,null,"Pagos a cuenta - Percepciones / Retenciones aduaneras",0,null,{"$f":"IF(AND(Datos!$C$11=\"Informativa\",D132<>0),\"En la DDJJ informativa, este campo debe consignarse en cero (0)\",\"\")","v":""}]
[null,null,"Pagos a cuenta - RG (AFIP) 3819/2015 - Cancelaciones en efectivo",0,null,{"$f":"IF(AND(Datos!$C$11=\"Informativa\",D133<>0),\"En la DDJJ informativa, este campo debe consignarse en cero (0)\",\"\")","v":""}]
[null,null,"Pagos a cuenta - Bono ley 27.424",0,null,{"$f":"IF(AND(Datos!$C$11=\"Informativa\",D134<>0),\"En la DDJJ informativa, este campo debe consignarse en cero (0)\",\"\")","v":""}]
[null,null,"Pagos a cuenta - RG 4815 [LEY 27.541 Art. 35 inciso a)] ",0,null,{"$f":"IF(AND(Datos!$C$11=\"Informativa\",D135<>0),\"En la DDJJ informativa, este campo debe consignarse en cero (0)\",\"\")","v":""}]
[null,null,"Pagos a cuenta - RG 4815 [LEY 27.541 Art. 35 inciso b)] ",0,null,{"$f":"IF(AND(Datos!$C$11=\"Informativa\",D136<>0),\"En la DDJJ informativa, este campo debe consignarse en cero (0)\",\"\")","v":""}]
[null,null,"Pagos a cuenta - RG 4815 [LEY 27.541 Art. 35 inciso c)] ",0,null,{"$f":"IF(AND(Datos!$C$11=\"Informativa\",D137<>0),\"En la DDJJ informativa, este campo debe consignarse en cero (0)\",\"\")","v":""}]
[null,null,"Pagos a cuenta - RG 4815 [LEY 27.541 Art. 35 inciso d)] ",0,null,{"$f":"IF(AND(Datos!$C$11=\"Informativa\",D138<>0),\"En la DDJJ informativa, este campo debe consignarse en cero (0)\",\"\")","v":""}]
[null,null,"Pagos a cuenta - RG 4815 [LEY 27.541 Art. 35 inciso e)] ",0,null,{"$f":"IF(AND(Datos!$C$11=\"Informativa\",D139<>0),\"En la DDJJ informativa, este campo debe consignarse en cero (0)\",\"\")","v":""}]
[null,null,"Pagos a cuenta - Impuesto sobre créditos y débitos - sobre movimientos de fondos propios o de terceros",0,null,{"$f":"IF(AND(Datos!$C$11=\"Informativa\",D140<>0),\"En la DDJJ informativa, este campo debe consignarse en cero (0)\",\"\")","v":""}]
[null,null,"Pagos a cuenta - Resolución General (AFIP) 3819/2015 - Cancelaciones en Efectivo -Servicios de transporte terrestre, aéreo y por vía acuática de pasajeros con destino fuera del país",0,null,{"$f":"IF(AND(Datos!$C$11=\"Informativa\",D141<>0),\"En la DDJJ informativa, este campo debe consignarse en cero (0)\",\"\")","v":""}]
[null,null,"Total pagos a cuenta",{"$f":"SUM(D131:D141)","v":0}]
[null,null,"SALDO A PAGAR",{"$f":"+ROUND(D129,2)-D130-D142","v":0}]

{"sheet":"Empleado24","index":28,"n_rows":143,"n_cols":11,"rows_kept":143,"cut":false,"hidden":false,"merged":[[10,7,11,9]]}
[]
[]
[null,null,"LIQUIDACIÓN DE IMPUESTO A LAS GANANCIAS - 4ta. CATEGORÍA RELACIÓN DE DEPENDENCIA"]
[]
[]
[null,null,"Empleado: Nombre y apellido ","PERCUDANI ROBERTO OSCAR"]
[null,null,"CUIL del empleado",23168649029,null,{"$f":"cuitValidar(D7)","v":"CUIT/CUIL Válido"}]
[null,null,{"$f":"\"Agente de Retención: \"","v":"Agente de Retención: "},{"$f":"Datos!C7&\" - \"&Datos!C5","v":"33711238269 - OPERACIONES AGROPORTUARIAS S.A."}]
[null,null,{"$f":"\"Período Fiscal: \"","v":"Período Fiscal: "},{"$f":"YEAR(Datos!C13)","v":2021}]
[null,null,"Período trabajado (desde):","2021-01-01"]
[null,null,"Período trabajado (hasta):","2021-09-25",null,null,null,{"$f":"IF(MONTH(D11)>MONTH(Datos!C13),\"El período trabajado no puede ser mayor al período que se informa (mes \"&MONTH(Datos!C13)&\")\",\"\")","v":""}]
[null,null,"Zona geográfica:","Todo el país (excepto zona patagónica)"]
[null,null,"Transporte a larga distancia","No desarrolla la actividad"]
[null,null,"Beneficio promocional 27424?","No"]
[null,null,"Beneficio de la ley 27549?","No"]
[null,null,"El trabajador labora bajo el régimen de teletrabajo (Ley 27555)?","No"]
[null,null,"El trabajador es personal militar en actividad?","No"]
[]
[null,null,"REMUNERACIONES"]
[null,null,"Abonadas por el agente de retención:"]
[null,null,"Remuneración bruta gravada",1437664]
[null,null,"Retribuciones no habituales gravadas",0]
[null,null,"SAC primera cuota gravado",0]
[null,null,"SAC segunda cuota gravado",0]
[null,null,"Horas extras remuneración gravada",0,null,null,0,"% de retenciones"]
[null,null,"Movilidad y viáticos remuneración gravada",0]
[null,null,"Material didáctico personal docente remuneración gravada",0]
[null,null,"Remuneración no alcanzada o exenta (sin horas extras)",0]
[null,null,"Remuneración exenta ley 27549",0,null,{"$f":"IF(AND($D$15=\"No\",D29<>0),\"Para que sea procedente el beneficio, modifique el valor en la celda D15\",\"\")","v":""}]
[null,null,"Retribuciones no habituales exentas o no alcanzadas",0]
[null,null,"Horas extras remuneración exenta",0]
[null,null,"Movilidad y viáticos remuneración exenta",0]
[null,null,"Material didáctico personal docente remuneración exenta",0]
[null,null,"Bonos de productividad gravados",0]
[null,null,"Fallos de caja gravados",0]
[null,null,"Conceptos de similar naturaleza gravados",0]
[null,null,"Bonos de productividad exentos",0]
[null,null,"Fallos de caja exentos",0]
[null,null,"Conceptos de similar naturaleza exentos",0]
[null,null,"Compensación de gastos de teletrabajo exentos",0]
[null,null,"Personal militar - suplementos art. 57 ley 19.101 - exentos",0]
[null,null,"SAC primera cuota - No alcanzado o exento",0]
[null,null,"SAC segunda cuota - No alcanzado o exento",0]
[null,null,"Ajustes períodos anteriores - Remuneración gravada",0]
[null,null,"Ajustes períodos anteriores - Remuneración exenta / no alcanzada",0]
[null,null,"Otros empleos:"]
[null,null,"Remuneración bruta gravada ",0]
[null,null,"Retribuciones no habituales gravadas ",0]
[null,null,"SAC primera cuota gravado ",0]
[null,null,"SAC segunda cuota gravado ",0]
[null,null,"Horas extras remuneración gravada ",0,null,null,0,"% de retenciones"]
[null,null,"Movilidad y viáticos remuneración gravada ",0]
[null,null,"Material didáctico personal docente remuneración gravada ",0]
[null,null,"Remuneración no alcanzada o exenta ",0]
[null,null,"Remuneración exenta ley 27549 ",0,null,{"$f":"IF(AND($D$15=\"No\",D55<>0),\"Para que sea procedente el beneficio, modifique el valor en la celda D15\",\"\")","v":""}]
[null,null,"Retribuciones no habituales exentas o no alcanzadas ",0]
[null,null,"Horas extras remuneración exenta o no alcanzada ",0]
[null,null,"Movilidad y viáticos remuneración exenta o no alcanzada ",0]
[null,null,"Material didáctico personal docente remuneración exenta o no alcanzada ",0]
[null,null,"Bonos de productividad gravados ",0]
[null,null,"Fallos de caja gravados ",0]
[null,null,"Conceptos de similar naturaleza gravados ",0]
[null,null,"Bonos de productividad exentos ",0]
[null,null,"Fallos de caja exentos ",0]
[null,null,"Conceptos de similar naturaleza exentos ",0]
[null,null,"Compensación de gastos teletrabajo - exentos ",0]
[null,null,"Personal militar - suplementos art. 57 Ley 19101 - exentos ",0]
[null,null,"SAC primera cuota - No alcanzado o exento ",0]
[null,null,"SAC segunda cuota - No alcanzado o exento ",0]
[null,null,"Ajustes períodos anteriores - Remuneración gravada ",0]
[null,null,"Ajustes períodos anteriores - Remuneración no alcanzada o exenta ",0]
[null,null,"TOTAL REMUNERACIÓN GRAVADA",{"$f":"SUM(D21:E27,D44,D47:D53,D70)","v":1437664}]
[null,null,"TOTAL REMUNERACIÓN NO ALCANZADA O EXENTA",{"$f":"SUM(D28:D43,D45,D54:D69,D71)","v":0}]
[null,null,"TOTAL REMUNERACIONES",{"$f":"IF(+D72+D73<0,0,D72+D73)","v":1437664}]
[]
[null,null,"DEDUCCIONES GENERALES",null,null,null,null,"Topes máximos legales"]
[null,null,"Aportes a fondos de jubilaciones, retiros, pensiones o subsidios que se destinen a cajas nacionales, provinciales o municipales",183300.23,null,{"$f":"validaciones(D77,H77,0)&IF(D77>$D$74,\" El importe no puede ser mayor a la remuneración total\",\"\")","v":""}]
[null,null,"Aportes a fondos de jubilaciones, retiros, pensiones o subsidios que se destinen a cajas nacionales, provinciales o municipales por otros empleos",0,null,{"$f":"validaciones(D78,H78,0)&IF(D78>$D$74,\" El importe no puede ser mayor a la remuneración total\",\"\")","v":""}]
[null,null,"Aportes a obra sociales",39278.620000000003,null,{"$f":"validaciones(D79,H79,0)&IF(D79>$D$74,\" El importe no puede ser mayor a la remuneración total\",\"\")","v":""}]
[null,null,"Aportes a obra sociales por otros empleos",0,null,{"$f":"validaciones(D80,H80,0)&IF(D80>$D$74,\" El importe no puede ser mayor a la remuneración total\",\"\")","v":""}]
[null,null,"Cuota sindical",37297.15,null,{"$f":"validaciones(D81,H81,0)&IF(D81>$D$74,\" El importe no puede ser mayor a la remuneración total\",\"\")","v":""}]
[null,null,"Cuota sindical por otros empleos",0,null,{"$f":"validaciones(D82,H82,0)&IF(D82>$D$74,\" El importe no puede ser mayor a la remuneración total\",\"\")","v":""}]
[null,null,"Cuotas médico asistenciales",0,null,{"$f":"validaciones(D83,H83,0)","v":""},null,{"$f":"(D72-SUM(D77:D82,D84:D89,D91,D93:D94,D95:D103))*0.05","v":58889.4}]
[null,null,"Primas de seguro para el caso de muerte",0,null,{"$f":"validaciones(D84,H84,0)&IF(AND(Datos!$C$11=\"Informativa\",D84<>0),\"En la DDJJ informativa, este campo debe consignarse en cero (0)\",\"\")","v":""},null,{"$f":"+Tablas!B2","v":24000}]
[null,null,"Primas por riesgo de muerte y de ahorro de seguros mixtos, excepto para los casos de seguros de retiro privados administrados por entidades sujetas al control de la Superintendencia de Seguros de la Nación",0,null,{"$f":"validaciones(D85,H85,0)&IF(AND(Datos!$C$11=\"Informativa\",D85<>0),\"En la DDJJ informativa, este campo debe consignarse en cero (0)\",\"\")","v":""},null,{"$f":"+H84","v":24000}]
[null,null,"Aportes a planes de seguro de retiro privados administrados por entidades sujetas al control de la Superintendencia de Seguros de la Nación",0,null,{"$f":"validaciones(D86,H86,0)&IF(AND(Datos!$C$11=\"Informativa\",D86<>0),\"En la DDJJ informativa, este campo debe consignarse en cero (0)\",\"\")","v":""},null,{"$f":"+H85","v":24000}]
[null,null,"Cuotapartes de fondos comunes de inversión constituidos con fines de retiro",0,null,{"$f":"validaciones(D87,H87,0)&IF(D87<>0,\"Deberá consignarse en cero (0), hasta que la Autoridad de Aplicación – CNV – autorice a las Entidades a funcionar e implemente el régimen.\",\"\")","v":""},null,0]
[null,null,"Gastos de sepelio",0,null,{"$f":"validaciones(D88,H88,0)","v":""},null,{"$f":"+Tablas!B6","v":996.23}]
[null,null,"Gastos amortización e intereses rodado para corredores y viajantes de comercio",0,null,{"$f":"validaciones(D89,H89,0)&IF(D89>$D$74,\" El importe no puede ser mayor a la remuneración total\",\"\")","v":""}]
[null,null,"Donaciones a fiscos nacional, provinciales y municipales, y a instituciones comprendidas en el artículo 26, incisos e) y f) de la ley",0,null,{"$f":"validaciones(D90,H90,0)","v":""},null,{"$f":"(D72-SUM(D77:D82,D84:D89,D91,D93:D94,D95:D103))*0.05","v":58889.4}]
[null,null,"Descuentos obligatorios establecidos por ley nacional, provincial o municipal",0,null,{"$f":"validaciones(D91,H91,0)&IF(D91>$D$74,\" El importe no puede ser mayor a la remuneración total\",\"\")","v":""}]
[null,null,"Honorarios por servicios de asistencia sanitaria, médica y paramédica",0,null,{"$f":"validaciones(D92,H92,0)&IF(AND(Datos!$C$11=\"Informativa\",D92<>0),\"En la DDJJ informativa, este campo debe consignarse en cero (0)\",\"\")","v":""},null,{"$f":"(D72-SUM(D77:D82,D84:D89,D91,D93:D94,D95:D103))*0.05","v":58889.4}]
[null,null,"Intereses de créditos hipotecarios",0,null,{"$f":"validaciones(D93,H93,0)","v":""},null,{"$f":"+Tablas!B3","v":20000}]
[null,null,"Aportes al capital social o al fondo de riesgo de socios protectores de sociedades de garantía recíproca",0,null,{"$f":"validaciones(D94,H94,0)","v":""}]
[null,null,"Alquileres de inmuebles destinados a casa habitación",0,null,{"$f":"validaciones(D95,H95,0)","v":""},null,{"$f":"IF(Datos!C11=\"Final\",ROUND(Tablas!B4/12*12,2),ROUND(Tablas!B4/12*MONTH(Datos!C13),2))","v":167678.39999999999}]
[null,null,"Empleados del servicio doméstico",0,null,{"$f":"validaciones(D96,H96,0)","v":""},null,{"$f":"Tablas!B4","v":167678.39999999999}]
[null,null,"Gastos de movilidad, viáticos y otras compensaciones análogas abonados por el empleador",0,null,{"$f":"validaciones(D97,H97,0)","v":""},null,{"$f":"IF(D13=\"Desarrolla la actividad\",Tablas!B4,Tablas!B4*0.4)","v":67071.360000000001}]
[null,null,"Gastos por adquisición de indumentaria y/o equipamiento de trabajo",0,null,{"$f":"validaciones(D98,H98,0)","v":""}]
[null,null,"Otras deducciones - aportes a Cajas Complementarias de Previsión, Fondos Compensadores de Previsión o similares",0,null,{"$f":"validaciones(D99,H99,0)","v":""}]
[null,null,"Otras deducciones - Aportes para jubilaciones, retiros y subsidios ANSES",0,null,{"$f":"validaciones(D100,H100,0)","v":""}]
[null,null,"Otras deducciones - Cajas Provinciales o Municipales o de Previsión para Profesionales",0,null,{"$f":"validaciones(D101,H101,0)","v":""}]
[null,null,"Otras deducciones - Actores - Retribución pagada a los representantes - RG 2442/08",0,null,{"$f":"validaciones(D102,H102,0)","v":""}]
[null,null,"Otras deducciones - Fondos compensadores de previsión",0,null,{"$f":"validaciones(D103,H103,0)","v":""}]
[null,null,"Otras deducciones",{"$f":"+SUM(D99:E103)","v":0}]
[null,null,"TOTAL DEDUCCIONES GENERALES",{"$f":"SUM(D77:E103)","v":259876},null,null,null,null,null,null,{"$f":"+D72-D105","v":1177788}]
[]
[null,null,"DEDUCCIONES PERSONALES",null,null,null,null,"Topes máximos legales"]
[null,null,"Ganancia no imponible",167678.39999999999,null,{"$f":"validaciones(D108,H108,0)","v":""},null,{"$f":"deducciones(1,Datos!C11,MONTH(Datos!$C$13),$D$12)","v":167678.39999999999},null,null,{"$f":"IF(K105-K109<=0,0,IF(K105-K109<=H108,K105-K109,H108))","v":167678.39999999999}]
[null,null,"Deducción especial",804856.34,null,{"$f":"validaciones(D109,H109,0)","v":""},null,{"$f":"deducciones(2,Datos!$C$11,MONTH(Datos!$C$13),$D$12)","v":804856.34},null,null,{"$f":"IF(K105<=H109,K105,H109)","v":804856.34}]
[null,null,"Deducción Especial Incrementada Primera parte del penúltimo párrafo del inciso c) del artículo 30 de la ley del gravamen",0]
[null,null,"Deducción Especial Incrementada Segunda parte del penúltimo párrafo del inciso c) del artículo 30 de la ley del gravamen",49448]
[null,null,"Deducción específica",0,null,{"$f":"validaciones(D112,H112,0)","v":""},null,0]
[null,null,"Cargas de familia"]
[null,null,"Cónyuge",0,null,{"$f":"validaciones(D114,H114,0)","v":""},null,{"$f":"cargas_de_familia(4,Datos!$C$11,MONTH(Datos!$C$13),$D$12)","v":156320.63},null,null,{"$f":"IF(K105-K108-K109>=D114,D114,K105-K108-K109)","v":0}]
[null,null,"Cantidad de hijos e hijastros",0,null,{"$f":"validaciones(D115,H115,0)","v":""},null,99]
[null,null,"Deducción total hijos e hijastros",0,null,null,null,{"$f":"cargas_de_familia(3,Datos!$C$11,MONTH(Datos!$C$13),$D$12)*D115","v":0},null,null,{"$f":"IF(K105-K108-K109-K114>=D116,D116,K105-K108-K109-K114)","v":0}]
[null,null,"Cantidad de hijos e hijastros incapacitados para el trabajo",0,null,{"$f":"validaciones(D117,H117,0)","v":""},null,99]
[null,null,"Hijos / Hijastros incapacitados para el trabajo",0,null,null,null,{"$f":"cargas_de_familia(5,Datos!$C$11,MONTH(Datos!$C$13),$D$12)","v":157666.16}]
[null,null,"Total de cargas de familia",{"$f":"+D114+D116+D118","v":0},null,null,null,0]
[null,null,"TOTAL DEDUCCIONES PERSONALES",{"$f":"SUM(D108:D112,D119)","v":1021982.74}]
[]
[null,null,"DETERMINACIÓN DEL IMPUESTO"]
[null,null,"REMUNERACIÓN NETA SUJETA A IMPUESTO -antes de la deducción art. 46 L. 27541-",0]
[null,null,"Deducción inciso a) primer párrafo artículo 30 de la ley (cfr. art. 46 L. 27541)",0,null,null,null,0,null,null,{"$f":"IF(D123-K125<=0,0,IF(D123-K125<=H124,D123-K125,H124))","v":0}]
[null,null,"Deducción inciso c) primer párrafo artículo 30 de la ley (cfr. art. 46 L. 27541)",0,null,null,null,0,null,null,{"$f":"IF(D123<=H125,D123,H125)","v":0}]
[null,null,"REMUNERACIÓN SUJETA A IMPUESTO",{"$f":"IF(+D72-D105-D120<0,0,+D72-D105-D120)","v":155805.26}]
[null,null,"Alícuota aplicable artículo 94 ley de impuesto a las ganancias",{"$f":"IF(OR(Datos!C11=\"Final\",Datos!C11=\"Anual\"),impuestoAlicuota(D126,D25*(1-G25)+D51*(1-G51),12),impuestoAlicuota(D126,D25*(1-G25)+D51*(1-G51),MONTH(D11)))","v":0.12}]
[null,null,"Alícuota aplicable sin incluir horas extras",{"$f":"IF(OR(Datos!C11=\"Final\",Datos!C11=\"Anual\"),impuestoAlicuota(D126,0,12),impuestoAlicuota(D126,0,MONTH(D11)))","v":0.12}]
[null,null,"IMPUESTO DETERMINADO",{"$f":"IF(D126<0,0,IF(OR(Datos!C11=\"Final\",Datos!C11=\"Anual\"),impuestoDeterminado(D126,D25*(1-G25)+D51*(1-G51),12),impuestoDeterminado(D126,D25*(1-G25)+D51*(1-G51),MONTH(D11))))","v":12243.366400000001}]
[null,null,"Impuesto retenido",12243.37]
[null,null,"Pagos a cuenta - Impuesto sobre créditos y débitos",0,null,{"$f":"IF(AND(Datos!$C$11=\"Informativa\",D131<>0),\"En la DDJJ informativa, este campo debe consignarse en cero (0)\",\"\")","v":""}]
[null,null,"Pagos a cuenta - Percepciones / Retenciones aduaneras",0,null,{"$f":"IF(AND(Datos!$C$11=\"Informativa\",D132<>0),\"En la DDJJ informativa, este campo debe consignarse en cero (0)\",\"\")","v":""}]
[null,null,"Pagos a cuenta - RG (AFIP) 3819/2015 - Cancelaciones en efectivo",0,null,{"$f":"IF(AND(Datos!$C$11=\"Informativa\",D133<>0),\"En la DDJJ informativa, este campo debe consignarse en cero (0)\",\"\")","v":""}]
[null,null,"Pagos a cuenta - Bono ley 27.424",0,null,{"$f":"IF(AND(Datos!$C$11=\"Informativa\",D134<>0),\"En la DDJJ informativa, este campo debe consignarse en cero (0)\",\"\")","v":""}]
[null,null,"Pagos a cuenta - RG 4815 [LEY 27.541 Art. 35 inciso a)] ",0,null,{"$f":"IF(AND(Datos!$C$11=\"Informativa\",D135<>0),\"En la DDJJ informativa, este campo debe consignarse en cero (0)\",\"\")","v":""}]
[null,null,"Pagos a cuenta - RG 4815 [LEY 27.541 Art. 35 inciso b)] ",0,null,{"$f":"IF(AND(Datos!$C$11=\"Informativa\",D136<>0),\"En la DDJJ informativa, este campo debe consignarse en cero (0)\",\"\")","v":""}]
[null,null,"Pagos a cuenta - RG 4815 [LEY 27.541 Art. 35 inciso c)] ",0,null,{"$f":"IF(AND(Datos!$C$11=\"Informativa\",D137<>0),\"En la DDJJ informativa, este campo debe consignarse en cero (0)\",\"\")","v":""}]
[null,null,"Pagos a cuenta - RG 4815 [LEY 27.541 Art. 35 inciso d)] ",0,null,{"$f":"IF(AND(Datos!$C$11=\"Informativa\",D138<>0),\"En la DDJJ informativa, este campo debe consignarse en cero (0)\",\"\")","v":""}]
[null,null,"Pagos a cuenta - RG 4815 [LEY 27.541 Art. 35 inciso e)] ",0,null,{"$f":"IF(AND(Datos!$C$11=\"Informativa\",D139<>0),\"En la DDJJ informativa, este campo debe consignarse en cero (0)\",\"\")","v":""}]
[null,null,"Pagos a cuenta - Impuesto sobre créditos y débitos - sobre movimientos de fondos propios o de terceros",0,null,{"$f":"IF(AND(Datos!$C$11=\"Informativa\",D140<>0),\"En la DDJJ informativa, este campo debe consignarse en cero (0)\",\"\")","v":""}]
[null,null,"Pagos a cuenta - Resolución General (AFIP) 3819/2015 - Cancelaciones en Efectivo -Servicios de transporte terrestre, aéreo y por vía acuática de pasajeros con destino fuera del país",0,null,{"$f":"IF(AND(Datos!$C$11=\"Informativa\",D141<>0),\"En la DDJJ informativa, este campo debe consignarse en cero (0)\",\"\")","v":""}]
[null,null,"Total pagos a cuenta",{"$f":"SUM(D131:D141)","v":0}]
[null,null,"SALDO A PAGAR",{"$f":"+ROUND(D129,2)-D130-D142","v":0}]

{"sheet":"Empleado25","index":29,"n_rows":143,"n_cols":11,"rows_kept":143,"cut":false,"hidden":false,"merged":[[10,7,11,9]]}
[]
[]
[null,null,"LIQUIDACIÓN DE IMPUESTO A LAS GANANCIAS - 4ta. CATEGORÍA RELACIÓN DE DEPENDENCIA"]
[]
[]
[null,null,"Empleado: Nombre y apellido ","REYES JUAN MANUEL"]
[null,null,"CUIL del empleado",23370761019,null,{"$f":"cuitValidar(D7)","v":"CUIT/CUIL Válido"}]
[null,null,{"$f":"\"Agente de Retención: \"","v":"Agente de Retención: "},{"$f":"Datos!C7&\" - \"&Datos!C5","v":"33711238269 - OPERACIONES AGROPORTUARIAS S.A."}]
[null,null,{"$f":"\"Período Fiscal: \"","v":"Período Fiscal: "},{"$f":"YEAR(Datos!C13)","v":2021}]
[null,null,"Período trabajado (desde):","2021-01-01"]
[null,null,"Período trabajado (hasta):","2021-09-25",null,null,null,{"$f":"IF(MONTH(D11)>MONTH(Datos!C13),\"El período trabajado no puede ser mayor al período que se informa (mes \"&MONTH(Datos!C13)&\")\",\"\")","v":""}]
[null,null,"Zona geográfica:","Todo el país (excepto zona patagónica)"]
[null,null,"Transporte a larga distancia","No desarrolla la actividad"]
[null,null,"Beneficio promocional 27424?","No"]
[null,null,"Beneficio de la ley 27549?","No"]
[null,null,"El trabajador labora bajo el régimen de teletrabajo (Ley 27555)?","No"]
[null,null,"El trabajador es personal militar en actividad?","No"]
[]
[null,null,"REMUNERACIONES"]
[null,null,"Abonadas por el agente de retención:"]
[null,null,"Remuneración bruta gravada",2657034.15]
[null,null,"Retribuciones no habituales gravadas",0]
[null,null,"SAC primera cuota gravado",0]
[null,null,"SAC segunda cuota gravado",0]
[null,null,"Horas extras remuneración gravada",0,null,null,0,"% de retenciones"]
[null,null,"Movilidad y viáticos remuneración gravada",0]
[null,null,"Material didáctico personal docente remuneración gravada",0]
[null,null,"Remuneración no alcanzada o exenta (sin horas extras)",0]
[null,null,"Remuneración exenta ley 27549",0,null,{"$f":"IF(AND($D$15=\"No\",D29<>0),\"Para que sea procedente el beneficio, modifique el valor en la celda D15\",\"\")","v":""}]
[null,null,"Retribuciones no habituales exentas o no alcanzadas",0]
[null,null,"Horas extras remuneración exenta",0]
[null,null,"Movilidad y viáticos remuneración exenta",0]
[null,null,"Material didáctico personal docente remuneración exenta",0]
[null,null,"Bonos de productividad gravados",0]
[null,null,"Fallos de caja gravados",0]
[null,null,"Conceptos de similar naturaleza gravados",0]
[null,null,"Bonos de productividad exentos",0]
[null,null,"Fallos de caja exentos",0]
[null,null,"Conceptos de similar naturaleza exentos",0]
[null,null,"Compensación de gastos de teletrabajo exentos",0]
[null,null,"Personal militar - suplementos art. 57 ley 19.101 - exentos",0]
[null,null,"SAC primera cuota - No alcanzado o exento",0]
[null,null,"SAC segunda cuota - No alcanzado o exento",0]
[null,null,"Ajustes períodos anteriores - Remuneración gravada",0]
[null,null,"Ajustes períodos anteriores - Remuneración exenta / no alcanzada",0]
[null,null,"Otros empleos:"]
[null,null,"Remuneración bruta gravada ",0]
[null,null,"Retribuciones no habituales gravadas ",0]
[null,null,"SAC primera cuota gravado ",0]
[null,null,"SAC segunda cuota gravado ",0]
[null,null,"Horas extras remuneración gravada ",0,null,null,0,"% de retenciones"]
[null,null,"Movilidad y viáticos remuneración gravada ",0]
[null,null,"Material didáctico personal docente remuneración gravada ",0]
[null,null,"Remuneración no alcanzada o exenta ",0]
[null,null,"Remuneración exenta ley 27549 ",0,null,{"$f":"IF(AND($D$15=\"No\",D55<>0),\"Para que sea procedente el beneficio, modifique el valor en la celda D15\",\"\")","v":""}]
[null,null,"Retribuciones no habituales exentas o no alcanzadas ",0]
[null,null,"Horas extras remuneración exenta o no alcanzada ",0]
[null,null,"Movilidad y viáticos remuneración exenta o no alcanzada ",0]
[null,null,"Material didáctico personal docente remuneración exenta o no alcanzada ",0]
[null,null,"Bonos de productividad gravados ",0]
[null,null,"Fallos de caja gravados ",0]
[null,null,"Conceptos de similar naturaleza gravados ",0]
[null,null,"Bonos de productividad exentos ",0]
[null,null,"Fallos de caja exentos ",0]
[null,null,"Conceptos de similar naturaleza exentos ",0]
[null,null,"Compensación de gastos teletrabajo - exentos ",0]
[null,null,"Personal militar - suplementos art. 57 Ley 19101 - exentos ",0]
[null,null,"SAC primera cuota - No alcanzado o exento ",0]
[null,null,"SAC segunda cuota - No alcanzado o exento ",0]
[null,null,"Ajustes períodos anteriores - Remuneración gravada ",0]
[null,null,"Ajustes períodos anteriores - Remuneración no alcanzada o exenta ",0]
[null,null,"TOTAL REMUNERACIÓN GRAVADA",{"$f":"SUM(D21:E27,D44,D47:D53,D70)","v":2657034.15}]
[null,null,"TOTAL REMUNERACIÓN NO ALCANZADA O EXENTA",{"$f":"SUM(D28:D43,D45,D54:D69,D71)","v":0}]
[null,null,"TOTAL REMUNERACIONES",{"$f":"IF(+D72+D73<0,0,D72+D73)","v":2657034.15}]
[]
[null,null,"DEDUCCIONES GENERALES",null,null,null,null,"Topes máximos legales"]
[null,null,"Aportes a fondos de jubilaciones, retiros, pensiones o subsidios que se destinen a cajas nacionales, provinciales o municipales",325541.53000000003,null,{"$f":"validaciones(D77,H77,0)&IF(D77>$D$74,\" El importe no puede ser mayor a la remuneración total\",\"\")","v":""}]
[null,null,"Aportes a fondos de jubilaciones, retiros, pensiones o subsidios que se destinen a cajas nacionales, provinciales o municipales por otros empleos",0,null,{"$f":"validaciones(D78,H78,0)&IF(D78>$D$74,\" El importe no puede ser mayor a la remuneración total\",\"\")","v":""}]
[null,null,"Aportes a obra sociales",69758.899999999994,null,{"$f":"validaciones(D79,H79,0)&IF(D79>$D$74,\" El importe no puede ser mayor a la remuneración total\",\"\")","v":""}]
[null,null,"Aportes a obra sociales por otros empleos",0,null,{"$f":"validaciones(D80,H80,0)&IF(D80>$D$74,\" El importe no puede ser mayor a la remuneración total\",\"\")","v":""}]
[null,null,"Cuota sindical",68824.31,null,{"$f":"validaciones(D81,H81,0)&IF(D81>$D$74,\" El importe no puede ser mayor a la remuneración total\",\"\")","v":""}]
[null,null,"Cuota sindical por otros empleos",0,null,{"$f":"validaciones(D82,H82,0)&IF(D82>$D$74,\" El importe no puede ser mayor a la remuneración total\",\"\")","v":""}]
[null,null,"Cuotas médico asistenciales",34464.839999999997,null,{"$f":"validaciones(D83,H83,0)","v":""},null,{"$f":"(D72-SUM(D77:D82,D84:D89,D91,D93:D94,D95:D103))*0.05","v":108014.03100000002}]
[null,null,"Primas de seguro para el caso de muerte",12628.79,null,{"$f":"validaciones(D84,H84,0)&IF(AND(Datos!$C$11=\"Informativa\",D84<>0),\"En la DDJJ informativa, este campo debe consignarse en cero (0)\",\"\")","v":""},null,{"$f":"+Tablas!B2","v":24000}]
[null,null,"Primas por riesgo de muerte y de ahorro de seguros mixtos, excepto para los casos de seguros de retiro privados administrados por entidades sujetas al control de la Superintendencia de Seguros de la Nación",0,null,{"$f":"validaciones(D85,H85,0)&IF(AND(Datos!$C$11=\"Informativa\",D85<>0),\"En la DDJJ informativa, este campo debe consignarse en cero (0)\",\"\")","v":""},null,{"$f":"+H84","v":24000}]
[null,null,"Aportes a planes de seguro de retiro privados administrados por entidades sujetas al control de la Superintendencia de Seguros de la Nación",0,null,{"$f":"validaciones(D86,H86,0)&IF(AND(Datos!$C$11=\"Informativa\",D86<>0),\"En la DDJJ informativa, este campo debe consignarse en cero (0)\",\"\")","v":""},null,{"$f":"+H85","v":24000}]
[null,null,"Cuotapartes de fondos comunes de inversión constituidos con fines de retiro",0,null,{"$f":"validaciones(D87,H87,0)&IF(D87<>0,\"Deberá consignarse en cero (0), hasta que la Autoridad de Aplicación – CNV – autorice a las Entidades a funcionar e implemente el régimen.\",\"\")","v":""},null,0]
[null,null,"Gastos de sepelio",0,null,{"$f":"validaciones(D88,H88,0)","v":""},null,{"$f":"+Tablas!B6","v":996.23}]
[null,null,"Gastos amortización e intereses rodado para corredores y viajantes de comercio",0,null,{"$f":"validaciones(D89,H89,0)&IF(D89>$D$74,\" El importe no puede ser mayor a la remuneración total\",\"\")","v":""}]
[null,null,"Donaciones a fiscos nacional, provinciales y municipales, y a instituciones comprendidas en el artículo 26, incisos e) y f) de la ley",0,null,{"$f":"validaciones(D90,H90,0)","v":""},null,{"$f":"(D72-SUM(D77:D82,D84:D89,D91,D93:D94,D95:D103))*0.05","v":108014.03100000002}]
[null,null,"Descuentos obligatorios establecidos por ley nacional, provincial o municipal",0,null,{"$f":"validaciones(D91,H91,0)&IF(D91>$D$74,\" El importe no puede ser mayor a la remuneración total\",\"\")","v":""}]
[null,null,"Honorarios por servicios de asistencia sanitaria, médica y paramédica",0,null,{"$f":"validaciones(D92,H92,0)&IF(AND(Datos!$C$11=\"Informativa\",D92<>0),\"En la DDJJ informativa, este campo debe consignarse en cero (0)\",\"\")","v":""},null,{"$f":"(D72-SUM(D77:D82,D84:D89,D91,D93:D94,D95:D103))*0.05","v":108014.03100000002}]
[null,null,"Intereses de créditos hipotecarios",20000,null,{"$f":"validaciones(D93,H93,0)","v":""},null,{"$f":"+Tablas!B3","v":20000}]
[null,null,"Aportes al capital social o al fondo de riesgo de socios protectores de sociedades de garantía recíproca",0,null,{"$f":"validaciones(D94,H94,0)","v":""}]
[null,null,"Alquileres de inmuebles destinados a casa habitación",0,null,{"$f":"validaciones(D95,H95,0)","v":""},null,{"$f":"IF(Datos!C11=\"Final\",ROUND(Tablas!B4/12*12,2),ROUND(Tablas!B4/12*MONTH(Datos!C13),2))","v":167678.39999999999}]
[null,null,"Empleados del servicio doméstico",0,null,{"$f":"validaciones(D96,H96,0)","v":""},null,{"$f":"Tablas!B4","v":167678.39999999999}]
[null,null,"Gastos de movilidad, viáticos y otras compensaciones análogas abonados por el empleador",0,null,{"$f":"validaciones(D97,H97,0)","v":""},null,{"$f":"IF(D13=\"Desarrolla la actividad\",Tablas!B4,Tablas!B4*0.4)","v":67071.360000000001}]
[null,null,"Gastos por adquisición de indumentaria y/o equipamiento de trabajo",0,null,{"$f":"validaciones(D98,H98,0)","v":""}]
[null,null,"Otras deducciones - aportes a Cajas Complementarias de Previsión, Fondos Compensadores de Previsión o similares",0,null,{"$f":"validaciones(D99,H99,0)","v":""}]
[null,null,"Otras deducciones - Aportes para jubilaciones, retiros y subsidios ANSES",0,null,{"$f":"validaciones(D100,H100,0)","v":""}]
[null,null,"Otras deducciones - Cajas Provinciales o Municipales o de Previsión para Profesionales",0,null,{"$f":"validaciones(D101,H101,0)","v":""}]
[null,null,"Otras deducciones - Actores - Retribución pagada a los representantes - RG 2442/08",0,null,{"$f":"validaciones(D102,H102,0)","v":""}]
[null,null,"Otras deducciones - Fondos compensadores de previsión",0,null,{"$f":"validaciones(D103,H103,0)","v":""}]
[null,null,"Otras deducciones",{"$f":"+SUM(D99:E103)","v":0}]
[null,null,"TOTAL DEDUCCIONES GENERALES",{"$f":"SUM(D77:E103)","v":531218.37000000011},null,null,null,null,null,null,{"$f":"+D72-D105","v":2125815.7799999998}]
[]
[null,null,"DEDUCCIONES PERSONALES",null,null,null,null,"Topes máximos legales"]
[null,null,"Ganancia no imponible",167678.39999999999,null,{"$f":"validaciones(D108,H108,0)","v":""},null,{"$f":"deducciones(1,Datos!C11,MONTH(Datos!$C$13),$D$12)","v":167678.39999999999},null,null,{"$f":"IF(K105-K109<=0,0,IF(K105-K109<=H108,K105-K109,H108))","v":167678.39999999999}]
[null,null,"Deducción especial",804856.34,null,{"$f":"validaciones(D109,H109,0)","v":""},null,{"$f":"deducciones(2,Datos!$C$11,MONTH(Datos!$C$13),$D$12)","v":804856.34},null,null,{"$f":"IF(K105<=H109,K105,H109)","v":804856.34}]
[null,null,"Deducción Especial Incrementada Primera parte del penúltimo párrafo del inciso c) del artículo 30 de la ley del gravamen",465701.18]
[null,null,"Deducción Especial Incrementada Segunda parte del penúltimo párrafo del inciso c) del artículo 30 de la ley del gravamen",28037]
[null,null,"Deducción específica",0,null,{"$f":"validaciones(D112,H112,0)","v":""},null,0]
[null,null,"Cargas de familia"]
[null,null,"Cónyuge",0,null,{"$f":"validaciones(D114,H114,0)","v":""},null,{"$f":"cargas_de_familia(4,Datos!$C$11,MONTH(Datos!$C$13),$D$12)","v":156320.63},null,null,{"$f":"IF(K105-K108-K109>=D114,D114,K105-K108-K109)","v":0}]
[null,null,"Cantidad de hijos e hijastros",0,null,{"$f":"validaciones(D115,H115,0)","v":""},null,99]
[null,null,"Deducción total hijos e hijastros",0,null,null,null,{"$f":"cargas_de_familia(3,Datos!$C$11,MONTH(Datos!$C$13),$D$12)*D115","v":0},null,null,{"$f":"IF(K105-K108-K109-K114>=D116,D116,K105-K108-K109-K114)","v":0}]
[null,null,"Cantidad de hijos e hijastros incapacitados para el trabajo",0,null,{"$f":"validaciones(D117,H117,0)","v":""},null,99]
[null,null,"Hijos / Hijastros incapacitados para el trabajo",0,null,null,null,{"$f":"cargas_de_familia(5,Datos!$C$11,MONTH(Datos!$C$13),$D$12)","v":157666.16}]
[null,null,"Total de cargas de familia",{"$f":"+D114+D116+D118","v":0},null,null,null,0]
[null,null,"TOTAL DEDUCCIONES PERSONALES",{"$f":"SUM(D108:D112,D119)","v":1466272.92}]
[]
[null,null,"DETERMINACIÓN DEL IMPUESTO"]
[null,null,"REMUNERACIÓN NETA SUJETA A IMPUESTO -antes de la deducción art. 46 L. 27541-",0]
[null,null,"Deducción inciso a) primer párrafo artículo 30 de la ley (cfr. art. 46 L. 27541)",0,null,null,null,0,null,null,{"$f":"IF(D123-K125<=0,0,IF(D123-K125<=H124,D123-K125,H124))","v":0}]
[null,null,"Deducción inciso c) primer párrafo artículo 30 de la ley (cfr. art. 46 L. 27541)",0,null,null,null,0,null,null,{"$f":"IF(D123<=H125,D123,H125)","v":0}]
[null,null,"REMUNERACIÓN SUJETA A IMPUESTO",{"$f":"IF(+D72-D105-D120<0,0,+D72-D105-D120)","v":659542.85999999987}]
[null,null,"Alícuota aplicable artículo 94 ley de impuesto a las ganancias",{"$f":"IF(OR(Datos!C11=\"Final\",Datos!C11=\"Anual\"),impuestoAlicuota(D126,D25*(1-G25)+D51*(1-G51),12),impuestoAlicuota(D126,D25*(1-G25)+D51*(1-G51),MONTH(D11)))","v":0.27}]
[null,null,"Alícuota aplicable sin incluir horas extras",{"$f":"IF(OR(Datos!C11=\"Final\",Datos!C11=\"Anual\"),impuestoAlicuota(D126,0,12),impuestoAlicuota(D126,0,MONTH(D11)))","v":0.27}]
[null,null,"IMPUESTO DETERMINADO",{"$f":"IF(D126<0,0,IF(OR(Datos!C11=\"Final\",Datos!C11=\"Anual\"),impuestoDeterminado(D126,D25*(1-G25)+D51*(1-G51),12),impuestoDeterminado(D126,D25*(1-G25)+D51*(1-G51),MONTH(D11))))","v":119351.86439999999}]
[null,null,"Impuesto retenido",113317.86]
[null,null,"Pagos a cuenta - Impuesto sobre créditos y débitos",0,null,{"$f":"IF(AND(Datos!$C$11=\"Informativa\",D131<>0),\"En la DDJJ informativa, este campo debe consignarse en cero (0)\",\"\")","v":""}]
[null,null,"Pagos a cuenta - Percepciones / Retenciones aduaneras",0,null,{"$f":"IF(AND(Datos!$C$11=\"Informativa\",D132<>0),\"En la DDJJ informativa, este campo debe consignarse en cero (0)\",\"\")","v":""}]
[null,null,"Pagos a cuenta - RG (AFIP) 3819/2015 - Cancelaciones en efectivo",0,null,{"$f":"IF(AND(Datos!$C$11=\"Informativa\",D133<>0),\"En la DDJJ informativa, este campo debe consignarse en cero (0)\",\"\")","v":""}]
[null,null,"Pagos a cuenta - Bono ley 27.424",0,null,{"$f":"IF(AND(Datos!$C$11=\"Informativa\",D134<>0),\"En la DDJJ informativa, este campo debe consignarse en cero (0)\",\"\")","v":""}]
[null,null,"Pagos a cuenta - RG 4815 [LEY 27.541 Art. 35 inciso a)] ",6034,null,{"$f":"IF(AND(Datos!$C$11=\"Informativa\",D135<>0),\"En la DDJJ informativa, este campo debe consignarse en cero (0)\",\"\")","v":""}]
[null,null,"Pagos a cuenta - RG 4815 [LEY 27.541 Art. 35 inciso b)] ",0,null,{"$f":"IF(AND(Datos!$C$11=\"Informativa\",D136<>0),\"En la DDJJ informativa, este campo debe consignarse en cero (0)\",\"\")","v":""}]
[null,null,"Pagos a cuenta - RG 4815 [LEY 27.541 Art. 35 inciso c)] ",0,null,{"$f":"IF(AND(Datos!$C$11=\"Informativa\",D137<>0),\"En la DDJJ informativa, este campo debe consignarse en cero (0)\",\"\")","v":""}]
[null,null,"Pagos a cuenta - RG 4815 [LEY 27.541 Art. 35 inciso d)] ",0,null,{"$f":"IF(AND(Datos!$C$11=\"Informativa\",D138<>0),\"En la DDJJ informativa, este campo debe consignarse en cero (0)\",\"\")","v":""}]
[null,null,"Pagos a cuenta - RG 4815 [LEY 27.541 Art. 35 inciso e)] ",0,null,{"$f":"IF(AND(Datos!$C$11=\"Informativa\",D139<>0),\"En la DDJJ informativa, este campo debe consignarse en cero (0)\",\"\")","v":""}]
[null,null,"Pagos a cuenta - Impuesto sobre créditos y débitos - sobre movimientos de fondos propios o de terceros",0,null,{"$f":"IF(AND(Datos!$C$11=\"Informativa\",D140<>0),\"En la DDJJ informativa, este campo debe consignarse en cero (0)\",\"\")","v":""}]
[null,null,"Pagos a cuenta - Resolución General (AFIP) 3819/2015 - Cancelaciones en Efectivo -Servicios de transporte terrestre, aéreo y por vía acuática de pasajeros con destino fuera del país",0,null,{"$f":"IF(AND(Datos!$C$11=\"Informativa\",D141<>0),\"En la DDJJ informativa, este campo debe consignarse en cero (0)\",\"\")","v":""}]
[null,null,"Total pagos a cuenta",{"$f":"SUM(D131:D141)","v":6034}]
[null,null,"SALDO A PAGAR",{"$f":"+ROUND(D129,2)-D130-D142","v":0}]

{"sheet":"Empleado26","index":30,"n_rows":143,"n_cols":11,"rows_kept":143,"cut":false,"hidden":false,"merged":[[10,7,11,9]]}
[]
[]
[null,null,"LIQUIDACIÓN DE IMPUESTO A LAS GANANCIAS - 4ta. CATEGORÍA RELACIÓN DE DEPENDENCIA"]
[]
[]
[null,null,"Empleado: Nombre y apellido ","ALBERA NAHUEL FRANCISCO"]
[null,null,"CUIL del empleado",20319804162,null,{"$f":"cuitValidar(D7)","v":"CUIT/CUIL Válido"}]
[null,null,{"$f":"\"Agente de Retención: \"","v":"Agente de Retención: "},{"$f":"Datos!C7&\" - \"&Datos!C5","v":"33711238269 - OPERACIONES AGROPORTUARIAS S.A."}]
[null,null,{"$f":"\"Período Fiscal: \"","v":"Período Fiscal: "},{"$f":"YEAR(Datos!C13)","v":2021}]
[null,null,"Período trabajado (desde):","2021-01-01"]
[null,null,"Período trabajado (hasta):","2021-09-25",null,null,null,{"$f":"IF(MONTH(D11)>MONTH(Datos!C13),\"El período trabajado no puede ser mayor al período que se informa (mes \"&MONTH(Datos!C13)&\")\",\"\")","v":""}]
[null,null,"Zona geográfica:","Todo el país (excepto zona patagónica)"]
[null,null,"Transporte a larga distancia","No desarrolla la actividad"]
[null,null,"Beneficio promocional 27424?","No"]
[null,null,"Beneficio de la ley 27549?","No"]
[null,null,"El trabajador labora bajo el régimen de teletrabajo (Ley 27555)?","No"]
[null,null,"El trabajador es personal militar en actividad?","No"]
[]
[null,null,"REMUNERACIONES"]
[null,null,"Abonadas por el agente de retención:"]
[null,null,"Remuneración bruta gravada",2391031.4300000002]
[null,null,"Retribuciones no habituales gravadas",0]
[null,null,"SAC primera cuota gravado",0]
[null,null,"SAC segunda cuota gravado",0]
[null,null,"Horas extras remuneración gravada",0,null,null,0,"% de retenciones"]
[null,null,"Movilidad y viáticos remuneración gravada",0]
[null,null,"Material didáctico personal docente remuneración gravada",0]
[null,null,"Remuneración no alcanzada o exenta (sin horas extras)",0]
[null,null,"Remuneración exenta ley 27549",0,null,{"$f":"IF(AND($D$15=\"No\",D29<>0),\"Para que sea procedente el beneficio, modifique el valor en la celda D15\",\"\")","v":""}]
[null,null,"Retribuciones no habituales exentas o no alcanzadas",0]
[null,null,"Horas extras remuneración exenta",0]
[null,null,"Movilidad y viáticos remuneración exenta",0]
[null,null,"Material didáctico personal docente remuneración exenta",0]
[null,null,"Bonos de productividad gravados",0]
[null,null,"Fallos de caja gravados",0]
[null,null,"Conceptos de similar naturaleza gravados",0]
[null,null,"Bonos de productividad exentos",0]
[null,null,"Fallos de caja exentos",0]
[null,null,"Conceptos de similar naturaleza exentos",0]
[null,null,"Compensación de gastos de teletrabajo exentos",0]
[null,null,"Personal militar - suplementos art. 57 ley 19.101 - exentos",0]
[null,null,"SAC primera cuota - No alcanzado o exento",0]
[null,null,"SAC segunda cuota - No alcanzado o exento",0]
[null,null,"Ajustes períodos anteriores - Remuneración gravada",0]
[null,null,"Ajustes períodos anteriores - Remuneración exenta / no alcanzada",0]
[null,null,"Otros empleos:"]
[null,null,"Remuneración bruta gravada ",0]
[null,null,"Retribuciones no habituales gravadas ",0]
[null,null,"SAC primera cuota gravado ",0]
[null,null,"SAC segunda cuota gravado ",0]
[null,null,"Horas extras remuneración gravada ",0,null,null,0,"% de retenciones"]
[null,null,"Movilidad y viáticos remuneración gravada ",0]
[null,null,"Material didáctico personal docente remuneración gravada ",0]
[null,null,"Remuneración no alcanzada o exenta ",0]
[null,null,"Remuneración exenta ley 27549 ",0,null,{"$f":"IF(AND($D$15=\"No\",D55<>0),\"Para que sea procedente el beneficio, modifique el valor en la celda D15\",\"\")","v":""}]
[null,null,"Retribuciones no habituales exentas o no alcanzadas ",0]
[null,null,"Horas extras remuneración exenta o no alcanzada ",0]
[null,null,"Movilidad y viáticos remuneración exenta o no alcanzada ",0]
[null,null,"Material didáctico personal docente remuneración exenta o no alcanzada ",0]
[null,null,"Bonos de productividad gravados ",0]
[null,null,"Fallos de caja gravados ",0]
[null,null,"Conceptos de similar naturaleza gravados ",0]
[null,null,"Bonos de productividad exentos ",0]
[null,null,"Fallos de caja exentos ",0]
[null,null,"Conceptos de similar naturaleza exentos ",0]
[null,null,"Compensación de gastos teletrabajo - exentos ",0]
[null,null,"Personal militar - suplementos art. 57 Ley 19101 - exentos ",0]
[null,null,"SAC primera cuota - No alcanzado o exento ",0]
[null,null,"SAC segunda cuota - No alcanzado o exento ",0]
[null,null,"Ajustes períodos anteriores - Remuneración gravada ",0]
[null,null,"Ajustes períodos anteriores - Remuneración no alcanzada o exenta ",0]
[null,null,"TOTAL REMUNERACIÓN GRAVADA",{"$f":"SUM(D21:E27,D44,D47:D53,D70)","v":2391031.4300000002}]
[null,null,"TOTAL REMUNERACIÓN NO ALCANZADA O EXENTA",{"$f":"SUM(D28:D43,D45,D54:D69,D71)","v":0}]
[null,null,"TOTAL REMUNERACIONES",{"$f":"IF(+D72+D73<0,0,D72+D73)","v":2391031.4300000002}]
[]
[null,null,"DEDUCCIONES GENERALES",null,null,null,null,"Topes máximos legales"]
[null,null,"Aportes a fondos de jubilaciones, retiros, pensiones o subsidios que se destinen a cajas nacionales, provinciales o municipales",292655.28999999998,null,{"$f":"validaciones(D77,H77,0)&IF(D77>$D$74,\" El importe no puede ser mayor a la remuneración total\",\"\")","v":""}]
[null,null,"Aportes a fondos de jubilaciones, retiros, pensiones o subsidios que se destinen a cajas nacionales, provinciales o municipales por otros empleos",0,null,{"$f":"validaciones(D78,H78,0)&IF(D78>$D$74,\" El importe no puede ser mayor a la remuneración total\",\"\")","v":""}]
[null,null,"Aportes a obra sociales",62711.85,null,{"$f":"validaciones(D79,H79,0)&IF(D79>$D$74,\" El importe no puede ser mayor a la remuneración total\",\"\")","v":""}]
[null,null,"Aportes a obra sociales por otros empleos",0,null,{"$f":"validaciones(D80,H80,0)&IF(D80>$D$74,\" El importe no puede ser mayor a la remuneración total\",\"\")","v":""}]
[null,null,"Cuota sindical",46538.23,null,{"$f":"validaciones(D81,H81,0)&IF(D81>$D$74,\" El importe no puede ser mayor a la remuneración total\",\"\")","v":""}]
[null,null,"Cuota sindical por otros empleos",0,null,{"$f":"validaciones(D82,H82,0)&IF(D82>$D$74,\" El importe no puede ser mayor a la remuneración total\",\"\")","v":""}]
[null,null,"Cuotas médico asistenciales",0,null,{"$f":"validaciones(D83,H83,0)","v":""},null,{"$f":"(D72-SUM(D77:D82,D84:D89,D91,D93:D94,D95:D103))*0.05","v":99456.303000000014}]
[null,null,"Primas de seguro para el caso de muerte",0,null,{"$f":"validaciones(D84,H84,0)&IF(AND(Datos!$C$11=\"Informativa\",D84<>0),\"En la DDJJ informativa, este campo debe consignarse en cero (0)\",\"\")","v":""},null,{"$f":"+Tablas!B2","v":24000}]
[null,null,"Primas por riesgo de muerte y de ahorro de seguros mixtos, excepto para los casos de seguros de retiro privados administrados por entidades sujetas al control de la Superintendencia de Seguros de la Nación",0,null,{"$f":"validaciones(D85,H85,0)&IF(AND(Datos!$C$11=\"Informativa\",D85<>0),\"En la DDJJ informativa, este campo debe consignarse en cero (0)\",\"\")","v":""},null,{"$f":"+H84","v":24000}]
[null,null,"Aportes a planes de seguro de retiro privados administrados por entidades sujetas al control de la Superintendencia de Seguros de la Nación",0,null,{"$f":"validaciones(D86,H86,0)&IF(AND(Datos!$C$11=\"Informativa\",D86<>0),\"En la DDJJ informativa, este campo debe consignarse en cero (0)\",\"\")","v":""},null,{"$f":"+H85","v":24000}]
[null,null,"Cuotapartes de fondos comunes de inversión constituidos con fines de retiro",0,null,{"$f":"validaciones(D87,H87,0)&IF(D87<>0,\"Deberá consignarse en cero (0), hasta que la Autoridad de Aplicación – CNV – autorice a las Entidades a funcionar e implemente el régimen.\",\"\")","v":""},null,0]
[null,null,"Gastos de sepelio",0,null,{"$f":"validaciones(D88,H88,0)","v":""},null,{"$f":"+Tablas!B6","v":996.23}]
[null,null,"Gastos amortización e intereses rodado para corredores y viajantes de comercio",0,null,{"$f":"validaciones(D89,H89,0)&IF(D89>$D$74,\" El importe no puede ser mayor a la remuneración total\",\"\")","v":""}]
[null,null,"Donaciones a fiscos nacional, provinciales y municipales, y a instituciones comprendidas en el artículo 26, incisos e) y f) de la ley",0,null,{"$f":"validaciones(D90,H90,0)","v":""},null,{"$f":"(D72-SUM(D77:D82,D84:D89,D91,D93:D94,D95:D103))*0.05","v":99456.303000000014}]
[null,null,"Descuentos obligatorios establecidos por ley nacional, provincial o municipal",0,null,{"$f":"validaciones(D91,H91,0)&IF(D91>$D$74,\" El importe no puede ser mayor a la remuneración total\",\"\")","v":""}]
[null,null,"Honorarios por servicios de asistencia sanitaria, médica y paramédica",0,null,{"$f":"validaciones(D92,H92,0)&IF(AND(Datos!$C$11=\"Informativa\",D92<>0),\"En la DDJJ informativa, este campo debe consignarse en cero (0)\",\"\")","v":""},null,{"$f":"(D72-SUM(D77:D82,D84:D89,D91,D93:D94,D95:D103))*0.05","v":99456.303000000014}]
[null,null,"Intereses de créditos hipotecarios",0,null,{"$f":"validaciones(D93,H93,0)","v":""},null,{"$f":"+Tablas!B3","v":20000}]
[null,null,"Aportes al capital social o al fondo de riesgo de socios protectores de sociedades de garantía recíproca",0,null,{"$f":"validaciones(D94,H94,0)","v":""}]
[null,null,"Alquileres de inmuebles destinados a casa habitación",0,null,{"$f":"validaciones(D95,H95,0)","v":""},null,{"$f":"IF(Datos!C11=\"Final\",ROUND(Tablas!B4/12*12,2),ROUND(Tablas!B4/12*MONTH(Datos!C13),2))","v":167678.39999999999}]
[null,null,"Empleados del servicio doméstico",0,null,{"$f":"validaciones(D96,H96,0)","v":""},null,{"$f":"Tablas!B4","v":167678.39999999999}]
[null,null,"Gastos de movilidad, viáticos y otras compensaciones análogas abonados por el empleador",0,null,{"$f":"validaciones(D97,H97,0)","v":""},null,{"$f":"IF(D13=\"Desarrolla la actividad\",Tablas!B4,Tablas!B4*0.4)","v":67071.360000000001}]
[null,null,"Gastos por adquisición de indumentaria y/o equipamiento de trabajo",0,null,{"$f":"validaciones(D98,H98,0)","v":""}]
[null,null,"Otras deducciones - aportes a Cajas Complementarias de Previsión, Fondos Compensadores de Previsión o similares",0,null,{"$f":"validaciones(D99,H99,0)","v":""}]
[null,null,"Otras deducciones - Aportes para jubilaciones, retiros y subsidios ANSES",0,null,{"$f":"validaciones(D100,H100,0)","v":""}]
[null,null,"Otras deducciones - Cajas Provinciales o Municipales o de Previsión para Profesionales",0,null,{"$f":"validaciones(D101,H101,0)","v":""}]
[null,null,"Otras deducciones - Actores - Retribución pagada a los representantes - RG 2442/08",0,null,{"$f":"validaciones(D102,H102,0)","v":""}]
[null,null,"Otras deducciones - Fondos compensadores de previsión",0,null,{"$f":"validaciones(D103,H103,0)","v":""}]
[null,null,"Otras deducciones",{"$f":"+SUM(D99:E103)","v":0}]
[null,null,"TOTAL DEDUCCIONES GENERALES",{"$f":"SUM(D77:E103)","v":401905.36999999994},null,null,null,null,null,null,{"$f":"+D72-D105","v":1989126.0600000003}]
[]
[null,null,"DEDUCCIONES PERSONALES",null,null,null,null,"Topes máximos legales"]
[null,null,"Ganancia no imponible",167678.39999999999,null,{"$f":"validaciones(D108,H108,0)","v":""},null,{"$f":"deducciones(1,Datos!C11,MONTH(Datos!$C$13),$D$12)","v":167678.39999999999},null,null,{"$f":"IF(K105-K109<=0,0,IF(K105-K109<=H108,K105-K109,H108))","v":167678.39999999999}]
[null,null,"Deducción especial",804856.34,null,{"$f":"validaciones(D109,H109,0)","v":""},null,{"$f":"deducciones(2,Datos!$C$11,MONTH(Datos!$C$13),$D$12)","v":804856.34},null,null,{"$f":"IF(K105<=H109,K105,H109)","v":804856.34}]
[null,null,"Deducción Especial Incrementada Primera parte del penúltimo párrafo del inciso c) del artículo 30 de la ley del gravamen",202983.65]
[null,null,"Deducción Especial Incrementada Segunda parte del penúltimo párrafo del inciso c) del artículo 30 de la ley del gravamen",44307]
[null,null,"Deducción específica",0,null,{"$f":"validaciones(D112,H112,0)","v":""},null,0]
[null,null,"Cargas de familia"]
[null,null,"Cónyuge",0,null,{"$f":"validaciones(D114,H114,0)","v":""},null,{"$f":"cargas_de_familia(4,Datos!$C$11,MONTH(Datos!$C$13),$D$12)","v":156320.63},null,null,{"$f":"IF(K105-K108-K109>=D114,D114,K105-K108-K109)","v":0}]
[null,null,"Cantidad de hijos e hijastros",0,null,{"$f":"validaciones(D115,H115,0)","v":""},null,99]
[null,null,"Deducción total hijos e hijastros",0,null,null,null,{"$f":"cargas_de_familia(3,Datos!$C$11,MONTH(Datos!$C$13),$D$12)*D115","v":0},null,null,{"$f":"IF(K105-K108-K109-K114>=D116,D116,K105-K108-K109-K114)","v":0}]
[null,null,"Cantidad de hijos e hijastros incapacitados para el trabajo",0,null,{"$f":"validaciones(D117,H117,0)","v":""},null,99]
[null,null,"Hijos / Hijastros incapacitados para el trabajo",0,null,null,null,{"$f":"cargas_de_familia(5,Datos!$C$11,MONTH(Datos!$C$13),$D$12)","v":157666.16}]
[null,null,"Total de cargas de familia",{"$f":"+D114+D116+D118","v":0},null,null,null,0]
[null,null,"TOTAL DEDUCCIONES PERSONALES",{"$f":"SUM(D108:D112,D119)","v":1219825.3899999999}]
[]
[null,null,"DETERMINACIÓN DEL IMPUESTO"]
[null,null,"REMUNERACIÓN NETA SUJETA A IMPUESTO -antes de la deducción art. 46 L. 27541-",0]
[null,null,"Deducción inciso a) primer párrafo artículo 30 de la ley (cfr. art. 46 L. 27541)",0,null,null,null,0,null,null,{"$f":"IF(D123-K125<=0,0,IF(D123-K125<=H124,D123-K125,H124))","v":0}]
[null,null,"Deducción inciso c) primer párrafo artículo 30 de la ley (cfr. art. 46 L. 27541)",0,null,null,null,0,null,null,{"$f":"IF(D123<=H125,D123,H125)","v":0}]
[null,null,"REMUNERACIÓN SUJETA A IMPUESTO",{"$f":"IF(+D72-D105-D120<0,0,+D72-D105-D120)","v":769300.67000000039}]
[null,null,"Alícuota aplicable artículo 94 ley de impuesto a las ganancias",{"$f":"IF(OR(Datos!C11=\"Final\",Datos!C11=\"Anual\"),impuestoAlicuota(D126,D25*(1-G25)+D51*(1-G51),12),impuestoAlicuota(D126,D25*(1-G25)+D51*(1-G51),MONTH(D11)))","v":0.27}]
[null,null,"Alícuota aplicable sin incluir horas extras",{"$f":"IF(OR(Datos!C11=\"Final\",Datos!C11=\"Anual\"),impuestoAlicuota(D126,0,12),impuestoAlicuota(D126,0,MONTH(D11)))","v":0.27}]
[null,null,"IMPUESTO DETERMINADO",{"$f":"IF(D126<0,0,IF(OR(Datos!C11=\"Final\",Datos!C11=\"Anual\"),impuestoDeterminado(D126,D25*(1-G25)+D51*(1-G51),12),impuestoDeterminado(D126,D25*(1-G25)+D51*(1-G51),MONTH(D11))))","v":148986.4731}]
[null,null,"Impuesto retenido",81688.47]
[null,null,"Pagos a cuenta - Impuesto sobre créditos y débitos",0,null,{"$f":"IF(AND(Datos!$C$11=\"Informativa\",D131<>0),\"En la DDJJ informativa, este campo debe consignarse en cero (0)\",\"\")","v":""}]
[null,null,"Pagos a cuenta - Percepciones / Retenciones aduaneras",0,null,{"$f":"IF(AND(Datos!$C$11=\"Informativa\",D132<>0),\"En la DDJJ informativa, este campo debe consignarse en cero (0)\",\"\")","v":""}]
[null,null,"Pagos a cuenta - RG (AFIP) 3819/2015 - Cancelaciones en efectivo",0,null,{"$f":"IF(AND(Datos!$C$11=\"Informativa\",D133<>0),\"En la DDJJ informativa, este campo debe consignarse en cero (0)\",\"\")","v":""}]
[null,null,"Pagos a cuenta - Bono ley 27.424",0,null,{"$f":"IF(AND(Datos!$C$11=\"Informativa\",D134<>0),\"En la DDJJ informativa, este campo debe consignarse en cero (0)\",\"\")","v":""}]
[null,null,"Pagos a cuenta - RG 4815 [LEY 27.541 Art. 35 inciso a)] ",67298,null,{"$f":"IF(AND(Datos!$C$11=\"Informativa\",D135<>0),\"En la DDJJ informativa, este campo debe consignarse en cero (0)\",\"\")","v":""}]
[null,null,"Pagos a cuenta - RG 4815 [LEY 27.541 Art. 35 inciso b)] ",0,null,{"$f":"IF(AND(Datos!$C$11=\"Informativa\",D136<>0),\"En la DDJJ informativa, este campo debe consignarse en cero (0)\",\"\")","v":""}]
[null,null,"Pagos a cuenta - RG 4815 [LEY 27.541 Art. 35 inciso c)] ",0,null,{"$f":"IF(AND(Datos!$C$11=\"Informativa\",D137<>0),\"En la DDJJ informativa, este campo debe consignarse en cero (0)\",\"\")","v":""}]
[null,null,"Pagos a cuenta - RG 4815 [LEY 27.541 Art. 35 inciso d)] ",0,null,{"$f":"IF(AND(Datos!$C$11=\"Informativa\",D138<>0),\"En la DDJJ informativa, este campo debe consignarse en cero (0)\",\"\")","v":""}]
[null,null,"Pagos a cuenta - RG 4815 [LEY 27.541 Art. 35 inciso e)] ",0,null,{"$f":"IF(AND(Datos!$C$11=\"Informativa\",D139<>0),\"En la DDJJ informativa, este campo debe consignarse en cero (0)\",\"\")","v":""}]
[null,null,"Pagos a cuenta - Impuesto sobre créditos y débitos - sobre movimientos de fondos propios o de terceros",0,null,{"$f":"IF(AND(Datos!$C$11=\"Informativa\",D140<>0),\"En la DDJJ informativa, este campo debe consignarse en cero (0)\",\"\")","v":""}]
[null,null,"Pagos a cuenta - Resolución General (AFIP) 3819/2015 - Cancelaciones en Efectivo -Servicios de transporte terrestre, aéreo y por vía acuática de pasajeros con destino fuera del país",0,null,{"$f":"IF(AND(Datos!$C$11=\"Informativa\",D141<>0),\"En la DDJJ informativa, este campo debe consignarse en cero (0)\",\"\")","v":""}]
[null,null,"Total pagos a cuenta",{"$f":"SUM(D131:D141)","v":67298}]
[null,null,"SALDO A PAGAR",{"$f":"+ROUND(D129,2)-D130-D142","v":0}]

{"sheet":"Empleado27","index":31,"n_rows":143,"n_cols":11,"rows_kept":143,"cut":false,"hidden":false,"merged":[[10,7,11,9]]}
[]
[]
[null,null,"LIQUIDACIÓN DE IMPUESTO A LAS GANANCIAS - 4ta. CATEGORÍA RELACIÓN DE DEPENDENCIA"]
[]
[]
[null,null,"Empleado: Nombre y apellido ","GOMEZ FRANCISCO"]
[null,null,"CUIL del empleado",20378948933,null,{"$f":"cuitValidar(D7)","v":"CUIT/CUIL Válido"}]
[null,null,{"$f":"\"Agente de Retención: \"","v":"Agente de Retención: "},{"$f":"Datos!C7&\" - \"&Datos!C5","v":"33711238269 - OPERACIONES AGROPORTUARIAS S.A."}]
[null,null,{"$f":"\"Período Fiscal: \"","v":"Período Fiscal: "},{"$f":"YEAR(Datos!C13)","v":2021}]
[null,null,"Período trabajado (desde):","2021-01-01"]
[null,null,"Período trabajado (hasta):","2021-09-25",null,null,null,{"$f":"IF(MONTH(D11)>MONTH(Datos!C13),\"El período trabajado no puede ser mayor al período que se informa (mes \"&MONTH(Datos!C13)&\")\",\"\")","v":""}]
[null,null,"Zona geográfica:","Todo el país (excepto zona patagónica)"]
[null,null,"Transporte a larga distancia","No desarrolla la actividad"]
[null,null,"Beneficio promocional 27424?","No"]
[null,null,"Beneficio de la ley 27549?","No"]
[null,null,"El trabajador labora bajo el régimen de teletrabajo (Ley 27555)?","No"]
[null,null,"El trabajador es personal militar en actividad?","No"]
[]
[null,null,"REMUNERACIONES"]
[null,null,"Abonadas por el agente de retención:"]
[null,null,"Remuneración bruta gravada",2750033.49]
[null,null,"Retribuciones no habituales gravadas",0]
[null,null,"SAC primera cuota gravado",0]
[null,null,"SAC segunda cuota gravado",0]
[null,null,"Horas extras remuneración gravada",0,null,null,0,"% de retenciones"]
[null,null,"Movilidad y viáticos remuneración gravada",0]
[null,null,"Material didáctico personal docente remuneración gravada",0]
[null,null,"Remuneración no alcanzada o exenta (sin horas extras)",0]
[null,null,"Remuneración exenta ley 27549",0,null,{"$f":"IF(AND($D$15=\"No\",D29<>0),\"Para que sea procedente el beneficio, modifique el valor en la celda D15\",\"\")","v":""}]
[null,null,"Retribuciones no habituales exentas o no alcanzadas",0]
[null,null,"Horas extras remuneración exenta",0]
[null,null,"Movilidad y viáticos remuneración exenta",0]
[null,null,"Material didáctico personal docente remuneración exenta",0]
[null,null,"Bonos de productividad gravados",0]
[null,null,"Fallos de caja gravados",0]
[null,null,"Conceptos de similar naturaleza gravados",0]
[null,null,"Bonos de productividad exentos",0]
[null,null,"Fallos de caja exentos",0]
[null,null,"Conceptos de similar naturaleza exentos",0]
[null,null,"Compensación de gastos de teletrabajo exentos",0]
[null,null,"Personal militar - suplementos art. 57 ley 19.101 - exentos",0]
[null,null,"SAC primera cuota - No alcanzado o exento",0]
[null,null,"SAC segunda cuota - No alcanzado o exento",0]
[null,null,"Ajustes períodos anteriores - Remuneración gravada",0]
[null,null,"Ajustes períodos anteriores - Remuneración exenta / no alcanzada",0]
[null,null,"Otros empleos:"]
[null,null,"Remuneración bruta gravada ",0]
[null,null,"Retribuciones no habituales gravadas ",0]
[null,null,"SAC primera cuota gravado ",0]
[null,null,"SAC segunda cuota gravado ",0]
[null,null,"Horas extras remuneración gravada ",0,null,null,0,"% de retenciones"]
[null,null,"Movilidad y viáticos remuneración gravada ",0]
[null,null,"Material didáctico personal docente remuneración gravada ",0]
[null,null,"Remuneración no alcanzada o exenta ",0]
[null,null,"Remuneración exenta ley 27549 ",0,null,{"$f":"IF(AND($D$15=\"No\",D55<>0),\"Para que sea procedente el beneficio, modifique el valor en la celda D15\",\"\")","v":""}]
[null,null,"Retribuciones no habituales exentas o no alcanzadas ",0]
[null,null,"Horas extras remuneración exenta o no alcanzada ",0]
[null,null,"Movilidad y viáticos remuneración exenta o no alcanzada ",0]
[null,null,"Material didáctico personal docente remuneración exenta o no alcanzada ",0]
[null,null,"Bonos de productividad gravados ",0]
[null,null,"Fallos de caja gravados ",0]
[null,null,"Conceptos de similar naturaleza gravados ",0]
[null,null,"Bonos de productividad exentos ",0]
[null,null,"Fallos de caja exentos ",0]
[null,null,"Conceptos de similar naturaleza exentos ",0]
[null,null,"Compensación de gastos teletrabajo - exentos ",0]
[null,null,"Personal militar - suplementos art. 57 Ley 19101 - exentos ",0]
[null,null,"SAC primera cuota - No alcanzado o exento ",0]
[null,null,"SAC segunda cuota - No alcanzado o exento ",0]
[null,null,"Ajustes períodos anteriores - Remuneración gravada ",0]
[null,null,"Ajustes períodos anteriores - Remuneración no alcanzada o exenta ",0]
[null,null,"TOTAL REMUNERACIÓN GRAVADA",{"$f":"SUM(D21:E27,D44,D47:D53,D70)","v":2750033.49}]
[null,null,"TOTAL REMUNERACIÓN NO ALCANZADA O EXENTA",{"$f":"SUM(D28:D43,D45,D54:D69,D71)","v":0}]
[null,null,"TOTAL REMUNERACIONES",{"$f":"IF(+D72+D73<0,0,D72+D73)","v":2750033.49}]
[]
[null,null,"DEDUCCIONES GENERALES",null,null,null,null,"Topes máximos legales"]
[null,null,"Aportes a fondos de jubilaciones, retiros, pensiones o subsidios que se destinen a cajas nacionales, provinciales o municipales",337572.39,null,{"$f":"validaciones(D77,H77,0)&IF(D77>$D$74,\" El importe no puede ser mayor a la remuneración total\",\"\")","v":""}]
[null,null,"Aportes a fondos de jubilaciones, retiros, pensiones o subsidios que se destinen a cajas nacionales, provinciales o municipales por otros empleos",0,null,{"$f":"validaciones(D78,H78,0)&IF(D78>$D$74,\" El importe no puede ser mayor a la remuneración total\",\"\")","v":""}]
[null,null,"Aportes a obra sociales",72336.94,null,{"$f":"validaciones(D79,H79,0)&IF(D79>$D$74,\" El importe no puede ser mayor a la remuneración total\",\"\")","v":""}]
[null,null,"Aportes a obra sociales por otros empleos",0,null,{"$f":"validaciones(D80,H80,0)&IF(D80>$D$74,\" El importe no puede ser mayor a la remuneración total\",\"\")","v":""}]
[null,null,"Cuota sindical",79109.78,null,{"$f":"validaciones(D81,H81,0)&IF(D81>$D$74,\" El importe no puede ser mayor a la remuneración total\",\"\")","v":""}]
[null,null,"Cuota sindical por otros empleos",0,null,{"$f":"validaciones(D82,H82,0)&IF(D82>$D$74,\" El importe no puede ser mayor a la remuneración total\",\"\")","v":""}]
[null,null,"Cuotas médico asistenciales",1680,null,{"$f":"validaciones(D83,H83,0)","v":""},null,{"$f":"(D72-SUM(D77:D82,D84:D89,D91,D93:D94,D95:D103))*0.05","v":108798.31900000002}]
[null,null,"Primas de seguro para el caso de muerte",0,null,{"$f":"validaciones(D84,H84,0)&IF(AND(Datos!$C$11=\"Informativa\",D84<>0),\"En la DDJJ informativa, este campo debe consignarse en cero (0)\",\"\")","v":""},null,{"$f":"+Tablas!B2","v":24000}]
[null,null,"Primas por riesgo de muerte y de ahorro de seguros mixtos, excepto para los casos de seguros de retiro privados administrados por entidades sujetas al control de la Superintendencia de Seguros de la Nación",0,null,{"$f":"validaciones(D85,H85,0)&IF(AND(Datos!$C$11=\"Informativa\",D85<>0),\"En la DDJJ informativa, este campo debe consignarse en cero (0)\",\"\")","v":""},null,{"$f":"+H84","v":24000}]
[null,null,"Aportes a planes de seguro de retiro privados administrados por entidades sujetas al control de la Superintendencia de Seguros de la Nación",0,null,{"$f":"validaciones(D86,H86,0)&IF(AND(Datos!$C$11=\"Informativa\",D86<>0),\"En la DDJJ informativa, este campo debe consignarse en cero (0)\",\"\")","v":""},null,{"$f":"+H85","v":24000}]
[null,null,"Cuotapartes de fondos comunes de inversión constituidos con fines de retiro",0,null,{"$f":"validaciones(D87,H87,0)&IF(D87<>0,\"Deberá consignarse en cero (0), hasta que la Autoridad de Aplicación – CNV – autorice a las Entidades a funcionar e implemente el régimen.\",\"\")","v":""},null,0]
[null,null,"Gastos de sepelio",0,null,{"$f":"validaciones(D88,H88,0)","v":""},null,{"$f":"+Tablas!B6","v":996.23}]
[null,null,"Gastos amortización e intereses rodado para corredores y viajantes de comercio",0,null,{"$f":"validaciones(D89,H89,0)&IF(D89>$D$74,\" El importe no puede ser mayor a la remuneración total\",\"\")","v":""}]
[null,null,"Donaciones a fiscos nacional, provinciales y municipales, y a instituciones comprendidas en el artículo 26, incisos e) y f) de la ley",0,null,{"$f":"validaciones(D90,H90,0)","v":""},null,{"$f":"(D72-SUM(D77:D82,D84:D89,D91,D93:D94,D95:D103))*0.05","v":108798.31900000002}]
[null,null,"Descuentos obligatorios establecidos por ley nacional, provincial o municipal",0,null,{"$f":"validaciones(D91,H91,0)&IF(D91>$D$74,\" El importe no puede ser mayor a la remuneración total\",\"\")","v":""}]
[null,null,"Honorarios por servicios de asistencia sanitaria, médica y paramédica",0,null,{"$f":"validaciones(D92,H92,0)&IF(AND(Datos!$C$11=\"Informativa\",D92<>0),\"En la DDJJ informativa, este campo debe consignarse en cero (0)\",\"\")","v":""},null,{"$f":"(D72-SUM(D77:D82,D84:D89,D91,D93:D94,D95:D103))*0.05","v":108798.31900000002}]
[null,null,"Intereses de créditos hipotecarios",0,null,{"$f":"validaciones(D93,H93,0)","v":""},null,{"$f":"+Tablas!B3","v":20000}]
[null,null,"Aportes al capital social o al fondo de riesgo de socios protectores de sociedades de garantía recíproca",0,null,{"$f":"validaciones(D94,H94,0)","v":""}]
[null,null,"Alquileres de inmuebles destinados a casa habitación",85048,null,{"$f":"validaciones(D95,H95,0)","v":""},null,{"$f":"IF(Datos!C11=\"Final\",ROUND(Tablas!B4/12*12,2),ROUND(Tablas!B4/12*MONTH(Datos!C13),2))","v":167678.39999999999}]
[null,null,"Empleados del servicio doméstico",0,null,{"$f":"validaciones(D96,H96,0)","v":""},null,{"$f":"Tablas!B4","v":167678.39999999999}]
[null,null,"Gastos de movilidad, viáticos y otras compensaciones análogas abonados por el empleador",0,null,{"$f":"validaciones(D97,H97,0)","v":""},null,{"$f":"IF(D13=\"Desarrolla la actividad\",Tablas!B4,Tablas!B4*0.4)","v":67071.360000000001}]
[null,null,"Gastos por adquisición de indumentaria y/o equipamiento de trabajo",0,null,{"$f":"validaciones(D98,H98,0)","v":""}]
[null,null,"Otras deducciones - aportes a Cajas Complementarias de Previsión, Fondos Compensadores de Previsión o similares",0,null,{"$f":"validaciones(D99,H99,0)","v":""}]
[null,null,"Otras deducciones - Aportes para jubilaciones, retiros y subsidios ANSES",0,null,{"$f":"validaciones(D100,H100,0)","v":""}]
[null,null,"Otras deducciones - Cajas Provinciales o Municipales o de Previsión para Profesionales",0,null,{"$f":"validaciones(D101,H101,0)","v":""}]
[null,null,"Otras deducciones - Actores - Retribución pagada a los representantes - RG 2442/08",0,null,{"$f":"validaciones(D102,H102,0)","v":""}]
[null,null,"Otras deducciones - Fondos compensadores de previsión",0,null,{"$f":"validaciones(D103,H103,0)","v":""}]
[null,null,"Otras deducciones",{"$f":"+SUM(D99:E103)","v":0}]
[null,null,"TOTAL DEDUCCIONES GENERALES",{"$f":"SUM(D77:E103)","v":575747.11},null,null,null,null,null,null,{"$f":"+D72-D105","v":2174286.3800000004}]
[]
[null,null,"DEDUCCIONES PERSONALES",null,null,null,null,"Topes máximos legales"]
[null,null,"Ganancia no imponible",167678.39999999999,null,{"$f":"validaciones(D108,H108,0)","v":""},null,{"$f":"deducciones(1,Datos!C11,MONTH(Datos!$C$13),$D$12)","v":167678.39999999999},null,null,{"$f":"IF(K105-K109<=0,0,IF(K105-K109<=H108,K105-K109,H108))","v":167678.39999999999}]
[null,null,"Deducción especial",804856.34,null,{"$f":"validaciones(D109,H109,0)","v":""},null,{"$f":"deducciones(2,Datos!$C$11,MONTH(Datos!$C$13),$D$12)","v":804856.34},null,null,{"$f":"IF(K105<=H109,K105,H109)","v":804856.34}]
[null,null,"Deducción Especial Incrementada Primera parte del penúltimo párrafo del inciso c) del artículo 30 de la ley del gravamen",0]
[null,null,"Deducción Especial Incrementada Segunda parte del penúltimo párrafo del inciso c) del artículo 30 de la ley del gravamen",30043]
[null,null,"Deducción específica",0,null,{"$f":"validaciones(D112,H112,0)","v":""},null,0]
[null,null,"Cargas de familia"]
[null,null,"Cónyuge",0,null,{"$f":"validaciones(D114,H114,0)","v":""},null,{"$f":"cargas_de_familia(4,Datos!$C$11,MONTH(Datos!$C$13),$D$12)","v":156320.63},null,null,{"$f":"IF(K105-K108-K109>=D114,D114,K105-K108-K109)","v":0}]
[null,null,"Cantidad de hijos e hijastros",0,null,{"$f":"validaciones(D115,H115,0)","v":""},null,99]
[null,null,"Deducción total hijos e hijastros",0,null,null,null,{"$f":"cargas_de_familia(3,Datos!$C$11,MONTH(Datos!$C$13),$D$12)*D115","v":0},null,null,{"$f":"IF(K105-K108-K109-K114>=D116,D116,K105-K108-K109-K114)","v":0}]
[null,null,"Cantidad de hijos e hijastros incapacitados para el trabajo",0,null,{"$f":"validaciones(D117,H117,0)","v":""},null,99]
[null,null,"Hijos / Hijastros incapacitados para el trabajo",0,null,null,null,{"$f":"cargas_de_familia(5,Datos!$C$11,MONTH(Datos!$C$13),$D$12)","v":157666.16}]
[null,null,"Total de cargas de familia",{"$f":"+D114+D116+D118","v":0},null,null,null,0]
[null,null,"TOTAL DEDUCCIONES PERSONALES",{"$f":"SUM(D108:D112,D119)","v":1002577.74}]
[]
[null,null,"DETERMINACIÓN DEL IMPUESTO"]
[null,null,"REMUNERACIÓN NETA SUJETA A IMPUESTO -antes de la deducción art. 46 L. 27541-",0]
[null,null,"Deducción inciso a) primer párrafo artículo 30 de la ley (cfr. art. 46 L. 27541)",0,null,null,null,0,null,null,{"$f":"IF(D123-K125<=0,0,IF(D123-K125<=H124,D123-K125,H124))","v":0}]
[null,null,"Deducción inciso c) primer párrafo artículo 30 de la ley (cfr. art. 46 L. 27541)",0,null,null,null,0,null,null,{"$f":"IF(D123<=H125,D123,H125)","v":0}]
[null,null,"REMUNERACIÓN SUJETA A IMPUESTO",{"$f":"IF(+D72-D105-D120<0,0,+D72-D105-D120)","v":1171708.6400000004}]
[null,null,"Alícuota aplicable artículo 94 ley de impuesto a las ganancias",{"$f":"IF(OR(Datos!C11=\"Final\",Datos!C11=\"Anual\"),impuestoAlicuota(D126,D25*(1-G25)+D51*(1-G51),12),impuestoAlicuota(D126,D25*(1-G25)+D51*(1-G51),MONTH(D11)))","v":0.35}]
[null,null,"Alícuota aplicable sin incluir horas extras",{"$f":"IF(OR(Datos!C11=\"Final\",Datos!C11=\"Anual\"),impuestoAlicuota(D126,0,12),impuestoAlicuota(D126,0,MONTH(D11)))","v":0.35}]
[null,null,"IMPUESTO DETERMINADO",{"$f":"IF(D126<0,0,IF(OR(Datos!C11=\"Final\",Datos!C11=\"Anual\"),impuestoDeterminado(D126,D25*(1-G25)+D51*(1-G51),12),impuestoDeterminado(D126,D25*(1-G25)+D51*(1-G51),MONTH(D11))))","v":279096.75899999996}]
[null,null,"Impuesto retenido",279096.76]
[null,null,"Pagos a cuenta - Impuesto sobre créditos y débitos",0,null,{"$f":"IF(AND(Datos!$C$11=\"Informativa\",D131<>0),\"En la DDJJ informativa, este campo debe consignarse en cero (0)\",\"\")","v":""}]
[null,null,"Pagos a cuenta - Percepciones / Retenciones aduaneras",0,null,{"$f":"IF(AND(Datos!$C$11=\"Informativa\",D132<>0),\"En la DDJJ informativa, este campo debe consignarse en cero (0)\",\"\")","v":""}]
[null,null,"Pagos a cuenta - RG (AFIP) 3819/2015 - Cancelaciones en efectivo",0,null,{"$f":"IF(AND(Datos!$C$11=\"Informativa\",D133<>0),\"En la DDJJ informativa, este campo debe consignarse en cero (0)\",\"\")","v":""}]
[null,null,"Pagos a cuenta - Bono ley 27.424",0,null,{"$f":"IF(AND(Datos!$C$11=\"Informativa\",D134<>0),\"En la DDJJ informativa, este campo debe consignarse en cero (0)\",\"\")","v":""}]
[null,null,"Pagos a cuenta - RG 4815 [LEY 27.541 Art. 35 inciso a)] ",0,null,{"$f":"IF(AND(Datos!$C$11=\"Informativa\",D135<>0),\"En la DDJJ informativa, este campo debe consignarse en cero (0)\",\"\")","v":""}]
[null,null,"Pagos a cuenta - RG 4815 [LEY 27.541 Art. 35 inciso b)] ",0,null,{"$f":"IF(AND(Datos!$C$11=\"Informativa\",D136<>0),\"En la DDJJ informativa, este campo debe consignarse en cero (0)\",\"\")","v":""}]
[null,null,"Pagos a cuenta - RG 4815 [LEY 27.541 Art. 35 inciso c)] ",0,null,{"$f":"IF(AND(Datos!$C$11=\"Informativa\",D137<>0),\"En la DDJJ informativa, este campo debe consignarse en cero (0)\",\"\")","v":""}]
[null,null,"Pagos a cuenta - RG 4815 [LEY 27.541 Art. 35 inciso d)] ",0,null,{"$f":"IF(AND(Datos!$C$11=\"Informativa\",D138<>0),\"En la DDJJ informativa, este campo debe consignarse en cero (0)\",\"\")","v":""}]
[null,null,"Pagos a cuenta - RG 4815 [LEY 27.541 Art. 35 inciso e)] ",0,null,{"$f":"IF(AND(Datos!$C$11=\"Informativa\",D139<>0),\"En la DDJJ informativa, este campo debe consignarse en cero (0)\",\"\")","v":""}]
[null,null,"Pagos a cuenta - Impuesto sobre créditos y débitos - sobre movimientos de fondos propios o de terceros",0,null,{"$f":"IF(AND(Datos!$C$11=\"Informativa\",D140<>0),\"En la DDJJ informativa, este campo debe consignarse en cero (0)\",\"\")","v":""}]
[null,null,"Pagos a cuenta - Resolución General (AFIP) 3819/2015 - Cancelaciones en Efectivo -Servicios de transporte terrestre, aéreo y por vía acuática de pasajeros con destino fuera del país",0,null,{"$f":"IF(AND(Datos!$C$11=\"Informativa\",D141<>0),\"En la DDJJ informativa, este campo debe consignarse en cero (0)\",\"\")","v":""}]
[null,null,"Total pagos a cuenta",{"$f":"SUM(D131:D141)","v":0}]
[null,null,"SALDO A PAGAR",{"$f":"+ROUND(D129,2)-D130-D142","v":0}]

{"sheet":"Empleado28","index":32,"n_rows":143,"n_cols":11,"rows_kept":143,"cut":false,"hidden":false,"merged":[[10,7,11,9]]}
[]
[]
[null,null,"LIQUIDACIÓN DE IMPUESTO A LAS GANANCIAS - 4ta. CATEGORÍA RELACIÓN DE DEPENDENCIA"]
[]
[]
[null,null,"Empleado: Nombre y apellido "]
[null,null,"CUIL del empleado",null,null,{"$f":"cuitValidar(D7)","v":"CUIT/CUIL vacío"}]
[null,null,{"$f":"\"Agente de Retención: \"","v":"Agente de Retención: "},{"$f":"Datos!C7&\" - \"&Datos!C5","v":"33711238269 - OPERACIONES AGROPORTUARIAS S.A."}]
[null,null,{"$f":"\"Período Fiscal: \"","v":"Período Fiscal: "},{"$f":"YEAR(Datos!C13)","v":2021}]
[null,null,"Período trabajado (desde):","2021-01-01"]
[null,null,"Período trabajado (hasta):","2021-09-25",null,null,null,{"$f":"IF(MONTH(D11)>MONTH(Datos!C13),\"El período trabajado no puede ser mayor al período que se informa (mes \"&MONTH(Datos!C13)&\")\",\"\")","v":""}]
[null,null,"Zona geográfica:","Todo el país (excepto zona patagónica)"]
[null,null,"Transporte a larga distancia","No desarrolla la actividad"]
[null,null,"Beneficio promocional 27424?","No"]
[null,null,"Beneficio de la ley 27549?","No"]
[null,null,"El trabajador labora bajo el régimen de teletrabajo (Ley 27555)?","No"]
[null,null,"El trabajador es personal militar en actividad?","No"]
[]
[null,null,"REMUNERACIONES"]
[null,null,"Abonadas por el agente de retención:"]
[null,null,"Remuneración bruta gravada",0]
[null,null,"Retribuciones no habituales gravadas",0]
[null,null,"SAC primera cuota gravado",0]
[null,null,"SAC segunda cuota gravado",0]
[null,null,"Horas extras remuneración gravada",0,null,null,0,"% de retenciones"]
[null,null,"Movilidad y viáticos remuneración gravada",0]
[null,null,"Material didáctico personal docente remuneración gravada",0]
[null,null,"Remuneración no alcanzada o exenta (sin horas extras)",0]
[null,null,"Remuneración exenta ley 27549",0,null,{"$f":"IF(AND($D$15=\"No\",D29<>0),\"Para que sea procedente el beneficio, modifique el valor en la celda D15\",\"\")","v":""}]
[null,null,"Retribuciones no habituales exentas o no alcanzadas",0]
[null,null,"Horas extras remuneración exenta",0]
[null,null,"Movilidad y viáticos remuneración exenta",0]
[null,null,"Material didáctico personal docente remuneración exenta",0]
[null,null,"Bonos de productividad gravados",0]
[null,null,"Fallos de caja gravados",0]
[null,null,"Conceptos de similar naturaleza gravados",0]
[null,null,"Bonos de productividad exentos",0]
[null,null,"Fallos de caja exentos",0]
[null,null,"Conceptos de similar naturaleza exentos",0]
[null,null,"Compensación de gastos de teletrabajo exentos",0]
[null,null,"Personal militar - suplementos art. 57 ley 19.101 - exentos",0]
[null,null,"SAC primera cuota - No alcanzado o exento",0]
[null,null,"SAC segunda cuota - No alcanzado o exento",0]
[null,null,"Ajustes períodos anteriores - Remuneración gravada",0]
[null,null,"Ajustes períodos anteriores - Remuneración exenta / no alcanzada",0]
[null,null,"Otros empleos:"]
[null,null,"Remuneración bruta gravada ",0]
[null,null,"Retribuciones no habituales gravadas ",0]
[null,null,"SAC primera cuota gravado ",0]
[null,null,"SAC segunda cuota gravado ",0]
[null,null,"Horas extras remuneración gravada ",0,null,null,0,"% de retenciones"]
[null,null,"Movilidad y viáticos remuneración gravada ",0]
[null,null,"Material didáctico personal docente remuneración gravada ",0]
[null,null,"Remuneración no alcanzada o exenta ",0]
[null,null,"Remuneración exenta ley 27549 ",0,null,{"$f":"IF(AND($D$15=\"No\",D55<>0),\"Para que sea procedente el beneficio, modifique el valor en la celda D15\",\"\")","v":""}]
[null,null,"Retribuciones no habituales exentas o no alcanzadas ",0]
[null,null,"Horas extras remuneración exenta o no alcanzada ",0]
[null,null,"Movilidad y viáticos remuneración exenta o no alcanzada ",0]
[null,null,"Material didáctico personal docente remuneración exenta o no alcanzada ",0]
[null,null,"Bonos de productividad gravados ",0]
[null,null,"Fallos de caja gravados ",0]
[null,null,"Conceptos de similar naturaleza gravados ",0]
[null,null,"Bonos de productividad exentos ",0]
[null,null,"Fallos de caja exentos ",0]
[null,null,"Conceptos de similar naturaleza exentos ",0]
[null,null,"Compensación de gastos teletrabajo - exentos ",0]
[null,null,"Personal militar - suplementos art. 57 Ley 19101 - exentos ",0]
[null,null,"SAC primera cuota - No alcanzado o exento ",0]
[null,null,"SAC segunda cuota - No alcanzado o exento ",0]
[null,null,"Ajustes períodos anteriores - Remuneración gravada ",0]
[null,null,"Ajustes períodos anteriores - Remuneración no alcanzada o exenta ",0]
[null,null,"TOTAL REMUNERACIÓN GRAVADA",{"$f":"SUM(D21:E27,D44,D47:D53,D70)","v":0}]
[null,null,"TOTAL REMUNERACIÓN NO ALCANZADA O EXENTA",{"$f":"SUM(D28:D43,D45,D54:D69,D71)","v":0}]
[null,null,"TOTAL REMUNERACIONES",{"$f":"IF(+D72+D73<0,0,D72+D73)","v":0}]
[]
[null,null,"DEDUCCIONES GENERALES",null,null,null,null,"Topes máximos legales"]
[null,null,"Aportes a fondos de jubilaciones, retiros, pensiones o subsidios que se destinen a cajas nacionales, provinciales o municipales",0,null,{"$f":"validaciones(D77,H77,0)&IF(D77>$D$74,\" El importe no puede ser mayor a la remuneración total\",\"\")","v":""}]
[null,null,"Aportes a fondos de jubilaciones, retiros, pensiones o subsidios que se destinen a cajas nacionales, provinciales o municipales por otros empleos",0,null,{"$f":"validaciones(D78,H78,0)&IF(D78>$D$74,\" El importe no puede ser mayor a la remuneración total\",\"\")","v":""}]
[null,null,"Aportes a obra sociales",0,null,{"$f":"validaciones(D79,H79,0)&IF(D79>$D$74,\" El importe no puede ser mayor a la remuneración total\",\"\")","v":""}]
[null,null,"Aportes a obra sociales por otros empleos",0,null,{"$f":"validaciones(D80,H80,0)&IF(D80>$D$74,\" El importe no puede ser mayor a la remuneración total\",\"\")","v":""}]
[null,null,"Cuota sindical",0,null,{"$f":"validaciones(D81,H81,0)&IF(D81>$D$74,\" El importe no puede ser mayor a la remuneración total\",\"\")","v":""}]
[null,null,"Cuota sindical por otros empleos",0,null,{"$f":"validaciones(D82,H82,0)&IF(D82>$D$74,\" El importe no puede ser mayor a la remuneración total\",\"\")","v":""}]
[null,null,"Cuotas médico asistenciales",0,null,{"$f":"validaciones(D83,H83,0)","v":""},null,{"$f":"(D72-SUM(D77:D82,D84:D89,D91,D93:D94,D95:D103))*0.05","v":0}]
[null,null,"Primas de seguro para el caso de muerte",0,null,{"$f":"validaciones(D84,H84,0)&IF(AND(Datos!$C$11=\"Informativa\",D84<>0),\"En la DDJJ informativa, este campo debe consignarse en cero (0)\",\"\")","v":""},null,{"$f":"+Tablas!B2","v":24000}]
[null,null,"Primas por riesgo de muerte y de ahorro de seguros mixtos, excepto para los casos de seguros de retiro privados administrados por entidades sujetas al control de la Superintendencia de Seguros de la Nación",0,null,{"$f":"validaciones(D85,H85,0)&IF(AND(Datos!$C$11=\"Informativa\",D85<>0),\"En la DDJJ informativa, este campo debe consignarse en cero (0)\",\"\")","v":""},null,{"$f":"+H84","v":24000}]
[null,null,"Aportes a planes de seguro de retiro privados administrados por entidades sujetas al control de la Superintendencia de Seguros de la Nación",0,null,{"$f":"validaciones(D86,H86,0)&IF(AND(Datos!$C$11=\"Informativa\",D86<>0),\"En la DDJJ informativa, este campo debe consignarse en cero (0)\",\"\")","v":""},null,{"$f":"+H85","v":24000}]
[null,null,"Cuotapartes de fondos comunes de inversión constituidos con fines de retiro",0,null,{"$f":"validaciones(D87,H87,0)&IF(D87<>0,\"Deberá consignarse en cero (0), hasta que la Autoridad de Aplicación – CNV – autorice a las Entidades a funcionar e implemente el régimen.\",\"\")","v":""},null,0]
[null,null,"Gastos de sepelio",0,null,{"$f":"validaciones(D88,H88,0)","v":""},null,{"$f":"+Tablas!B6","v":996.23}]
[null,null,"Gastos amortización e intereses rodado para corredores y viajantes de comercio",0,null,{"$f":"validaciones(D89,H89,0)&IF(D89>$D$74,\" El importe no puede ser mayor a la remuneración total\",\"\")","v":""}]
[null,null,"Donaciones a fiscos nacional, provinciales y municipales, y a instituciones comprendidas en el artículo 26, incisos e) y f) de la ley",0,null,{"$f":"validaciones(D90,H90,0)","v":""},null,{"$f":"(D72-SUM(D77:D82,D84:D89,D91,D93:D94,D95:D103))*0.05","v":0}]
[null,null,"Descuentos obligatorios establecidos por ley nacional, provincial o municipal",0,null,{"$f":"validaciones(D91,H91,0)&IF(D91>$D$74,\" El importe no puede ser mayor a la remuneración total\",\"\")","v":""}]
[null,null,"Honorarios por servicios de asistencia sanitaria, médica y paramédica",0,null,{"$f":"validaciones(D92,H92,0)&IF(AND(Datos!$C$11=\"Informativa\",D92<>0),\"En la DDJJ informativa, este campo debe consignarse en cero (0)\",\"\")","v":""},null,{"$f":"(D72-SUM(D77:D82,D84:D89,D91,D93:D94,D95:D103))*0.05","v":0}]
[null,null,"Intereses de créditos hipotecarios",0,null,{"$f":"validaciones(D93,H93,0)","v":""},null,{"$f":"+Tablas!B3","v":20000}]
[null,null,"Aportes al capital social o al fondo de riesgo de socios protectores de sociedades de garantía recíproca",0,null,{"$f":"validaciones(D94,H94,0)","v":""}]
[null,null,"Alquileres de inmuebles destinados a casa habitación",0,null,{"$f":"validaciones(D95,H95,0)","v":""},null,{"$f":"IF(Datos!C11=\"Final\",ROUND(Tablas!B4/12*12,2),ROUND(Tablas!B4/12*MONTH(Datos!C13),2))","v":167678.39999999999}]
[null,null,"Empleados del servicio doméstico",0,null,{"$f":"validaciones(D96,H96,0)","v":""},null,{"$f":"Tablas!B4","v":167678.39999999999}]
[null,null,"Gastos de movilidad, viáticos y otras compensaciones análogas abonados por el empleador",0,null,{"$f":"validaciones(D97,H97,0)","v":""},null,{"$f":"IF(D13=\"Desarrolla la actividad\",Tablas!B4,Tablas!B4*0.4)","v":67071.360000000001}]
[null,null,"Gastos por adquisición de indumentaria y/o equipamiento de trabajo",0,null,{"$f":"validaciones(D98,H98,0)","v":""}]
[null,null,"Otras deducciones - aportes a Cajas Complementarias de Previsión, Fondos Compensadores de Previsión o similares",0,null,{"$f":"validaciones(D99,H99,0)","v":""}]
[null,null,"Otras deducciones - Aportes para jubilaciones, retiros y subsidios ANSES",0,null,{"$f":"validaciones(D100,H100,0)","v":""}]
[null,null,"Otras deducciones - Cajas Provinciales o Municipales o de Previsión para Profesionales",0,null,{"$f":"validaciones(D101,H101,0)","v":""}]
[null,null,"Otras deducciones - Actores - Retribución pagada a los representantes - RG 2442/08",0,null,{"$f":"validaciones(D102,H102,0)","v":""}]
[null,null,"Otras deducciones - Fondos compensadores de previsión",0,null,{"$f":"validaciones(D103,H103,0)","v":""}]
[null,null,"Otras deducciones",{"$f":"+SUM(D99:E103)","v":0}]
[null,null,"TOTAL DEDUCCIONES GENERALES",{"$f":"SUM(D77:E103)","v":0},null,null,null,null,null,null,{"$f":"+D72-D105","v":0}]
[]
[null,null,"DEDUCCIONES PERSONALES",null,null,null,null,"Topes máximos legales"]
[null,null,"Ganancia no imponible",125758.8,null,{"$f":"validaciones(D108,H108,0)","v":""},null,{"$f":"deducciones(1,Datos!C11,MONTH(Datos!$C$13),$D$12)","v":167678.39999999999},null,null,{"$f":"IF(K105-K109<=0,0,IF(K105-K109<=H108,K105-K109,H108))","v":0}]
[null,null,"Deducción especial",603642.26,null,{"$f":"validaciones(D109,H109,0)","v":""},null,{"$f":"deducciones(2,Datos!$C$11,MONTH(Datos!$C$13),$D$12)","v":804856.34},null,null,{"$f":"IF(K105<=H109,K105,H109)","v":0}]
[null,null,"Deducción Especial Incrementada Primera parte del penúltimo párrafo del inciso c) del artículo 30 de la ley del gravamen",0]
[null,null,"Deducción Especial Incrementada Segunda parte del penúltimo párrafo del inciso c) del artículo 30 de la ley del gravamen",0]
[null,null,"Deducción específica",0,null,{"$f":"validaciones(D112,H112,0)","v":""},null,0]
[null,null,"Cargas de familia"]
[null,null,"Cónyuge",0,null,{"$f":"validaciones(D114,H114,0)","v":""},null,{"$f":"cargas_de_familia(4,Datos!$C$11,MONTH(Datos!$C$13),$D$12)","v":156320.63},null,null,{"$f":"IF(K105-K108-K109>=D114,D114,K105-K108-K109)","v":0}]
[null,null,"Cantidad de hijos e hijastros",0,null,{"$f":"validaciones(D115,H115,0)","v":""},null,99]
[null,null,"Deducción total hijos e hijastros",0,null,null,null,{"$f":"cargas_de_familia(3,Datos!$C$11,MONTH(Datos!$C$13),$D$12)*D115","v":0},null,null,{"$f":"IF(K105-K108-K109-K114>=D116,D116,K105-K108-K109-K114)","v":0}]
[null,null,"Cantidad de hijos e hijastros incapacitados para el trabajo",0,null,{"$f":"validaciones(D117,H117,0)","v":""},null,99]
[null,null,"Hijos / Hijastros incapacitados para el trabajo",0,null,null,null,{"$f":"cargas_de_familia(5,Datos!$C$11,MONTH(Datos!$C$13),$D$12)","v":157666.16}]
[null,null,"Total de cargas de familia",{"$f":"+D114+D116+D118","v":0},null,null,null,0]
[null,null,"TOTAL DEDUCCIONES PERSONALES",{"$f":"SUM(D108:D112,D119)","v":729401.06}]
[]
[null,null,"DETERMINACIÓN DEL IMPUESTO"]
[null,null,"REMUNERACIÓN NETA SUJETA A IMPUESTO -antes de la deducción art. 46 L. 27541-",0]
[null,null,"Deducción inciso a) primer párrafo artículo 30 de la ley (cfr. art. 46 L. 27541)",0,null,null,null,0,null,null,{"$f":"IF(D123-K125<=0,0,IF(D123-K125<=H124,D123-K125,H124))","v":0}]
[null,null,"Deducción inciso c) primer párrafo artículo 30 de la ley (cfr. art. 46 L. 27541)",0,null,null,null,0,null,null,{"$f":"IF(D123<=H125,D123,H125)","v":0}]
[null,null,"REMUNERACIÓN SUJETA A IMPUESTO",{"$f":"IF(+D72-D105-D120<0,0,+D72-D105-D120)","v":0}]
[null,null,"Alícuota aplicable artículo 94 ley de impuesto a las ganancias",{"$f":"IF(OR(Datos!C11=\"Final\",Datos!C11=\"Anual\"),impuestoAlicuota(D126,D25*(1-G25)+D51*(1-G51),12),impuestoAlicuota(D126,D25*(1-G25)+D51*(1-G51),MONTH(D11)))","v":0}]
[null,null,"Alícuota aplicable sin incluir horas extras",{"$f":"IF(OR(Datos!C11=\"Final\",Datos!C11=\"Anual\"),impuestoAlicuota(D126,0,12),impuestoAlicuota(D126,0,MONTH(D11)))","v":0}]
[null,null,"IMPUESTO DETERMINADO",{"$f":"IF(D126<0,0,IF(OR(Datos!C11=\"Final\",Datos!C11=\"Anual\"),impuestoDeterminado(D126,D25*(1-G25)+D51*(1-G51),12),impuestoDeterminado(D126,D25*(1-G25)+D51*(1-G51),MONTH(D11))))","v":0}]
[null,null,"Impuesto retenido",0]
[null,null,"Pagos a cuenta - Impuesto sobre créditos y débitos",0,null,{"$f":"IF(AND(Datos!$C$11=\"Informativa\",D131<>0),\"En la DDJJ informativa, este campo debe consignarse en cero (0)\",\"\")","v":""}]
[null,null,"Pagos a cuenta - Percepciones / Retenciones aduaneras",0,null,{"$f":"IF(AND(Datos!$C$11=\"Informativa\",D132<>0),\"En la DDJJ informativa, este campo debe consignarse en cero (0)\",\"\")","v":""}]
[null,null,"Pagos a cuenta - RG (AFIP) 3819/2015 - Cancelaciones en efectivo",0,null,{"$f":"IF(AND(Datos!$C$11=\"Informativa\",D133<>0),\"En la DDJJ informativa, este campo debe consignarse en cero (0)\",\"\")","v":""}]
[null,null,"Pagos a cuenta - Bono ley 27.424",0,null,{"$f":"IF(AND(Datos!$C$11=\"Informativa\",D134<>0),\"En la DDJJ informativa, este campo debe consignarse en cero (0)\",\"\")","v":""}]
[null,null,"Pagos a cuenta - RG 4815 [LEY 27.541 Art. 35 inciso a)] ",0,null,{"$f":"IF(AND(Datos!$C$11=\"Informativa\",D135<>0),\"En la DDJJ informativa, este campo debe consignarse en cero (0)\",\"\")","v":""}]
[null,null,"Pagos a cuenta - RG 4815 [LEY 27.541 Art. 35 inciso b)] ",0,null,{"$f":"IF(AND(Datos!$C$11=\"Informativa\",D136<>0),\"En la DDJJ informativa, este campo debe consignarse en cero (0)\",\"\")","v":""}]
[null,null,"Pagos a cuenta - RG 4815 [LEY 27.541 Art. 35 inciso c)] ",0,null,{"$f":"IF(AND(Datos!$C$11=\"Informativa\",D137<>0),\"En la DDJJ informativa, este campo debe consignarse en cero (0)\",\"\")","v":""}]
[null,null,"Pagos a cuenta - RG 4815 [LEY 27.541 Art. 35 inciso d)] ",0,null,{"$f":"IF(AND(Datos!$C$11=\"Informativa\",D138<>0),\"En la DDJJ informativa, este campo debe consignarse en cero (0)\",\"\")","v":""}]
[null,null,"Pagos a cuenta - RG 4815 [LEY 27.541 Art. 35 inciso e)] ",0,null,{"$f":"IF(AND(Datos!$C$11=\"Informativa\",D139<>0),\"En la DDJJ informativa, este campo debe consignarse en cero (0)\",\"\")","v":""}]
[null,null,"Pagos a cuenta - Impuesto sobre créditos y débitos - sobre movimientos de fondos propios o de terceros",0,null,{"$f":"IF(AND(Datos!$C$11=\"Informativa\",D140<>0),\"En la DDJJ informativa, este campo debe consignarse en cero (0)\",\"\")","v":""}]
[null,null,"Pagos a cuenta - Resolución General (AFIP) 3819/2015 - Cancelaciones en Efectivo -Servicios de transporte terrestre, aéreo y por vía acuática de pasajeros con destino fuera del país",0,null,{"$f":"IF(AND(Datos!$C$11=\"Informativa\",D141<>0),\"En la DDJJ informativa, este campo debe consignarse en cero (0)\",\"\")","v":""}]
[null,null,"Total pagos a cuenta",{"$f":"SUM(D131:D141)","v":0}]
[null,null,"SALDO A PAGAR",{"$f":"+ROUND(D129,2)-D130-D142","v":0}]

{"sheet":"Empleado29","index":33,"n_rows":143,"n_cols":11,"rows_kept":143,"cut":false,"hidden":false,"merged":[[10,7,11,9]]}
[]
[]
[null,null,"LIQUIDACIÓN DE IMPUESTO A LAS GANANCIAS - 4ta. CATEGORÍA RELACIÓN DE DEPENDENCIA"]
[]
[]
[null,null,"Empleado: Nombre y apellido "]
[null,null,"CUIL del empleado",null,null,{"$f":"cuitValidar(D7)","v":"CUIT/CUIL vacío"}]
[null,null,{"$f":"\"Agente de Retención: \"","v":"Agente de Retención: "},{"$f":"Datos!C7&\" - \"&Datos!C5","v":"33711238269 - OPERACIONES AGROPORTUARIAS S.A."}]
[null,null,{"$f":"\"Período Fiscal: \"","v":"Período Fiscal: "},{"$f":"YEAR(Datos!C13)","v":2021}]
[null,null,"Período trabajado (desde):","2021-01-01"]
[null,null,"Período trabajado (hasta):","2021-09-25",null,null,null,{"$f":"IF(MONTH(D11)>MONTH(Datos!C13),\"El período trabajado no puede ser mayor al período que se informa (mes \"&MONTH(Datos!C13)&\")\",\"\")","v":""}]
[null,null,"Zona geográfica:","Todo el país (excepto zona patagónica)"]
[null,null,"Transporte a larga distancia","No desarrolla la actividad"]
[null,null,"Beneficio promocional 27424?","No"]
[null,null,"Beneficio de la ley 27549?","No"]
[null,null,"El trabajador labora bajo el régimen de teletrabajo (Ley 27555)?","No"]
[null,null,"El trabajador es personal militar en actividad?","No"]
[]
[null,null,"REMUNERACIONES"]
[null,null,"Abonadas por el agente de retención:"]
[null,null,"Remuneración bruta gravada",0]
[null,null,"Retribuciones no habituales gravadas",0]
[null,null,"SAC primera cuota gravado",0]
[null,null,"SAC segunda cuota gravado",0]
[null,null,"Horas extras remuneración gravada",0,null,null,0,"% de retenciones"]
[null,null,"Movilidad y viáticos remuneración gravada",0]
[null,null,"Material didáctico personal docente remuneración gravada",0]
[null,null,"Remuneración no alcanzada o exenta (sin horas extras)",0]
[null,null,"Remuneración exenta ley 27549",0,null,{"$f":"IF(AND($D$15=\"No\",D29<>0),\"Para que sea procedente el beneficio, modifique el valor en la celda D15\",\"\")","v":""}]
[null,null,"Retribuciones no habituales exentas o no alcanzadas",0]
[null,null,"Horas extras remuneración exenta",0]
[null,null,"Movilidad y viáticos remuneración exenta",0]
[null,null,"Material didáctico personal docente remuneración exenta",0]
[null,null,"Bonos de productividad gravados",0]
[null,null,"Fallos de caja gravados",0]
[null,null,"Conceptos de similar naturaleza gravados",0]
[null,null,"Bonos de productividad exentos",0]
[null,null,"Fallos de caja exentos",0]
[null,null,"Conceptos de similar naturaleza exentos",0]
[null,null,"Compensación de gastos de teletrabajo exentos",0]
[null,null,"Personal militar - suplementos art. 57 ley 19.101 - exentos",0]
[null,null,"SAC primera cuota - No alcanzado o exento",0]
[null,null,"SAC segunda cuota - No alcanzado o exento",0]
[null,null,"Ajustes períodos anteriores - Remuneración gravada",0]
[null,null,"Ajustes períodos anteriores - Remuneración exenta / no alcanzada",0]
[null,null,"Otros empleos:"]
[null,null,"Remuneración bruta gravada ",0]
[null,null,"Retribuciones no habituales gravadas ",0]
[null,null,"SAC primera cuota gravado ",0]
[null,null,"SAC segunda cuota gravado ",0]
[null,null,"Horas extras remuneración gravada ",0,null,null,0,"% de retenciones"]
[null,null,"Movilidad y viáticos remuneración gravada ",0]
[null,null,"Material didáctico personal docente remuneración gravada ",0]
[null,null,"Remuneración no alcanzada o exenta ",0]
[null,null,"Remuneración exenta ley 27549 ",0,null,{"$f":"IF(AND($D$15=\"No\",D55<>0),\"Para que sea procedente el beneficio, modifique el valor en la celda D15\",\"\")","v":""}]
[null,null,"Retribuciones no habituales exentas o no alcanzadas ",0]
[null,null,"Horas extras remuneración exenta o no alcanzada ",0]
[null,null,"Movilidad y viáticos remuneración exenta o no alcanzada ",0]
[null,null,"Material didáctico personal docente remuneración exenta o no alcanzada ",0]
[null,null,"Bonos de productividad gravados ",0]
[null,null,"Fallos de caja gravados ",0]
[null,null,"Conceptos de similar naturaleza gravados ",0]
[null,null,"Bonos de productividad exentos ",0]
[null,null,"Fallos de caja exentos ",0]
[null,null,"Conceptos de similar naturaleza exentos ",0]
[null,null,"Compensación de gastos teletrabajo - exentos ",0]
[null,null,"Personal militar - suplementos art. 57 Ley 19101 - exentos ",0]
[null,null,"SAC primera cuota - No alcanzado o exento ",0]
[null,null,"SAC segunda cuota - No alcanzado o exento ",0]
[null,null,"Ajustes períodos anteriores - Remuneración gravada ",0]
[null,null,"Ajustes períodos anteriores - Remuneración no alcanzada o exenta ",0]
[null,null,"TOTAL REMUNERACIÓN GRAVADA",{"$f":"SUM(D21:E27,D44,D47:D53,D70)","v":0}]
[null,null,"TOTAL REMUNERACIÓN NO ALCANZADA O EXENTA",{"$f":"SUM(D28:D43,D45,D54:D69,D71)","v":0}]
[null,null,"TOTAL REMUNERACIONES",{"$f":"IF(+D72+D73<0,0,D72+D73)","v":0}]
[]
[null,null,"DEDUCCIONES GENERALES",null,null,null,null,"Topes máximos legales"]
[null,null,"Aportes a fondos de jubilaciones, retiros, pensiones o subsidios que se destinen a cajas nacionales, provinciales o municipales",0,null,{"$f":"validaciones(D77,H77,0)&IF(D77>$D$74,\" El importe no puede ser mayor a la remuneración total\",\"\")","v":""}]
[null,null,"Aportes a fondos de jubilaciones, retiros, pensiones o subsidios que se destinen a cajas nacionales, provinciales o municipales por otros empleos",0,null,{"$f":"validaciones(D78,H78,0)&IF(D78>$D$74,\" El importe no puede ser mayor a la remuneración total\",\"\")","v":""}]
[null,null,"Aportes a obra sociales",0,null,{"$f":"validaciones(D79,H79,0)&IF(D79>$D$74,\" El importe no puede ser mayor a la remuneración total\",\"\")","v":""}]
[null,null,"Aportes a obra sociales por otros empleos",0,null,{"$f":"validaciones(D80,H80,0)&IF(D80>$D$74,\" El importe no puede ser mayor a la remuneración total\",\"\")","v":""}]
[null,null,"Cuota sindical",0,null,{"$f":"validaciones(D81,H81,0)&IF(D81>$D$74,\" El importe no puede ser mayor a la remuneración total\",\"\")","v":""}]
[null,null,"Cuota sindical por otros empleos",0,null,{"$f":"validaciones(D82,H82,0)&IF(D82>$D$74,\" El importe no puede ser mayor a la remuneración total\",\"\")","v":""}]
[null,null,"Cuotas médico asistenciales",0,null,{"$f":"validaciones(D83,H83,0)","v":""},null,{"$f":"(D72-SUM(D77:D82,D84:D89,D91,D93:D94,D95:D103))*0.05","v":0}]
[null,null,"Primas de seguro para el caso de muerte",0,null,{"$f":"validaciones(D84,H84,0)&IF(AND(Datos!$C$11=\"Informativa\",D84<>0),\"En la DDJJ informativa, este campo debe consignarse en cero (0)\",\"\")","v":""},null,{"$f":"+Tablas!B2","v":24000}]
[null,null,"Primas por riesgo de muerte y de ahorro de seguros mixtos, excepto para los casos de seguros de retiro privados administrados por entidades sujetas al control de la Superintendencia de Seguros de la Nación",0,null,{"$f":"validaciones(D85,H85,0)&IF(AND(Datos!$C$11=\"Informativa\",D85<>0),\"En la DDJJ informativa, este campo debe consignarse en cero (0)\",\"\")","v":""},null,{"$f":"+H84","v":24000}]
[null,null,"Aportes a planes de seguro de retiro privados administrados por entidades sujetas al control de la Superintendencia de Seguros de la Nación",0,null,{"$f":"validaciones(D86,H86,0)&IF(AND(Datos!$C$11=\"Informativa\",D86<>0),\"En la DDJJ informativa, este campo debe consignarse en cero (0)\",\"\")","v":""},null,{"$f":"+H85","v":24000}]
[null,null,"Cuotapartes de fondos comunes de inversión constituidos con fines de retiro",0,null,{"$f":"validaciones(D87,H87,0)&IF(D87<>0,\"Deberá consignarse en cero (0), hasta que la Autoridad de Aplicación – CNV – autorice a las Entidades a funcionar e implemente el régimen.\",\"\")","v":""},null,0]
[null,null,"Gastos de sepelio",0,null,{"$f":"validaciones(D88,H88,0)","v":""},null,{"$f":"+Tablas!B6","v":996.23}]
[null,null,"Gastos amortización e intereses rodado para corredores y viajantes de comercio",0,null,{"$f":"validaciones(D89,H89,0)&IF(D89>$D$74,\" El importe no puede ser mayor a la remuneración total\",\"\")","v":""}]
[null,null,"Donaciones a fiscos nacional, provinciales y municipales, y a instituciones comprendidas en el artículo 26, incisos e) y f) de la ley",0,null,{"$f":"validaciones(D90,H90,0)","v":""},null,{"$f":"(D72-SUM(D77:D82,D84:D89,D91,D93:D94,D95:D103))*0.05","v":0}]
[null,null,"Descuentos obligatorios establecidos por ley nacional, provincial o municipal",0,null,{"$f":"validaciones(D91,H91,0)&IF(D91>$D$74,\" El importe no puede ser mayor a la remuneración total\",\"\")","v":""}]
[null,null,"Honorarios por servicios de asistencia sanitaria, médica y paramédica",0,null,{"$f":"validaciones(D92,H92,0)&IF(AND(Datos!$C$11=\"Informativa\",D92<>0),\"En la DDJJ informativa, este campo debe consignarse en cero (0)\",\"\")","v":""},null,{"$f":"(D72-SUM(D77:D82,D84:D89,D91,D93:D94,D95:D103))*0.05","v":0}]
[null,null,"Intereses de créditos hipotecarios",0,null,{"$f":"validaciones(D93,H93,0)","v":""},null,{"$f":"+Tablas!B3","v":20000}]
[null,null,"Aportes al capital social o al fondo de riesgo de socios protectores de sociedades de garantía recíproca",0,null,{"$f":"validaciones(D94,H94,0)","v":""}]
[null,null,"Alquileres de inmuebles destinados a casa habitación",0,null,{"$f":"validaciones(D95,H95,0)","v":""},null,{"$f":"IF(Datos!C11=\"Final\",ROUND(Tablas!B4/12*12,2),ROUND(Tablas!B4/12*MONTH(Datos!C13),2))","v":167678.39999999999}]
[null,null,"Empleados del servicio doméstico",0,null,{"$f":"validaciones(D96,H96,0)","v":""},null,{"$f":"Tablas!B4","v":167678.39999999999}]
[null,null,"Gastos de movilidad, viáticos y otras compensaciones análogas abonados por el empleador",0,null,{"$f":"validaciones(D97,H97,0)","v":""},null,{"$f":"IF(D13=\"Desarrolla la actividad\",Tablas!B4,Tablas!B4*0.4)","v":67071.360000000001}]
[null,null,"Gastos por adquisición de indumentaria y/o equipamiento de trabajo",0,null,{"$f":"validaciones(D98,H98,0)","v":""}]
[null,null,"Otras deducciones - aportes a Cajas Complementarias de Previsión, Fondos Compensadores de Previsión o similares",0,null,{"$f":"validaciones(D99,H99,0)","v":""}]
[null,null,"Otras deducciones - Aportes para jubilaciones, retiros y subsidios ANSES",0,null,{"$f":"validaciones(D100,H100,0)","v":""}]
[null,null,"Otras deducciones - Cajas Provinciales o Municipales o de Previsión para Profesionales",0,null,{"$f":"validaciones(D101,H101,0)","v":""}]
[null,null,"Otras deducciones - Actores - Retribución pagada a los representantes - RG 2442/08",0,null,{"$f":"validaciones(D102,H102,0)","v":""}]
[null,null,"Otras deducciones - Fondos compensadores de previsión",0,null,{"$f":"validaciones(D103,H103,0)","v":""}]
[null,null,"Otras deducciones",{"$f":"+SUM(D99:E103)","v":0}]
[null,null,"TOTAL DEDUCCIONES GENERALES",{"$f":"SUM(D77:E103)","v":0},null,null,null,null,null,null,{"$f":"+D72-D105","v":0}]
[]
[null,null,"DEDUCCIONES PERSONALES",null,null,null,null,"Topes máximos legales"]
[null,null,"Ganancia no imponible",125758.8,null,{"$f":"validaciones(D108,H108,0)","v":""},null,{"$f":"deducciones(1,Datos!C11,MONTH(Datos!$C$13),$D$12)","v":167678.39999999999},null,null,{"$f":"IF(K105-K109<=0,0,IF(K105-K109<=H108,K105-K109,H108))","v":0}]
[null,null,"Deducción especial",603642.26,null,{"$f":"validaciones(D109,H109,0)","v":""},null,{"$f":"deducciones(2,Datos!$C$11,MONTH(Datos!$C$13),$D$12)","v":804856.34},null,null,{"$f":"IF(K105<=H109,K105,H109)","v":0}]
[null,null,"Deducción Especial Incrementada Primera parte del penúltimo párrafo del inciso c) del artículo 30 de la ley del gravamen",0]
[null,null,"Deducción Especial Incrementada Segunda parte del penúltimo párrafo del inciso c) del artículo 30 de la ley del gravamen",0]
[null,null,"Deducción específica",0,null,{"$f":"validaciones(D112,H112,0)","v":""},null,0]
[null,null,"Cargas de familia"]
[null,null,"Cónyuge",0,null,{"$f":"validaciones(D114,H114,0)","v":""},null,{"$f":"cargas_de_familia(4,Datos!$C$11,MONTH(Datos!$C$13),$D$12)","v":156320.63},null,null,{"$f":"IF(K105-K108-K109>=D114,D114,K105-K108-K109)","v":0}]
[null,null,"Cantidad de hijos e hijastros",0,null,{"$f":"validaciones(D115,H115,0)","v":""},null,99]
[null,null,"Deducción total hijos e hijastros",0,null,null,null,{"$f":"cargas_de_familia(3,Datos!$C$11,MONTH(Datos!$C$13),$D$12)*D115","v":0},null,null,{"$f":"IF(K105-K108-K109-K114>=D116,D116,K105-K108-K109-K114)","v":0}]
[null,null,"Cantidad de hijos e hijastros incapacitados para el trabajo",0,null,{"$f":"validaciones(D117,H117,0)","v":""},null,99]
[null,null,"Hijos / Hijastros incapacitados para el trabajo",0,null,null,null,{"$f":"cargas_de_familia(5,Datos!$C$11,MONTH(Datos!$C$13),$D$12)","v":157666.16}]
[null,null,"Total de cargas de familia",{"$f":"+D114+D116+D118","v":0},null,null,null,0]
[null,null,"TOTAL DEDUCCIONES PERSONALES",{"$f":"SUM(D108:D112,D119)","v":729401.06}]
[]
[null,null,"DETERMINACIÓN DEL IMPUESTO"]
[null,null,"REMUNERACIÓN NETA SUJETA A IMPUESTO -antes de la deducción art. 46 L. 27541-",0]
[null,null,"Deducción inciso a) primer párrafo artículo 30 de la ley (cfr. art. 46 L. 27541)",0,null,null,null,0,null,null,{"$f":"IF(D123-K125<=0,0,IF(D123-K125<=H124,D123-K125,H124))","v":0}]
[null,null,"Deducción inciso c) primer párrafo artículo 30 de la ley (cfr. art. 46 L. 27541)",0,null,null,null,0,null,null,{"$f":"IF(D123<=H125,D123,H125)","v":0}]
[null,null,"REMUNERACIÓN SUJETA A IMPUESTO",{"$f":"IF(+D72-D105-D120<0,0,+D72-D105-D120)","v":0}]
[null,null,"Alícuota aplicable artículo 94 ley de impuesto a las ganancias",{"$f":"IF(OR(Datos!C11=\"Final\",Datos!C11=\"Anual\"),impuestoAlicuota(D126,D25*(1-G25)+D51*(1-G51),12),impuestoAlicuota(D126,D25*(1-G25)+D51*(1-G51),MONTH(D11)))","v":0}]
[null,null,"Alícuota aplicable sin incluir horas extras",{"$f":"IF(OR(Datos!C11=\"Final\",Datos!C11=\"Anual\"),impuestoAlicuota(D126,0,12),impuestoAlicuota(D126,0,MONTH(D11)))","v":0}]
[null,null,"IMPUESTO DETERMINADO",{"$f":"IF(D126<0,0,IF(OR(Datos!C11=\"Final\",Datos!C11=\"Anual\"),impuestoDeterminado(D126,D25*(1-G25)+D51*(1-G51),12),impuestoDeterminado(D126,D25*(1-G25)+D51*(1-G51),MONTH(D11))))","v":0}]
[null,null,"Impuesto retenido",0]
[null,null,"Pagos a cuenta - Impuesto sobre créditos y débitos",0,null,{"$f":"IF(AND(Datos!$C$11=\"Informativa\",D131<>0),\"En la DDJJ informativa, este campo debe consignarse en cero (0)\",\"\")","v":""}]
[null,null,"Pagos a cuenta - Percepciones / Retenciones aduaneras",0,null,{"$f":"IF(AND(Datos!$C$11=\"Informativa\",D132<>0),\"En la DDJJ informativa, este campo debe consignarse en cero (0)\",\"\")","v":""}]
[null,null,"Pagos a cuenta - RG (AFIP) 3819/2015 - Cancelaciones en efectivo",0,null,{"$f":"IF(AND(Datos!$C$11=\"Informativa\",D133<>0),\"En la DDJJ informativa, este campo debe consignarse en cero (0)\",\"\")","v":""}]
[null,null,"Pagos a cuenta - Bono ley 27.424",0,null,{"$f":"IF(AND(Datos!$C$11=\"Informativa\",D134<>0),\"En la DDJJ informativa, este campo debe consignarse en cero (0)\",\"\")","v":""}]
[null,null,"Pagos a cuenta - RG 4815 [LEY 27.541 Art. 35 inciso a)] ",0,null,{"$f":"IF(AND(Datos!$C$11=\"Informativa\",D135<>0),\"En la DDJJ informativa, este campo debe consignarse en cero (0)\",\"\")","v":""}]
[null,null,"Pagos a cuenta - RG 4815 [LEY 27.541 Art. 35 inciso b)] ",0,null,{"$f":"IF(AND(Datos!$C$11=\"Informativa\",D136<>0),\"En la DDJJ informativa, este campo debe consignarse en cero (0)\",\"\")","v":""}]
[null,null,"Pagos a cuenta - RG 4815 [LEY 27.541 Art. 35 inciso c)] ",0,null,{"$f":"IF(AND(Datos!$C$11=\"Informativa\",D137<>0),\"En la DDJJ informativa, este campo debe consignarse en cero (0)\",\"\")","v":""}]
[null,null,"Pagos a cuenta - RG 4815 [LEY 27.541 Art. 35 inciso d)] ",0,null,{"$f":"IF(AND(Datos!$C$11=\"Informativa\",D138<>0),\"En la DDJJ informativa, este campo debe consignarse en cero (0)\",\"\")","v":""}]
[null,null,"Pagos a cuenta - RG 4815 [LEY 27.541 Art. 35 inciso e)] ",0,null,{"$f":"IF(AND(Datos!$C$11=\"Informativa\",D139<>0),\"En la DDJJ informativa, este campo debe consignarse en cero (0)\",\"\")","v":""}]
[null,null,"Pagos a cuenta - Impuesto sobre créditos y débitos - sobre movimientos de fondos propios o de terceros",0,null,{"$f":"IF(AND(Datos!$C$11=\"Informativa\",D140<>0),\"En la DDJJ informativa, este campo debe consignarse en cero (0)\",\"\")","v":""}]
[null,null,"Pagos a cuenta - Resolución General (AFIP) 3819/2015 - Cancelaciones en Efectivo -Servicios de transporte terrestre, aéreo y por vía acuática de pasajeros con destino fuera del país",0,null,{"$f":"IF(AND(Datos!$C$11=\"Informativa\",D141<>0),\"En la DDJJ informativa, este campo debe consignarse en cero (0)\",\"\")","v":""}]
[null,null,"Total pagos a cuenta",{"$f":"SUM(D131:D141)","v":0}]
[null,null,"SALDO A PAGAR",{"$f":"+ROUND(D129,2)-D130-D142","v":0}]

{"sheet":"Empleado30","index":34,"n_rows":143,"n_cols":11,"rows_kept":143,"cut":false,"hidden":false,"merged":[[10,7,11,9]]}
[]
[]
[null,null,"LIQUIDACIÓN DE IMPUESTO A LAS GANANCIAS - 4ta. CATEGORÍA RELACIÓN DE DEPENDENCIA"]
[]
[]
[null,null,"Empleado: Nombre y apellido "]
[null,null,"CUIL del empleado",null,null,{"$f":"cuitValidar(D7)","v":"CUIT/CUIL vacío"}]
[null,null,{"$f":"\"Agente de Retención: \"","v":"Agente de Retención: "},{"$f":"Datos!C7&\" - \"&Datos!C5","v":"33711238269 - OPERACIONES AGROPORTUARIAS S.A."}]
[null,null,{"$f":"\"Período Fiscal: \"","v":"Período Fiscal: "},{"$f":"YEAR(Datos!C13)","v":2021}]
[null,null,"Período trabajado (desde):","2021-01-01"]
[null,null,"Período trabajado (hasta):","2021-09-25",null,null,null,{"$f":"IF(MONTH(D11)>MONTH(Datos!C13),\"El período trabajado no puede ser mayor al período que se informa (mes \"&MONTH(Datos!C13)&\")\",\"\")","v":""}]
[null,null,"Zona geográfica:","Todo el país (excepto zona patagónica)"]
[null,null,"Transporte a larga distancia","No desarrolla la actividad"]
[null,null,"Beneficio promocional 27424?","No"]
[null,null,"Beneficio de la ley 27549?","No"]
[null,null,"El trabajador labora bajo el régimen de teletrabajo (Ley 27555)?","No"]
[null,null,"El trabajador es personal militar en actividad?","No"]
[]
[null,null,"REMUNERACIONES"]
[null,null,"Abonadas por el agente de retención:"]
[null,null,"Remuneración bruta gravada",0]
[null,null,"Retribuciones no habituales gravadas",0]
[null,null,"SAC primera cuota gravado",0]
[null,null,"SAC segunda cuota gravado",0]
[null,null,"Horas extras remuneración gravada",0,null,null,0,"% de retenciones"]
[null,null,"Movilidad y viáticos remuneración gravada",0]
[null,null,"Material didáctico personal docente remuneración gravada",0]
[null,null,"Remuneración no alcanzada o exenta (sin horas extras)",0]
[null,null,"Remuneración exenta ley 27549",0,null,{"$f":"IF(AND($D$15=\"No\",D29<>0),\"Para que sea procedente el beneficio, modifique el valor en la celda D15\",\"\")","v":""}]
[null,null,"Retribuciones no habituales exentas o no alcanzadas",0]
[null,null,"Horas extras remuneración exenta",0]
[null,null,"Movilidad y viáticos remuneración exenta",0]
[null,null,"Material didáctico personal docente remuneración exenta",0]
[null,null,"Bonos de productividad gravados",0]
[null,null,"Fallos de caja gravados",0]
[null,null,"Conceptos de similar naturaleza gravados",0]
[null,null,"Bonos de productividad exentos",0]
[null,null,"Fallos de caja exentos",0]
[null,null,"Conceptos de similar naturaleza exentos",0]
[null,null,"Compensación de gastos de teletrabajo exentos",0]
[null,null,"Personal militar - suplementos art. 57 ley 19.101 - exentos",0]
[null,null,"SAC primera cuota - No alcanzado o exento",0]
[null,null,"SAC segunda cuota - No alcanzado o exento",0]
[null,null,"Ajustes períodos anteriores - Remuneración gravada",0]
[null,null,"Ajustes períodos anteriores - Remuneración exenta / no alcanzada",0]
[null,null,"Otros empleos:"]
[null,null,"Remuneración bruta gravada ",0]
[null,null,"Retribuciones no habituales gravadas ",0]
[null,null,"SAC primera cuota gravado ",0]
[null,null,"SAC segunda cuota gravado ",0]
[null,null,"Horas extras remuneración gravada ",0,null,null,0,"% de retenciones"]
[null,null,"Movilidad y viáticos remuneración gravada ",0]
[null,null,"Material didáctico personal docente remuneración gravada ",0]
[null,null,"Remuneración no alcanzada o exenta ",0]
[null,null,"Remuneración exenta ley 27549 ",0,null,{"$f":"IF(AND($D$15=\"No\",D55<>0),\"Para que sea procedente el beneficio, modifique el valor en la celda D15\",\"\")","v":""}]
[null,null,"Retribuciones no habituales exentas o no alcanzadas ",0]
[null,null,"Horas extras remuneración exenta o no alcanzada ",0]
[null,null,"Movilidad y viáticos remuneración exenta o no alcanzada ",0]
[null,null,"Material didáctico personal docente remuneración exenta o no alcanzada ",0]
[null,null,"Bonos de productividad gravados ",0]
[null,null,"Fallos de caja gravados ",0]
[null,null,"Conceptos de similar naturaleza gravados ",0]
[null,null,"Bonos de productividad exentos ",0]
[null,null,"Fallos de caja exentos ",0]
[null,null,"Conceptos de similar naturaleza exentos ",0]
[null,null,"Compensación de gastos teletrabajo - exentos ",0]
[null,null,"Personal militar - suplementos art. 57 Ley 19101 - exentos ",0]
[null,null,"SAC primera cuota - No alcanzado o exento ",0]
[null,null,"SAC segunda cuota - No alcanzado o exento ",0]
[null,null,"Ajustes períodos anteriores - Remuneración gravada ",0]
[null,null,"Ajustes períodos anteriores - Remuneración no alcanzada o exenta ",0]
[null,null,"TOTAL REMUNERACIÓN GRAVADA",{"$f":"SUM(D21:E27,D44,D47:D53,D70)","v":0}]
[null,null,"TOTAL REMUNERACIÓN NO ALCANZADA O EXENTA",{"$f":"SUM(D28:D43,D45,D54:D69,D71)","v":0}]
[null,null,"TOTAL REMUNERACIONES",{"$f":"IF(+D72+D73<0,0,D72+D73)","v":0}]
[]
[null,null,"DEDUCCIONES GENERALES",null,null,null,null,"Topes máximos legales"]
[null,null,"Aportes a fondos de jubilaciones, retiros, pensiones o subsidios que se destinen a cajas nacionales, provinciales o municipales",0,null,{"$f":"validaciones(D77,H77,0)&IF(D77>$D$74,\" El importe no puede ser mayor a la remuneración total\",\"\")","v":""}]
[null,null,"Aportes a fondos de jubilaciones, retiros, pensiones o subsidios que se destinen a cajas nacionales, provinciales o municipales por otros empleos",0,null,{"$f":"validaciones(D78,H78,0)&IF(D78>$D$74,\" El importe no puede ser mayor a la remuneración total\",\"\")","v":""}]
[null,null,"Aportes a obra sociales",0,null,{"$f":"validaciones(D79,H79,0)&IF(D79>$D$74,\" El importe no puede ser mayor a la remuneración total\",\"\")","v":""}]
[null,null,"Aportes a obra sociales por otros empleos",0,null,{"$f":"validaciones(D80,H80,0)&IF(D80>$D$74,\" El importe no puede ser mayor a la remuneración total\",\"\")","v":""}]
[null,null,"Cuota sindical",0,null,{"$f":"validaciones(D81,H81,0)&IF(D81>$D$74,\" El importe no puede ser mayor a la remuneración total\",\"\")","v":""}]
[null,null,"Cuota sindical por otros empleos",0,null,{"$f":"validaciones(D82,H82,0)&IF(D82>$D$74,\" El importe no puede ser mayor a la remuneración total\",\"\")","v":""}]
[null,null,"Cuotas médico asistenciales",0,null,{"$f":"validaciones(D83,H83,0)","v":""},null,{"$f":"(D72-SUM(D77:D82,D84:D89,D91,D93:D94,D95:D103))*0.05","v":0}]
[null,null,"Primas de seguro para el caso de muerte",0,null,{"$f":"validaciones(D84,H84,0)&IF(AND(Datos!$C$11=\"Informativa\",D84<>0),\"En la DDJJ informativa, este campo debe consignarse en cero (0)\",\"\")","v":""},null,{"$f":"+Tablas!B2","v":24000}]
[null,null,"Primas por riesgo de muerte y de ahorro de seguros mixtos, excepto para los casos de seguros de retiro privados administrados por entidades sujetas al control de la Superintendencia de Seguros de la Nación",0,null,{"$f":"validaciones(D85,H85,0)&IF(AND(Datos!$C$11=\"Informativa\",D85<>0),\"En la DDJJ informativa, este campo debe consignarse en cero (0)\",\"\")","v":""},null,{"$f":"+H84","v":24000}]
[null,null,"Aportes a planes de seguro de retiro privados administrados por entidades sujetas al control de la Superintendencia de Seguros de la Nación",0,null,{"$f":"validaciones(D86,H86,0)&IF(AND(Datos!$C$11=\"Informativa\",D86<>0),\"En la DDJJ informativa, este campo debe consignarse en cero (0)\",\"\")","v":""},null,{"$f":"+H85","v":24000}]
[null,null,"Cuotapartes de fondos comunes de inversión constituidos con fines de retiro",0,null,{"$f":"validaciones(D87,H87,0)&IF(D87<>0,\"Deberá consignarse en cero (0), hasta que la Autoridad de Aplicación – CNV – autorice a las Entidades a funcionar e implemente el régimen.\",\"\")","v":""},null,0]
[null,null,"Gastos de sepelio",0,null,{"$f":"validaciones(D88,H88,0)","v":""},null,{"$f":"+Tablas!B6","v":996.23}]
[null,null,"Gastos amortización e intereses rodado para corredores y viajantes de comercio",0,null,{"$f":"validaciones(D89,H89,0)&IF(D89>$D$74,\" El importe no puede ser mayor a la remuneración total\",\"\")","v":""}]
[null,null,"Donaciones a fiscos nacional, provinciales y municipales, y a instituciones comprendidas en el artículo 26, incisos e) y f) de la ley",0,null,{"$f":"validaciones(D90,H90,0)","v":""},null,{"$f":"(D72-SUM(D77:D82,D84:D89,D91,D93:D94,D95:D103))*0.05","v":0}]
[null,null,"Descuentos obligatorios establecidos por ley nacional, provincial o municipal",0,null,{"$f":"validaciones(D91,H91,0)&IF(D91>$D$74,\" El importe no puede ser mayor a la remuneración total\",\"\")","v":""}]
[null,null,"Honorarios por servicios de asistencia sanitaria, médica y paramédica",0,null,{"$f":"validaciones(D92,H92,0)&IF(AND(Datos!$C$11=\"Informativa\",D92<>0),\"En la DDJJ informativa, este campo debe consignarse en cero (0)\",\"\")","v":""},null,{"$f":"(D72-SUM(D77:D82,D84:D89,D91,D93:D94,D95:D103))*0.05","v":0}]
[null,null,"Intereses de créditos hipotecarios",0,null,{"$f":"validaciones(D93,H93,0)","v":""},null,{"$f":"+Tablas!B3","v":20000}]
[null,null,"Aportes al capital social o al fondo de riesgo de socios protectores de sociedades de garantía recíproca",0,null,{"$f":"validaciones(D94,H94,0)","v":""}]
[null,null,"Alquileres de inmuebles destinados a casa habitación",0,null,{"$f":"validaciones(D95,H95,0)","v":""},null,{"$f":"IF(Datos!C11=\"Final\",ROUND(Tablas!B4/12*12,2),ROUND(Tablas!B4/12*MONTH(Datos!C13),2))","v":167678.39999999999}]
[null,null,"Empleados del servicio doméstico",0,null,{"$f":"validaciones(D96,H96,0)","v":""},null,{"$f":"Tablas!B4","v":167678.39999999999}]
[null,null,"Gastos de movilidad, viáticos y otras compensaciones análogas abonados por el empleador",0,null,{"$f":"validaciones(D97,H97,0)","v":""},null,{"$f":"IF(D13=\"Desarrolla la actividad\",Tablas!B4,Tablas!B4*0.4)","v":67071.360000000001}]
[null,null,"Gastos por adquisición de indumentaria y/o equipamiento de trabajo",0,null,{"$f":"validaciones(D98,H98,0)","v":""}]
[null,null,"Otras deducciones - aportes a Cajas Complementarias de Previsión, Fondos Compensadores de Previsión o similares",0,null,{"$f":"validaciones(D99,H99,0)","v":""}]
[null,null,"Otras deducciones - Aportes para jubilaciones, retiros y subsidios ANSES",0,null,{"$f":"validaciones(D100,H100,0)","v":""}]
[null,null,"Otras deducciones - Cajas Provinciales o Municipales o de Previsión para Profesionales",0,null,{"$f":"validaciones(D101,H101,0)","v":""}]
[null,null,"Otras deducciones - Actores - Retribución pagada a los representantes - RG 2442/08",0,null,{"$f":"validaciones(D102,H102,0)","v":""}]
[null,null,"Otras deducciones - Fondos compensadores de previsión",0,null,{"$f":"validaciones(D103,H103,0)","v":""}]
[null,null,"Otras deducciones",{"$f":"+SUM(D99:E103)","v":0}]
[null,null,"TOTAL DEDUCCIONES GENERALES",{"$f":"SUM(D77:E103)","v":0},null,null,null,null,null,null,{"$f":"+D72-D105","v":0}]
[]
[null,null,"DEDUCCIONES PERSONALES",null,null,null,null,"Topes máximos legales"]
[null,null,"Ganancia no imponible",125758.8,null,{"$f":"validaciones(D108,H108,0)","v":""},null,{"$f":"deducciones(1,Datos!C11,MONTH(Datos!$C$13),$D$12)","v":167678.39999999999},null,null,{"$f":"IF(K105-K109<=0,0,IF(K105-K109<=H108,K105-K109,H108))","v":0}]
[null,null,"Deducción especial",603642.26,null,{"$f":"validaciones(D109,H109,0)","v":""},null,{"$f":"deducciones(2,Datos!$C$11,MONTH(Datos!$C$13),$D$12)","v":804856.34},null,null,{"$f":"IF(K105<=H109,K105,H109)","v":0}]
[null,null,"Deducción Especial Incrementada Primera parte del penúltimo párrafo del inciso c) del artículo 30 de la ley del gravamen",0]
[null,null,"Deducción Especial Incrementada Segunda parte del penúltimo párrafo del inciso c) del artículo 30 de la ley del gravamen",0]
[null,null,"Deducción específica",0,null,{"$f":"validaciones(D112,H112,0)","v":""},null,0]
[null,null,"Cargas de familia"]
[null,null,"Cónyuge",0,null,{"$f":"validaciones(D114,H114,0)","v":""},null,{"$f":"cargas_de_familia(4,Datos!$C$11,MONTH(Datos!$C$13),$D$12)","v":156320.63},null,null,{"$f":"IF(K105-K108-K109>=D114,D114,K105-K108-K109)","v":0}]
[null,null,"Cantidad de hijos e hijastros",0,null,{"$f":"validaciones(D115,H115,0)","v":""},null,99]
[null,null,"Deducción total hijos e hijastros",0,null,null,null,{"$f":"cargas_de_familia(3,Datos!$C$11,MONTH(Datos!$C$13),$D$12)*D115","v":0},null,null,{"$f":"IF(K105-K108-K109-K114>=D116,D116,K105-K108-K109-K114)","v":0}]
[null,null,"Cantidad de hijos e hijastros incapacitados para el trabajo",0,null,{"$f":"validaciones(D117,H117,0)","v":""},null,99]
[null,null,"Hijos / Hijastros incapacitados para el trabajo",0,null,null,null,{"$f":"cargas_de_familia(5,Datos!$C$11,MONTH(Datos!$C$13),$D$12)","v":157666.16}]
[null,null,"Total de cargas de familia",{"$f":"+D114+D116+D118","v":0},null,null,null,0]
[null,null,"TOTAL DEDUCCIONES PERSONALES",{"$f":"SUM(D108:D112,D119)","v":729401.06}]
[]
[null,null,"DETERMINACIÓN DEL IMPUESTO"]
[null,null,"REMUNERACIÓN NETA SUJETA A IMPUESTO -antes de la deducción art. 46 L. 27541-",0]
[null,null,"Deducción inciso a) primer párrafo artículo 30 de la ley (cfr. art. 46 L. 27541)",0,null,null,null,0,null,null,{"$f":"IF(D123-K125<=0,0,IF(D123-K125<=H124,D123-K125,H124))","v":0}]
[null,null,"Deducción inciso c) primer párrafo artículo 30 de la ley (cfr. art. 46 L. 27541)",0,null,null,null,0,null,null,{"$f":"IF(D123<=H125,D123,H125)","v":0}]
[null,null,"REMUNERACIÓN SUJETA A IMPUESTO",{"$f":"IF(+D72-D105-D120<0,0,+D72-D105-D120)","v":0}]
[null,null,"Alícuota aplicable artículo 94 ley de impuesto a las ganancias",{"$f":"IF(OR(Datos!C11=\"Final\",Datos!C11=\"Anual\"),impuestoAlicuota(D126,D25*(1-G25)+D51*(1-G51),12),impuestoAlicuota(D126,D25*(1-G25)+D51*(1-G51),MONTH(D11)))","v":0}]
[null,null,"Alícuota aplicable sin incluir horas extras",{"$f":"IF(OR(Datos!C11=\"Final\",Datos!C11=\"Anual\"),impuestoAlicuota(D126,0,12),impuestoAlicuota(D126,0,MONTH(D11)))","v":0}]
[null,null,"IMPUESTO DETERMINADO",{"$f":"IF(D126<0,0,IF(OR(Datos!C11=\"Final\",Datos!C11=\"Anual\"),impuestoDeterminado(D126,D25*(1-G25)+D51*(1-G51),12),impuestoDeterminado(D126,D25*(1-G25)+D51*(1-G51),MONTH(D11))))","v":0}]
[null,null,"Impuesto retenido",0]
[null,null,"Pagos a cuenta - Impuesto sobre créditos y débitos",0,null,{"$f":"IF(AND(Datos!$C$11=\"Informativa\",D131<>0),\"En la DDJJ informativa, este campo debe consignarse en cero (0)\",\"\")","v":""}]
[null,null,"Pagos a cuenta - Percepciones / Retenciones aduaneras",0,null,{"$f":"IF(AND(Datos!$C$11=\"Informativa\",D132<>0),\"En la DDJJ informativa, este campo debe consignarse en cero (0)\",\"\")","v":""}]
[null,null,"Pagos a cuenta - RG (AFIP) 3819/2015 - Cancelaciones en efectivo",0,null,{"$f":"IF(AND(Datos!$C$11=\"Informativa\",D133<>0),\"En la DDJJ informativa, este campo debe consignarse en cero (0)\",\"\")","v":""}]
[null,null,"Pagos a cuenta - Bono ley 27.424",0,null,{"$f":"IF(AND(Datos!$C$11=\"Informativa\",D134<>0),\"En la DDJJ informativa, este campo debe consignarse en cero (0)\",\"\")","v":""}]
[null,null,"Pagos a cuenta - RG 4815 [LEY 27.541 Art. 35 inciso a)] ",0,null,{"$f":"IF(AND(Datos!$C$11=\"Informativa\",D135<>0),\"En la DDJJ informativa, este campo debe consignarse en cero (0)\",\"\")","v":""}]
[null,null,"Pagos a cuenta - RG 4815 [LEY 27.541 Art. 35 inciso b)] ",0,null,{"$f":"IF(AND(Datos!$C$11=\"Informativa\",D136<>0),\"En la DDJJ informativa, este campo debe consignarse en cero (0)\",\"\")","v":""}]
[null,null,"Pagos a cuenta - RG 4815 [LEY 27.541 Art. 35 inciso c)] ",0,null,{"$f":"IF(AND(Datos!$C$11=\"Informativa\",D137<>0),\"En la DDJJ informativa, este campo debe consignarse en cero (0)\",\"\")","v":""}]
[null,null,"Pagos a cuenta - RG 4815 [LEY 27.541 Art. 35 inciso d)] ",0,null,{"$f":"IF(AND(Datos!$C$11=\"Informativa\",D138<>0),\"En la DDJJ informativa, este campo debe consignarse en cero (0)\",\"\")","v":""}]
[null,null,"Pagos a cuenta - RG 4815 [LEY 27.541 Art. 35 inciso e)] ",0,null,{"$f":"IF(AND(Datos!$C$11=\"Informativa\",D139<>0),\"En la DDJJ informativa, este campo debe consignarse en cero (0)\",\"\")","v":""}]
[null,null,"Pagos a cuenta - Impuesto sobre créditos y débitos - sobre movimientos de fondos propios o de terceros",0,null,{"$f":"IF(AND(Datos!$C$11=\"Informativa\",D140<>0),\"En la DDJJ informativa, este campo debe consignarse en cero (0)\",\"\")","v":""}]
[null,null,"Pagos a cuenta - Resolución General (AFIP) 3819/2015 - Cancelaciones en Efectivo -Servicios de transporte terrestre, aéreo y por vía acuática de pasajeros con destino fuera del país",0,null,{"$f":"IF(AND(Datos!$C$11=\"Informativa\",D141<>0),\"En la DDJJ informativa, este campo debe consignarse en cero (0)\",\"\")","v":""}]
[null,null,"Total pagos a cuenta",{"$f":"SUM(D131:D141)","v":0}]
[null,null,"SALDO A PAGAR",{"$f":"+ROUND(D129,2)-D130-D142","v":0}]

{"sheet":"Empleado31","index":35,"n_rows":143,"n_cols":11,"rows_kept":143,"cut":false,"hidden":false,"merged":[[10,7,11,9]]}
[]
[]
[null,null,"LIQUIDACIÓN DE IMPUESTO A LAS GANANCIAS - 4ta. CATEGORÍA RELACIÓN DE DEPENDENCIA"]
[]
[]
[null,null,"Empleado: Nombre y apellido "]
[null,null,"CUIL del empleado",null,null,{"$f":"cuitValidar(D7)","v":"CUIT/CUIL vacío"}]
[null,null,{"$f":"\"Agente de Retención: \"","v":"Agente de Retención: "},{"$f":"Datos!C7&\" - \"&Datos!C5","v":"33711238269 - OPERACIONES AGROPORTUARIAS S.A."}]
[null,null,{"$f":"\"Período Fiscal: \"","v":"Período Fiscal: "},{"$f":"YEAR(Datos!C13)","v":2021}]
[null,null,"Período trabajado (desde):","2021-01-01"]
[null,null,"Período trabajado (hasta):","2021-09-25",null,null,null,{"$f":"IF(MONTH(D11)>MONTH(Datos!C13),\"El período trabajado no puede ser mayor al período que se informa (mes \"&MONTH(Datos!C13)&\")\",\"\")","v":""}]
[null,null,"Zona geográfica:","Todo el país (excepto zona patagónica)"]
[null,null,"Transporte a larga distancia","No desarrolla la actividad"]
[null,null,"Beneficio promocional 27424?","No"]
[null,null,"Beneficio de la ley 27549?","No"]
[null,null,"El trabajador labora bajo el régimen de teletrabajo (Ley 27555)?","No"]
[null,null,"El trabajador es personal militar en actividad?","No"]
[]
[null,null,"REMUNERACIONES"]
[null,null,"Abonadas por el agente de retención:"]
[null,null,"Remuneración bruta gravada",0]
[null,null,"Retribuciones no habituales gravadas",0]
[null,null,"SAC primera cuota gravado",0]
[null,null,"SAC segunda cuota gravado",0]
[null,null,"Horas extras remuneración gravada",0,null,null,0,"% de retenciones"]
[null,null,"Movilidad y viáticos remuneración gravada",0]
[null,null,"Material didáctico personal docente remuneración gravada",0]
[null,null,"Remuneración no alcanzada o exenta (sin horas extras)",0]
[null,null,"Remuneración exenta ley 27549",0,null,{"$f":"IF(AND($D$15=\"No\",D29<>0),\"Para que sea procedente el beneficio, modifique el valor en la celda D15\",\"\")","v":""}]
[null,null,"Retribuciones no habituales exentas o no alcanzadas",0]
[null,null,"Horas extras remuneración exenta",0]
[null,null,"Movilidad y viáticos remuneración exenta",0]
[null,null,"Material didáctico personal docente remuneración exenta",0]
[null,null,"Bonos de productividad gravados",0]
[null,null,"Fallos de caja gravados",0]
[null,null,"Conceptos de similar naturaleza gravados",0]
[null,null,"Bonos de productividad exentos",0]
[null,null,"Fallos de caja exentos",0]
[null,null,"Conceptos de similar naturaleza exentos",0]
[null,null,"Compensación de gastos de teletrabajo exentos",0]
[null,null,"Personal militar - suplementos art. 57 ley 19.101 - exentos",0]
[null,null,"SAC primera cuota - No alcanzado o exento",0]
[null,null,"SAC segunda cuota - No alcanzado o exento",0]
[null,null,"Ajustes períodos anteriores - Remuneración gravada",0]
[null,null,"Ajustes períodos anteriores - Remuneración exenta / no alcanzada",0]
[null,null,"Otros empleos:"]
[null,null,"Remuneración bruta gravada ",0]
[null,null,"Retribuciones no habituales gravadas ",0]
[null,null,"SAC primera cuota gravado ",0]
[null,null,"SAC segunda cuota gravado ",0]
[null,null,"Horas extras remuneración gravada ",0,null,null,0,"% de retenciones"]
[null,null,"Movilidad y viáticos remuneración gravada ",0]
[null,null,"Material didáctico personal docente remuneración gravada ",0]
[null,null,"Remuneración no alcanzada o exenta ",0]
[null,null,"Remuneración exenta ley 27549 ",0,null,{"$f":"IF(AND($D$15=\"No\",D55<>0),\"Para que sea procedente el beneficio, modifique el valor en la celda D15\",\"\")","v":""}]
[null,null,"Retribuciones no habituales exentas o no alcanzadas ",0]
[null,null,"Horas extras remuneración exenta o no alcanzada ",0]
[null,null,"Movilidad y viáticos remuneración exenta o no alcanzada ",0]
[null,null,"Material didáctico personal docente remuneración exenta o no alcanzada ",0]
[null,null,"Bonos de productividad gravados ",0]
[null,null,"Fallos de caja gravados ",0]
[null,null,"Conceptos de similar naturaleza gravados ",0]
[null,null,"Bonos de productividad exentos ",0]
[null,null,"Fallos de caja exentos ",0]
[null,null,"Conceptos de similar naturaleza exentos ",0]
[null,null,"Compensación de gastos teletrabajo - exentos ",0]
[null,null,"Personal militar - suplementos art. 57 Ley 19101 - exentos ",0]
[null,null,"SAC primera cuota - No alcanzado o exento ",0]
[null,null,"SAC segunda cuota - No alcanzado o exento ",0]
[null,null,"Ajustes períodos anteriores - Remuneración gravada ",0]
[null,null,"Ajustes períodos anteriores - Remuneración no alcanzada o exenta ",0]
[null,null,"TOTAL REMUNERACIÓN GRAVADA",{"$f":"SUM(D21:E27,D44,D47:D53,D70)","v":0}]
[null,null,"TOTAL REMUNERACIÓN NO ALCANZADA O EXENTA",{"$f":"SUM(D28:D43,D45,D54:D69,D71)","v":0}]
[null,null,"TOTAL REMUNERACIONES",{"$f":"IF(+D72+D73<0,0,D72+D73)","v":0}]
[]
[null,null,"DEDUCCIONES GENERALES",null,null,null,null,"Topes máximos legales"]
[null,null,"Aportes a fondos de jubilaciones, retiros, pensiones o subsidios que se destinen a cajas nacionales, provinciales o municipales",0,null,{"$f":"validaciones(D77,H77,0)&IF(D77>$D$74,\" El importe no puede ser mayor a la remuneración total\",\"\")","v":""}]
[null,null,"Aportes a fondos de jubilaciones, retiros, pensiones o subsidios que se destinen a cajas nacionales, provinciales o municipales por otros empleos",0,null,{"$f":"validaciones(D78,H78,0)&IF(D78>$D$74,\" El importe no puede ser mayor a la remuneración total\",\"\")","v":""}]
[null,null,"Aportes a obra sociales",0,null,{"$f":"validaciones(D79,H79,0)&IF(D79>$D$74,\" El importe no puede ser mayor a la remuneración total\",\"\")","v":""}]
[null,null,"Aportes a obra sociales por otros empleos",0,null,{"$f":"validaciones(D80,H80,0)&IF(D80>$D$74,\" El importe no puede ser mayor a la remuneración total\",\"\")","v":""}]
[null,null,"Cuota sindical",0,null,{"$f":"validaciones(D81,H81,0)&IF(D81>$D$74,\" El importe no puede ser mayor a la remuneración total\",\"\")","v":""}]
[null,null,"Cuota sindical por otros empleos",0,null,{"$f":"validaciones(D82,H82,0)&IF(D82>$D$74,\" El importe no puede ser mayor a la remuneración total\",\"\")","v":""}]
[null,null,"Cuotas médico asistenciales",0,null,{"$f":"validaciones(D83,H83,0)","v":""},null,{"$f":"(D72-SUM(D77:D82,D84:D89,D91,D93:D94,D95:D103))*0.05","v":0}]
[null,null,"Primas de seguro para el caso de muerte",0,null,{"$f":"validaciones(D84,H84,0)&IF(AND(Datos!$C$11=\"Informativa\",D84<>0),\"En la DDJJ informativa, este campo debe consignarse en cero (0)\",\"\")","v":""},null,{"$f":"+Tablas!B2","v":24000}]
[null,null,"Primas por riesgo de muerte y de ahorro de seguros mixtos, excepto para los casos de seguros de retiro privados administrados por entidades sujetas al control de la Superintendencia de Seguros de la Nación",0,null,{"$f":"validaciones(D85,H85,0)&IF(AND(Datos!$C$11=\"Informativa\",D85<>0),\"En la DDJJ informativa, este campo debe consignarse en cero (0)\",\"\")","v":""},null,{"$f":"+H84","v":24000}]
[null,null,"Aportes a planes de seguro de retiro privados administrados por entidades sujetas al control de la Superintendencia de Seguros de la Nación",0,null,{"$f":"validaciones(D86,H86,0)&IF(AND(Datos!$C$11=\"Informativa\",D86<>0),\"En la DDJJ informativa, este campo debe consignarse en cero (0)\",\"\")","v":""},null,{"$f":"+H85","v":24000}]
[null,null,"Cuotapartes de fondos comunes de inversión constituidos con fines de retiro",0,null,{"$f":"validaciones(D87,H87,0)&IF(D87<>0,\"Deberá consignarse en cero (0), hasta que la Autoridad de Aplicación – CNV – autorice a las Entidades a funcionar e implemente el régimen.\",\"\")","v":""},null,0]
[null,null,"Gastos de sepelio",0,null,{"$f":"validaciones(D88,H88,0)","v":""},null,{"$f":"+Tablas!B6","v":996.23}]
[null,null,"Gastos amortización e intereses rodado para corredores y viajantes de comercio",0,null,{"$f":"validaciones(D89,H89,0)&IF(D89>$D$74,\" El importe no puede ser mayor a la remuneración total\",\"\")","v":""}]
[null,null,"Donaciones a fiscos nacional, provinciales y municipales, y a instituciones comprendidas en el artículo 26, incisos e) y f) de la ley",0,null,{"$f":"validaciones(D90,H90,0)","v":""},null,{"$f":"(D72-SUM(D77:D82,D84:D89,D91,D93:D94,D95:D103))*0.05","v":0}]
[null,null,"Descuentos obligatorios establecidos por ley nacional, provincial o municipal",0,null,{"$f":"validaciones(D91,H91,0)&IF(D91>$D$74,\" El importe no puede ser mayor a la remuneración total\",\"\")","v":""}]
[null,null,"Honorarios por servicios de asistencia sanitaria, médica y paramédica",0,null,{"$f":"validaciones(D92,H92,0)&IF(AND(Datos!$C$11=\"Informativa\",D92<>0),\"En la DDJJ informativa, este campo debe consignarse en cero (0)\",\"\")","v":""},null,{"$f":"(D72-SUM(D77:D82,D84:D89,D91,D93:D94,D95:D103))*0.05","v":0}]
[null,null,"Intereses de créditos hipotecarios",0,null,{"$f":"validaciones(D93,H93,0)","v":""},null,{"$f":"+Tablas!B3","v":20000}]
[null,null,"Aportes al capital social o al fondo de riesgo de socios protectores de sociedades de garantía recíproca",0,null,{"$f":"validaciones(D94,H94,0)","v":""}]
[null,null,"Alquileres de inmuebles destinados a casa habitación",0,null,{"$f":"validaciones(D95,H95,0)","v":""},null,{"$f":"IF(Datos!C11=\"Final\",ROUND(Tablas!B4/12*12,2),ROUND(Tablas!B4/12*MONTH(Datos!C13),2))","v":167678.39999999999}]
[null,null,"Empleados del servicio doméstico",0,null,{"$f":"validaciones(D96,H96,0)","v":""},null,{"$f":"Tablas!B4","v":167678.39999999999}]
[null,null,"Gastos de movilidad, viáticos y otras compensaciones análogas abonados por el empleador",0,null,{"$f":"validaciones(D97,H97,0)","v":""},null,{"$f":"IF(D13=\"Desarrolla la actividad\",Tablas!B4,Tablas!B4*0.4)","v":67071.360000000001}]
[null,null,"Gastos por adquisición de indumentaria y/o equipamiento de trabajo",0,null,{"$f":"validaciones(D98,H98,0)","v":""}]
[null,null,"Otras deducciones - aportes a Cajas Complementarias de Previsión, Fondos Compensadores de Previsión o similares",0,null,{"$f":"validaciones(D99,H99,0)","v":""}]
[null,null,"Otras deducciones - Aportes para jubilaciones, retiros y subsidios ANSES",0,null,{"$f":"validaciones(D100,H100,0)","v":""}]
[null,null,"Otras deducciones - Cajas Provinciales o Municipales o de Previsión para Profesionales",0,null,{"$f":"validaciones(D101,H101,0)","v":""}]
[null,null,"Otras deducciones - Actores - Retribución pagada a los representantes - RG 2442/08",0,null,{"$f":"validaciones(D102,H102,0)","v":""}]
[null,null,"Otras deducciones - Fondos compensadores de previsión",0,null,{"$f":"validaciones(D103,H103,0)","v":""}]
[null,null,"Otras deducciones",{"$f":"+SUM(D99:E103)","v":0}]
[null,null,"TOTAL DEDUCCIONES GENERALES",{"$f":"SUM(D77:E103)","v":0},null,null,null,null,null,null,{"$f":"+D72-D105","v":0}]
[]
[null,null,"DEDUCCIONES PERSONALES",null,null,null,null,"Topes máximos legales"]
[null,null,"Ganancia no imponible",125758.8,null,{"$f":"validaciones(D108,H108,0)","v":""},null,{"$f":"deducciones(1,Datos!C11,MONTH(Datos!$C$13),$D$12)","v":167678.39999999999},null,null,{"$f":"IF(K105-K109<=0,0,IF(K105-K109<=H108,K105-K109,H108))","v":0}]
[null,null,"Deducción especial",603642.26,null,{"$f":"validaciones(D109,H109,0)","v":""},null,{"$f":"deducciones(2,Datos!$C$11,MONTH(Datos!$C$13),$D$12)","v":804856.34},null,null,{"$f":"IF(K105<=H109,K105,H109)","v":0}]
[null,null,"Deducción Especial Incrementada Primera parte del penúltimo párrafo del inciso c) del artículo 30 de la ley del gravamen",0]
[null,null,"Deducción Especial Incrementada Segunda parte del penúltimo párrafo del inciso c) del artículo 30 de la ley del gravamen",0]
[null,null,"Deducción específica",0,null,{"$f":"validaciones(D112,H112,0)","v":""},null,0]
[null,null,"Cargas de familia"]
[null,null,"Cónyuge",0,null,{"$f":"validaciones(D114,H114,0)","v":""},null,{"$f":"cargas_de_familia(4,Datos!$C$11,MONTH(Datos!$C$13),$D$12)","v":156320.63},null,null,{"$f":"IF(K105-K108-K109>=D114,D114,K105-K108-K109)","v":0}]
[null,null,"Cantidad de hijos e hijastros",0,null,{"$f":"validaciones(D115,H115,0)","v":""},null,99]
[null,null,"Deducción total hijos e hijastros",0,null,null,null,{"$f":"cargas_de_familia(3,Datos!$C$11,MONTH(Datos!$C$13),$D$12)*D115","v":0},null,null,{"$f":"IF(K105-K108-K109-K114>=D116,D116,K105-K108-K109-K114)","v":0}]
[null,null,"Cantidad de hijos e hijastros incapacitados para el trabajo",0,null,{"$f":"validaciones(D117,H117,0)","v":""},null,99]
[null,null,"Hijos / Hijastros incapacitados para el trabajo",0,null,null,null,{"$f":"cargas_de_familia(5,Datos!$C$11,MONTH(Datos!$C$13),$D$12)","v":157666.16}]
[null,null,"Total de cargas de familia",{"$f":"+D114+D116+D118","v":0},null,null,null,0]
[null,null,"TOTAL DEDUCCIONES PERSONALES",{"$f":"SUM(D108:D112,D119)","v":729401.06}]
[]
[null,null,"DETERMINACIÓN DEL IMPUESTO"]
[null,null,"REMUNERACIÓN NETA SUJETA A IMPUESTO -antes de la deducción art. 46 L. 27541-",0]
[null,null,"Deducción inciso a) primer párrafo artículo 30 de la ley (cfr. art. 46 L. 27541)",0,null,null,null,0,null,null,{"$f":"IF(D123-K125<=0,0,IF(D123-K125<=H124,D123-K125,H124))","v":0}]
[null,null,"Deducción inciso c) primer párrafo artículo 30 de la ley (cfr. art. 46 L. 27541)",0,null,null,null,0,null,null,{"$f":"IF(D123<=H125,D123,H125)","v":0}]
[null,null,"REMUNERACIÓN SUJETA A IMPUESTO",{"$f":"IF(+D72-D105-D120<0,0,+D72-D105-D120)","v":0}]
[null,null,"Alícuota aplicable artículo 94 ley de impuesto a las ganancias",{"$f":"IF(OR(Datos!C11=\"Final\",Datos!C11=\"Anual\"),impuestoAlicuota(D126,D25*(1-G25)+D51*(1-G51),12),impuestoAlicuota(D126,D25*(1-G25)+D51*(1-G51),MONTH(D11)))","v":0}]
[null,null,"Alícuota aplicable sin incluir horas extras",{"$f":"IF(OR(Datos!C11=\"Final\",Datos!C11=\"Anual\"),impuestoAlicuota(D126,0,12),impuestoAlicuota(D126,0,MONTH(D11)))","v":0}]
[null,null,"IMPUESTO DETERMINADO",{"$f":"IF(D126<0,0,IF(OR(Datos!C11=\"Final\",Datos!C11=\"Anual\"),impuestoDeterminado(D126,D25*(1-G25)+D51*(1-G51),12),impuestoDeterminado(D126,D25*(1-G25)+D51*(1-G51),MONTH(D11))))","v":0}]
[null,null,"Impuesto retenido",0]
[null,null,"Pagos a cuenta - Impuesto sobre créditos y débitos",0,null,{"$f":"IF(AND(Datos!$C$11=\"Informativa\",D131<>0),\"En la DDJJ informativa, este campo debe consignarse en cero (0)\",\"\")","v":""}]
[null,null,"Pagos a cuenta - Percepciones / Retenciones aduaneras",0,null,{"$f":"IF(AND(Datos!$C$11=\"Informativa\",D132<>0),\"En la DDJJ informativa, este campo debe consignarse en cero (0)\",\"\")","v":""}]
[null,null,"Pagos a cuenta - RG (AFIP) 3819/2015 - Cancelaciones en efectivo",0,null,{"$f":"IF(AND(Datos!$C$11=\"Informativa\",D133<>0),\"En la DDJJ informativa, este campo debe consignarse en cero (0)\",\"\")","v":""}]
[null,null,"Pagos a cuenta - Bono ley 27.424",0,null,{"$f":"IF(AND(Datos!$C$11=\"Informativa\",D134<>0),\"En la DDJJ informativa, este campo debe consignarse en cero (0)\",\"\")","v":""}]
[null,null,"Pagos a cuenta - RG 4815 [LEY 27.541 Art. 35 inciso a)] ",0,null,{"$f":"IF(AND(Datos!$C$11=\"Informativa\",D135<>0),\"En la DDJJ informativa, este campo debe consignarse en cero (0)\",\"\")","v":""}]
[null,null,"Pagos a cuenta - RG 4815 [LEY 27.541 Art. 35 inciso b)] ",0,null,{"$f":"IF(AND(Datos!$C$11=\"Informativa\",D136<>0),\"En la DDJJ informativa, este campo debe consignarse en cero (0)\",\"\")","v":""}]
[null,null,"Pagos a cuenta - RG 4815 [LEY 27.541 Art. 35 inciso c)] ",0,null,{"$f":"IF(AND(Datos!$C$11=\"Informativa\",D137<>0),\"En la DDJJ informativa, este campo debe consignarse en cero (0)\",\"\")","v":""}]
[null,null,"Pagos a cuenta - RG 4815 [LEY 27.541 Art. 35 inciso d)] ",0,null,{"$f":"IF(AND(Datos!$C$11=\"Informativa\",D138<>0),\"En la DDJJ informativa, este campo debe consignarse en cero (0)\",\"\")","v":""}]
[null,null,"Pagos a cuenta - RG 4815 [LEY 27.541 Art. 35 inciso e)] ",0,null,{"$f":"IF(AND(Datos!$C$11=\"Informativa\",D139<>0),\"En la DDJJ informativa, este campo debe consignarse en cero (0)\",\"\")","v":""}]
[null,null,"Pagos a cuenta - Impuesto sobre créditos y débitos - sobre movimientos de fondos propios o de terceros",0,null,{"$f":"IF(AND(Datos!$C$11=\"Informativa\",D140<>0),\"En la DDJJ informativa, este campo debe consignarse en cero (0)\",\"\")","v":""}]
[null,null,"Pagos a cuenta - Resolución General (AFIP) 3819/2015 - Cancelaciones en Efectivo -Servicios de transporte terrestre, aéreo y por vía acuática de pasajeros con destino fuera del país",0,null,{"$f":"IF(AND(Datos!$C$11=\"Informativa\",D141<>0),\"En la DDJJ informativa, este campo debe consignarse en cero (0)\",\"\")","v":""}]
[null,null,"Total pagos a cuenta",{"$f":"SUM(D131:D141)","v":0}]
[null,null,"SALDO A PAGAR",{"$f":"+ROUND(D129,2)-D130-D142","v":0}]

{"sheet":"Empleado32","index":36,"n_rows":143,"n_cols":11,"rows_kept":143,"cut":false,"hidden":false,"merged":[[10,7,11,9]]}
[]
[]
[null,null,"LIQUIDACIÓN DE IMPUESTO A LAS GANANCIAS - 4ta. CATEGORÍA RELACIÓN DE DEPENDENCIA"]
[]
[]
[null,null,"Empleado: Nombre y apellido "]
[null,null,"CUIL del empleado",null,null,{"$f":"cuitValidar(D7)","v":"CUIT/CUIL vacío"}]
[null,null,{"$f":"\"Agente de Retención: \"","v":"Agente de Retención: "},{"$f":"Datos!C7&\" - \"&Datos!C5","v":"33711238269 - OPERACIONES AGROPORTUARIAS S.A."}]
[null,null,{"$f":"\"Período Fiscal: \"","v":"Período Fiscal: "},{"$f":"YEAR(Datos!C13)","v":2021}]
[null,null,"Período trabajado (desde):","2021-01-01"]
[null,null,"Período trabajado (hasta):","2021-09-25",null,null,null,{"$f":"IF(MONTH(D11)>MONTH(Datos!C13),\"El período trabajado no puede ser mayor al período que se informa (mes \"&MONTH(Datos!C13)&\")\",\"\")","v":""}]
[null,null,"Zona geográfica:","Todo el país (excepto zona patagónica)"]
[null,null,"Transporte a larga distancia","No desarrolla la actividad"]
[null,null,"Beneficio promocional 27424?","No"]
[null,null,"Beneficio de la ley 27549?","No"]
[null,null,"El trabajador labora bajo el régimen de teletrabajo (Ley 27555)?","No"]
[null,null,"El trabajador es personal militar en actividad?","No"]
[]
[null,null,"REMUNERACIONES"]
[null,null,"Abonadas por el agente de retención:"]
[null,null,"Remuneración bruta gravada",0]
[null,null,"Retribuciones no habituales gravadas",0]
[null,null,"SAC primera cuota gravado",0]
[null,null,"SAC segunda cuota gravado",0]
[null,null,"Horas extras remuneración gravada",0,null,null,0,"% de retenciones"]
[null,null,"Movilidad y viáticos remuneración gravada",0]
[null,null,"Material didáctico personal docente remuneración gravada",0]
[null,null,"Remuneración no alcanzada o exenta (sin horas extras)",0]
[null,null,"Remuneración exenta ley 27549",0,null,{"$f":"IF(AND($D$15=\"No\",D29<>0),\"Para que sea procedente el beneficio, modifique el valor en la celda D15\",\"\")","v":""}]
[null,null,"Retribuciones no habituales exentas o no alcanzadas",0]
[null,null,"Horas extras remuneración exenta",0]
[null,null,"Movilidad y viáticos remuneración exenta",0]
[null,null,"Material didáctico personal docente remuneración exenta",0]
[null,null,"Bonos de productividad gravados",0]
[null,null,"Fallos de caja gravados",0]
[null,null,"Conceptos de similar naturaleza gravados",0]
[null,null,"Bonos de productividad exentos",0]
[null,null,"Fallos de caja exentos",0]
[null,null,"Conceptos de similar naturaleza exentos",0]
[null,null,"Compensación de gastos de teletrabajo exentos",0]
[null,null,"Personal militar - suplementos art. 57 ley 19.101 - exentos",0]
[null,null,"SAC primera cuota - No alcanzado o exento",0]
[null,null,"SAC segunda cuota - No alcanzado o exento",0]
[null,null,"Ajustes períodos anteriores - Remuneración gravada",0]
[null,null,"Ajustes períodos anteriores - Remuneración exenta / no alcanzada",0]
[null,null,"Otros empleos:"]
[null,null,"Remuneración bruta gravada ",0]
[null,null,"Retribuciones no habituales gravadas ",0]
[null,null,"SAC primera cuota gravado ",0]
[null,null,"SAC segunda cuota gravado ",0]
[null,null,"Horas extras remuneración gravada ",0,null,null,0,"% de retenciones"]
[null,null,"Movilidad y viáticos remuneración gravada ",0]
[null,null,"Material didáctico personal docente remuneración gravada ",0]
[null,null,"Remuneración no alcanzada o exenta ",0]
[null,null,"Remuneración exenta ley 27549 ",0,null,{"$f":"IF(AND($D$15=\"No\",D55<>0),\"Para que sea procedente el beneficio, modifique el valor en la celda D15\",\"\")","v":""}]
[null,null,"Retribuciones no habituales exentas o no alcanzadas ",0]
[null,null,"Horas extras remuneración exenta o no alcanzada ",0]
[null,null,"Movilidad y viáticos remuneración exenta o no alcanzada ",0]
[null,null,"Material didáctico personal docente remuneración exenta o no alcanzada ",0]
[null,null,"Bonos de productividad gravados ",0]
[null,null,"Fallos de caja gravados ",0]
[null,null,"Conceptos de similar naturaleza gravados ",0]
[null,null,"Bonos de productividad exentos ",0]
[null,null,"Fallos de caja exentos ",0]
[null,null,"Conceptos de similar naturaleza exentos ",0]
[null,null,"Compensación de gastos teletrabajo - exentos ",0]
[null,null,"Personal militar - suplementos art. 57 Ley 19101 - exentos ",0]
[null,null,"SAC primera cuota - No alcanzado o exento ",0]
[null,null,"SAC segunda cuota - No alcanzado o exento ",0]
[null,null,"Ajustes períodos anteriores - Remuneración gravada ",0]
[null,null,"Ajustes períodos anteriores - Remuneración no alcanzada o exenta ",0]
[null,null,"TOTAL REMUNERACIÓN GRAVADA",{"$f":"SUM(D21:E27,D44,D47:D53,D70)","v":0}]
[null,null,"TOTAL REMUNERACIÓN NO ALCANZADA O EXENTA",{"$f":"SUM(D28:D43,D45,D54:D69,D71)","v":0}]
[null,null,"TOTAL REMUNERACIONES",{"$f":"IF(+D72+D73<0,0,D72+D73)","v":0}]
[]
[null,null,"DEDUCCIONES GENERALES",null,null,null,null,"Topes máximos legales"]
[null,null,"Aportes a fondos de jubilaciones, retiros, pensiones o subsidios que se destinen a cajas nacionales, provinciales o municipales",0,null,{"$f":"validaciones(D77,H77,0)&IF(D77>$D$74,\" El importe no puede ser mayor a la remuneración total\",\"\")","v":""}]
[null,null,"Aportes a fondos de jubilaciones, retiros, pensiones o subsidios que se destinen a cajas nacionales, provinciales o municipales por otros empleos",0,null,{"$f":"validaciones(D78,H78,0)&IF(D78>$D$74,\" El importe no puede ser mayor a la remuneración total\",\"\")","v":""}]
[null,null,"Aportes a obra sociales",0,null,{"$f":"validaciones(D79,H79,0)&IF(D79>$D$74,\" El importe no puede ser mayor a la remuneración total\",\"\")","v":""}]
[null,null,"Aportes a obra sociales por otros empleos",0,null,{"$f":"validaciones(D80,H80,0)&IF(D80>$D$74,\" El importe no puede ser mayor a la remuneración total\",\"\")","v":""}]
[null,null,"Cuota sindical",0,null,{"$f":"validaciones(D81,H81,0)&IF(D81>$D$74,\" El importe no puede ser mayor a la remuneración total\",\"\")","v":""}]
[null,null,"Cuota sindical por otros empleos",0,null,{"$f":"validaciones(D82,H82,0)&IF(D82>$D$74,\" El importe no puede ser mayor a la remuneración total\",\"\")","v":""}]
[null,null,"Cuotas médico asistenciales",0,null,{"$f":"validaciones(D83,H83,0)","v":""},null,{"$f":"(D72-SUM(D77:D82,D84:D89,D91,D93:D94,D95:D103))*0.05","v":0}]
[null,null,"Primas de seguro para el caso de muerte",0,null,{"$f":"validaciones(D84,H84,0)&IF(AND(Datos!$C$11=\"Informativa\",D84<>0),\"En la DDJJ informativa, este campo debe consignarse en cero (0)\",\"\")","v":""},null,{"$f":"+Tablas!B2","v":24000}]
[null,null,"Primas por riesgo de muerte y de ahorro de seguros mixtos, excepto para los casos de seguros de retiro privados administrados por entidades sujetas al control de la Superintendencia de Seguros de la Nación",0,null,{"$f":"validaciones(D85,H85,0)&IF(AND(Datos!$C$11=\"Informativa\",D85<>0),\"En la DDJJ informativa, este campo debe consignarse en cero (0)\",\"\")","v":""},null,{"$f":"+H84","v":24000}]
[null,null,"Aportes a planes de seguro de retiro privados administrados por entidades sujetas al control de la Superintendencia de Seguros de la Nación",0,null,{"$f":"validaciones(D86,H86,0)&IF(AND(Datos!$C$11=\"Informativa\",D86<>0),\"En la DDJJ informativa, este campo debe consignarse en cero (0)\",\"\")","v":""},null,{"$f":"+H85","v":24000}]
[null,null,"Cuotapartes de fondos comunes de inversión constituidos con fines de retiro",0,null,{"$f":"validaciones(D87,H87,0)&IF(D87<>0,\"Deberá consignarse en cero (0), hasta que la Autoridad de Aplicación – CNV – autorice a las Entidades a funcionar e implemente el régimen.\",\"\")","v":""},null,0]
[null,null,"Gastos de sepelio",0,null,{"$f":"validaciones(D88,H88,0)","v":""},null,{"$f":"+Tablas!B6","v":996.23}]
[null,null,"Gastos amortización e intereses rodado para corredores y viajantes de comercio",0,null,{"$f":"validaciones(D89,H89,0)&IF(D89>$D$74,\" El importe no puede ser mayor a la remuneración total\",\"\")","v":""}]
[null,null,"Donaciones a fiscos nacional, provinciales y municipales, y a instituciones comprendidas en el artículo 26, incisos e) y f) de la ley",0,null,{"$f":"validaciones(D90,H90,0)","v":""},null,{"$f":"(D72-SUM(D77:D82,D84:D89,D91,D93:D94,D95:D103))*0.05","v":0}]
[null,null,"Descuentos obligatorios establecidos por ley nacional, provincial o municipal",0,null,{"$f":"validaciones(D91,H91,0)&IF(D91>$D$74,\" El importe no puede ser mayor a la remuneración total\",\"\")","v":""}]
[null,null,"Honorarios por servicios de asistencia sanitaria, médica y paramédica",0,null,{"$f":"validaciones(D92,H92,0)&IF(AND(Datos!$C$11=\"Informativa\",D92<>0),\"En la DDJJ informativa, este campo debe consignarse en cero (0)\",\"\")","v":""},null,{"$f":"(D72-SUM(D77:D82,D84:D89,D91,D93:D94,D95:D103))*0.05","v":0}]
[null,null,"Intereses de créditos hipotecarios",0,null,{"$f":"validaciones(D93,H93,0)","v":""},null,{"$f":"+Tablas!B3","v":20000}]
[null,null,"Aportes al capital social o al fondo de riesgo de socios protectores de sociedades de garantía recíproca",0,null,{"$f":"validaciones(D94,H94,0)","v":""}]
[null,null,"Alquileres de inmuebles destinados a casa habitación",0,null,{"$f":"validaciones(D95,H95,0)","v":""},null,{"$f":"IF(Datos!C11=\"Final\",ROUND(Tablas!B4/12*12,2),ROUND(Tablas!B4/12*MONTH(Datos!C13),2))","v":167678.39999999999}]
[null,null,"Empleados del servicio doméstico",0,null,{"$f":"validaciones(D96,H96,0)","v":""},null,{"$f":"Tablas!B4","v":167678.39999999999}]
[null,null,"Gastos de movilidad, viáticos y otras compensaciones análogas abonados por el empleador",0,null,{"$f":"validaciones(D97,H97,0)","v":""},null,{"$f":"IF(D13=\"Desarrolla la actividad\",Tablas!B4,Tablas!B4*0.4)","v":67071.360000000001}]
[null,null,"Gastos por adquisición de indumentaria y/o equipamiento de trabajo",0,null,{"$f":"validaciones(D98,H98,0)","v":""}]
[null,null,"Otras deducciones - aportes a Cajas Complementarias de Previsión, Fondos Compensadores de Previsión o similares",0,null,{"$f":"validaciones(D99,H99,0)","v":""}]
[null,null,"Otras deducciones - Aportes para jubilaciones, retiros y subsidios ANSES",0,null,{"$f":"validaciones(D100,H100,0)","v":""}]
[null,null,"Otras deducciones - Cajas Provinciales o Municipales o de Previsión para Profesionales",0,null,{"$f":"validaciones(D101,H101,0)","v":""}]
[null,null,"Otras deducciones - Actores - Retribución pagada a los representantes - RG 2442/08",0,null,{"$f":"validaciones(D102,H102,0)","v":""}]
[null,null,"Otras deducciones - Fondos compensadores de previsión",0,null,{"$f":"validaciones(D103,H103,0)","v":""}]
[null,null,"Otras deducciones",{"$f":"+SUM(D99:E103)","v":0}]
[null,null,"TOTAL DEDUCCIONES GENERALES",{"$f":"SUM(D77:E103)","v":0},null,null,null,null,null,null,{"$f":"+D72-D105","v":0}]
[]
[null,null,"DEDUCCIONES PERSONALES",null,null,null,null,"Topes máximos legales"]
[null,null,"Ganancia no imponible",125758.8,null,{"$f":"validaciones(D108,H108,0)","v":""},null,{"$f":"deducciones(1,Datos!C11,MONTH(Datos!$C$13),$D$12)","v":167678.39999999999},null,null,{"$f":"IF(K105-K109<=0,0,IF(K105-K109<=H108,K105-K109,H108))","v":0}]
[null,null,"Deducción especial",603642.26,null,{"$f":"validaciones(D109,H109,0)","v":""},null,{"$f":"deducciones(2,Datos!$C$11,MONTH(Datos!$C$13),$D$12)","v":804856.34},null,null,{"$f":"IF(K105<=H109,K105,H109)","v":0}]
[null,null,"Deducción Especial Incrementada Primera parte del penúltimo párrafo del inciso c) del artículo 30 de la ley del gravamen",0]
[null,null,"Deducción Especial Incrementada Segunda parte del penúltimo párrafo del inciso c) del artículo 30 de la ley del gravamen",0]
[null,null,"Deducción específica",0,null,{"$f":"validaciones(D112,H112,0)","v":""},null,0]
[null,null,"Cargas de familia"]
[null,null,"Cónyuge",0,null,{"$f":"validaciones(D114,H114,0)","v":""},null,{"$f":"cargas_de_familia(4,Datos!$C$11,MONTH(Datos!$C$13),$D$12)","v":156320.63},null,null,{"$f":"IF(K105-K108-K109>=D114,D114,K105-K108-K109)","v":0}]
[null,null,"Cantidad de hijos e hijastros",0,null,{"$f":"validaciones(D115,H115,0)","v":""},null,99]
[null,null,"Deducción total hijos e hijastros",0,null,null,null,{"$f":"cargas_de_familia(3,Datos!$C$11,MONTH(Datos!$C$13),$D$12)*D115","v":0},null,null,{"$f":"IF(K105-K108-K109-K114>=D116,D116,K105-K108-K109-K114)","v":0}]
[null,null,"Cantidad de hijos e hijastros incapacitados para el trabajo",0,null,{"$f":"validaciones(D117,H117,0)","v":""},null,99]
[null,null,"Hijos / Hijastros incapacitados para el trabajo",0,null,null,null,{"$f":"cargas_de_familia(5,Datos!$C$11,MONTH(Datos!$C$13),$D$12)","v":157666.16}]
[null,null,"Total de cargas de familia",{"$f":"+D114+D116+D118","v":0},null,null,null,0]
[null,null,"TOTAL DEDUCCIONES PERSONALES",{"$f":"SUM(D108:D112,D119)","v":729401.06}]
[]
[null,null,"DETERMINACIÓN DEL IMPUESTO"]
[null,null,"REMUNERACIÓN NETA SUJETA A IMPUESTO -antes de la deducción art. 46 L. 27541-",0]
[null,null,"Deducción inciso a) primer párrafo artículo 30 de la ley (cfr. art. 46 L. 27541)",0,null,null,null,0,null,null,{"$f":"IF(D123-K125<=0,0,IF(D123-K125<=H124,D123-K125,H124))","v":0}]
[null,null,"Deducción inciso c) primer párrafo artículo 30 de la ley (cfr. art. 46 L. 27541)",0,null,null,null,0,null,null,{"$f":"IF(D123<=H125,D123,H125)","v":0}]
[null,null,"REMUNERACIÓN SUJETA A IMPUESTO",{"$f":"IF(+D72-D105-D120<0,0,+D72-D105-D120)","v":0}]
[null,null,"Alícuota aplicable artículo 94 ley de impuesto a las ganancias",{"$f":"IF(OR(Datos!C11=\"Final\",Datos!C11=\"Anual\"),impuestoAlicuota(D126,D25*(1-G25)+D51*(1-G51),12),impuestoAlicuota(D126,D25*(1-G25)+D51*(1-G51),MONTH(D11)))","v":0}]
[null,null,"Alícuota aplicable sin incluir horas extras",{"$f":"IF(OR(Datos!C11=\"Final\",Datos!C11=\"Anual\"),impuestoAlicuota(D126,0,12),impuestoAlicuota(D126,0,MONTH(D11)))","v":0}]
[null,null,"IMPUESTO DETERMINADO",{"$f":"IF(D126<0,0,IF(OR(Datos!C11=\"Final\",Datos!C11=\"Anual\"),impuestoDeterminado(D126,D25*(1-G25)+D51*(1-G51),12),impuestoDeterminado(D126,D25*(1-G25)+D51*(1-G51),MONTH(D11))))","v":0}]
[null,null,"Impuesto retenido",0]
[null,null,"Pagos a cuenta - Impuesto sobre créditos y débitos",0,null,{"$f":"IF(AND(Datos!$C$11=\"Informativa\",D131<>0),\"En la DDJJ informativa, este campo debe consignarse en cero (0)\",\"\")","v":""}]
[null,null,"Pagos a cuenta - Percepciones / Retenciones aduaneras",0,null,{"$f":"IF(AND(Datos!$C$11=\"Informativa\",D132<>0),\"En la DDJJ informativa, este campo debe consignarse en cero (0)\",\"\")","v":""}]
[null,null,"Pagos a cuenta - RG (AFIP) 3819/2015 - Cancelaciones en efectivo",0,null,{"$f":"IF(AND(Datos!$C$11=\"Informativa\",D133<>0),\"En la DDJJ informativa, este campo debe consignarse en cero (0)\",\"\")","v":""}]
[null,null,"Pagos a cuenta - Bono ley 27.424",0,null,{"$f":"IF(AND(Datos!$C$11=\"Informativa\",D134<>0),\"En la DDJJ informativa, este campo debe consignarse en cero (0)\",\"\")","v":""}]
[null,null,"Pagos a cuenta - RG 4815 [LEY 27.541 Art. 35 inciso a)] ",0,null,{"$f":"IF(AND(Datos!$C$11=\"Informativa\",D135<>0),\"En la DDJJ informativa, este campo debe consignarse en cero (0)\",\"\")","v":""}]
[null,null,"Pagos a cuenta - RG 4815 [LEY 27.541 Art. 35 inciso b)] ",0,null,{"$f":"IF(AND(Datos!$C$11=\"Informativa\",D136<>0),\"En la DDJJ informativa, este campo debe consignarse en cero (0)\",\"\")","v":""}]
[null,null,"Pagos a cuenta - RG 4815 [LEY 27.541 Art. 35 inciso c)] ",0,null,{"$f":"IF(AND(Datos!$C$11=\"Informativa\",D137<>0),\"En la DDJJ informativa, este campo debe consignarse en cero (0)\",\"\")","v":""}]
[null,null,"Pagos a cuenta - RG 4815 [LEY 27.541 Art. 35 inciso d)] ",0,null,{"$f":"IF(AND(Datos!$C$11=\"Informativa\",D138<>0),\"En la DDJJ informativa, este campo debe consignarse en cero (0)\",\"\")","v":""}]
[null,null,"Pagos a cuenta - RG 4815 [LEY 27.541 Art. 35 inciso e)] ",0,null,{"$f":"IF(AND(Datos!$C$11=\"Informativa\",D139<>0),\"En la DDJJ informativa, este campo debe consignarse en cero (0)\",\"\")","v":""}]
[null,null,"Pagos a cuenta - Impuesto sobre créditos y débitos - sobre movimientos de fondos propios o de terceros",0,null,{"$f":"IF(AND(Datos!$C$11=\"Informativa\",D140<>0),\"En la DDJJ informativa, este campo debe consignarse en cero (0)\",\"\")","v":""}]
[null,null,"Pagos a cuenta - Resolución General (AFIP) 3819/2015 - Cancelaciones en Efectivo -Servicios de transporte terrestre, aéreo y por vía acuática de pasajeros con destino fuera del país",0,null,{"$f":"IF(AND(Datos!$C$11=\"Informativa\",D141<>0),\"En la DDJJ informativa, este campo debe consignarse en cero (0)\",\"\")","v":""}]
[null,null,"Total pagos a cuenta",{"$f":"SUM(D131:D141)","v":0}]
[null,null,"SALDO A PAGAR",{"$f":"+ROUND(D129,2)-D130-D142","v":0}]

{"sheet":"Empleado33","index":37,"n_rows":143,"n_cols":11,"rows_kept":143,"cut":false,"hidden":false,"merged":[[10,7,11,9]]}
[]
[]
[null,null,"LIQUIDACIÓN DE IMPUESTO A LAS GANANCIAS - 4ta. CATEGORÍA RELACIÓN DE DEPENDENCIA"]
[]
[]
[null,null,"Empleado: Nombre y apellido "]
[null,null,"CUIL del empleado",null,null,{"$f":"cuitValidar(D7)","v":"CUIT/CUIL vacío"}]
[null,null,{"$f":"\"Agente de Retención: \"","v":"Agente de Retención: "},{"$f":"Datos!C7&\" - \"&Datos!C5","v":"33711238269 - OPERACIONES AGROPORTUARIAS S.A."}]
[null,null,{"$f":"\"Período Fiscal: \"","v":"Período Fiscal: "},{"$f":"YEAR(Datos!C13)","v":2021}]
[null,null,"Período trabajado (desde):","2021-01-01"]
[null,null,"Período trabajado (hasta):","2021-09-25",null,null,null,{"$f":"IF(MONTH(D11)>MONTH(Datos!C13),\"El período trabajado no puede ser mayor al período que se informa (mes \"&MONTH(Datos!C13)&\")\",\"\")","v":""}]
[null,null,"Zona geográfica:","Todo el país (excepto zona patagónica)"]
[null,null,"Transporte a larga distancia","No desarrolla la actividad"]
[null,null,"Beneficio promocional 27424?","No"]
[null,null,"Beneficio de la ley 27549?","No"]
[null,null,"El trabajador labora bajo el régimen de teletrabajo (Ley 27555)?","No"]
[null,null,"El trabajador es personal militar en actividad?","No"]
[]
[null,null,"REMUNERACIONES"]
[null,null,"Abonadas por el agente de retención:"]
[null,null,"Remuneración bruta gravada",0]
[null,null,"Retribuciones no habituales gravadas",0]
[null,null,"SAC primera cuota gravado",0]
[null,null,"SAC segunda cuota gravado",0]
[null,null,"Horas extras remuneración gravada",0,null,null,0,"% de retenciones"]
[null,null,"Movilidad y viáticos remuneración gravada",0]
[null,null,"Material didáctico personal docente remuneración gravada",0]
[null,null,"Remuneración no alcanzada o exenta (sin horas extras)",0]
[null,null,"Remuneración exenta ley 27549",0,null,{"$f":"IF(AND($D$15=\"No\",D29<>0),\"Para que sea procedente el beneficio, modifique el valor en la celda D15\",\"\")","v":""}]
[null,null,"Retribuciones no habituales exentas o no alcanzadas",0]
[null,null,"Horas extras remuneración exenta",0]
[null,null,"Movilidad y viáticos remuneración exenta",0]
[null,null,"Material didáctico personal docente remuneración exenta",0]
[null,null,"Bonos de productividad gravados",0]
[null,null,"Fallos de caja gravados",0]
[null,null,"Conceptos de similar naturaleza gravados",0]
[null,null,"Bonos de productividad exentos",0]
[null,null,"Fallos de caja exentos",0]
[null,null,"Conceptos de similar naturaleza exentos",0]
[null,null,"Compensación de gastos de teletrabajo exentos",0]
[null,null,"Personal militar - suplementos art. 57 ley 19.101 - exentos",0]
[null,null,"SAC primera cuota - No alcanzado o exento",0]
[null,null,"SAC segunda cuota - No alcanzado o exento",0]
[null,null,"Ajustes períodos anteriores - Remuneración gravada",0]
[null,null,"Ajustes períodos anteriores - Remuneración exenta / no alcanzada",0]
[null,null,"Otros empleos:"]
[null,null,"Remuneración bruta gravada ",0]
[null,null,"Retribuciones no habituales gravadas ",0]
[null,null,"SAC primera cuota gravado ",0]
[null,null,"SAC segunda cuota gravado ",0]
[null,null,"Horas extras remuneración gravada ",0,null,null,0,"% de retenciones"]
[null,null,"Movilidad y viáticos remuneración gravada ",0]
[null,null,"Material didáctico personal docente remuneración gravada ",0]
[null,null,"Remuneración no alcanzada o exenta ",0]
[null,null,"Remuneración exenta ley 27549 ",0,null,{"$f":"IF(AND($D$15=\"No\",D55<>0),\"Para que sea procedente el beneficio, modifique el valor en la celda D15\",\"\")","v":""}]
[null,null,"Retribuciones no habituales exentas o no alcanzadas ",0]
[null,null,"Horas extras remuneración exenta o no alcanzada ",0]
[null,null,"Movilidad y viáticos remuneración exenta o no alcanzada ",0]
[null,null,"Material didáctico personal docente remuneración exenta o no alcanzada ",0]
[null,null,"Bonos de productividad gravados ",0]
[null,null,"Fallos de caja gravados ",0]
[null,null,"Conceptos de similar naturaleza gravados ",0]
[null,null,"Bonos de productividad exentos ",0]
[null,null,"Fallos de caja exentos ",0]
[null,null,"Conceptos de similar naturaleza exentos ",0]
[null,null,"Compensación de gastos teletrabajo - exentos ",0]
[null,null,"Personal militar - suplementos art. 57 Ley 19101 - exentos ",0]
[null,null,"SAC primera cuota - No alcanzado o exento ",0]
[null,null,"SAC segunda cuota - No alcanzado o exento ",0]
[null,null,"Ajustes períodos anteriores - Remuneración gravada ",0]
[null,null,"Ajustes períodos anteriores - Remuneración no alcanzada o exenta ",0]
[null,null,"TOTAL REMUNERACIÓN GRAVADA",{"$f":"SUM(D21:E27,D44,D47:D53,D70)","v":0}]
[null,null,"TOTAL REMUNERACIÓN NO ALCANZADA O EXENTA",{"$f":"SUM(D28:D43,D45,D54:D69,D71)","v":0}]
[null,null,"TOTAL REMUNERACIONES",{"$f":"IF(+D72+D73<0,0,D72+D73)","v":0}]
[]
[null,null,"DEDUCCIONES GENERALES",null,null,null,null,"Topes máximos legales"]
[null,null,"Aportes a fondos de jubilaciones, retiros, pensiones o subsidios que se destinen a cajas nacionales, provinciales o municipales",0,null,{"$f":"validaciones(D77,H77,0)&IF(D77>$D$74,\" El importe no puede ser mayor a la remuneración total\",\"\")","v":""}]
[null,null,"Aportes a fondos de jubilaciones, retiros, pensiones o subsidios que se destinen a cajas nacionales, provinciales o municipales por otros empleos",0,null,{"$f":"validaciones(D78,H78,0)&IF(D78>$D$74,\" El importe no puede ser mayor a la remuneración total\",\"\")","v":""}]
[null,null,"Aportes a obra sociales",0,null,{"$f":"validaciones(D79,H79,0)&IF(D79>$D$74,\" El importe no puede ser mayor a la remuneración total\",\"\")","v":""}]
[null,null,"Aportes a obra sociales por otros empleos",0,null,{"$f":"validaciones(D80,H80,0)&IF(D80>$D$74,\" El importe no puede ser mayor a la remuneración total\",\"\")","v":""}]
[null,null,"Cuota sindical",0,null,{"$f":"validaciones(D81,H81,0)&IF(D81>$D$74,\" El importe no puede ser mayor a la remuneración total\",\"\")","v":""}]
[null,null,"Cuota sindical por otros empleos",0,null,{"$f":"validaciones(D82,H82,0)&IF(D82>$D$74,\" El importe no puede ser mayor a la remuneración total\",\"\")","v":""}]
[null,null,"Cuotas médico asistenciales",0,null,{"$f":"validaciones(D83,H83,0)","v":""},null,{"$f":"(D72-SUM(D77:D82,D84:D89,D91,D93:D94,D95:D103))*0.05","v":0}]
[null,null,"Primas de seguro para el caso de muerte",0,null,{"$f":"validaciones(D84,H84,0)&IF(AND(Datos!$C$11=\"Informativa\",D84<>0),\"En la DDJJ informativa, este campo debe consignarse en cero (0)\",\"\")","v":""},null,{"$f":"+Tablas!B2","v":24000}]
[null,null,"Primas por riesgo de muerte y de ahorro de seguros mixtos, excepto para los casos de seguros de retiro privados administrados por entidades sujetas al control de la Superintendencia de Seguros de la Nación",0,null,{"$f":"validaciones(D85,H85,0)&IF(AND(Datos!$C$11=\"Informativa\",D85<>0),\"En la DDJJ informativa, este campo debe consignarse en cero (0)\",\"\")","v":""},null,{"$f":"+H84","v":24000}]
[null,null,"Aportes a planes de seguro de retiro privados administrados por entidades sujetas al control de la Superintendencia de Seguros de la Nación",0,null,{"$f":"validaciones(D86,H86,0)&IF(AND(Datos!$C$11=\"Informativa\",D86<>0),\"En la DDJJ informativa, este campo debe consignarse en cero (0)\",\"\")","v":""},null,{"$f":"+H85","v":24000}]
[null,null,"Cuotapartes de fondos comunes de inversión constituidos con fines de retiro",0,null,{"$f":"validaciones(D87,H87,0)&IF(D87<>0,\"Deberá consignarse en cero (0), hasta que la Autoridad de Aplicación – CNV – autorice a las Entidades a funcionar e implemente el régimen.\",\"\")","v":""},null,0]
[null,null,"Gastos de sepelio",0,null,{"$f":"validaciones(D88,H88,0)","v":""},null,{"$f":"+Tablas!B6","v":996.23}]
[null,null,"Gastos amortización e intereses rodado para corredores y viajantes de comercio",0,null,{"$f":"validaciones(D89,H89,0)&IF(D89>$D$74,\" El importe no puede ser mayor a la remuneración total\",\"\")","v":""}]
[null,null,"Donaciones a fiscos nacional, provinciales y municipales, y a instituciones comprendidas en el artículo 26, incisos e) y f) de la ley",0,null,{"$f":"validaciones(D90,H90,0)","v":""},null,{"$f":"(D72-SUM(D77:D82,D84:D89,D91,D93:D94,D95:D103))*0.05","v":0}]
[null,null,"Descuentos obligatorios establecidos por ley nacional, provincial o municipal",0,null,{"$f":"validaciones(D91,H91,0)&IF(D91>$D$74,\" El importe no puede ser mayor a la remuneración total\",\"\")","v":""}]
[null,null,"Honorarios por servicios de asistencia sanitaria, médica y paramédica",0,null,{"$f":"validaciones(D92,H92,0)&IF(AND(Datos!$C$11=\"Informativa\",D92<>0),\"En la DDJJ informativa, este campo debe consignarse en cero (0)\",\"\")","v":""},null,{"$f":"(D72-SUM(D77:D82,D84:D89,D91,D93:D94,D95:D103))*0.05","v":0}]
[null,null,"Intereses de créditos hipotecarios",0,null,{"$f":"validaciones(D93,H93,0)","v":""},null,{"$f":"+Tablas!B3","v":20000}]
[null,null,"Aportes al capital social o al fondo de riesgo de socios protectores de sociedades de garantía recíproca",0,null,{"$f":"validaciones(D94,H94,0)","v":""}]
[null,null,"Alquileres de inmuebles destinados a casa habitación",0,null,{"$f":"validaciones(D95,H95,0)","v":""},null,{"$f":"IF(Datos!C11=\"Final\",ROUND(Tablas!B4/12*12,2),ROUND(Tablas!B4/12*MONTH(Datos!C13),2))","v":167678.39999999999}]
[null,null,"Empleados del servicio doméstico",0,null,{"$f":"validaciones(D96,H96,0)","v":""},null,{"$f":"Tablas!B4","v":167678.39999999999}]
[null,null,"Gastos de movilidad, viáticos y otras compensaciones análogas abonados por el empleador",0,null,{"$f":"validaciones(D97,H97,0)","v":""},null,{"$f":"IF(D13=\"Desarrolla la actividad\",Tablas!B4,Tablas!B4*0.4)","v":67071.360000000001}]
[null,null,"Gastos por adquisición de indumentaria y/o equipamiento de trabajo",0,null,{"$f":"validaciones(D98,H98,0)","v":""}]
[null,null,"Otras deducciones - aportes a Cajas Complementarias de Previsión, Fondos Compensadores de Previsión o similares",0,null,{"$f":"validaciones(D99,H99,0)","v":""}]
[null,null,"Otras deducciones - Aportes para jubilaciones, retiros y subsidios ANSES",0,null,{"$f":"validaciones(D100,H100,0)","v":""}]
[null,null,"Otras deducciones - Cajas Provinciales o Municipales o de Previsión para Profesionales",0,null,{"$f":"validaciones(D101,H101,0)","v":""}]
[null,null,"Otras deducciones - Actores - Retribución pagada a los representantes - RG 2442/08",0,null,{"$f":"validaciones(D102,H102,0)","v":""}]
[null,null,"Otras deducciones - Fondos compensadores de previsión",0,null,{"$f":"validaciones(D103,H103,0)","v":""}]
[null,null,"Otras deducciones",{"$f":"+SUM(D99:E103)","v":0}]
[null,null,"TOTAL DEDUCCIONES GENERALES",{"$f":"SUM(D77:E103)","v":0},null,null,null,null,null,null,{"$f":"+D72-D105","v":0}]
[]
[null,null,"DEDUCCIONES PERSONALES",null,null,null,null,"Topes máximos legales"]
[null,null,"Ganancia no imponible",125758.8,null,{"$f":"validaciones(D108,H108,0)","v":""},null,{"$f":"deducciones(1,Datos!C11,MONTH(Datos!$C$13),$D$12)","v":167678.39999999999},null,null,{"$f":"IF(K105-K109<=0,0,IF(K105-K109<=H108,K105-K109,H108))","v":0}]
[null,null,"Deducción especial",603642.26,null,{"$f":"validaciones(D109,H109,0)","v":""},null,{"$f":"deducciones(2,Datos!$C$11,MONTH(Datos!$C$13),$D$12)","v":804856.34},null,null,{"$f":"IF(K105<=H109,K105,H109)","v":0}]
[null,null,"Deducción Especial Incrementada Primera parte del penúltimo párrafo del inciso c) del artículo 30 de la ley del gravamen",0]
[null,null,"Deducción Especial Incrementada Segunda parte del penúltimo párrafo del inciso c) del artículo 30 de la ley del gravamen",0]
[null,null,"Deducción específica",0,null,{"$f":"validaciones(D112,H112,0)","v":""},null,0]
[null,null,"Cargas de familia"]
[null,null,"Cónyuge",0,null,{"$f":"validaciones(D114,H114,0)","v":""},null,{"$f":"cargas_de_familia(4,Datos!$C$11,MONTH(Datos!$C$13),$D$12)","v":156320.63},null,null,{"$f":"IF(K105-K108-K109>=D114,D114,K105-K108-K109)","v":0}]
[null,null,"Cantidad de hijos e hijastros",0,null,{"$f":"validaciones(D115,H115,0)","v":""},null,99]
[null,null,"Deducción total hijos e hijastros",0,null,null,null,{"$f":"cargas_de_familia(3,Datos!$C$11,MONTH(Datos!$C$13),$D$12)*D115","v":0},null,null,{"$f":"IF(K105-K108-K109-K114>=D116,D116,K105-K108-K109-K114)","v":0}]
[null,null,"Cantidad de hijos e hijastros incapacitados para el trabajo",0,null,{"$f":"validaciones(D117,H117,0)","v":""},null,99]
[null,null,"Hijos / Hijastros incapacitados para el trabajo",0,null,null,null,{"$f":"cargas_de_familia(5,Datos!$C$11,MONTH(Datos!$C$13),$D$12)","v":157666.16}]
[null,null,"Total de cargas de familia",{"$f":"+D114+D116+D118","v":0},null,null,null,0]
[null,null,"TOTAL DEDUCCIONES PERSONALES",{"$f":"SUM(D108:D112,D119)","v":729401.06}]
[]
[null,null,"DETERMINACIÓN DEL IMPUESTO"]
[null,null,"REMUNERACIÓN NETA SUJETA A IMPUESTO -antes de la deducción art. 46 L. 27541-",0]
[null,null,"Deducción inciso a) primer párrafo artículo 30 de la ley (cfr. art. 46 L. 27541)",0,null,null,null,0,null,null,{"$f":"IF(D123-K125<=0,0,IF(D123-K125<=H124,D123-K125,H124))","v":0}]
[null,null,"Deducción inciso c) primer párrafo artículo 30 de la ley (cfr. art. 46 L. 27541)",0,null,null,null,0,null,null,{"$f":"IF(D123<=H125,D123,H125)","v":0}]
[null,null,"REMUNERACIÓN SUJETA A IMPUESTO",{"$f":"IF(+D72-D105-D120<0,0,+D72-D105-D120)","v":0}]
[null,null,"Alícuota aplicable artículo 94 ley de impuesto a las ganancias",{"$f":"IF(OR(Datos!C11=\"Final\",Datos!C11=\"Anual\"),impuestoAlicuota(D126,D25*(1-G25)+D51*(1-G51),12),impuestoAlicuota(D126,D25*(1-G25)+D51*(1-G51),MONTH(D11)))","v":0}]
[null,null,"Alícuota aplicable sin incluir horas extras",{"$f":"IF(OR(Datos!C11=\"Final\",Datos!C11=\"Anual\"),impuestoAlicuota(D126,0,12),impuestoAlicuota(D126,0,MONTH(D11)))","v":0}]
[null,null,"IMPUESTO DETERMINADO",{"$f":"IF(D126<0,0,IF(OR(Datos!C11=\"Final\",Datos!C11=\"Anual\"),impuestoDeterminado(D126,D25*(1-G25)+D51*(1-G51),12),impuestoDeterminado(D126,D25*(1-G25)+D51*(1-G51),MONTH(D11))))","v":0}]
[null,null,"Impuesto retenido",0]
[null,null,"Pagos a cuenta - Impuesto sobre créditos y débitos",0,null,{"$f":"IF(AND(Datos!$C$11=\"Informativa\",D131<>0),\"En la DDJJ informativa, este campo debe consignarse en cero (0)\",\"\")","v":""}]
[null,null,"Pagos a cuenta - Percepciones / Retenciones aduaneras",0,null,{"$f":"IF(AND(Datos!$C$11=\"Informativa\",D132<>0),\"En la DDJJ informativa, este campo debe consignarse en cero (0)\",\"\")","v":""}]
[null,null,"Pagos a cuenta - RG (AFIP) 3819/2015 - Cancelaciones en efectivo",0,null,{"$f":"IF(AND(Datos!$C$11=\"Informativa\",D133<>0),\"En la DDJJ informativa, este campo debe consignarse en cero (0)\",\"\")","v":""}]
[null,null,"Pagos a cuenta - Bono ley 27.424",0,null,{"$f":"IF(AND(Datos!$C$11=\"Informativa\",D134<>0),\"En la DDJJ informativa, este campo debe consignarse en cero (0)\",\"\")","v":""}]
[null,null,"Pagos a cuenta - RG 4815 [LEY 27.541 Art. 35 inciso a)] ",0,null,{"$f":"IF(AND(Datos!$C$11=\"Informativa\",D135<>0),\"En la DDJJ informativa, este campo debe consignarse en cero (0)\",\"\")","v":""}]
[null,null,"Pagos a cuenta - RG 4815 [LEY 27.541 Art. 35 inciso b)] ",0,null,{"$f":"IF(AND(Datos!$C$11=\"Informativa\",D136<>0),\"En la DDJJ informativa, este campo debe consignarse en cero (0)\",\"\")","v":""}]
[null,null,"Pagos a cuenta - RG 4815 [LEY 27.541 Art. 35 inciso c)] ",0,null,{"$f":"IF(AND(Datos!$C$11=\"Informativa\",D137<>0),\"En la DDJJ informativa, este campo debe consignarse en cero (0)\",\"\")","v":""}]
[null,null,"Pagos a cuenta - RG 4815 [LEY 27.541 Art. 35 inciso d)] ",0,null,{"$f":"IF(AND(Datos!$C$11=\"Informativa\",D138<>0),\"En la DDJJ informativa, este campo debe consignarse en cero (0)\",\"\")","v":""}]
[null,null,"Pagos a cuenta - RG 4815 [LEY 27.541 Art. 35 inciso e)] ",0,null,{"$f":"IF(AND(Datos!$C$11=\"Informativa\",D139<>0),\"En la DDJJ informativa, este campo debe consignarse en cero (0)\",\"\")","v":""}]
[null,null,"Pagos a cuenta - Impuesto sobre créditos y débitos - sobre movimientos de fondos propios o de terceros",0,null,{"$f":"IF(AND(Datos!$C$11=\"Informativa\",D140<>0),\"En la DDJJ informativa, este campo debe consignarse en cero (0)\",\"\")","v":""}]
[null,null,"Pagos a cuenta - Resolución General (AFIP) 3819/2015 - Cancelaciones en Efectivo -Servicios de transporte terrestre, aéreo y por vía acuática de pasajeros con destino fuera del país",0,null,{"$f":"IF(AND(Datos!$C$11=\"Informativa\",D141<>0),\"En la DDJJ informativa, este campo debe consignarse en cero (0)\",\"\")","v":""}]
[null,null,"Total pagos a cuenta",{"$f":"SUM(D131:D141)","v":0}]
[null,null,"SALDO A PAGAR",{"$f":"+ROUND(D129,2)-D130-D142","v":0}]

{"sheet":"Empleado34","index":38,"n_rows":143,"n_cols":11,"rows_kept":143,"cut":false,"hidden":false,"merged":[[10,7,11,9]]}
[]
[]
[null,null,"LIQUIDACIÓN DE IMPUESTO A LAS GANANCIAS - 4ta. CATEGORÍA RELACIÓN DE DEPENDENCIA"]
[]
[]
[null,null,"Empleado: Nombre y apellido "]
[null,null,"CUIL del empleado",null,null,{"$f":"cuitValidar(D7)","v":"CUIT/CUIL vacío"}]
[null,null,{"$f":"\"Agente de Retención: \"","v":"Agente de Retención: "},{"$f":"Datos!C7&\" - \"&Datos!C5","v":"33711238269 - OPERACIONES AGROPORTUARIAS S.A."}]
[null,null,{"$f":"\"Período Fiscal: \"","v":"Período Fiscal: "},{"$f":"YEAR(Datos!C13)","v":2021}]
[null,null,"Período trabajado (desde):","2021-01-01"]
[null,null,"Período trabajado (hasta):","2021-09-25",null,null,null,{"$f":"IF(MONTH(D11)>MONTH(Datos!C13),\"El período trabajado no puede ser mayor al período que se informa (mes \"&MONTH(Datos!C13)&\")\",\"\")","v":""}]
[null,null,"Zona geográfica:","Todo el país (excepto zona patagónica)"]
[null,null,"Transporte a larga distancia","No desarrolla la actividad"]
[null,null,"Beneficio promocional 27424?","No"]
[null,null,"Beneficio de la ley 27549?","No"]
[null,null,"El trabajador labora bajo el régimen de teletrabajo (Ley 27555)?","No"]
[null,null,"El trabajador es personal militar en actividad?","No"]
[]
[null,null,"REMUNERACIONES"]
[null,null,"Abonadas por el agente de retención:"]
[null,null,"Remuneración bruta gravada",0]
[null,null,"Retribuciones no habituales gravadas",0]
[null,null,"SAC primera cuota gravado",0]
[null,null,"SAC segunda cuota gravado",0]
[null,null,"Horas extras remuneración gravada",0,null,null,0,"% de retenciones"]
[null,null,"Movilidad y viáticos remuneración gravada",0]
[null,null,"Material didáctico personal docente remuneración gravada",0]
[null,null,"Remuneración no alcanzada o exenta (sin horas extras)",0]
[null,null,"Remuneración exenta ley 27549",0,null,{"$f":"IF(AND($D$15=\"No\",D29<>0),\"Para que sea procedente el beneficio, modifique el valor en la celda D15\",\"\")","v":""}]
[null,null,"Retribuciones no habituales exentas o no alcanzadas",0]
[null,null,"Horas extras remuneración exenta",0]
[null,null,"Movilidad y viáticos remuneración exenta",0]
[null,null,"Material didáctico personal docente remuneración exenta",0]
[null,null,"Bonos de productividad gravados",0]
[null,null,"Fallos de caja gravados",0]
[null,null,"Conceptos de similar naturaleza gravados",0]
[null,null,"Bonos de productividad exentos",0]
[null,null,"Fallos de caja exentos",0]
[null,null,"Conceptos de similar naturaleza exentos",0]
[null,null,"Compensación de gastos de teletrabajo exentos",0]
[null,null,"Personal militar - suplementos art. 57 ley 19.101 - exentos",0]
[null,null,"SAC primera cuota - No alcanzado o exento",0]
[null,null,"SAC segunda cuota - No alcanzado o exento",0]
[null,null,"Ajustes períodos anteriores - Remuneración gravada",0]
[null,null,"Ajustes períodos anteriores - Remuneración exenta / no alcanzada",0]
[null,null,"Otros empleos:"]
[null,null,"Remuneración bruta gravada ",0]
[null,null,"Retribuciones no habituales gravadas ",0]
[null,null,"SAC primera cuota gravado ",0]
[null,null,"SAC segunda cuota gravado ",0]
[null,null,"Horas extras remuneración gravada ",0,null,null,0,"% de retenciones"]
[null,null,"Movilidad y viáticos remuneración gravada ",0]
[null,null,"Material didáctico personal docente remuneración gravada ",0]
[null,null,"Remuneración no alcanzada o exenta ",0]
[null,null,"Remuneración exenta ley 27549 ",0,null,{"$f":"IF(AND($D$15=\"No\",D55<>0),\"Para que sea procedente el beneficio, modifique el valor en la celda D15\",\"\")","v":""}]
[null,null,"Retribuciones no habituales exentas o no alcanzadas ",0]
[null,null,"Horas extras remuneración exenta o no alcanzada ",0]
[null,null,"Movilidad y viáticos remuneración exenta o no alcanzada ",0]
[null,null,"Material didáctico personal docente remuneración exenta o no alcanzada ",0]
[null,null,"Bonos de productividad gravados ",0]
[null,null,"Fallos de caja gravados ",0]
[null,null,"Conceptos de similar naturaleza gravados ",0]
[null,null,"Bonos de productividad exentos ",0]
[null,null,"Fallos de caja exentos ",0]
[null,null,"Conceptos de similar naturaleza exentos ",0]
[null,null,"Compensación de gastos teletrabajo - exentos ",0]
[null,null,"Personal militar - suplementos art. 57 Ley 19101 - exentos ",0]
[null,null,"SAC primera cuota - No alcanzado o exento ",0]
[null,null,"SAC segunda cuota - No alcanzado o exento ",0]
[null,null,"Ajustes períodos anteriores - Remuneración gravada ",0]
[null,null,"Ajustes períodos anteriores - Remuneración no alcanzada o exenta ",0]
[null,null,"TOTAL REMUNERACIÓN GRAVADA",{"$f":"SUM(D21:E27,D44,D47:D53,D70)","v":0}]
[null,null,"TOTAL REMUNERACIÓN NO ALCANZADA O EXENTA",{"$f":"SUM(D28:D43,D45,D54:D69,D71)","v":0}]
[null,null,"TOTAL REMUNERACIONES",{"$f":"IF(+D72+D73<0,0,D72+D73)","v":0}]
[]
[null,null,"DEDUCCIONES GENERALES",null,null,null,null,"Topes máximos legales"]
[null,null,"Aportes a fondos de jubilaciones, retiros, pensiones o subsidios que se destinen a cajas nacionales, provinciales o municipales",0,null,{"$f":"validaciones(D77,H77,0)&IF(D77>$D$74,\" El importe no puede ser mayor a la remuneración total\",\"\")","v":""}]
[null,null,"Aportes a fondos de jubilaciones, retiros, pensiones o subsidios que se destinen a cajas nacionales, provinciales o municipales por otros empleos",0,null,{"$f":"validaciones(D78,H78,0)&IF(D78>$D$74,\" El importe no puede ser mayor a la remuneración total\",\"\")","v":""}]
[null,null,"Aportes a obra sociales",0,null,{"$f":"validaciones(D79,H79,0)&IF(D79>$D$74,\" El importe no puede ser mayor a la remuneración total\",\"\")","v":""}]
[null,null,"Aportes a obra sociales por otros empleos",0,null,{"$f":"validaciones(D80,H80,0)&IF(D80>$D$74,\" El importe no puede ser mayor a la remuneración total\",\"\")","v":""}]
[null,null,"Cuota sindical",0,null,{"$f":"validaciones(D81,H81,0)&IF(D81>$D$74,\" El importe no puede ser mayor a la remuneración total\",\"\")","v":""}]
[null,null,"Cuota sindical por otros empleos",0,null,{"$f":"validaciones(D82,H82,0)&IF(D82>$D$74,\" El importe no puede ser mayor a la remuneración total\",\"\")","v":""}]
[null,null,"Cuotas médico asistenciales",0,null,{"$f":"validaciones(D83,H83,0)","v":""},null,{"$f":"(D72-SUM(D77:D82,D84:D89,D91,D93:D94,D95:D103))*0.05","v":0}]
[null,null,"Primas de seguro para el caso de muerte",0,null,{"$f":"validaciones(D84,H84,0)&IF(AND(Datos!$C$11=\"Informativa\",D84<>0),\"En la DDJJ informativa, este campo debe consignarse en cero (0)\",\"\")","v":""},null,{"$f":"+Tablas!B2","v":24000}]
[null,null,"Primas por riesgo de muerte y de ahorro de seguros mixtos, excepto para los casos de seguros de retiro privados administrados por entidades sujetas al control de la Superintendencia de Seguros de la Nación",0,null,{"$f":"validaciones(D85,H85,0)&IF(AND(Datos!$C$11=\"Informativa\",D85<>0),\"En la DDJJ informativa, este campo debe consignarse en cero (0)\",\"\")","v":""},null,{"$f":"+H84","v":24000}]
[null,null,"Aportes a planes de seguro de retiro privados administrados por entidades sujetas al control de la Superintendencia de Seguros de la Nación",0,null,{"$f":"validaciones(D86,H86,0)&IF(AND(Datos!$C$11=\"Informativa\",D86<>0),\"En la DDJJ informativa, este campo debe consignarse en cero (0)\",\"\")","v":""},null,{"$f":"+H85","v":24000}]
[null,null,"Cuotapartes de fondos comunes de inversión constituidos con fines de retiro",0,null,{"$f":"validaciones(D87,H87,0)&IF(D87<>0,\"Deberá consignarse en cero (0), hasta que la Autoridad de Aplicación – CNV – autorice a las Entidades a funcionar e implemente el régimen.\",\"\")","v":""},null,0]
[null,null,"Gastos de sepelio",0,null,{"$f":"validaciones(D88,H88,0)","v":""},null,{"$f":"+Tablas!B6","v":996.23}]
[null,null,"Gastos amortización e intereses rodado para corredores y viajantes de comercio",0,null,{"$f":"validaciones(D89,H89,0)&IF(D89>$D$74,\" El importe no puede ser mayor a la remuneración total\",\"\")","v":""}]
[null,null,"Donaciones a fiscos nacional, provinciales y municipales, y a instituciones comprendidas en el artículo 26, incisos e) y f) de la ley",0,null,{"$f":"validaciones(D90,H90,0)","v":""},null,{"$f":"(D72-SUM(D77:D82,D84:D89,D91,D93:D94,D95:D103))*0.05","v":0}]
[null,null,"Descuentos obligatorios establecidos por ley nacional, provincial o municipal",0,null,{"$f":"validaciones(D91,H91,0)&IF(D91>$D$74,\" El importe no puede ser mayor a la remuneración total\",\"\")","v":""}]
[null,null,"Honorarios por servicios de asistencia sanitaria, médica y paramédica",0,null,{"$f":"validaciones(D92,H92,0)&IF(AND(Datos!$C$11=\"Informativa\",D92<>0),\"En la DDJJ informativa, este campo debe consignarse en cero (0)\",\"\")","v":""},null,{"$f":"(D72-SUM(D77:D82,D84:D89,D91,D93:D94,D95:D103))*0.05","v":0}]
[null,null,"Intereses de créditos hipotecarios",0,null,{"$f":"validaciones(D93,H93,0)","v":""},null,{"$f":"+Tablas!B3","v":20000}]
[null,null,"Aportes al capital social o al fondo de riesgo de socios protectores de sociedades de garantía recíproca",0,null,{"$f":"validaciones(D94,H94,0)","v":""}]
[null,null,"Alquileres de inmuebles destinados a casa habitación",0,null,{"$f":"validaciones(D95,H95,0)","v":""},null,{"$f":"IF(Datos!C11=\"Final\",ROUND(Tablas!B4/12*12,2),ROUND(Tablas!B4/12*MONTH(Datos!C13),2))","v":167678.39999999999}]
[null,null,"Empleados del servicio doméstico",0,null,{"$f":"validaciones(D96,H96,0)","v":""},null,{"$f":"Tablas!B4","v":167678.39999999999}]
[null,null,"Gastos de movilidad, viáticos y otras compensaciones análogas abonados por el empleador",0,null,{"$f":"validaciones(D97,H97,0)","v":""},null,{"$f":"IF(D13=\"Desarrolla la actividad\",Tablas!B4,Tablas!B4*0.4)","v":67071.360000000001}]
[null,null,"Gastos por adquisición de indumentaria y/o equipamiento de trabajo",0,null,{"$f":"validaciones(D98,H98,0)","v":""}]
[null,null,"Otras deducciones - aportes a Cajas Complementarias de Previsión, Fondos Compensadores de Previsión o similares",0,null,{"$f":"validaciones(D99,H99,0)","v":""}]
[null,null,"Otras deducciones - Aportes para jubilaciones, retiros y subsidios ANSES",0,null,{"$f":"validaciones(D100,H100,0)","v":""}]
[null,null,"Otras deducciones - Cajas Provinciales o Municipales o de Previsión para Profesionales",0,null,{"$f":"validaciones(D101,H101,0)","v":""}]
[null,null,"Otras deducciones - Actores - Retribución pagada a los representantes - RG 2442/08",0,null,{"$f":"validaciones(D102,H102,0)","v":""}]
[null,null,"Otras deducciones - Fondos compensadores de previsión",0,null,{"$f":"validaciones(D103,H103,0)","v":""}]
[null,null,"Otras deducciones",{"$f":"+SUM(D99:E103)","v":0}]
[null,null,"TOTAL DEDUCCIONES GENERALES",{"$f":"SUM(D77:E103)","v":0},null,null,null,null,null,null,{"$f":"+D72-D105","v":0}]
[]
[null,null,"DEDUCCIONES PERSONALES",null,null,null,null,"Topes máximos legales"]
[null,null,"Ganancia no imponible",125758.8,null,{"$f":"validaciones(D108,H108,0)","v":""},null,{"$f":"deducciones(1,Datos!C11,MONTH(Datos!$C$13),$D$12)","v":167678.39999999999},null,null,{"$f":"IF(K105-K109<=0,0,IF(K105-K109<=H108,K105-K109,H108))","v":0}]
[null,null,"Deducción especial",603642.26,null,{"$f":"validaciones(D109,H109,0)","v":""},null,{"$f":"deducciones(2,Datos!$C$11,MONTH(Datos!$C$13),$D$12)","v":804856.34},null,null,{"$f":"IF(K105<=H109,K105,H109)","v":0}]
[null,null,"Deducción Especial Incrementada Primera parte del penúltimo párrafo del inciso c) del artículo 30 de la ley del gravamen",0]
[null,null,"Deducción Especial Incrementada Segunda parte del penúltimo párrafo del inciso c) del artículo 30 de la ley del gravamen",0]
[null,null,"Deducción específica",0,null,{"$f":"validaciones(D112,H112,0)","v":""},null,0]
[null,null,"Cargas de familia"]
[null,null,"Cónyuge",0,null,{"$f":"validaciones(D114,H114,0)","v":""},null,{"$f":"cargas_de_familia(4,Datos!$C$11,MONTH(Datos!$C$13),$D$12)","v":156320.63},null,null,{"$f":"IF(K105-K108-K109>=D114,D114,K105-K108-K109)","v":0}]
[null,null,"Cantidad de hijos e hijastros",0,null,{"$f":"validaciones(D115,H115,0)","v":""},null,99]
[null,null,"Deducción total hijos e hijastros",0,null,null,null,{"$f":"cargas_de_familia(3,Datos!$C$11,MONTH(Datos!$C$13),$D$12)*D115","v":0},null,null,{"$f":"IF(K105-K108-K109-K114>=D116,D116,K105-K108-K109-K114)","v":0}]
[null,null,"Cantidad de hijos e hijastros incapacitados para el trabajo",0,null,{"$f":"validaciones(D117,H117,0)","v":""},null,99]
[null,null,"Hijos / Hijastros incapacitados para el trabajo",0,null,null,null,{"$f":"cargas_de_familia(5,Datos!$C$11,MONTH(Datos!$C$13),$D$12)","v":157666.16}]
[null,null,"Total de cargas de familia",{"$f":"+D114+D116+D118","v":0},null,null,null,0]
[null,null,"TOTAL DEDUCCIONES PERSONALES",{"$f":"SUM(D108:D112,D119)","v":729401.06}]
[]
[null,null,"DETERMINACIÓN DEL IMPUESTO"]
[null,null,"REMUNERACIÓN NETA SUJETA A IMPUESTO -antes de la deducción art. 46 L. 27541-",0]
[null,null,"Deducción inciso a) primer párrafo artículo 30 de la ley (cfr. art. 46 L. 27541)",0,null,null,null,0,null,null,{"$f":"IF(D123-K125<=0,0,IF(D123-K125<=H124,D123-K125,H124))","v":0}]
[null,null,"Deducción inciso c) primer párrafo artículo 30 de la ley (cfr. art. 46 L. 27541)",0,null,null,null,0,null,null,{"$f":"IF(D123<=H125,D123,H125)","v":0}]
[null,null,"REMUNERACIÓN SUJETA A IMPUESTO",{"$f":"IF(+D72-D105-D120<0,0,+D72-D105-D120)","v":0}]
[null,null,"Alícuota aplicable artículo 94 ley de impuesto a las ganancias",{"$f":"IF(OR(Datos!C11=\"Final\",Datos!C11=\"Anual\"),impuestoAlicuota(D126,D25*(1-G25)+D51*(1-G51),12),impuestoAlicuota(D126,D25*(1-G25)+D51*(1-G51),MONTH(D11)))","v":0}]
[null,null,"Alícuota aplicable sin incluir horas extras",{"$f":"IF(OR(Datos!C11=\"Final\",Datos!C11=\"Anual\"),impuestoAlicuota(D126,0,12),impuestoAlicuota(D126,0,MONTH(D11)))","v":0}]
[null,null,"IMPUESTO DETERMINADO",{"$f":"IF(D126<0,0,IF(OR(Datos!C11=\"Final\",Datos!C11=\"Anual\"),impuestoDeterminado(D126,D25*(1-G25)+D51*(1-G51),12),impuestoDeterminado(D126,D25*(1-G25)+D51*(1-G51),MONTH(D11))))","v":0}]
[null,null,"Impuesto retenido",0]
[null,null,"Pagos a cuenta - Impuesto sobre créditos y débitos",0,null,{"$f":"IF(AND(Datos!$C$11=\"Informativa\",D131<>0),\"En la DDJJ informativa, este campo debe consignarse en cero (0)\",\"\")","v":""}]
[null,null,"Pagos a cuenta - Percepciones / Retenciones aduaneras",0,null,{"$f":"IF(AND(Datos!$C$11=\"Informativa\",D132<>0),\"En la DDJJ informativa, este campo debe consignarse en cero (0)\",\"\")","v":""}]
[null,null,"Pagos a cuenta - RG (AFIP) 3819/2015 - Cancelaciones en efectivo",0,null,{"$f":"IF(AND(Datos!$C$11=\"Informativa\",D133<>0),\"En la DDJJ informativa, este campo debe consignarse en cero (0)\",\"\")","v":""}]
[null,null,"Pagos a cuenta - Bono ley 27.424",0,null,{"$f":"IF(AND(Datos!$C$11=\"Informativa\",D134<>0),\"En la DDJJ informativa, este campo debe consignarse en cero (0)\",\"\")","v":""}]
[null,null,"Pagos a cuenta - RG 4815 [LEY 27.541 Art. 35 inciso a)] ",0,null,{"$f":"IF(AND(Datos!$C$11=\"Informativa\",D135<>0),\"En la DDJJ informativa, este campo debe consignarse en cero (0)\",\"\")","v":""}]
[null,null,"Pagos a cuenta - RG 4815 [LEY 27.541 Art. 35 inciso b)] ",0,null,{"$f":"IF(AND(Datos!$C$11=\"Informativa\",D136<>0),\"En la DDJJ informativa, este campo debe consignarse en cero (0)\",\"\")","v":""}]
[null,null,"Pagos a cuenta - RG 4815 [LEY 27.541 Art. 35 inciso c)] ",0,null,{"$f":"IF(AND(Datos!$C$11=\"Informativa\",D137<>0),\"En la DDJJ informativa, este campo debe consignarse en cero (0)\",\"\")","v":""}]
[null,null,"Pagos a cuenta - RG 4815 [LEY 27.541 Art. 35 inciso d)] ",0,null,{"$f":"IF(AND(Datos!$C$11=\"Informativa\",D138<>0),\"En la DDJJ informativa, este campo debe consignarse en cero (0)\",\"\")","v":""}]
[null,null,"Pagos a cuenta - RG 4815 [LEY 27.541 Art. 35 inciso e)] ",0,null,{"$f":"IF(AND(Datos!$C$11=\"Informativa\",D139<>0),\"En la DDJJ informativa, este campo debe consignarse en cero (0)\",\"\")","v":""}]
[null,null,"Pagos a cuenta - Impuesto sobre créditos y débitos - sobre movimientos de fondos propios o de terceros",0,null,{"$f":"IF(AND(Datos!$C$11=\"Informativa\",D140<>0),\"En la DDJJ informativa, este campo debe consignarse en cero (0)\",\"\")","v":""}]
[null,null,"Pagos a cuenta - Resolución General (AFIP) 3819/2015 - Cancelaciones en Efectivo -Servicios de transporte terrestre, aéreo y por vía acuática de pasajeros con destino fuera del país",0,null,{"$f":"IF(AND(Datos!$C$11=\"Informativa\",D141<>0),\"En la DDJJ informativa, este campo debe consignarse en cero (0)\",\"\")","v":""}]
[null,null,"Total pagos a cuenta",{"$f":"SUM(D131:D141)","v":0}]
[null,null,"SALDO A PAGAR",{"$f":"+ROUND(D129,2)-D130-D142","v":0}]

{"sheet":"Empleado35","index":39,"n_rows":143,"n_cols":11,"rows_kept":143,"cut":false,"hidden":false,"merged":[[10,7,11,9]]}
[]
[]
[null,null,"LIQUIDACIÓN DE IMPUESTO A LAS GANANCIAS - 4ta. CATEGORÍA RELACIÓN DE DEPENDENCIA"]
[]
[]
[null,null,"Empleado: Nombre y apellido "]
[null,null,"CUIL del empleado",null,null,{"$f":"cuitValidar(D7)","v":"CUIT/CUIL vacío"}]
[null,null,{"$f":"\"Agente de Retención: \"","v":"Agente de Retención: "},{"$f":"Datos!C7&\" - \"&Datos!C5","v":"33711238269 - OPERACIONES AGROPORTUARIAS S.A."}]
[null,null,{"$f":"\"Período Fiscal: \"","v":"Período Fiscal: "},{"$f":"YEAR(Datos!C13)","v":2021}]
[null,null,"Período trabajado (desde):","2021-01-01"]
[null,null,"Período trabajado (hasta):","2021-09-25",null,null,null,{"$f":"IF(MONTH(D11)>MONTH(Datos!C13),\"El período trabajado no puede ser mayor al período que se informa (mes \"&MONTH(Datos!C13)&\")\",\"\")","v":""}]
[null,null,"Zona geográfica:","Todo el país (excepto zona patagónica)"]
[null,null,"Transporte a larga distancia","No desarrolla la actividad"]
[null,null,"Beneficio promocional 27424?","No"]
[null,null,"Beneficio de la ley 27549?","No"]
[null,null,"El trabajador labora bajo el régimen de teletrabajo (Ley 27555)?","No"]
[null,null,"El trabajador es personal militar en actividad?","No"]
[]
[null,null,"REMUNERACIONES"]
[null,null,"Abonadas por el agente de retención:"]
[null,null,"Remuneración bruta gravada",0]
[null,null,"Retribuciones no habituales gravadas",0]
[null,null,"SAC primera cuota gravado",0]
[null,null,"SAC segunda cuota gravado",0]
[null,null,"Horas extras remuneración gravada",0,null,null,0,"% de retenciones"]
[null,null,"Movilidad y viáticos remuneración gravada",0]
[null,null,"Material didáctico personal docente remuneración gravada",0]
[null,null,"Remuneración no alcanzada o exenta (sin horas extras)",0]
[null,null,"Remuneración exenta ley 27549",0,null,{"$f":"IF(AND($D$15=\"No\",D29<>0),\"Para que sea procedente el beneficio, modifique el valor en la celda D15\",\"\")","v":""}]
[null,null,"Retribuciones no habituales exentas o no alcanzadas",0]
[null,null,"Horas extras remuneración exenta",0]
[null,null,"Movilidad y viáticos remuneración exenta",0]
[null,null,"Material didáctico personal docente remuneración exenta",0]
[null,null,"Bonos de productividad gravados",0]
[null,null,"Fallos de caja gravados",0]
[null,null,"Conceptos de similar naturaleza gravados",0]
[null,null,"Bonos de productividad exentos",0]
[null,null,"Fallos de caja exentos",0]
[null,null,"Conceptos de similar naturaleza exentos",0]
[null,null,"Compensación de gastos de teletrabajo exentos",0]
[null,null,"Personal militar - suplementos art. 57 ley 19.101 - exentos",0]
[null,null,"SAC primera cuota - No alcanzado o exento",0]
[null,null,"SAC segunda cuota - No alcanzado o exento",0]
[null,null,"Ajustes períodos anteriores - Remuneración gravada",0]
[null,null,"Ajustes períodos anteriores - Remuneración exenta / no alcanzada",0]
[null,null,"Otros empleos:"]
[null,null,"Remuneración bruta gravada ",0]
[null,null,"Retribuciones no habituales gravadas ",0]
[null,null,"SAC primera cuota gravado ",0]
[null,null,"SAC segunda cuota gravado ",0]
[null,null,"Horas extras remuneración gravada ",0,null,null,0,"% de retenciones"]
[null,null,"Movilidad y viáticos remuneración gravada ",0]
[null,null,"Material didáctico personal docente remuneración gravada ",0]
[null,null,"Remuneración no alcanzada o exenta ",0]
[null,null,"Remuneración exenta ley 27549 ",0,null,{"$f":"IF(AND($D$15=\"No\",D55<>0),\"Para que sea procedente el beneficio, modifique el valor en la celda D15\",\"\")","v":""}]
[null,null,"Retribuciones no habituales exentas o no alcanzadas ",0]
[null,null,"Horas extras remuneración exenta o no alcanzada ",0]
[null,null,"Movilidad y viáticos remuneración exenta o no alcanzada ",0]
[null,null,"Material didáctico personal docente remuneración exenta o no alcanzada ",0]
[null,null,"Bonos de productividad gravados ",0]
[null,null,"Fallos de caja gravados ",0]
[null,null,"Conceptos de similar naturaleza gravados ",0]
[null,null,"Bonos de productividad exentos ",0]
[null,null,"Fallos de caja exentos ",0]
[null,null,"Conceptos de similar naturaleza exentos ",0]
[null,null,"Compensación de gastos teletrabajo - exentos ",0]
[null,null,"Personal militar - suplementos art. 57 Ley 19101 - exentos ",0]
[null,null,"SAC primera cuota - No alcanzado o exento ",0]
[null,null,"SAC segunda cuota - No alcanzado o exento ",0]
[null,null,"Ajustes períodos anteriores - Remuneración gravada ",0]
[null,null,"Ajustes períodos anteriores - Remuneración no alcanzada o exenta ",0]
[null,null,"TOTAL REMUNERACIÓN GRAVADA",{"$f":"SUM(D21:E27,D44,D47:D53,D70)","v":0}]
[null,null,"TOTAL REMUNERACIÓN NO ALCANZADA O EXENTA",{"$f":"SUM(D28:D43,D45,D54:D69,D71)","v":0}]
[null,null,"TOTAL REMUNERACIONES",{"$f":"IF(+D72+D73<0,0,D72+D73)","v":0}]
[]
[null,null,"DEDUCCIONES GENERALES",null,null,null,null,"Topes máximos legales"]
[null,null,"Aportes a fondos de jubilaciones, retiros, pensiones o subsidios que se destinen a cajas nacionales, provinciales o municipales",0,null,{"$f":"validaciones(D77,H77,0)&IF(D77>$D$74,\" El importe no puede ser mayor a la remuneración total\",\"\")","v":""}]
[null,null,"Aportes a fondos de jubilaciones, retiros, pensiones o subsidios que se destinen a cajas nacionales, provinciales o municipales por otros empleos",0,null,{"$f":"validaciones(D78,H78,0)&IF(D78>$D$74,\" El importe no puede ser mayor a la remuneración total\",\"\")","v":""}]
[null,null,"Aportes a obra sociales",0,null,{"$f":"validaciones(D79,H79,0)&IF(D79>$D$74,\" El importe no puede ser mayor a la remuneración total\",\"\")","v":""}]
[null,null,"Aportes a obra sociales por otros empleos",0,null,{"$f":"validaciones(D80,H80,0)&IF(D80>$D$74,\" El importe no puede ser mayor a la remuneración total\",\"\")","v":""}]
[null,null,"Cuota sindical",0,null,{"$f":"validaciones(D81,H81,0)&IF(D81>$D$74,\" El importe no puede ser mayor a la remuneración total\",\"\")","v":""}]
[null,null,"Cuota sindical por otros empleos",0,null,{"$f":"validaciones(D82,H82,0)&IF(D82>$D$74,\" El importe no puede ser mayor a la remuneración total\",\"\")","v":""}]
[null,null,"Cuotas médico asistenciales",0,null,{"$f":"validaciones(D83,H83,0)","v":""},null,{"$f":"(D72-SUM(D77:D82,D84:D89,D91,D93:D94,D95:D103))*0.05","v":0}]
[null,null,"Primas de seguro para el caso de muerte",0,null,{"$f":"validaciones(D84,H84,0)&IF(AND(Datos!$C$11=\"Informativa\",D84<>0),\"En la DDJJ informativa, este campo debe consignarse en cero (0)\",\"\")","v":""},null,{"$f":"+Tablas!B2","v":24000}]
[null,null,"Primas por riesgo de muerte y de ahorro de seguros mixtos, excepto para los casos de seguros de retiro privados administrados por entidades sujetas al control de la Superintendencia de Seguros de la Nación",0,null,{"$f":"validaciones(D85,H85,0)&IF(AND(Datos!$C$11=\"Informativa\",D85<>0),\"En la DDJJ informativa, este campo debe consignarse en cero (0)\",\"\")","v":""},null,{"$f":"+H84","v":24000}]
[null,null,"Aportes a planes de seguro de retiro privados administrados por entidades sujetas al control de la Superintendencia de Seguros de la Nación",0,null,{"$f":"validaciones(D86,H86,0)&IF(AND(Datos!$C$11=\"Informativa\",D86<>0),\"En la DDJJ informativa, este campo debe consignarse en cero (0)\",\"\")","v":""},null,{"$f":"+H85","v":24000}]
[null,null,"Cuotapartes de fondos comunes de inversión constituidos con fines de retiro",0,null,{"$f":"validaciones(D87,H87,0)&IF(D87<>0,\"Deberá consignarse en cero (0), hasta que la Autoridad de Aplicación – CNV – autorice a las Entidades a funcionar e implemente el régimen.\",\"\")","v":""},null,0]
[null,null,"Gastos de sepelio",0,null,{"$f":"validaciones(D88,H88,0)","v":""},null,{"$f":"+Tablas!B6","v":996.23}]
[null,null,"Gastos amortización e intereses rodado para corredores y viajantes de comercio",0,null,{"$f":"validaciones(D89,H89,0)&IF(D89>$D$74,\" El importe no puede ser mayor a la remuneración total\",\"\")","v":""}]
[null,null,"Donaciones a fiscos nacional, provinciales y municipales, y a instituciones comprendidas en el artículo 26, incisos e) y f) de la ley",0,null,{"$f":"validaciones(D90,H90,0)","v":""},null,{"$f":"(D72-SUM(D77:D82,D84:D89,D91,D93:D94,D95:D103))*0.05","v":0}]
[null,null,"Descuentos obligatorios establecidos por ley nacional, provincial o municipal",0,null,{"$f":"validaciones(D91,H91,0)&IF(D91>$D$74,\" El importe no puede ser mayor a la remuneración total\",\"\")","v":""}]
[null,null,"Honorarios por servicios de asistencia sanitaria, médica y paramédica",0,null,{"$f":"validaciones(D92,H92,0)&IF(AND(Datos!$C$11=\"Informativa\",D92<>0),\"En la DDJJ informativa, este campo debe consignarse en cero (0)\",\"\")","v":""},null,{"$f":"(D72-SUM(D77:D82,D84:D89,D91,D93:D94,D95:D103))*0.05","v":0}]
[null,null,"Intereses de créditos hipotecarios",0,null,{"$f":"validaciones(D93,H93,0)","v":""},null,{"$f":"+Tablas!B3","v":20000}]
[null,null,"Aportes al capital social o al fondo de riesgo de socios protectores de sociedades de garantía recíproca",0,null,{"$f":"validaciones(D94,H94,0)","v":""}]
[null,null,"Alquileres de inmuebles destinados a casa habitación",0,null,{"$f":"validaciones(D95,H95,0)","v":""},null,{"$f":"IF(Datos!C11=\"Final\",ROUND(Tablas!B4/12*12,2),ROUND(Tablas!B4/12*MONTH(Datos!C13),2))","v":167678.39999999999}]
[null,null,"Empleados del servicio doméstico",0,null,{"$f":"validaciones(D96,H96,0)","v":""},null,{"$f":"Tablas!B4","v":167678.39999999999}]
[null,null,"Gastos de movilidad, viáticos y otras compensaciones análogas abonados por el empleador",0,null,{"$f":"validaciones(D97,H97,0)","v":""},null,{"$f":"IF(D13=\"Desarrolla la actividad\",Tablas!B4,Tablas!B4*0.4)","v":67071.360000000001}]
[null,null,"Gastos por adquisición de indumentaria y/o equipamiento de trabajo",0,null,{"$f":"validaciones(D98,H98,0)","v":""}]
[null,null,"Otras deducciones - aportes a Cajas Complementarias de Previsión, Fondos Compensadores de Previsión o similares",0,null,{"$f":"validaciones(D99,H99,0)","v":""}]
[null,null,"Otras deducciones - Aportes para jubilaciones, retiros y subsidios ANSES",0,null,{"$f":"validaciones(D100,H100,0)","v":""}]
[null,null,"Otras deducciones - Cajas Provinciales o Municipales o de Previsión para Profesionales",0,null,{"$f":"validaciones(D101,H101,0)","v":""}]
[null,null,"Otras deducciones - Actores - Retribución pagada a los representantes - RG 2442/08",0,null,{"$f":"validaciones(D102,H102,0)","v":""}]
[null,null,"Otras deducciones - Fondos compensadores de previsión",0,null,{"$f":"validaciones(D103,H103,0)","v":""}]
[null,null,"Otras deducciones",{"$f":"+SUM(D99:E103)","v":0}]
[null,null,"TOTAL DEDUCCIONES GENERALES",{"$f":"SUM(D77:E103)","v":0},null,null,null,null,null,null,{"$f":"+D72-D105","v":0}]
[]
[null,null,"DEDUCCIONES PERSONALES",null,null,null,null,"Topes máximos legales"]
[null,null,"Ganancia no imponible",125758.8,null,{"$f":"validaciones(D108,H108,0)","v":""},null,{"$f":"deducciones(1,Datos!C11,MONTH(Datos!$C$13),$D$12)","v":167678.39999999999},null,null,{"$f":"IF(K105-K109<=0,0,IF(K105-K109<=H108,K105-K109,H108))","v":0}]
[null,null,"Deducción especial",603642.26,null,{"$f":"validaciones(D109,H109,0)","v":""},null,{"$f":"deducciones(2,Datos!$C$11,MONTH(Datos!$C$13),$D$12)","v":804856.34},null,null,{"$f":"IF(K105<=H109,K105,H109)","v":0}]
[null,null,"Deducción Especial Incrementada Primera parte del penúltimo párrafo del inciso c) del artículo 30 de la ley del gravamen",0]
[null,null,"Deducción Especial Incrementada Segunda parte del penúltimo párrafo del inciso c) del artículo 30 de la ley del gravamen",0]
[null,null,"Deducción específica",0,null,{"$f":"validaciones(D112,H112,0)","v":""},null,0]
[null,null,"Cargas de familia"]
[null,null,"Cónyuge",0,null,{"$f":"validaciones(D114,H114,0)","v":""},null,{"$f":"cargas_de_familia(4,Datos!$C$11,MONTH(Datos!$C$13),$D$12)","v":156320.63},null,null,{"$f":"IF(K105-K108-K109>=D114,D114,K105-K108-K109)","v":0}]
[null,null,"Cantidad de hijos e hijastros",0,null,{"$f":"validaciones(D115,H115,0)","v":""},null,99]
[null,null,"Deducción total hijos e hijastros",0,null,null,null,{"$f":"cargas_de_familia(3,Datos!$C$11,MONTH(Datos!$C$13),$D$12)*D115","v":0},null,null,{"$f":"IF(K105-K108-K109-K114>=D116,D116,K105-K108-K109-K114)","v":0}]
[null,null,"Cantidad de hijos e hijastros incapacitados para el trabajo",0,null,{"$f":"validaciones(D117,H117,0)","v":""},null,99]
[null,null,"Hijos / Hijastros incapacitados para el trabajo",0,null,null,null,{"$f":"cargas_de_familia(5,Datos!$C$11,MONTH(Datos!$C$13),$D$12)","v":157666.16}]
[null,null,"Total de cargas de familia",{"$f":"+D114+D116+D118","v":0},null,null,null,0]
[null,null,"TOTAL DEDUCCIONES PERSONALES",{"$f":"SUM(D108:D112,D119)","v":729401.06}]
[]
[null,null,"DETERMINACIÓN DEL IMPUESTO"]
[null,null,"REMUNERACIÓN NETA SUJETA A IMPUESTO -antes de la deducción art. 46 L. 27541-",0]
[null,null,"Deducción inciso a) primer párrafo artículo 30 de la ley (cfr. art. 46 L. 27541)",0,null,null,null,0,null,null,{"$f":"IF(D123-K125<=0,0,IF(D123-K125<=H124,D123-K125,H124))","v":0}]
[null,null,"Deducción inciso c) primer párrafo artículo 30 de la ley (cfr. art. 46 L. 27541)",0,null,null,null,0,null,null,{"$f":"IF(D123<=H125,D123,H125)","v":0}]
[null,null,"REMUNERACIÓN SUJETA A IMPUESTO",{"$f":"IF(+D72-D105-D120<0,0,+D72-D105-D120)","v":0}]
[null,null,"Alícuota aplicable artículo 94 ley de impuesto a las ganancias",{"$f":"IF(OR(Datos!C11=\"Final\",Datos!C11=\"Anual\"),impuestoAlicuota(D126,D25*(1-G25)+D51*(1-G51),12),impuestoAlicuota(D126,D25*(1-G25)+D51*(1-G51),MONTH(D11)))","v":0}]
[null,null,"Alícuota aplicable sin incluir horas extras",{"$f":"IF(OR(Datos!C11=\"Final\",Datos!C11=\"Anual\"),impuestoAlicuota(D126,0,12),impuestoAlicuota(D126,0,MONTH(D11)))","v":0}]
[null,null,"IMPUESTO DETERMINADO",{"$f":"IF(D126<0,0,IF(OR(Datos!C11=\"Final\",Datos!C11=\"Anual\"),impuestoDeterminado(D126,D25*(1-G25)+D51*(1-G51),12),impuestoDeterminado(D126,D25*(1-G25)+D51*(1-G51),MONTH(D11))))","v":0}]
[null,null,"Impuesto retenido",0]
[null,null,"Pagos a cuenta - Impuesto sobre créditos y débitos",0,null,{"$f":"IF(AND(Datos!$C$11=\"Informativa\",D131<>0),\"En la DDJJ informativa, este campo debe consignarse en cero (0)\",\"\")","v":""}]
[null,null,"Pagos a cuenta - Percepciones / Retenciones aduaneras",0,null,{"$f":"IF(AND(Datos!$C$11=\"Informativa\",D132<>0),\"En la DDJJ informativa, este campo debe consignarse en cero (0)\",\"\")","v":""}]
[null,null,"Pagos a cuenta - RG (AFIP) 3819/2015 - Cancelaciones en efectivo",0,null,{"$f":"IF(AND(Datos!$C$11=\"Informativa\",D133<>0),\"En la DDJJ informativa, este campo debe consignarse en cero (0)\",\"\")","v":""}]
[null,null,"Pagos a cuenta - Bono ley 27.424",0,null,{"$f":"IF(AND(Datos!$C$11=\"Informativa\",D134<>0),\"En la DDJJ informativa, este campo debe consignarse en cero (0)\",\"\")","v":""}]
[null,null,"Pagos a cuenta - RG 4815 [LEY 27.541 Art. 35 inciso a)] ",0,null,{"$f":"IF(AND(Datos!$C$11=\"Informativa\",D135<>0),\"En la DDJJ informativa, este campo debe consignarse en cero (0)\",\"\")","v":""}]
[null,null,"Pagos a cuenta - RG 4815 [LEY 27.541 Art. 35 inciso b)] ",0,null,{"$f":"IF(AND(Datos!$C$11=\"Informativa\",D136<>0),\"En la DDJJ informativa, este campo debe consignarse en cero (0)\",\"\")","v":""}]
[null,null,"Pagos a cuenta - RG 4815 [LEY 27.541 Art. 35 inciso c)] ",0,null,{"$f":"IF(AND(Datos!$C$11=\"Informativa\",D137<>0),\"En la DDJJ informativa, este campo debe consignarse en cero (0)\",\"\")","v":""}]
[null,null,"Pagos a cuenta - RG 4815 [LEY 27.541 Art. 35 inciso d)] ",0,null,{"$f":"IF(AND(Datos!$C$11=\"Informativa\",D138<>0),\"En la DDJJ informativa, este campo debe consignarse en cero (0)\",\"\")","v":""}]
[null,null,"Pagos a cuenta - RG 4815 [LEY 27.541 Art. 35 inciso e)] ",0,null,{"$f":"IF(AND(Datos!$C$11=\"Informativa\",D139<>0),\"En la DDJJ informativa, este campo debe consignarse en cero (0)\",\"\")","v":""}]
[null,null,"Pagos a cuenta - Impuesto sobre créditos y débitos - sobre movimientos de fondos propios o de terceros",0,null,{"$f":"IF(AND(Datos!$C$11=\"Informativa\",D140<>0),\"En la DDJJ informativa, este campo debe consignarse en cero (0)\",\"\")","v":""}]
[null,null,"Pagos a cuenta - Resolución General (AFIP) 3819/2015 - Cancelaciones en Efectivo -Servicios de transporte terrestre, aéreo y por vía acuática de pasajeros con destino fuera del país",0,null,{"$f":"IF(AND(Datos!$C$11=\"Informativa\",D141<>0),\"En la DDJJ informativa, este campo debe consignarse en cero (0)\",\"\")","v":""}]
[null,null,"Total pagos a cuenta",{"$f":"SUM(D131:D141)","v":0}]
[null,null,"SALDO A PAGAR",{"$f":"+ROUND(D129,2)-D130-D142","v":0}]

{"sheet":"Empleado36","index":40,"n_rows":143,"n_cols":11,"rows_kept":143,"cut":false,"hidden":false,"merged":[[10,7,11,9]]}
[]
[]
[null,null,"LIQUIDACIÓN DE IMPUESTO A LAS GANANCIAS - 4ta. CATEGORÍA RELACIÓN DE DEPENDENCIA"]
[]
[]
[null,null,"Empleado: Nombre y apellido "]
[null,null,"CUIL del empleado",null,null,{"$f":"cuitValidar(D7)","v":"CUIT/CUIL vacío"}]
[null,null,{"$f":"\"Agente de Retención: \"","v":"Agente de Retención: "},{"$f":"Datos!C7&\" - \"&Datos!C5","v":"33711238269 - OPERACIONES AGROPORTUARIAS S.A."}]
[null,null,{"$f":"\"Período Fiscal: \"","v":"Período Fiscal: "},{"$f":"YEAR(Datos!C13)","v":2021}]
[null,null,"Período trabajado (desde):","2021-01-01"]
[null,null,"Período trabajado (hasta):","2021-09-25",null,null,null,{"$f":"IF(MONTH(D11)>MONTH(Datos!C13),\"El período trabajado no puede ser mayor al período que se informa (mes \"&MONTH(Datos!C13)&\")\",\"\")","v":""}]
[null,null,"Zona geográfica:","Todo el país (excepto zona patagónica)"]
[null,null,"Transporte a larga distancia","No desarrolla la actividad"]
[null,null,"Beneficio promocional 27424?","No"]
[null,null,"Beneficio de la ley 27549?","No"]
[null,null,"El trabajador labora bajo el régimen de teletrabajo (Ley 27555)?","No"]
[null,null,"El trabajador es personal militar en actividad?","No"]
[]
[null,null,"REMUNERACIONES"]
[null,null,"Abonadas por el agente de retención:"]
[null,null,"Remuneración bruta gravada",0]
[null,null,"Retribuciones no habituales gravadas",0]
[null,null,"SAC primera cuota gravado",0]
[null,null,"SAC segunda cuota gravado",0]
[null,null,"Horas extras remuneración gravada",0,null,null,0,"% de retenciones"]
[null,null,"Movilidad y viáticos remuneración gravada",0]
[null,null,"Material didáctico personal docente remuneración gravada",0]
[null,null,"Remuneración no alcanzada o exenta (sin horas extras)",0]
[null,null,"Remuneración exenta ley 27549",0,null,{"$f":"IF(AND($D$15=\"No\",D29<>0),\"Para que sea procedente el beneficio, modifique el valor en la celda D15\",\"\")","v":""}]
[null,null,"Retribuciones no habituales exentas o no alcanzadas",0]
[null,null,"Horas extras remuneración exenta",0]
[null,null,"Movilidad y viáticos remuneración exenta",0]
[null,null,"Material didáctico personal docente remuneración exenta",0]
[null,null,"Bonos de productividad gravados",0]
[null,null,"Fallos de caja gravados",0]
[null,null,"Conceptos de similar naturaleza gravados",0]
[null,null,"Bonos de productividad exentos",0]
[null,null,"Fallos de caja exentos",0]
[null,null,"Conceptos de similar naturaleza exentos",0]
[null,null,"Compensación de gastos de teletrabajo exentos",0]
[null,null,"Personal militar - suplementos art. 57 ley 19.101 - exentos",0]
[null,null,"SAC primera cuota - No alcanzado o exento",0]
[null,null,"SAC segunda cuota - No alcanzado o exento",0]
[null,null,"Ajustes períodos anteriores - Remuneración gravada",0]
[null,null,"Ajustes períodos anteriores - Remuneración exenta / no alcanzada",0]
[null,null,"Otros empleos:"]
[null,null,"Remuneración bruta gravada ",0]
[null,null,"Retribuciones no habituales gravadas ",0]
[null,null,"SAC primera cuota gravado ",0]
[null,null,"SAC segunda cuota gravado ",0]
[null,null,"Horas extras remuneración gravada ",0,null,null,0,"% de retenciones"]
[null,null,"Movilidad y viáticos remuneración gravada ",0]
[null,null,"Material didáctico personal docente remuneración gravada ",0]
[null,null,"Remuneración no alcanzada o exenta ",0]
[null,null,"Remuneración exenta ley 27549 ",0,null,{"$f":"IF(AND($D$15=\"No\",D55<>0),\"Para que sea procedente el beneficio, modifique el valor en la celda D15\",\"\")","v":""}]
[null,null,"Retribuciones no habituales exentas o no alcanzadas ",0]
[null,null,"Horas extras remuneración exenta o no alcanzada ",0]
[null,null,"Movilidad y viáticos remuneración exenta o no alcanzada ",0]
[null,null,"Material didáctico personal docente remuneración exenta o no alcanzada ",0]
[null,null,"Bonos de productividad gravados ",0]
[null,null,"Fallos de caja gravados ",0]
[null,null,"Conceptos de similar naturaleza gravados ",0]
[null,null,"Bonos de productividad exentos ",0]
[null,null,"Fallos de caja exentos ",0]
[null,null,"Conceptos de similar naturaleza exentos ",0]
[null,null,"Compensación de gastos teletrabajo - exentos ",0]
[null,null,"Personal militar - suplementos art. 57 Ley 19101 - exentos ",0]
[null,null,"SAC primera cuota - No alcanzado o exento ",0]
[null,null,"SAC segunda cuota - No alcanzado o exento ",0]
[null,null,"Ajustes períodos anteriores - Remuneración gravada ",0]
[null,null,"Ajustes períodos anteriores - Remuneración no alcanzada o exenta ",0]
[null,null,"TOTAL REMUNERACIÓN GRAVADA",{"$f":"SUM(D21:E27,D44,D47:D53,D70)","v":0}]
[null,null,"TOTAL REMUNERACIÓN NO ALCANZADA O EXENTA",{"$f":"SUM(D28:D43,D45,D54:D69,D71)","v":0}]
[null,null,"TOTAL REMUNERACIONES",{"$f":"IF(+D72+D73<0,0,D72+D73)","v":0}]
[]
[null,null,"DEDUCCIONES GENERALES",null,null,null,null,"Topes máximos legales"]
[null,null,"Aportes a fondos de jubilaciones, retiros, pensiones o subsidios que se destinen a cajas nacionales, provinciales o municipales",0,null,{"$f":"validaciones(D77,H77,0)&IF(D77>$D$74,\" El importe no puede ser mayor a la remuneración total\",\"\")","v":""}]
[null,null,"Aportes a fondos de jubilaciones, retiros, pensiones o subsidios que se destinen a cajas nacionales, provinciales o municipales por otros empleos",0,null,{"$f":"validaciones(D78,H78,0)&IF(D78>$D$74,\" El importe no puede ser mayor a la remuneración total\",\"\")","v":""}]
[null,null,"Aportes a obra sociales",0,null,{"$f":"validaciones(D79,H79,0)&IF(D79>$D$74,\" El importe no puede ser mayor a la remuneración total\",\"\")","v":""}]
[null,null,"Aportes a obra sociales por otros empleos",0,null,{"$f":"validaciones(D80,H80,0)&IF(D80>$D$74,\" El importe no puede ser mayor a la remuneración total\",\"\")","v":""}]
[null,null,"Cuota sindical",0,null,{"$f":"validaciones(D81,H81,0)&IF(D81>$D$74,\" El importe no puede ser mayor a la remuneración total\",\"\")","v":""}]
[null,null,"Cuota sindical por otros empleos",0,null,{"$f":"validaciones(D82,H82,0)&IF(D82>$D$74,\" El importe no puede ser mayor a la remuneración total\",\"\")","v":""}]
[null,null,"Cuotas médico asistenciales",0,null,{"$f":"validaciones(D83,H83,0)","v":""},null,{"$f":"(D72-SUM(D77:D82,D84:D89,D91,D93:D94,D95:D103))*0.05","v":0}]
[null,null,"Primas de seguro para el caso de muerte",0,null,{"$f":"validaciones(D84,H84,0)&IF(AND(Datos!$C$11=\"Informativa\",D84<>0),\"En la DDJJ informativa, este campo debe consignarse en cero (0)\",\"\")","v":""},null,{"$f":"+Tablas!B2","v":24000}]
[null,null,"Primas por riesgo de muerte y de ahorro de seguros mixtos, excepto para los casos de seguros de retiro privados administrados por entidades sujetas al control de la Superintendencia de Seguros de la Nación",0,null,{"$f":"validaciones(D85,H85,0)&IF(AND(Datos!$C$11=\"Informativa\",D85<>0),\"En la DDJJ informativa, este campo debe consignarse en cero (0)\",\"\")","v":""},null,{"$f":"+H84","v":24000}]
[null,null,"Aportes a planes de seguro de retiro privados administrados por entidades sujetas al control de la Superintendencia de Seguros de la Nación",0,null,{"$f":"validaciones(D86,H86,0)&IF(AND(Datos!$C$11=\"Informativa\",D86<>0),\"En la DDJJ informativa, este campo debe consignarse en cero (0)\",\"\")","v":""},null,{"$f":"+H85","v":24000}]
[null,null,"Cuotapartes de fondos comunes de inversión constituidos con fines de retiro",0,null,{"$f":"validaciones(D87,H87,0)&IF(D87<>0,\"Deberá consignarse en cero (0), hasta que la Autoridad de Aplicación – CNV – autorice a las Entidades a funcionar e implemente el régimen.\",\"\")","v":""},null,0]
[null,null,"Gastos de sepelio",0,null,{"$f":"validaciones(D88,H88,0)","v":""},null,{"$f":"+Tablas!B6","v":996.23}]
[null,null,"Gastos amortización e intereses rodado para corredores y viajantes de comercio",0,null,{"$f":"validaciones(D89,H89,0)&IF(D89>$D$74,\" El importe no puede ser mayor a la remuneración total\",\"\")","v":""}]
[null,null,"Donaciones a fiscos nacional, provinciales y municipales, y a instituciones comprendidas en el artículo 26, incisos e) y f) de la ley",0,null,{"$f":"validaciones(D90,H90,0)","v":""},null,{"$f":"(D72-SUM(D77:D82,D84:D89,D91,D93:D94,D95:D103))*0.05","v":0}]
[null,null,"Descuentos obligatorios establecidos por ley nacional, provincial o municipal",0,null,{"$f":"validaciones(D91,H91,0)&IF(D91>$D$74,\" El importe no puede ser mayor a la remuneración total\",\"\")","v":""}]
[null,null,"Honorarios por servicios de asistencia sanitaria, médica y paramédica",0,null,{"$f":"validaciones(D92,H92,0)&IF(AND(Datos!$C$11=\"Informativa\",D92<>0),\"En la DDJJ informativa, este campo debe consignarse en cero (0)\",\"\")","v":""},null,{"$f":"(D72-SUM(D77:D82,D84:D89,D91,D93:D94,D95:D103))*0.05","v":0}]
[null,null,"Intereses de créditos hipotecarios",0,null,{"$f":"validaciones(D93,H93,0)","v":""},null,{"$f":"+Tablas!B3","v":20000}]
[null,null,"Aportes al capital social o al fondo de riesgo de socios protectores de sociedades de garantía recíproca",0,null,{"$f":"validaciones(D94,H94,0)","v":""}]
[null,null,"Alquileres de inmuebles destinados a casa habitación",0,null,{"$f":"validaciones(D95,H95,0)","v":""},null,{"$f":"IF(Datos!C11=\"Final\",ROUND(Tablas!B4/12*12,2),ROUND(Tablas!B4/12*MONTH(Datos!C13),2))","v":167678.39999999999}]
[null,null,"Empleados del servicio doméstico",0,null,{"$f":"validaciones(D96,H96,0)","v":""},null,{"$f":"Tablas!B4","v":167678.39999999999}]
[null,null,"Gastos de movilidad, viáticos y otras compensaciones análogas abonados por el empleador",0,null,{"$f":"validaciones(D97,H97,0)","v":""},null,{"$f":"IF(D13=\"Desarrolla la actividad\",Tablas!B4,Tablas!B4*0.4)","v":67071.360000000001}]
[null,null,"Gastos por adquisición de indumentaria y/o equipamiento de trabajo",0,null,{"$f":"validaciones(D98,H98,0)","v":""}]
[null,null,"Otras deducciones - aportes a Cajas Complementarias de Previsión, Fondos Compensadores de Previsión o similares",0,null,{"$f":"validaciones(D99,H99,0)","v":""}]
[null,null,"Otras deducciones - Aportes para jubilaciones, retiros y subsidios ANSES",0,null,{"$f":"validaciones(D100,H100,0)","v":""}]
[null,null,"Otras deducciones - Cajas Provinciales o Municipales o de Previsión para Profesionales",0,null,{"$f":"validaciones(D101,H101,0)","v":""}]
[null,null,"Otras deducciones - Actores - Retribución pagada a los representantes - RG 2442/08",0,null,{"$f":"validaciones(D102,H102,0)","v":""}]
[null,null,"Otras deducciones - Fondos compensadores de previsión",0,null,{"$f":"validaciones(D103,H103,0)","v":""}]
[null,null,"Otras deducciones",{"$f":"+SUM(D99:E103)","v":0}]
[null,null,"TOTAL DEDUCCIONES GENERALES",{"$f":"SUM(D77:E103)","v":0},null,null,null,null,null,null,{"$f":"+D72-D105","v":0}]
[]
[null,null,"DEDUCCIONES PERSONALES",null,null,null,null,"Topes máximos legales"]
[null,null,"Ganancia no imponible",125758.8,null,{"$f":"validaciones(D108,H108,0)","v":""},null,{"$f":"deducciones(1,Datos!C11,MONTH(Datos!$C$13),$D$12)","v":167678.39999999999},null,null,{"$f":"IF(K105-K109<=0,0,IF(K105-K109<=H108,K105-K109,H108))","v":0}]
[null,null,"Deducción especial",603642.26,null,{"$f":"validaciones(D109,H109,0)","v":""},null,{"$f":"deducciones(2,Datos!$C$11,MONTH(Datos!$C$13),$D$12)","v":804856.34},null,null,{"$f":"IF(K105<=H109,K105,H109)","v":0}]
[null,null,"Deducción Especial Incrementada Primera parte del penúltimo párrafo del inciso c) del artículo 30 de la ley del gravamen",0]
[null,null,"Deducción Especial Incrementada Segunda parte del penúltimo párrafo del inciso c) del artículo 30 de la ley del gravamen",0]
[null,null,"Deducción específica",0,null,{"$f":"validaciones(D112,H112,0)","v":""},null,0]
[null,null,"Cargas de familia"]
[null,null,"Cónyuge",0,null,{"$f":"validaciones(D114,H114,0)","v":""},null,{"$f":"cargas_de_familia(4,Datos!$C$11,MONTH(Datos!$C$13),$D$12)","v":156320.63},null,null,{"$f":"IF(K105-K108-K109>=D114,D114,K105-K108-K109)","v":0}]
[null,null,"Cantidad de hijos e hijastros",0,null,{"$f":"validaciones(D115,H115,0)","v":""},null,99]
[null,null,"Deducción total hijos e hijastros",0,null,null,null,{"$f":"cargas_de_familia(3,Datos!$C$11,MONTH(Datos!$C$13),$D$12)*D115","v":0},null,null,{"$f":"IF(K105-K108-K109-K114>=D116,D116,K105-K108-K109-K114)","v":0}]
[null,null,"Cantidad de hijos e hijastros incapacitados para el trabajo",0,null,{"$f":"validaciones(D117,H117,0)","v":""},null,99]
[null,null,"Hijos / Hijastros incapacitados para el trabajo",0,null,null,null,{"$f":"cargas_de_familia(5,Datos!$C$11,MONTH(Datos!$C$13),$D$12)","v":157666.16}]
[null,null,"Total de cargas de familia",{"$f":"+D114+D116+D118","v":0},null,null,null,0]
[null,null,"TOTAL DEDUCCIONES PERSONALES",{"$f":"SUM(D108:D112,D119)","v":729401.06}]
[]
[null,null,"DETERMINACIÓN DEL IMPUESTO"]
[null,null,"REMUNERACIÓN NETA SUJETA A IMPUESTO -antes de la deducción art. 46 L. 27541-",0]
[null,null,"Deducción inciso a) primer párrafo artículo 30 de la ley (cfr. art. 46 L. 27541)",0,null,null,null,0,null,null,{"$f":"IF(D123-K125<=0,0,IF(D123-K125<=H124,D123-K125,H124))","v":0}]
[null,null,"Deducción inciso c) primer párrafo artículo 30 de la ley (cfr. art. 46 L. 27541)",0,null,null,null,0,null,null,{"$f":"IF(D123<=H125,D123,H125)","v":0}]
[null,null,"REMUNERACIÓN SUJETA A IMPUESTO",{"$f":"IF(+D72-D105-D120<0,0,+D72-D105-D120)","v":0}]
[null,null,"Alícuota aplicable artículo 94 ley de impuesto a las ganancias",{"$f":"IF(OR(Datos!C11=\"Final\",Datos!C11=\"Anual\"),impuestoAlicuota(D126,D25*(1-G25)+D51*(1-G51),12),impuestoAlicuota(D126,D25*(1-G25)+D51*(1-G51),MONTH(D11)))","v":0}]
[null,null,"Alícuota aplicable sin incluir horas extras",{"$f":"IF(OR(Datos!C11=\"Final\",Datos!C11=\"Anual\"),impuestoAlicuota(D126,0,12),impuestoAlicuota(D126,0,MONTH(D11)))","v":0}]
[null,null,"IMPUESTO DETERMINADO",{"$f":"IF(D126<0,0,IF(OR(Datos!C11=\"Final\",Datos!C11=\"Anual\"),impuestoDeterminado(D126,D25*(1-G25)+D51*(1-G51),12),impuestoDeterminado(D126,D25*(1-G25)+D51*(1-G51),MONTH(D11))))","v":0}]
[null,null,"Impuesto retenido",0]
[null,null,"Pagos a cuenta - Impuesto sobre créditos y débitos",0,null,{"$f":"IF(AND(Datos!$C$11=\"Informativa\",D131<>0),\"En la DDJJ informativa, este campo debe consignarse en cero (0)\",\"\")","v":""}]
[null,null,"Pagos a cuenta - Percepciones / Retenciones aduaneras",0,null,{"$f":"IF(AND(Datos!$C$11=\"Informativa\",D132<>0),\"En la DDJJ informativa, este campo debe consignarse en cero (0)\",\"\")","v":""}]
[null,null,"Pagos a cuenta - RG (AFIP) 3819/2015 - Cancelaciones en efectivo",0,null,{"$f":"IF(AND(Datos!$C$11=\"Informativa\",D133<>0),\"En la DDJJ informativa, este campo debe consignarse en cero (0)\",\"\")","v":""}]
[null,null,"Pagos a cuenta - Bono ley 27.424",0,null,{"$f":"IF(AND(Datos!$C$11=\"Informativa\",D134<>0),\"En la DDJJ informativa, este campo debe consignarse en cero (0)\",\"\")","v":""}]
[null,null,"Pagos a cuenta - RG 4815 [LEY 27.541 Art. 35 inciso a)] ",0,null,{"$f":"IF(AND(Datos!$C$11=\"Informativa\",D135<>0),\"En la DDJJ informativa, este campo debe consignarse en cero (0)\",\"\")","v":""}]
[null,null,"Pagos a cuenta - RG 4815 [LEY 27.541 Art. 35 inciso b)] ",0,null,{"$f":"IF(AND(Datos!$C$11=\"Informativa\",D136<>0),\"En la DDJJ informativa, este campo debe consignarse en cero (0)\",\"\")","v":""}]
[null,null,"Pagos a cuenta - RG 4815 [LEY 27.541 Art. 35 inciso c)] ",0,null,{"$f":"IF(AND(Datos!$C$11=\"Informativa\",D137<>0),\"En la DDJJ informativa, este campo debe consignarse en cero (0)\",\"\")","v":""}]
[null,null,"Pagos a cuenta - RG 4815 [LEY 27.541 Art. 35 inciso d)] ",0,null,{"$f":"IF(AND(Datos!$C$11=\"Informativa\",D138<>0),\"En la DDJJ informativa, este campo debe consignarse en cero (0)\",\"\")","v":""}]
[null,null,"Pagos a cuenta - RG 4815 [LEY 27.541 Art. 35 inciso e)] ",0,null,{"$f":"IF(AND(Datos!$C$11=\"Informativa\",D139<>0),\"En la DDJJ informativa, este campo debe consignarse en cero (0)\",\"\")","v":""}]
[null,null,"Pagos a cuenta - Impuesto sobre créditos y débitos - sobre movimientos de fondos propios o de terceros",0,null,{"$f":"IF(AND(Datos!$C$11=\"Informativa\",D140<>0),\"En la DDJJ informativa, este campo debe consignarse en cero (0)\",\"\")","v":""}]
[null,null,"Pagos a cuenta - Resolución General (AFIP) 3819/2015 - Cancelaciones en Efectivo -Servicios de transporte terrestre, aéreo y por vía acuática de pasajeros con destino fuera del país",0,null,{"$f":"IF(AND(Datos!$C$11=\"Informativa\",D141<>0),\"En la DDJJ informativa, este campo debe consignarse en cero (0)\",\"\")","v":""}]
[null,null,"Total pagos a cuenta",{"$f":"SUM(D131:D141)","v":0}]
[null,null,"SALDO A PAGAR",{"$f":"+ROUND(D129,2)-D130-D142","v":0}]

{"sheet":"Empleado37","index":41,"n_rows":143,"n_cols":11,"rows_kept":143,"cut":false,"hidden":false,"merged":[[10,7,11,9]]}
[]
[]
[null,null,"LIQUIDACIÓN DE IMPUESTO A LAS GANANCIAS - 4ta. CATEGORÍA RELACIÓN DE DEPENDENCIA"]
[]
[]
[null,null,"Empleado: Nombre y apellido "]
[null,null,"CUIL del empleado",null,null,{"$f":"cuitValidar(D7)","v":"CUIT/CUIL vacío"}]
[null,null,{"$f":"\"Agente de Retención: \"","v":"Agente de Retención: "},{"$f":"Datos!C7&\" - \"&Datos!C5","v":"33711238269 - OPERACIONES AGROPORTUARIAS S.A."}]
[null,null,{"$f":"\"Período Fiscal: \"","v":"Período Fiscal: "},{"$f":"YEAR(Datos!C13)","v":2021}]
[null,null,"Período trabajado (desde):","2021-01-01"]
[null,null,"Período trabajado (hasta):","2021-09-25",null,null,null,{"$f":"IF(MONTH(D11)>MONTH(Datos!C13),\"El período trabajado no puede ser mayor al período que se informa (mes \"&MONTH(Datos!C13)&\")\",\"\")","v":""}]
[null,null,"Zona geográfica:","Todo el país (excepto zona patagónica)"]
[null,null,"Transporte a larga distancia","No desarrolla la actividad"]
[null,null,"Beneficio promocional 27424?","No"]
[null,null,"Beneficio de la ley 27549?","No"]
[null,null,"El trabajador labora bajo el régimen de teletrabajo (Ley 27555)?","No"]
[null,null,"El trabajador es personal militar en actividad?","No"]
[]
[null,null,"REMUNERACIONES"]
[null,null,"Abonadas por el agente de retención:"]
[null,null,"Remuneración bruta gravada",0]
[null,null,"Retribuciones no habituales gravadas",0]
[null,null,"SAC primera cuota gravado",0]
[null,null,"SAC segunda cuota gravado",0]
[null,null,"Horas extras remuneración gravada",0,null,null,0,"% de retenciones"]
[null,null,"Movilidad y viáticos remuneración gravada",0]
[null,null,"Material didáctico personal docente remuneración gravada",0]
[null,null,"Remuneración no alcanzada o exenta (sin horas extras)",0]
[null,null,"Remuneración exenta ley 27549",0,null,{"$f":"IF(AND($D$15=\"No\",D29<>0),\"Para que sea procedente el beneficio, modifique el valor en la celda D15\",\"\")","v":""}]
[null,null,"Retribuciones no habituales exentas o no alcanzadas",0]
[null,null,"Horas extras remuneración exenta",0]
[null,null,"Movilidad y viáticos remuneración exenta",0]
[null,null,"Material didáctico personal docente remuneración exenta",0]
[null,null,"Bonos de productividad gravados",0]
[null,null,"Fallos de caja gravados",0]
[null,null,"Conceptos de similar naturaleza gravados",0]
[null,null,"Bonos de productividad exentos",0]
[null,null,"Fallos de caja exentos",0]
[null,null,"Conceptos de similar naturaleza exentos",0]
[null,null,"Compensación de gastos de teletrabajo exentos",0]
[null,null,"Personal militar - suplementos art. 57 ley 19.101 - exentos",0]
[null,null,"SAC primera cuota - No alcanzado o exento",0]
[null,null,"SAC segunda cuota - No alcanzado o exento",0]
[null,null,"Ajustes períodos anteriores - Remuneración gravada",0]
[null,null,"Ajustes períodos anteriores - Remuneración exenta / no alcanzada",0]
[null,null,"Otros empleos:"]
[null,null,"Remuneración bruta gravada ",0]
[null,null,"Retribuciones no habituales gravadas ",0]
[null,null,"SAC primera cuota gravado ",0]
[null,null,"SAC segunda cuota gravado ",0]
[null,null,"Horas extras remuneración gravada ",0,null,null,0,"% de retenciones"]
[null,null,"Movilidad y viáticos remuneración gravada ",0]
[null,null,"Material didáctico personal docente remuneración gravada ",0]
[null,null,"Remuneración no alcanzada o exenta ",0]
[null,null,"Remuneración exenta ley 27549 ",0,null,{"$f":"IF(AND($D$15=\"No\",D55<>0),\"Para que sea procedente el beneficio, modifique el valor en la celda D15\",\"\")","v":""}]
[null,null,"Retribuciones no habituales exentas o no alcanzadas ",0]
[null,null,"Horas extras remuneración exenta o no alcanzada ",0]
[null,null,"Movilidad y viáticos remuneración exenta o no alcanzada ",0]
[null,null,"Material didáctico personal docente remuneración exenta o no alcanzada ",0]
[null,null,"Bonos de productividad gravados ",0]
[null,null,"Fallos de caja gravados ",0]
[null,null,"Conceptos de similar naturaleza gravados ",0]
[null,null,"Bonos de productividad exentos ",0]
[null,null,"Fallos de caja exentos ",0]
[null,null,"Conceptos de similar naturaleza exentos ",0]
[null,null,"Compensación de gastos teletrabajo - exentos ",0]
[null,null,"Personal militar - suplementos art. 57 Ley 19101 - exentos ",0]
[null,null,"SAC primera cuota - No alcanzado o exento ",0]
[null,null,"SAC segunda cuota - No alcanzado o exento ",0]
[null,null,"Ajustes períodos anteriores - Remuneración gravada ",0]
[null,null,"Ajustes períodos anteriores - Remuneración no alcanzada o exenta ",0]
[null,null,"TOTAL REMUNERACIÓN GRAVADA",{"$f":"SUM(D21:E27,D44,D47:D53,D70)","v":0}]
[null,null,"TOTAL REMUNERACIÓN NO ALCANZADA O EXENTA",{"$f":"SUM(D28:D43,D45,D54:D69,D71)","v":0}]
[null,null,"TOTAL REMUNERACIONES",{"$f":"IF(+D72+D73<0,0,D72+D73)","v":0}]
[]
[null,null,"DEDUCCIONES GENERALES",null,null,null,null,"Topes máximos legales"]
[null,null,"Aportes a fondos de jubilaciones, retiros, pensiones o subsidios que se destinen a cajas nacionales, provinciales o municipales",0,null,{"$f":"validaciones(D77,H77,0)&IF(D77>$D$74,\" El importe no puede ser mayor a la remuneración total\",\"\")","v":""}]
[null,null,"Aportes a fondos de jubilaciones, retiros, pensiones o subsidios que se destinen a cajas nacionales, provinciales o municipales por otros empleos",0,null,{"$f":"validaciones(D78,H78,0)&IF(D78>$D$74,\" El importe no puede ser mayor a la remuneración total\",\"\")","v":""}]
[null,null,"Aportes a obra sociales",0,null,{"$f":"validaciones(D79,H79,0)&IF(D79>$D$74,\" El importe no puede ser mayor a la remuneración total\",\"\")","v":""}]
[null,null,"Aportes a obra sociales por otros empleos",0,null,{"$f":"validaciones(D80,H80,0)&IF(D80>$D$74,\" El importe no puede ser mayor a la remuneración total\",\"\")","v":""}]
[null,null,"Cuota sindical",0,null,{"$f":"validaciones(D81,H81,0)&IF(D81>$D$74,\" El importe no puede ser mayor a la remuneración total\",\"\")","v":""}]
[null,null,"Cuota sindical por otros empleos",0,null,{"$f":"validaciones(D82,H82,0)&IF(D82>$D$74,\" El importe no puede ser mayor a la remuneración total\",\"\")","v":""}]
[null,null,"Cuotas médico asistenciales",0,null,{"$f":"validaciones(D83,H83,0)","v":""},null,{"$f":"(D72-SUM(D77:D82,D84:D89,D91,D93:D94,D95:D103))*0.05","v":0}]
[null,null,"Primas de seguro para el caso de muerte",0,null,{"$f":"validaciones(D84,H84,0)&IF(AND(Datos!$C$11=\"Informativa\",D84<>0),\"En la DDJJ informativa, este campo debe consignarse en cero (0)\",\"\")","v":""},null,{"$f":"+Tablas!B2","v":24000}]
[null,null,"Primas por riesgo de muerte y de ahorro de seguros mixtos, excepto para los casos de seguros de retiro privados administrados por entidades sujetas al control de la Superintendencia de Seguros de la Nación",0,null,{"$f":"validaciones(D85,H85,0)&IF(AND(Datos!$C$11=\"Informativa\",D85<>0),\"En la DDJJ informativa, este campo debe consignarse en cero (0)\",\"\")","v":""},null,{"$f":"+H84","v":24000}]
[null,null,"Aportes a planes de seguro de retiro privados administrados por entidades sujetas al control de la Superintendencia de Seguros de la Nación",0,null,{"$f":"validaciones(D86,H86,0)&IF(AND(Datos!$C$11=\"Informativa\",D86<>0),\"En la DDJJ informativa, este campo debe consignarse en cero (0)\",\"\")","v":""},null,{"$f":"+H85","v":24000}]
[null,null,"Cuotapartes de fondos comunes de inversión constituidos con fines de retiro",0,null,{"$f":"validaciones(D87,H87,0)&IF(D87<>0,\"Deberá consignarse en cero (0), hasta que la Autoridad de Aplicación – CNV – autorice a las Entidades a funcionar e implemente el régimen.\",\"\")","v":""},null,0]
[null,null,"Gastos de sepelio",0,null,{"$f":"validaciones(D88,H88,0)","v":""},null,{"$f":"+Tablas!B6","v":996.23}]
[null,null,"Gastos amortización e intereses rodado para corredores y viajantes de comercio",0,null,{"$f":"validaciones(D89,H89,0)&IF(D89>$D$74,\" El importe no puede ser mayor a la remuneración total\",\"\")","v":""}]
[null,null,"Donaciones a fiscos nacional, provinciales y municipales, y a instituciones comprendidas en el artículo 26, incisos e) y f) de la ley",0,null,{"$f":"validaciones(D90,H90,0)","v":""},null,{"$f":"(D72-SUM(D77:D82,D84:D89,D91,D93:D94,D95:D103))*0.05","v":0}]
[null,null,"Descuentos obligatorios establecidos por ley nacional, provincial o municipal",0,null,{"$f":"validaciones(D91,H91,0)&IF(D91>$D$74,\" El importe no puede ser mayor a la remuneración total\",\"\")","v":""}]
[null,null,"Honorarios por servicios de asistencia sanitaria, médica y paramédica",0,null,{"$f":"validaciones(D92,H92,0)&IF(AND(Datos!$C$11=\"Informativa\",D92<>0),\"En la DDJJ informativa, este campo debe consignarse en cero (0)\",\"\")","v":""},null,{"$f":"(D72-SUM(D77:D82,D84:D89,D91,D93:D94,D95:D103))*0.05","v":0}]
[null,null,"Intereses de créditos hipotecarios",0,null,{"$f":"validaciones(D93,H93,0)","v":""},null,{"$f":"+Tablas!B3","v":20000}]
[null,null,"Aportes al capital social o al fondo de riesgo de socios protectores de sociedades de garantía recíproca",0,null,{"$f":"validaciones(D94,H94,0)","v":""}]
[null,null,"Alquileres de inmuebles destinados a casa habitación",0,null,{"$f":"validaciones(D95,H95,0)","v":""},null,{"$f":"IF(Datos!C11=\"Final\",ROUND(Tablas!B4/12*12,2),ROUND(Tablas!B4/12*MONTH(Datos!C13),2))","v":167678.39999999999}]
[null,null,"Empleados del servicio doméstico",0,null,{"$f":"validaciones(D96,H96,0)","v":""},null,{"$f":"Tablas!B4","v":167678.39999999999}]
[null,null,"Gastos de movilidad, viáticos y otras compensaciones análogas abonados por el empleador",0,null,{"$f":"validaciones(D97,H97,0)","v":""},null,{"$f":"IF(D13=\"Desarrolla la actividad\",Tablas!B4,Tablas!B4*0.4)","v":67071.360000000001}]
[null,null,"Gastos por adquisición de indumentaria y/o equipamiento de trabajo",0,null,{"$f":"validaciones(D98,H98,0)","v":""}]
[null,null,"Otras deducciones - aportes a Cajas Complementarias de Previsión, Fondos Compensadores de Previsión o similares",0,null,{"$f":"validaciones(D99,H99,0)","v":""}]
[null,null,"Otras deducciones - Aportes para jubilaciones, retiros y subsidios ANSES",0,null,{"$f":"validaciones(D100,H100,0)","v":""}]
[null,null,"Otras deducciones - Cajas Provinciales o Municipales o de Previsión para Profesionales",0,null,{"$f":"validaciones(D101,H101,0)","v":""}]
[null,null,"Otras deducciones - Actores - Retribución pagada a los representantes - RG 2442/08",0,null,{"$f":"validaciones(D102,H102,0)","v":""}]
[null,null,"Otras deducciones - Fondos compensadores de previsión",0,null,{"$f":"validaciones(D103,H103,0)","v":""}]
[null,null,"Otras deducciones",{"$f":"+SUM(D99:E103)","v":0}]
[null,null,"TOTAL DEDUCCIONES GENERALES",{"$f":"SUM(D77:E103)","v":0},null,null,null,null,null,null,{"$f":"+D72-D105","v":0}]
[]
[null,null,"DEDUCCIONES PERSONALES",null,null,null,null,"Topes máximos legales"]
[null,null,"Ganancia no imponible",125758.8,null,{"$f":"validaciones(D108,H108,0)","v":""},null,{"$f":"deducciones(1,Datos!C11,MONTH(Datos!$C$13),$D$12)","v":167678.39999999999},null,null,{"$f":"IF(K105-K109<=0,0,IF(K105-K109<=H108,K105-K109,H108))","v":0}]
[null,null,"Deducción especial",603642.26,null,{"$f":"validaciones(D109,H109,0)","v":""},null,{"$f":"deducciones(2,Datos!$C$11,MONTH(Datos!$C$13),$D$12)","v":804856.34},null,null,{"$f":"IF(K105<=H109,K105,H109)","v":0}]
[null,null,"Deducción Especial Incrementada Primera parte del penúltimo párrafo del inciso c) del artículo 30 de la ley del gravamen",0]
[null,null,"Deducción Especial Incrementada Segunda parte del penúltimo párrafo del inciso c) del artículo 30 de la ley del gravamen",0]
[null,null,"Deducción específica",0,null,{"$f":"validaciones(D112,H112,0)","v":""},null,0]
[null,null,"Cargas de familia"]
[null,null,"Cónyuge",0,null,{"$f":"validaciones(D114,H114,0)","v":""},null,{"$f":"cargas_de_familia(4,Datos!$C$11,MONTH(Datos!$C$13),$D$12)","v":156320.63},null,null,{"$f":"IF(K105-K108-K109>=D114,D114,K105-K108-K109)","v":0}]
[null,null,"Cantidad de hijos e hijastros",0,null,{"$f":"validaciones(D115,H115,0)","v":""},null,99]
[null,null,"Deducción total hijos e hijastros",0,null,null,null,{"$f":"cargas_de_familia(3,Datos!$C$11,MONTH(Datos!$C$13),$D$12)*D115","v":0},null,null,{"$f":"IF(K105-K108-K109-K114>=D116,D116,K105-K108-K109-K114)","v":0}]
[null,null,"Cantidad de hijos e hijastros incapacitados para el trabajo",0,null,{"$f":"validaciones(D117,H117,0)","v":""},null,99]
[null,null,"Hijos / Hijastros incapacitados para el trabajo",0,null,null,null,{"$f":"cargas_de_familia(5,Datos!$C$11,MONTH(Datos!$C$13),$D$12)","v":157666.16}]
[null,null,"Total de cargas de familia",{"$f":"+D114+D116+D118","v":0},null,null,null,0]
[null,null,"TOTAL DEDUCCIONES PERSONALES",{"$f":"SUM(D108:D112,D119)","v":729401.06}]
[]
[null,null,"DETERMINACIÓN DEL IMPUESTO"]
[null,null,"REMUNERACIÓN NETA SUJETA A IMPUESTO -antes de la deducción art. 46 L. 27541-",0]
[null,null,"Deducción inciso a) primer párrafo artículo 30 de la ley (cfr. art. 46 L. 27541)",0,null,null,null,0,null,null,{"$f":"IF(D123-K125<=0,0,IF(D123-K125<=H124,D123-K125,H124))","v":0}]
[null,null,"Deducción inciso c) primer párrafo artículo 30 de la ley (cfr. art. 46 L. 27541)",0,null,null,null,0,null,null,{"$f":"IF(D123<=H125,D123,H125)","v":0}]
[null,null,"REMUNERACIÓN SUJETA A IMPUESTO",{"$f":"IF(+D72-D105-D120<0,0,+D72-D105-D120)","v":0}]
[null,null,"Alícuota aplicable artículo 94 ley de impuesto a las ganancias",{"$f":"IF(OR(Datos!C11=\"Final\",Datos!C11=\"Anual\"),impuestoAlicuota(D126,D25*(1-G25)+D51*(1-G51),12),impuestoAlicuota(D126,D25*(1-G25)+D51*(1-G51),MONTH(D11)))","v":0}]
[null,null,"Alícuota aplicable sin incluir horas extras",{"$f":"IF(OR(Datos!C11=\"Final\",Datos!C11=\"Anual\"),impuestoAlicuota(D126,0,12),impuestoAlicuota(D126,0,MONTH(D11)))","v":0}]
[null,null,"IMPUESTO DETERMINADO",{"$f":"IF(D126<0,0,IF(OR(Datos!C11=\"Final\",Datos!C11=\"Anual\"),impuestoDeterminado(D126,D25*(1-G25)+D51*(1-G51),12),impuestoDeterminado(D126,D25*(1-G25)+D51*(1-G51),MONTH(D11))))","v":0}]
[null,null,"Impuesto retenido",0]
[null,null,"Pagos a cuenta - Impuesto sobre créditos y débitos",0,null,{"$f":"IF(AND(Datos!$C$11=\"Informativa\",D131<>0),\"En la DDJJ informativa, este campo debe consignarse en cero (0)\",\"\")","v":""}]
[null,null,"Pagos a cuenta - Percepciones / Retenciones aduaneras",0,null,{"$f":"IF(AND(Datos!$C$11=\"Informativa\",D132<>0),\"En la DDJJ informativa, este campo debe consignarse en cero (0)\",\"\")","v":""}]
[null,null,"Pagos a cuenta - RG (AFIP) 3819/2015 - Cancelaciones en efectivo",0,null,{"$f":"IF(AND(Datos!$C$11=\"Informativa\",D133<>0),\"En la DDJJ informativa, este campo debe consignarse en cero (0)\",\"\")","v":""}]
[null,null,"Pagos a cuenta - Bono ley 27.424",0,null,{"$f":"IF(AND(Datos!$C$11=\"Informativa\",D134<>0),\"En la DDJJ informativa, este campo debe consignarse en cero (0)\",\"\")","v":""}]
[null,null,"Pagos a cuenta - RG 4815 [LEY 27.541 Art. 35 inciso a)] ",0,null,{"$f":"IF(AND(Datos!$C$11=\"Informativa\",D135<>0),\"En la DDJJ informativa, este campo debe consignarse en cero (0)\",\"\")","v":""}]
[null,null,"Pagos a cuenta - RG 4815 [LEY 27.541 Art. 35 inciso b)] ",0,null,{"$f":"IF(AND(Datos!$C$11=\"Informativa\",D136<>0),\"En la DDJJ informativa, este campo debe consignarse en cero (0)\",\"\")","v":""}]
[null,null,"Pagos a cuenta - RG 4815 [LEY 27.541 Art. 35 inciso c)] ",0,null,{"$f":"IF(AND(Datos!$C$11=\"Informativa\",D137<>0),\"En la DDJJ informativa, este campo debe consignarse en cero (0)\",\"\")","v":""}]
[null,null,"Pagos a cuenta - RG 4815 [LEY 27.541 Art. 35 inciso d)] ",0,null,{"$f":"IF(AND(Datos!$C$11=\"Informativa\",D138<>0),\"En la DDJJ informativa, este campo debe consignarse en cero (0)\",\"\")","v":""}]
[null,null,"Pagos a cuenta - RG 4815 [LEY 27.541 Art. 35 inciso e)] ",0,null,{"$f":"IF(AND(Datos!$C$11=\"Informativa\",D139<>0),\"En la DDJJ informativa, este campo debe consignarse en cero (0)\",\"\")","v":""}]
[null,null,"Pagos a cuenta - Impuesto sobre créditos y débitos - sobre movimientos de fondos propios o de terceros",0,null,{"$f":"IF(AND(Datos!$C$11=\"Informativa\",D140<>0),\"En la DDJJ informativa, este campo debe consignarse en cero (0)\",\"\")","v":""}]
[null,null,"Pagos a cuenta - Resolución General (AFIP) 3819/2015 - Cancelaciones en Efectivo -Servicios de transporte terrestre, aéreo y por vía acuática de pasajeros con destino fuera del país",0,null,{"$f":"IF(AND(Datos!$C$11=\"Informativa\",D141<>0),\"En la DDJJ informativa, este campo debe consignarse en cero (0)\",\"\")","v":""}]
[null,null,"Total pagos a cuenta",{"$f":"SUM(D131:D141)","v":0}]
[null,null,"SALDO A PAGAR",{"$f":"+ROUND(D129,2)-D130-D142","v":0}]

{"sheet":"Empleado38","index":42,"n_rows":143,"n_cols":11,"rows_kept":143,"cut":false,"hidden":false,"merged":[[10,7,11,9]]}
[]
[]
[null,null,"LIQUIDACIÓN DE IMPUESTO A LAS GANANCIAS - 4ta. CATEGORÍA RELACIÓN DE DEPENDENCIA"]
[]
[]
[null,null,"Empleado: Nombre y apellido "]
[null,null,"CUIL del empleado",null,null,{"$f":"cuitValidar(D7)","v":"CUIT/CUIL vacío"}]
[null,null,{"$f":"\"Agente de Retención: \"","v":"Agente de Retención: "},{"$f":"Datos!C7&\" - \"&Datos!C5","v":"33711238269 - OPERACIONES AGROPORTUARIAS S.A."}]
[null,null,{"$f":"\"Período Fiscal: \"","v":"Período Fiscal: "},{"$f":"YEAR(Datos!C13)","v":2021}]
[null,null,"Período trabajado (desde):","2021-01-01"]
[null,null,"Período trabajado (hasta):","2021-09-25",null,null,null,{"$f":"IF(MONTH(D11)>MONTH(Datos!C13),\"El período trabajado no puede ser mayor al período que se informa (mes \"&MONTH(Datos!C13)&\")\",\"\")","v":""}]
[null,null,"Zona geográfica:","Todo el país (excepto zona patagónica)"]
[null,null,"Transporte a larga distancia","No desarrolla la actividad"]
[null,null,"Beneficio promocional 27424?","No"]
[null,null,"Beneficio de la ley 27549?","No"]
[null,null,"El trabajador labora bajo el régimen de teletrabajo (Ley 27555)?","No"]
[null,null,"El trabajador es personal militar en actividad?","No"]
[]
[null,null,"REMUNERACIONES"]
[null,null,"Abonadas por el agente de retención:"]
[null,null,"Remuneración bruta gravada",0]
[null,null,"Retribuciones no habituales gravadas",0]
[null,null,"SAC primera cuota gravado",0]
[null,null,"SAC segunda cuota gravado",0]
[null,null,"Horas extras remuneración gravada",0,null,null,0,"% de retenciones"]
[null,null,"Movilidad y viáticos remuneración gravada",0]
[null,null,"Material didáctico personal docente remuneración gravada",0]
[null,null,"Remuneración no alcanzada o exenta (sin horas extras)",0]
[null,null,"Remuneración exenta ley 27549",0,null,{"$f":"IF(AND($D$15=\"No\",D29<>0),\"Para que sea procedente el beneficio, modifique el valor en la celda D15\",\"\")","v":""}]
[null,null,"Retribuciones no habituales exentas o no alcanzadas",0]
[null,null,"Horas extras remuneración exenta",0]
[null,null,"Movilidad y viáticos remuneración exenta",0]
[null,null,"Material didáctico personal docente remuneración exenta",0]
[null,null,"Bonos de productividad gravados",0]
[null,null,"Fallos de caja gravados",0]
[null,null,"Conceptos de similar naturaleza gravados",0]
[null,null,"Bonos de productividad exentos",0]
[null,null,"Fallos de caja exentos",0]
[null,null,"Conceptos de similar naturaleza exentos",0]
[null,null,"Compensación de gastos de teletrabajo exentos",0]
[null,null,"Personal militar - suplementos art. 57 ley 19.101 - exentos",0]
[null,null,"SAC primera cuota - No alcanzado o exento",0]
[null,null,"SAC segunda cuota - No alcanzado o exento",0]
[null,null,"Ajustes períodos anteriores - Remuneración gravada",0]
[null,null,"Ajustes períodos anteriores - Remuneración exenta / no alcanzada",0]
[null,null,"Otros empleos:"]
[null,null,"Remuneración bruta gravada ",0]
[null,null,"Retribuciones no habituales gravadas ",0]
[null,null,"SAC primera cuota gravado ",0]
[null,null,"SAC segunda cuota gravado ",0]
[null,null,"Horas extras remuneración gravada ",0,null,null,0,"% de retenciones"]
[null,null,"Movilidad y viáticos remuneración gravada ",0]
[null,null,"Material didáctico personal docente remuneración gravada ",0]
[null,null,"Remuneración no alcanzada o exenta ",0]
[null,null,"Remuneración exenta ley 27549 ",0,null,{"$f":"IF(AND($D$15=\"No\",D55<>0),\"Para que sea procedente el beneficio, modifique el valor en la celda D15\",\"\")","v":""}]
[null,null,"Retribuciones no habituales exentas o no alcanzadas ",0]
[null,null,"Horas extras remuneración exenta o no alcanzada ",0]
[null,null,"Movilidad y viáticos remuneración exenta o no alcanzada ",0]
[null,null,"Material didáctico personal docente remuneración exenta o no alcanzada ",0]
[null,null,"Bonos de productividad gravados ",0]
[null,null,"Fallos de caja gravados ",0]
[null,null,"Conceptos de similar naturaleza gravados ",0]
[null,null,"Bonos de productividad exentos ",0]
[null,null,"Fallos de caja exentos ",0]
[null,null,"Conceptos de similar naturaleza exentos ",0]
[null,null,"Compensación de gastos teletrabajo - exentos ",0]
[null,null,"Personal militar - suplementos art. 57 Ley 19101 - exentos ",0]
[null,null,"SAC primera cuota - No alcanzado o exento ",0]
[null,null,"SAC segunda cuota - No alcanzado o exento ",0]
[null,null,"Ajustes períodos anteriores - Remuneración gravada ",0]
[null,null,"Ajustes períodos anteriores - Remuneración no alcanzada o exenta ",0]
[null,null,"TOTAL REMUNERACIÓN GRAVADA",{"$f":"SUM(D21:E27,D44,D47:D53,D70)","v":0}]
[null,null,"TOTAL REMUNERACIÓN NO ALCANZADA O EXENTA",{"$f":"SUM(D28:D43,D45,D54:D69,D71)","v":0}]
[null,null,"TOTAL REMUNERACIONES",{"$f":"IF(+D72+D73<0,0,D72+D73)","v":0}]
[]
[null,null,"DEDUCCIONES GENERALES",null,null,null,null,"Topes máximos legales"]
[null,null,"Aportes a fondos de jubilaciones, retiros, pensiones o subsidios que se destinen a cajas nacionales, provinciales o municipales",0,null,{"$f":"validaciones(D77,H77,0)&IF(D77>$D$74,\" El importe no puede ser mayor a la remuneración total\",\"\")","v":""}]
[null,null,"Aportes a fondos de jubilaciones, retiros, pensiones o subsidios que se destinen a cajas nacionales, provinciales o municipales por otros empleos",0,null,{"$f":"validaciones(D78,H78,0)&IF(D78>$D$74,\" El importe no puede ser mayor a la remuneración total\",\"\")","v":""}]
[null,null,"Aportes a obra sociales",0,null,{"$f":"validaciones(D79,H79,0)&IF(D79>$D$74,\" El importe no puede ser mayor a la remuneración total\",\"\")","v":""}]
[null,null,"Aportes a obra sociales por otros empleos",0,null,{"$f":"validaciones(D80,H80,0)&IF(D80>$D$74,\" El importe no puede ser mayor a la remuneración total\",\"\")","v":""}]
[null,null,"Cuota sindical",0,null,{"$f":"validaciones(D81,H81,0)&IF(D81>$D$74,\" El importe no puede ser mayor a la remuneración total\",\"\")","v":""}]
[null,null,"Cuota sindical por otros empleos",0,null,{"$f":"validaciones(D82,H82,0)&IF(D82>$D$74,\" El importe no puede ser mayor a la remuneración total\",\"\")","v":""}]
[null,null,"Cuotas médico asistenciales",0,null,{"$f":"validaciones(D83,H83,0)","v":""},null,{"$f":"(D72-SUM(D77:D82,D84:D89,D91,D93:D94,D95:D103))*0.05","v":0}]
[null,null,"Primas de seguro para el caso de muerte",0,null,{"$f":"validaciones(D84,H84,0)&IF(AND(Datos!$C$11=\"Informativa\",D84<>0),\"En la DDJJ informativa, este campo debe consignarse en cero (0)\",\"\")","v":""},null,{"$f":"+Tablas!B2","v":24000}]
[null,null,"Primas por riesgo de muerte y de ahorro de seguros mixtos, excepto para los casos de seguros de retiro privados administrados por entidades sujetas al control de la Superintendencia de Seguros de la Nación",0,null,{"$f":"validaciones(D85,H85,0)&IF(AND(Datos!$C$11=\"Informativa\",D85<>0),\"En la DDJJ informativa, este campo debe consignarse en cero (0)\",\"\")","v":""},null,{"$f":"+H84","v":24000}]
[null,null,"Aportes a planes de seguro de retiro privados administrados por entidades sujetas al control de la Superintendencia de Seguros de la Nación",0,null,{"$f":"validaciones(D86,H86,0)&IF(AND(Datos!$C$11=\"Informativa\",D86<>0),\"En la DDJJ informativa, este campo debe consignarse en cero (0)\",\"\")","v":""},null,{"$f":"+H85","v":24000}]
[null,null,"Cuotapartes de fondos comunes de inversión constituidos con fines de retiro",0,null,{"$f":"validaciones(D87,H87,0)&IF(D87<>0,\"Deberá consignarse en cero (0), hasta que la Autoridad de Aplicación – CNV – autorice a las Entidades a funcionar e implemente el régimen.\",\"\")","v":""},null,0]
[null,null,"Gastos de sepelio",0,null,{"$f":"validaciones(D88,H88,0)","v":""},null,{"$f":"+Tablas!B6","v":996.23}]
[null,null,"Gastos amortización e intereses rodado para corredores y viajantes de comercio",0,null,{"$f":"validaciones(D89,H89,0)&IF(D89>$D$74,\" El importe no puede ser mayor a la remuneración total\",\"\")","v":""}]
[null,null,"Donaciones a fiscos nacional, provinciales y municipales, y a instituciones comprendidas en el artículo 26, incisos e) y f) de la ley",0,null,{"$f":"validaciones(D90,H90,0)","v":""},null,{"$f":"(D72-SUM(D77:D82,D84:D89,D91,D93:D94,D95:D103))*0.05","v":0}]
[null,null,"Descuentos obligatorios establecidos por ley nacional, provincial o municipal",0,null,{"$f":"validaciones(D91,H91,0)&IF(D91>$D$74,\" El importe no puede ser mayor a la remuneración total\",\"\")","v":""}]
[null,null,"Honorarios por servicios de asistencia sanitaria, médica y paramédica",0,null,{"$f":"validaciones(D92,H92,0)&IF(AND(Datos!$C$11=\"Informativa\",D92<>0),\"En la DDJJ informativa, este campo debe consignarse en cero (0)\",\"\")","v":""},null,{"$f":"(D72-SUM(D77:D82,D84:D89,D91,D93:D94,D95:D103))*0.05","v":0}]
[null,null,"Intereses de créditos hipotecarios",0,null,{"$f":"validaciones(D93,H93,0)","v":""},null,{"$f":"+Tablas!B3","v":20000}]
[null,null,"Aportes al capital social o al fondo de riesgo de socios protectores de sociedades de garantía recíproca",0,null,{"$f":"validaciones(D94,H94,0)","v":""}]
[null,null,"Alquileres de inmuebles destinados a casa habitación",0,null,{"$f":"validaciones(D95,H95,0)","v":""},null,{"$f":"IF(Datos!C11=\"Final\",ROUND(Tablas!B4/12*12,2),ROUND(Tablas!B4/12*MONTH(Datos!C13),2))","v":167678.39999999999}]
[null,null,"Empleados del servicio doméstico",0,null,{"$f":"validaciones(D96,H96,0)","v":""},null,{"$f":"Tablas!B4","v":167678.39999999999}]
[null,null,"Gastos de movilidad, viáticos y otras compensaciones análogas abonados por el empleador",0,null,{"$f":"validaciones(D97,H97,0)","v":""},null,{"$f":"IF(D13=\"Desarrolla la actividad\",Tablas!B4,Tablas!B4*0.4)","v":67071.360000000001}]
[null,null,"Gastos por adquisición de indumentaria y/o equipamiento de trabajo",0,null,{"$f":"validaciones(D98,H98,0)","v":""}]
[null,null,"Otras deducciones - aportes a Cajas Complementarias de Previsión, Fondos Compensadores de Previsión o similares",0,null,{"$f":"validaciones(D99,H99,0)","v":""}]
[null,null,"Otras deducciones - Aportes para jubilaciones, retiros y subsidios ANSES",0,null,{"$f":"validaciones(D100,H100,0)","v":""}]
[null,null,"Otras deducciones - Cajas Provinciales o Municipales o de Previsión para Profesionales",0,null,{"$f":"validaciones(D101,H101,0)","v":""}]
[null,null,"Otras deducciones - Actores - Retribución pagada a los representantes - RG 2442/08",0,null,{"$f":"validaciones(D102,H102,0)","v":""}]
[null,null,"Otras deducciones - Fondos compensadores de previsión",0,null,{"$f":"validaciones(D103,H103,0)","v":""}]
[null,null,"Otras deducciones",{"$f":"+SUM(D99:E103)","v":0}]
[null,null,"TOTAL DEDUCCIONES GENERALES",{"$f":"SUM(D77:E103)","v":0},null,null,null,null,null,null,{"$f":"+D72-D105","v":0}]
[]
[null,null,"DEDUCCIONES PERSONALES",null,null,null,null,"Topes máximos legales"]
[null,null,"Ganancia no imponible",125758.8,null,{"$f":"validaciones(D108,H108,0)","v":""},null,{"$f":"deducciones(1,Datos!C11,MONTH(Datos!$C$13),$D$12)","v":167678.39999999999},null,null,{"$f":"IF(K105-K109<=0,0,IF(K105-K109<=H108,K105-K109,H108))","v":0}]
[null,null,"Deducción especial",603642.26,null,{"$f":"validaciones(D109,H109,0)","v":""},null,{"$f":"deducciones(2,Datos!$C$11,MONTH(Datos!$C$13),$D$12)","v":804856.34},null,null,{"$f":"IF(K105<=H109,K105,H109)","v":0}]
[null,null,"Deducción Especial Incrementada Primera parte del penúltimo párrafo del inciso c) del artículo 30 de la ley del gravamen",0]
[null,null,"Deducción Especial Incrementada Segunda parte del penúltimo párrafo del inciso c) del artículo 30 de la ley del gravamen",0]
[null,null,"Deducción específica",0,null,{"$f":"validaciones(D112,H112,0)","v":""},null,0]
[null,null,"Cargas de familia"]
[null,null,"Cónyuge",0,null,{"$f":"validaciones(D114,H114,0)","v":""},null,{"$f":"cargas_de_familia(4,Datos!$C$11,MONTH(Datos!$C$13),$D$12)","v":156320.63},null,null,{"$f":"IF(K105-K108-K109>=D114,D114,K105-K108-K109)","v":0}]
[null,null,"Cantidad de hijos e hijastros",0,null,{"$f":"validaciones(D115,H115,0)","v":""},null,99]
[null,null,"Deducción total hijos e hijastros",0,null,null,null,{"$f":"cargas_de_familia(3,Datos!$C$11,MONTH(Datos!$C$13),$D$12)*D115","v":0},null,null,{"$f":"IF(K105-K108-K109-K114>=D116,D116,K105-K108-K109-K114)","v":0}]
[null,null,"Cantidad de hijos e hijastros incapacitados para el trabajo",0,null,{"$f":"validaciones(D117,H117,0)","v":""},null,99]
[null,null,"Hijos / Hijastros incapacitados para el trabajo",0,null,null,null,{"$f":"cargas_de_familia(5,Datos!$C$11,MONTH(Datos!$C$13),$D$12)","v":157666.16}]
[null,null,"Total de cargas de familia",{"$f":"+D114+D116+D118","v":0},null,null,null,0]
[null,null,"TOTAL DEDUCCIONES PERSONALES",{"$f":"SUM(D108:D112,D119)","v":729401.06}]
[]
[null,null,"DETERMINACIÓN DEL IMPUESTO"]
[null,null,"REMUNERACIÓN NETA SUJETA A IMPUESTO -antes de la deducción art. 46 L. 27541-",0]
[null,null,"Deducción inciso a) primer párrafo artículo 30 de la ley (cfr. art. 46 L. 27541)",0,null,null,null,0,null,null,{"$f":"IF(D123-K125<=0,0,IF(D123-K125<=H124,D123-K125,H124))","v":0}]
[null,null,"Deducción inciso c) primer párrafo artículo 30 de la ley (cfr. art. 46 L. 27541)",0,null,null,null,0,null,null,{"$f":"IF(D123<=H125,D123,H125)","v":0}]
[null,null,"REMUNERACIÓN SUJETA A IMPUESTO",{"$f":"IF(+D72-D105-D120<0,0,+D72-D105-D120)","v":0}]
[null,null,"Alícuota aplicable artículo 94 ley de impuesto a las ganancias",{"$f":"IF(OR(Datos!C11=\"Final\",Datos!C11=\"Anual\"),impuestoAlicuota(D126,D25*(1-G25)+D51*(1-G51),12),impuestoAlicuota(D126,D25*(1-G25)+D51*(1-G51),MONTH(D11)))","v":0}]
[null,null,"Alícuota aplicable sin incluir horas extras",{"$f":"IF(OR(Datos!C11=\"Final\",Datos!C11=\"Anual\"),impuestoAlicuota(D126,0,12),impuestoAlicuota(D126,0,MONTH(D11)))","v":0}]
[null,null,"IMPUESTO DETERMINADO",{"$f":"IF(D126<0,0,IF(OR(Datos!C11=\"Final\",Datos!C11=\"Anual\"),impuestoDeterminado(D126,D25*(1-G25)+D51*(1-G51),12),impuestoDeterminado(D126,D25*(1-G25)+D51*(1-G51),MONTH(D11))))","v":0}]
[null,null,"Impuesto retenido",0]
[null,null,"Pagos a cuenta - Impuesto sobre créditos y débitos",0,null,{"$f":"IF(AND(Datos!$C$11=\"Informativa\",D131<>0),\"En la DDJJ informativa, este campo debe consignarse en cero (0)\",\"\")","v":""}]
[null,null,"Pagos a cuenta - Percepciones / Retenciones aduaneras",0,null,{"$f":"IF(AND(Datos!$C$11=\"Informativa\",D132<>0),\"En la DDJJ informativa, este campo debe consignarse en cero (0)\",\"\")","v":""}]
[null,null,"Pagos a cuenta - RG (AFIP) 3819/2015 - Cancelaciones en efectivo",0,null,{"$f":"IF(AND(Datos!$C$11=\"Informativa\",D133<>0),\"En la DDJJ informativa, este campo debe consignarse en cero (0)\",\"\")","v":""}]
[null,null,"Pagos a cuenta - Bono ley 27.424",0,null,{"$f":"IF(AND(Datos!$C$11=\"Informativa\",D134<>0),\"En la DDJJ informativa, este campo debe consignarse en cero (0)\",\"\")","v":""}]
[null,null,"Pagos a cuenta - RG 4815 [LEY 27.541 Art. 35 inciso a)] ",0,null,{"$f":"IF(AND(Datos!$C$11=\"Informativa\",D135<>0),\"En la DDJJ informativa, este campo debe consignarse en cero (0)\",\"\")","v":""}]
[null,null,"Pagos a cuenta - RG 4815 [LEY 27.541 Art. 35 inciso b)] ",0,null,{"$f":"IF(AND(Datos!$C$11=\"Informativa\",D136<>0),\"En la DDJJ informativa, este campo debe consignarse en cero (0)\",\"\")","v":""}]
[null,null,"Pagos a cuenta - RG 4815 [LEY 27.541 Art. 35 inciso c)] ",0,null,{"$f":"IF(AND(Datos!$C$11=\"Informativa\",D137<>0),\"En la DDJJ informativa, este campo debe consignarse en cero (0)\",\"\")","v":""}]
[null,null,"Pagos a cuenta - RG 4815 [LEY 27.541 Art. 35 inciso d)] ",0,null,{"$f":"IF(AND(Datos!$C$11=\"Informativa\",D138<>0),\"En la DDJJ informativa, este campo debe consignarse en cero (0)\",\"\")","v":""}]
[null,null,"Pagos a cuenta - RG 4815 [LEY 27.541 Art. 35 inciso e)] ",0,null,{"$f":"IF(AND(Datos!$C$11=\"Informativa\",D139<>0),\"En la DDJJ informativa, este campo debe consignarse en cero (0)\",\"\")","v":""}]
[null,null,"Pagos a cuenta - Impuesto sobre créditos y débitos - sobre movimientos de fondos propios o de terceros",0,null,{"$f":"IF(AND(Datos!$C$11=\"Informativa\",D140<>0),\"En la DDJJ informativa, este campo debe consignarse en cero (0)\",\"\")","v":""}]
[null,null,"Pagos a cuenta - Resolución General (AFIP) 3819/2015 - Cancelaciones en Efectivo -Servicios de transporte terrestre, aéreo y por vía acuática de pasajeros con destino fuera del país",0,null,{"$f":"IF(AND(Datos!$C$11=\"Informativa\",D141<>0),\"En la DDJJ informativa, este campo debe consignarse en cero (0)\",\"\")","v":""}]
[null,null,"Total pagos a cuenta",{"$f":"SUM(D131:D141)","v":0}]
[null,null,"SALDO A PAGAR",{"$f":"+ROUND(D129,2)-D130-D142","v":0}]

{"sheet":"Empleado39","index":43,"n_rows":143,"n_cols":11,"rows_kept":143,"cut":false,"hidden":false,"merged":[[10,7,11,9]]}
[]
[]
[null,null,"LIQUIDACIÓN DE IMPUESTO A LAS GANANCIAS - 4ta. CATEGORÍA RELACIÓN DE DEPENDENCIA"]
[]
[]
[null,null,"Empleado: Nombre y apellido "]
[null,null,"CUIL del empleado",null,null,{"$f":"cuitValidar(D7)","v":"CUIT/CUIL vacío"}]
[null,null,{"$f":"\"Agente de Retención: \"","v":"Agente de Retención: "},{"$f":"Datos!C7&\" - \"&Datos!C5","v":"33711238269 - OPERACIONES AGROPORTUARIAS S.A."}]
[null,null,{"$f":"\"Período Fiscal: \"","v":"Período Fiscal: "},{"$f":"YEAR(Datos!C13)","v":2021}]
[null,null,"Período trabajado (desde):","2021-01-01"]
[null,null,"Período trabajado (hasta):","2021-09-25",null,null,null,{"$f":"IF(MONTH(D11)>MONTH(Datos!C13),\"El período trabajado no puede ser mayor al período que se informa (mes \"&MONTH(Datos!C13)&\")\",\"\")","v":""}]
[null,null,"Zona geográfica:","Todo el país (excepto zona patagónica)"]
[null,null,"Transporte a larga distancia","No desarrolla la actividad"]
[null,null,"Beneficio promocional 27424?","No"]
[null,null,"Beneficio de la ley 27549?","No"]
[null,null,"El trabajador labora bajo el régimen de teletrabajo (Ley 27555)?","No"]
[null,null,"El trabajador es personal militar en actividad?","No"]
[]
[null,null,"REMUNERACIONES"]
[null,null,"Abonadas por el agente de retención:"]
[null,null,"Remuneración bruta gravada",0]
[null,null,"Retribuciones no habituales gravadas",0]
[null,null,"SAC primera cuota gravado",0]
[null,null,"SAC segunda cuota gravado",0]
[null,null,"Horas extras remuneración gravada",0,null,null,0,"% de retenciones"]
[null,null,"Movilidad y viáticos remuneración gravada",0]
[null,null,"Material didáctico personal docente remuneración gravada",0]
[null,null,"Remuneración no alcanzada o exenta (sin horas extras)",0]
[null,null,"Remuneración exenta ley 27549",0,null,{"$f":"IF(AND($D$15=\"No\",D29<>0),\"Para que sea procedente el beneficio, modifique el valor en la celda D15\",\"\")","v":""}]
[null,null,"Retribuciones no habituales exentas o no alcanzadas",0]
[null,null,"Horas extras remuneración exenta",0]
[null,null,"Movilidad y viáticos remuneración exenta",0]
[null,null,"Material didáctico personal docente remuneración exenta",0]
[null,null,"Bonos de productividad gravados",0]
[null,null,"Fallos de caja gravados",0]
[null,null,"Conceptos de similar naturaleza gravados",0]
[null,null,"Bonos de productividad exentos",0]
[null,null,"Fallos de caja exentos",0]
[null,null,"Conceptos de similar naturaleza exentos",0]
[null,null,"Compensación de gastos de teletrabajo exentos",0]
[null,null,"Personal militar - suplementos art. 57 ley 19.101 - exentos",0]
[null,null,"SAC primera cuota - No alcanzado o exento",0]
[null,null,"SAC segunda cuota - No alcanzado o exento",0]
[null,null,"Ajustes períodos anteriores - Remuneración gravada",0]
[null,null,"Ajustes períodos anteriores - Remuneración exenta / no alcanzada",0]
[null,null,"Otros empleos:"]
[null,null,"Remuneración bruta gravada ",0]
[null,null,"Retribuciones no habituales gravadas ",0]
[null,null,"SAC primera cuota gravado ",0]
[null,null,"SAC segunda cuota gravado ",0]
[null,null,"Horas extras remuneración gravada ",0,null,null,0,"% de retenciones"]
[null,null,"Movilidad y viáticos remuneración gravada ",0]
[null,null,"Material didáctico personal docente remuneración gravada ",0]
[null,null,"Remuneración no alcanzada o exenta ",0]
[null,null,"Remuneración exenta ley 27549 ",0,null,{"$f":"IF(AND($D$15=\"No\",D55<>0),\"Para que sea procedente el beneficio, modifique el valor en la celda D15\",\"\")","v":""}]
[null,null,"Retribuciones no habituales exentas o no alcanzadas ",0]
[null,null,"Horas extras remuneración exenta o no alcanzada ",0]
[null,null,"Movilidad y viáticos remuneración exenta o no alcanzada ",0]
[null,null,"Material didáctico personal docente remuneración exenta o no alcanzada ",0]
[null,null,"Bonos de productividad gravados ",0]
[null,null,"Fallos de caja gravados ",0]
[null,null,"Conceptos de similar naturaleza gravados ",0]
[null,null,"Bonos de productividad exentos ",0]
[null,null,"Fallos de caja exentos ",0]
[null,null,"Conceptos de similar naturaleza exentos ",0]
[null,null,"Compensación de gastos teletrabajo - exentos ",0]
[null,null,"Personal militar - suplementos art. 57 Ley 19101 - exentos ",0]
[null,null,"SAC primera cuota - No alcanzado o exento ",0]
[null,null,"SAC segunda cuota - No alcanzado o exento ",0]
[null,null,"Ajustes períodos anteriores - Remuneración gravada ",0]
[null,null,"Ajustes períodos anteriores - Remuneración no alcanzada o exenta ",0]
[null,null,"TOTAL REMUNERACIÓN GRAVADA",{"$f":"SUM(D21:E27,D44,D47:D53,D70)","v":0}]
[null,null,"TOTAL REMUNERACIÓN NO ALCANZADA O EXENTA",{"$f":"SUM(D28:D43,D45,D54:D69,D71)","v":0}]
[null,null,"TOTAL REMUNERACIONES",{"$f":"IF(+D72+D73<0,0,D72+D73)","v":0}]
[]
[null,null,"DEDUCCIONES GENERALES",null,null,null,null,"Topes máximos legales"]
[null,null,"Aportes a fondos de jubilaciones, retiros, pensiones o subsidios que se destinen a cajas nacionales, provinciales o municipales",0,null,{"$f":"validaciones(D77,H77,0)&IF(D77>$D$74,\" El importe no puede ser mayor a la remuneración total\",\"\")","v":""}]
[null,null,"Aportes a fondos de jubilaciones, retiros, pensiones o subsidios que se destinen a cajas nacionales, provinciales o municipales por otros empleos",0,null,{"$f":"validaciones(D78,H78,0)&IF(D78>$D$74,\" El importe no puede ser mayor a la remuneración total\",\"\")","v":""}]
[null,null,"Aportes a obra sociales",0,null,{"$f":"validaciones(D79,H79,0)&IF(D79>$D$74,\" El importe no puede ser mayor a la remuneración total\",\"\")","v":""}]
[null,null,"Aportes a obra sociales por otros empleos",0,null,{"$f":"validaciones(D80,H80,0)&IF(D80>$D$74,\" El importe no puede ser mayor a la remuneración total\",\"\")","v":""}]
[null,null,"Cuota sindical",0,null,{"$f":"validaciones(D81,H81,0)&IF(D81>$D$74,\" El importe no puede ser mayor a la remuneración total\",\"\")","v":""}]
[null,null,"Cuota sindical por otros empleos",0,null,{"$f":"validaciones(D82,H82,0)&IF(D82>$D$74,\" El importe no puede ser mayor a la remuneración total\",\"\")","v":""}]
[null,null,"Cuotas médico asistenciales",0,null,{"$f":"validaciones(D83,H83,0)","v":""},null,{"$f":"(D72-SUM(D77:D82,D84:D89,D91,D93:D94,D95:D103))*0.05","v":0}]
[null,null,"Primas de seguro para el caso de muerte",0,null,{"$f":"validaciones(D84,H84,0)&IF(AND(Datos!$C$11=\"Informativa\",D84<>0),\"En la DDJJ informativa, este campo debe consignarse en cero (0)\",\"\")","v":""},null,{"$f":"+Tablas!B2","v":24000}]
[null,null,"Primas por riesgo de muerte y de ahorro de seguros mixtos, excepto para los casos de seguros de retiro privados administrados por entidades sujetas al control de la Superintendencia de Seguros de la Nación",0,null,{"$f":"validaciones(D85,H85,0)&IF(AND(Datos!$C$11=\"Informativa\",D85<>0),\"En la DDJJ informativa, este campo debe consignarse en cero (0)\",\"\")","v":""},null,{"$f":"+H84","v":24000}]
[null,null,"Aportes a planes de seguro de retiro privados administrados por entidades sujetas al control de la Superintendencia de Seguros de la Nación",0,null,{"$f":"validaciones(D86,H86,0)&IF(AND(Datos!$C$11=\"Informativa\",D86<>0),\"En la DDJJ informativa, este campo debe consignarse en cero (0)\",\"\")","v":""},null,{"$f":"+H85","v":24000}]
[null,null,"Cuotapartes de fondos comunes de inversión constituidos con fines de retiro",0,null,{"$f":"validaciones(D87,H87,0)&IF(D87<>0,\"Deberá consignarse en cero (0), hasta que la Autoridad de Aplicación – CNV – autorice a las Entidades a funcionar e implemente el régimen.\",\"\")","v":""},null,0]
[null,null,"Gastos de sepelio",0,null,{"$f":"validaciones(D88,H88,0)","v":""},null,{"$f":"+Tablas!B6","v":996.23}]
[null,null,"Gastos amortización e intereses rodado para corredores y viajantes de comercio",0,null,{"$f":"validaciones(D89,H89,0)&IF(D89>$D$74,\" El importe no puede ser mayor a la remuneración total\",\"\")","v":""}]
[null,null,"Donaciones a fiscos nacional, provinciales y municipales, y a instituciones comprendidas en el artículo 26, incisos e) y f) de la ley",0,null,{"$f":"validaciones(D90,H90,0)","v":""},null,{"$f":"(D72-SUM(D77:D82,D84:D89,D91,D93:D94,D95:D103))*0.05","v":0}]
[null,null,"Descuentos obligatorios establecidos por ley nacional, provincial o municipal",0,null,{"$f":"validaciones(D91,H91,0)&IF(D91>$D$74,\" El importe no puede ser mayor a la remuneración total\",\"\")","v":""}]
[null,null,"Honorarios por servicios de asistencia sanitaria, médica y paramédica",0,null,{"$f":"validaciones(D92,H92,0)&IF(AND(Datos!$C$11=\"Informativa\",D92<>0),\"En la DDJJ informativa, este campo debe consignarse en cero (0)\",\"\")","v":""},null,{"$f":"(D72-SUM(D77:D82,D84:D89,D91,D93:D94,D95:D103))*0.05","v":0}]
[null,null,"Intereses de créditos hipotecarios",0,null,{"$f":"validaciones(D93,H93,0)","v":""},null,{"$f":"+Tablas!B3","v":20000}]
[null,null,"Aportes al capital social o al fondo de riesgo de socios protectores de sociedades de garantía recíproca",0,null,{"$f":"validaciones(D94,H94,0)","v":""}]
[null,null,"Alquileres de inmuebles destinados a casa habitación",0,null,{"$f":"validaciones(D95,H95,0)","v":""},null,{"$f":"IF(Datos!C11=\"Final\",ROUND(Tablas!B4/12*12,2),ROUND(Tablas!B4/12*MONTH(Datos!C13),2))","v":167678.39999999999}]
[null,null,"Empleados del servicio doméstico",0,null,{"$f":"validaciones(D96,H96,0)","v":""},null,{"$f":"Tablas!B4","v":167678.39999999999}]
[null,null,"Gastos de movilidad, viáticos y otras compensaciones análogas abonados por el empleador",0,null,{"$f":"validaciones(D97,H97,0)","v":""},null,{"$f":"IF(D13=\"Desarrolla la actividad\",Tablas!B4,Tablas!B4*0.4)","v":67071.360000000001}]
[null,null,"Gastos por adquisición de indumentaria y/o equipamiento de trabajo",0,null,{"$f":"validaciones(D98,H98,0)","v":""}]
[null,null,"Otras deducciones - aportes a Cajas Complementarias de Previsión, Fondos Compensadores de Previsión o similares",0,null,{"$f":"validaciones(D99,H99,0)","v":""}]
[null,null,"Otras deducciones - Aportes para jubilaciones, retiros y subsidios ANSES",0,null,{"$f":"validaciones(D100,H100,0)","v":""}]
[null,null,"Otras deducciones - Cajas Provinciales o Municipales o de Previsión para Profesionales",0,null,{"$f":"validaciones(D101,H101,0)","v":""}]
[null,null,"Otras deducciones - Actores - Retribución pagada a los representantes - RG 2442/08",0,null,{"$f":"validaciones(D102,H102,0)","v":""}]
[null,null,"Otras deducciones - Fondos compensadores de previsión",0,null,{"$f":"validaciones(D103,H103,0)","v":""}]
[null,null,"Otras deducciones",{"$f":"+SUM(D99:E103)","v":0}]
[null,null,"TOTAL DEDUCCIONES GENERALES",{"$f":"SUM(D77:E103)","v":0},null,null,null,null,null,null,{"$f":"+D72-D105","v":0}]
[]
[null,null,"DEDUCCIONES PERSONALES",null,null,null,null,"Topes máximos legales"]
[null,null,"Ganancia no imponible",125758.8,null,{"$f":"validaciones(D108,H108,0)","v":""},null,{"$f":"deducciones(1,Datos!C11,MONTH(Datos!$C$13),$D$12)","v":167678.39999999999},null,null,{"$f":"IF(K105-K109<=0,0,IF(K105-K109<=H108,K105-K109,H108))","v":0}]
[null,null,"Deducción especial",603642.26,null,{"$f":"validaciones(D109,H109,0)","v":""},null,{"$f":"deducciones(2,Datos!$C$11,MONTH(Datos!$C$13),$D$12)","v":804856.34},null,null,{"$f":"IF(K105<=H109,K105,H109)","v":0}]
[null,null,"Deducción Especial Incrementada Primera parte del penúltimo párrafo del inciso c) del artículo 30 de la ley del gravamen",0]
[null,null,"Deducción Especial Incrementada Segunda parte del penúltimo párrafo del inciso c) del artículo 30 de la ley del gravamen",0]
[null,null,"Deducción específica",0,null,{"$f":"validaciones(D112,H112,0)","v":""},null,0]
[null,null,"Cargas de familia"]
[null,null,"Cónyuge",0,null,{"$f":"validaciones(D114,H114,0)","v":""},null,{"$f":"cargas_de_familia(4,Datos!$C$11,MONTH(Datos!$C$13),$D$12)","v":156320.63},null,null,{"$f":"IF(K105-K108-K109>=D114,D114,K105-K108-K109)","v":0}]
[null,null,"Cantidad de hijos e hijastros",0,null,{"$f":"validaciones(D115,H115,0)","v":""},null,99]
[null,null,"Deducción total hijos e hijastros",0,null,null,null,{"$f":"cargas_de_familia(3,Datos!$C$11,MONTH(Datos!$C$13),$D$12)*D115","v":0},null,null,{"$f":"IF(K105-K108-K109-K114>=D116,D116,K105-K108-K109-K114)","v":0}]
[null,null,"Cantidad de hijos e hijastros incapacitados para el trabajo",0,null,{"$f":"validaciones(D117,H117,0)","v":""},null,99]
[null,null,"Hijos / Hijastros incapacitados para el trabajo",0,null,null,null,{"$f":"cargas_de_familia(5,Datos!$C$11,MONTH(Datos!$C$13),$D$12)","v":157666.16}]
[null,null,"Total de cargas de familia",{"$f":"+D114+D116+D118","v":0},null,null,null,0]
[null,null,"TOTAL DEDUCCIONES PERSONALES",{"$f":"SUM(D108:D112,D119)","v":729401.06}]
[]
[null,null,"DETERMINACIÓN DEL IMPUESTO"]
[null,null,"REMUNERACIÓN NETA SUJETA A IMPUESTO -antes de la deducción art. 46 L. 27541-",0]
[null,null,"Deducción inciso a) primer párrafo artículo 30 de la ley (cfr. art. 46 L. 27541)",0,null,null,null,0,null,null,{"$f":"IF(D123-K125<=0,0,IF(D123-K125<=H124,D123-K125,H124))","v":0}]
[null,null,"Deducción inciso c) primer párrafo artículo 30 de la ley (cfr. art. 46 L. 27541)",0,null,null,null,0,null,null,{"$f":"IF(D123<=H125,D123,H125)","v":0}]
[null,null,"REMUNERACIÓN SUJETA A IMPUESTO",{"$f":"IF(+D72-D105-D120<0,0,+D72-D105-D120)","v":0}]
[null,null,"Alícuota aplicable artículo 94 ley de impuesto a las ganancias",{"$f":"IF(OR(Datos!C11=\"Final\",Datos!C11=\"Anual\"),impuestoAlicuota(D126,D25*(1-G25)+D51*(1-G51),12),impuestoAlicuota(D126,D25*(1-G25)+D51*(1-G51),MONTH(D11)))","v":0}]
[null,null,"Alícuota aplicable sin incluir horas extras",{"$f":"IF(OR(Datos!C11=\"Final\",Datos!C11=\"Anual\"),impuestoAlicuota(D126,0,12),impuestoAlicuota(D126,0,MONTH(D11)))","v":0}]
[null,null,"IMPUESTO DETERMINADO",{"$f":"IF(D126<0,0,IF(OR(Datos!C11=\"Final\",Datos!C11=\"Anual\"),impuestoDeterminado(D126,D25*(1-G25)+D51*(1-G51),12),impuestoDeterminado(D126,D25*(1-G25)+D51*(1-G51),MONTH(D11))))","v":0}]
[null,null,"Impuesto retenido",0]
[null,null,"Pagos a cuenta - Impuesto sobre créditos y débitos",0,null,{"$f":"IF(AND(Datos!$C$11=\"Informativa\",D131<>0),\"En la DDJJ informativa, este campo debe consignarse en cero (0)\",\"\")","v":""}]
[null,null,"Pagos a cuenta - Percepciones / Retenciones aduaneras",0,null,{"$f":"IF(AND(Datos!$C$11=\"Informativa\",D132<>0),\"En la DDJJ informativa, este campo debe consignarse en cero (0)\",\"\")","v":""}]
[null,null,"Pagos a cuenta - RG (AFIP) 3819/2015 - Cancelaciones en efectivo",0,null,{"$f":"IF(AND(Datos!$C$11=\"Informativa\",D133<>0),\"En la DDJJ informativa, este campo debe consignarse en cero (0)\",\"\")","v":""}]
[null,null,"Pagos a cuenta - Bono ley 27.424",0,null,{"$f":"IF(AND(Datos!$C$11=\"Informativa\",D134<>0),\"En la DDJJ informativa, este campo debe consignarse en cero (0)\",\"\")","v":""}]
[null,null,"Pagos a cuenta - RG 4815 [LEY 27.541 Art. 35 inciso a)] ",0,null,{"$f":"IF(AND(Datos!$C$11=\"Informativa\",D135<>0),\"En la DDJJ informativa, este campo debe consignarse en cero (0)\",\"\")","v":""}]
[null,null,"Pagos a cuenta - RG 4815 [LEY 27.541 Art. 35 inciso b)] ",0,null,{"$f":"IF(AND(Datos!$C$11=\"Informativa\",D136<>0),\"En la DDJJ informativa, este campo debe consignarse en cero (0)\",\"\")","v":""}]
[null,null,"Pagos a cuenta - RG 4815 [LEY 27.541 Art. 35 inciso c)] ",0,null,{"$f":"IF(AND(Datos!$C$11=\"Informativa\",D137<>0),\"En la DDJJ informativa, este campo debe consignarse en cero (0)\",\"\")","v":""}]
[null,null,"Pagos a cuenta - RG 4815 [LEY 27.541 Art. 35 inciso d)] ",0,null,{"$f":"IF(AND(Datos!$C$11=\"Informativa\",D138<>0),\"En la DDJJ informativa, este campo debe consignarse en cero (0)\",\"\")","v":""}]
[null,null,"Pagos a cuenta - RG 4815 [LEY 27.541 Art. 35 inciso e)] ",0,null,{"$f":"IF(AND(Datos!$C$11=\"Informativa\",D139<>0),\"En la DDJJ informativa, este campo debe consignarse en cero (0)\",\"\")","v":""}]
[null,null,"Pagos a cuenta - Impuesto sobre créditos y débitos - sobre movimientos de fondos propios o de terceros",0,null,{"$f":"IF(AND(Datos!$C$11=\"Informativa\",D140<>0),\"En la DDJJ informativa, este campo debe consignarse en cero (0)\",\"\")","v":""}]
[null,null,"Pagos a cuenta - Resolución General (AFIP) 3819/2015 - Cancelaciones en Efectivo -Servicios de transporte terrestre, aéreo y por vía acuática de pasajeros con destino fuera del país",0,null,{"$f":"IF(AND(Datos!$C$11=\"Informativa\",D141<>0),\"En la DDJJ informativa, este campo debe consignarse en cero (0)\",\"\")","v":""}]
[null,null,"Total pagos a cuenta",{"$f":"SUM(D131:D141)","v":0}]
[null,null,"SALDO A PAGAR",{"$f":"+ROUND(D129,2)-D130-D142","v":0}]

{"sheet":"Empleado40","index":44,"n_rows":143,"n_cols":11,"rows_kept":143,"cut":false,"hidden":false,"merged":[[10,7,11,9]]}
[]
[]
[null,null,"LIQUIDACIÓN DE IMPUESTO A LAS GANANCIAS - 4ta. CATEGORÍA RELACIÓN DE DEPENDENCIA"]
[]
[]
[null,null,"Empleado: Nombre y apellido "]
[null,null,"CUIL del empleado",null,null,{"$f":"cuitValidar(D7)","v":"CUIT/CUIL vacío"}]
[null,null,{"$f":"\"Agente de Retención: \"","v":"Agente de Retención: "},{"$f":"Datos!C7&\" - \"&Datos!C5","v":"33711238269 - OPERACIONES AGROPORTUARIAS S.A."}]
[null,null,{"$f":"\"Período Fiscal: \"","v":"Período Fiscal: "},{"$f":"YEAR(Datos!C13)","v":2021}]
[null,null,"Período trabajado (desde):","2021-01-01"]
[null,null,"Período trabajado (hasta):","2021-09-25",null,null,null,{"$f":"IF(MONTH(D11)>MONTH(Datos!C13),\"El período trabajado no puede ser mayor al período que se informa (mes \"&MONTH(Datos!C13)&\")\",\"\")","v":""}]
[null,null,"Zona geográfica:","Todo el país (excepto zona patagónica)"]
[null,null,"Transporte a larga distancia","No desarrolla la actividad"]
[null,null,"Beneficio promocional 27424?","No"]
[null,null,"Beneficio de la ley 27549?","No"]
[null,null,"El trabajador labora bajo el régimen de teletrabajo (Ley 27555)?","No"]
[null,null,"El trabajador es personal militar en actividad?","No"]
[]
[null,null,"REMUNERACIONES"]
[null,null,"Abonadas por el agente de retención:"]
[null,null,"Remuneración bruta gravada",0]
[null,null,"Retribuciones no habituales gravadas",0]
[null,null,"SAC primera cuota gravado",0]
[null,null,"SAC segunda cuota gravado",0]
[null,null,"Horas extras remuneración gravada",0,null,null,0,"% de retenciones"]
[null,null,"Movilidad y viáticos remuneración gravada",0]
[null,null,"Material didáctico personal docente remuneración gravada",0]
[null,null,"Remuneración no alcanzada o exenta (sin horas extras)",0]
[null,null,"Remuneración exenta ley 27549",0,null,{"$f":"IF(AND($D$15=\"No\",D29<>0),\"Para que sea procedente el beneficio, modifique el valor en la celda D15\",\"\")","v":""}]
[null,null,"Retribuciones no habituales exentas o no alcanzadas",0]
[null,null,"Horas extras remuneración exenta",0]
[null,null,"Movilidad y viáticos remuneración exenta",0]
[null,null,"Material didáctico personal docente remuneración exenta",0]
[null,null,"Bonos de productividad gravados",0]
[null,null,"Fallos de caja gravados",0]
[null,null,"Conceptos de similar naturaleza gravados",0]
[null,null,"Bonos de productividad exentos",0]
[null,null,"Fallos de caja exentos",0]
[null,null,"Conceptos de similar naturaleza exentos",0]
[null,null,"Compensación de gastos de teletrabajo exentos",0]
[null,null,"Personal militar - suplementos art. 57 ley 19.101 - exentos",0]
[null,null,"SAC primera cuota - No alcanzado o exento",0]
[null,null,"SAC segunda cuota - No alcanzado o exento",0]
[null,null,"Ajustes períodos anteriores - Remuneración gravada",0]
[null,null,"Ajustes períodos anteriores - Remuneración exenta / no alcanzada",0]
[null,null,"Otros empleos:"]
[null,null,"Remuneración bruta gravada ",0]
[null,null,"Retribuciones no habituales gravadas ",0]
[null,null,"SAC primera cuota gravado ",0]
[null,null,"SAC segunda cuota gravado ",0]
[null,null,"Horas extras remuneración gravada ",0,null,null,0,"% de retenciones"]
[null,null,"Movilidad y viáticos remuneración gravada ",0]
[null,null,"Material didáctico personal docente remuneración gravada ",0]
[null,null,"Remuneración no alcanzada o exenta ",0]
[null,null,"Remuneración exenta ley 27549 ",0,null,{"$f":"IF(AND($D$15=\"No\",D55<>0),\"Para que sea procedente el beneficio, modifique el valor en la celda D15\",\"\")","v":""}]
[null,null,"Retribuciones no habituales exentas o no alcanzadas ",0]
[null,null,"Horas extras remuneración exenta o no alcanzada ",0]
[null,null,"Movilidad y viáticos remuneración exenta o no alcanzada ",0]
[null,null,"Material didáctico personal docente remuneración exenta o no alcanzada ",0]
[null,null,"Bonos de productividad gravados ",0]
[null,null,"Fallos de caja gravados ",0]
[null,null,"Conceptos de similar naturaleza gravados ",0]
[null,null,"Bonos de productividad exentos ",0]
[null,null,"Fallos de caja exentos ",0]
[null,null,"Conceptos de similar naturaleza exentos ",0]
[null,null,"Compensación de gastos teletrabajo - exentos ",0]
[null,null,"Personal militar - suplementos art. 57 Ley 19101 - exentos ",0]
[null,null,"SAC primera cuota - No alcanzado o exento ",0]
[null,null,"SAC segunda cuota - No alcanzado o exento ",0]
[null,null,"Ajustes períodos anteriores - Remuneración gravada ",0]
[null,null,"Ajustes períodos anteriores - Remuneración no alcanzada o exenta ",0]
[null,null,"TOTAL REMUNERACIÓN GRAVADA",{"$f":"SUM(D21:E27,D44,D47:D53,D70)","v":0}]
[null,null,"TOTAL REMUNERACIÓN NO ALCANZADA O EXENTA",{"$f":"SUM(D28:D43,D45,D54:D69,D71)","v":0}]
[null,null,"TOTAL REMUNERACIONES",{"$f":"IF(+D72+D73<0,0,D72+D73)","v":0}]
[]
[null,null,"DEDUCCIONES GENERALES",null,null,null,null,"Topes máximos legales"]
[null,null,"Aportes a fondos de jubilaciones, retiros, pensiones o subsidios que se destinen a cajas nacionales, provinciales o municipales",0,null,{"$f":"validaciones(D77,H77,0)&IF(D77>$D$74,\" El importe no puede ser mayor a la remuneración total\",\"\")","v":""}]
[null,null,"Aportes a fondos de jubilaciones, retiros, pensiones o subsidios que se destinen a cajas nacionales, provinciales o municipales por otros empleos",0,null,{"$f":"validaciones(D78,H78,0)&IF(D78>$D$74,\" El importe no puede ser mayor a la remuneración total\",\"\")","v":""}]
[null,null,"Aportes a obra sociales",0,null,{"$f":"validaciones(D79,H79,0)&IF(D79>$D$74,\" El importe no puede ser mayor a la remuneración total\",\"\")","v":""}]
[null,null,"Aportes a obra sociales por otros empleos",0,null,{"$f":"validaciones(D80,H80,0)&IF(D80>$D$74,\" El importe no puede ser mayor a la remuneración total\",\"\")","v":""}]
[null,null,"Cuota sindical",0,null,{"$f":"validaciones(D81,H81,0)&IF(D81>$D$74,\" El importe no puede ser mayor a la remuneración total\",\"\")","v":""}]
[null,null,"Cuota sindical por otros empleos",0,null,{"$f":"validaciones(D82,H82,0)&IF(D82>$D$74,\" El importe no puede ser mayor a la remuneración total\",\"\")","v":""}]
[null,null,"Cuotas médico asistenciales",0,null,{"$f":"validaciones(D83,H83,0)","v":""},null,{"$f":"(D72-SUM(D77:D82,D84:D89,D91,D93:D94,D95:D103))*0.05","v":0}]
[null,null,"Primas de seguro para el caso de muerte",0,null,{"$f":"validaciones(D84,H84,0)&IF(AND(Datos!$C$11=\"Informativa\",D84<>0),\"En la DDJJ informativa, este campo debe consignarse en cero (0)\",\"\")","v":""},null,{"$f":"+Tablas!B2","v":24000}]
[null,null,"Primas por riesgo de muerte y de ahorro de seguros mixtos, excepto para los casos de seguros de retiro privados administrados por entidades sujetas al control de la Superintendencia de Seguros de la Nación",0,null,{"$f":"validaciones(D85,H85,0)&IF(AND(Datos!$C$11=\"Informativa\",D85<>0),\"En la DDJJ informativa, este campo debe consignarse en cero (0)\",\"\")","v":""},null,{"$f":"+H84","v":24000}]
[null,null,"Aportes a planes de seguro de retiro privados administrados por entidades sujetas al control de la Superintendencia de Seguros de la Nación",0,null,{"$f":"validaciones(D86,H86,0)&IF(AND(Datos!$C$11=\"Informativa\",D86<>0),\"En la DDJJ informativa, este campo debe consignarse en cero (0)\",\"\")","v":""},null,{"$f":"+H85","v":24000}]
[null,null,"Cuotapartes de fondos comunes de inversión constituidos con fines de retiro",0,null,{"$f":"validaciones(D87,H87,0)&IF(D87<>0,\"Deberá consignarse en cero (0), hasta que la Autoridad de Aplicación – CNV – autorice a las Entidades a funcionar e implemente el régimen.\",\"\")","v":""},null,0]
[null,null,"Gastos de sepelio",0,null,{"$f":"validaciones(D88,H88,0)","v":""},null,{"$f":"+Tablas!B6","v":996.23}]
[null,null,"Gastos amortización e intereses rodado para corredores y viajantes de comercio",0,null,{"$f":"validaciones(D89,H89,0)&IF(D89>$D$74,\" El importe no puede ser mayor a la remuneración total\",\"\")","v":""}]
[null,null,"Donaciones a fiscos nacional, provinciales y municipales, y a instituciones comprendidas en el artículo 26, incisos e) y f) de la ley",0,null,{"$f":"validaciones(D90,H90,0)","v":""},null,{"$f":"(D72-SUM(D77:D82,D84:D89,D91,D93:D94,D95:D103))*0.05","v":0}]
[null,null,"Descuentos obligatorios establecidos por ley nacional, provincial o municipal",0,null,{"$f":"validaciones(D91,H91,0)&IF(D91>$D$74,\" El importe no puede ser mayor a la remuneración total\",\"\")","v":""}]
[null,null,"Honorarios por servicios de asistencia sanitaria, médica y paramédica",0,null,{"$f":"validaciones(D92,H92,0)&IF(AND(Datos!$C$11=\"Informativa\",D92<>0),\"En la DDJJ informativa, este campo debe consignarse en cero (0)\",\"\")","v":""},null,{"$f":"(D72-SUM(D77:D82,D84:D89,D91,D93:D94,D95:D103))*0.05","v":0}]
[null,null,"Intereses de créditos hipotecarios",0,null,{"$f":"validaciones(D93,H93,0)","v":""},null,{"$f":"+Tablas!B3","v":20000}]
[null,null,"Aportes al capital social o al fondo de riesgo de socios protectores de sociedades de garantía recíproca",0,null,{"$f":"validaciones(D94,H94,0)","v":""}]
[null,null,"Alquileres de inmuebles destinados a casa habitación",0,null,{"$f":"validaciones(D95,H95,0)","v":""},null,{"$f":"IF(Datos!C11=\"Final\",ROUND(Tablas!B4/12*12,2),ROUND(Tablas!B4/12*MONTH(Datos!C13),2))","v":167678.39999999999}]
[null,null,"Empleados del servicio doméstico",0,null,{"$f":"validaciones(D96,H96,0)","v":""},null,{"$f":"Tablas!B4","v":167678.39999999999}]
[null,null,"Gastos de movilidad, viáticos y otras compensaciones análogas abonados por el empleador",0,null,{"$f":"validaciones(D97,H97,0)","v":""},null,{"$f":"IF(D13=\"Desarrolla la actividad\",Tablas!B4,Tablas!B4*0.4)","v":67071.360000000001}]
[null,null,"Gastos por adquisición de indumentaria y/o equipamiento de trabajo",0,null,{"$f":"validaciones(D98,H98,0)","v":""}]
[null,null,"Otras deducciones - aportes a Cajas Complementarias de Previsión, Fondos Compensadores de Previsión o similares",0,null,{"$f":"validaciones(D99,H99,0)","v":""}]
[null,null,"Otras deducciones - Aportes para jubilaciones, retiros y subsidios ANSES",0,null,{"$f":"validaciones(D100,H100,0)","v":""}]
[null,null,"Otras deducciones - Cajas Provinciales o Municipales o de Previsión para Profesionales",0,null,{"$f":"validaciones(D101,H101,0)","v":""}]
[null,null,"Otras deducciones - Actores - Retribución pagada a los representantes - RG 2442/08",0,null,{"$f":"validaciones(D102,H102,0)","v":""}]
[null,null,"Otras deducciones - Fondos compensadores de previsión",0,null,{"$f":"validaciones(D103,H103,0)","v":""}]
[null,null,"Otras deducciones",{"$f":"+SUM(D99:E103)","v":0}]
[null,null,"TOTAL DEDUCCIONES GENERALES",{"$f":"SUM(D77:E103)","v":0},null,null,null,null,null,null,{"$f":"+D72-D105","v":0}]
[]
[null,null,"DEDUCCIONES PERSONALES",null,null,null,null,"Topes máximos legales"]
[null,null,"Ganancia no imponible",125758.8,null,{"$f":"validaciones(D108,H108,0)","v":""},null,{"$f":"deducciones(1,Datos!C11,MONTH(Datos!$C$13),$D$12)","v":167678.39999999999},null,null,{"$f":"IF(K105-K109<=0,0,IF(K105-K109<=H108,K105-K109,H108))","v":0}]
[null,null,"Deducción especial",603642.26,null,{"$f":"validaciones(D109,H109,0)","v":""},null,{"$f":"deducciones(2,Datos!$C$11,MONTH(Datos!$C$13),$D$12)","v":804856.34},null,null,{"$f":"IF(K105<=H109,K105,H109)","v":0}]
[null,null,"Deducción Especial Incrementada Primera parte del penúltimo párrafo del inciso c) del artículo 30 de la ley del gravamen",0]
[null,null,"Deducción Especial Incrementada Segunda parte del penúltimo párrafo del inciso c) del artículo 30 de la ley del gravamen",0]
[null,null,"Deducción específica",0,null,{"$f":"validaciones(D112,H112,0)","v":""},null,0]
[null,null,"Cargas de familia"]
[null,null,"Cónyuge",0,null,{"$f":"validaciones(D114,H114,0)","v":""},null,{"$f":"cargas_de_familia(4,Datos!$C$11,MONTH(Datos!$C$13),$D$12)","v":156320.63},null,null,{"$f":"IF(K105-K108-K109>=D114,D114,K105-K108-K109)","v":0}]
[null,null,"Cantidad de hijos e hijastros",0,null,{"$f":"validaciones(D115,H115,0)","v":""},null,99]
[null,null,"Deducción total hijos e hijastros",0,null,null,null,{"$f":"cargas_de_familia(3,Datos!$C$11,MONTH(Datos!$C$13),$D$12)*D115","v":0},null,null,{"$f":"IF(K105-K108-K109-K114>=D116,D116,K105-K108-K109-K114)","v":0}]
[null,null,"Cantidad de hijos e hijastros incapacitados para el trabajo",0,null,{"$f":"validaciones(D117,H117,0)","v":""},null,99]
[null,null,"Hijos / Hijastros incapacitados para el trabajo",0,null,null,null,{"$f":"cargas_de_familia(5,Datos!$C$11,MONTH(Datos!$C$13),$D$12)","v":157666.16}]
[null,null,"Total de cargas de familia",{"$f":"+D114+D116+D118","v":0},null,null,null,0]
[null,null,"TOTAL DEDUCCIONES PERSONALES",{"$f":"SUM(D108:D112,D119)","v":729401.06}]
[]
[null,null,"DETERMINACIÓN DEL IMPUESTO"]
[null,null,"REMUNERACIÓN NETA SUJETA A IMPUESTO -antes de la deducción art. 46 L. 27541-",0]
[null,null,"Deducción inciso a) primer párrafo artículo 30 de la ley (cfr. art. 46 L. 27541)",0,null,null,null,0,null,null,{"$f":"IF(D123-K125<=0,0,IF(D123-K125<=H124,D123-K125,H124))","v":0}]
[null,null,"Deducción inciso c) primer párrafo artículo 30 de la ley (cfr. art. 46 L. 27541)",0,null,null,null,0,null,null,{"$f":"IF(D123<=H125,D123,H125)","v":0}]
[null,null,"REMUNERACIÓN SUJETA A IMPUESTO",{"$f":"IF(+D72-D105-D120<0,0,+D72-D105-D120)","v":0}]
[null,null,"Alícuota aplicable artículo 94 ley de impuesto a las ganancias",{"$f":"IF(OR(Datos!C11=\"Final\",Datos!C11=\"Anual\"),impuestoAlicuota(D126,D25*(1-G25)+D51*(1-G51),12),impuestoAlicuota(D126,D25*(1-G25)+D51*(1-G51),MONTH(D11)))","v":0}]
[null,null,"Alícuota aplicable sin incluir horas extras",{"$f":"IF(OR(Datos!C11=\"Final\",Datos!C11=\"Anual\"),impuestoAlicuota(D126,0,12),impuestoAlicuota(D126,0,MONTH(D11)))","v":0}]
[null,null,"IMPUESTO DETERMINADO",{"$f":"IF(D126<0,0,IF(OR(Datos!C11=\"Final\",Datos!C11=\"Anual\"),impuestoDeterminado(D126,D25*(1-G25)+D51*(1-G51),12),impuestoDeterminado(D126,D25*(1-G25)+D51*(1-G51),MONTH(D11))))","v":0}]
[null,null,"Impuesto retenido",0]
[null,null,"Pagos a cuenta - Impuesto sobre créditos y débitos",0,null,{"$f":"IF(AND(Datos!$C$11=\"Informativa\",D131<>0),\"En la DDJJ informativa, este campo debe consignarse en cero (0)\",\"\")","v":""}]
[null,null,"Pagos a cuenta - Percepciones / Retenciones aduaneras",0,null,{"$f":"IF(AND(Datos!$C$11=\"Informativa\",D132<>0),\"En la DDJJ informativa, este campo debe consignarse en cero (0)\",\"\")","v":""}]
[null,null,"Pagos a cuenta - RG (AFIP) 3819/2015 - Cancelaciones en efectivo",0,null,{"$f":"IF(AND(Datos!$C$11=\"Informativa\",D133<>0),\"En la DDJJ informativa, este campo debe consignarse en cero (0)\",\"\")","v":""}]
[null,null,"Pagos a cuenta - Bono ley 27.424",0,null,{"$f":"IF(AND(Datos!$C$11=\"Informativa\",D134<>0),\"En la DDJJ informativa, este campo debe consignarse en cero (0)\",\"\")","v":""}]
[null,null,"Pagos a cuenta - RG 4815 [LEY 27.541 Art. 35 inciso a)] ",0,null,{"$f":"IF(AND(Datos!$C$11=\"Informativa\",D135<>0),\"En la DDJJ informativa, este campo debe consignarse en cero (0)\",\"\")","v":""}]
[null,null,"Pagos a cuenta - RG 4815 [LEY 27.541 Art. 35 inciso b)] ",0,null,{"$f":"IF(AND(Datos!$C$11=\"Informativa\",D136<>0),\"En la DDJJ informativa, este campo debe consignarse en cero (0)\",\"\")","v":""}]
[null,null,"Pagos a cuenta - RG 4815 [LEY 27.541 Art. 35 inciso c)] ",0,null,{"$f":"IF(AND(Datos!$C$11=\"Informativa\",D137<>0),\"En la DDJJ informativa, este campo debe consignarse en cero (0)\",\"\")","v":""}]
[null,null,"Pagos a cuenta - RG 4815 [LEY 27.541 Art. 35 inciso d)] ",0,null,{"$f":"IF(AND(Datos!$C$11=\"Informativa\",D138<>0),\"En la DDJJ informativa, este campo debe consignarse en cero (0)\",\"\")","v":""}]
[null,null,"Pagos a cuenta - RG 4815 [LEY 27.541 Art. 35 inciso e)] ",0,null,{"$f":"IF(AND(Datos!$C$11=\"Informativa\",D139<>0),\"En la DDJJ informativa, este campo debe consignarse en cero (0)\",\"\")","v":""}]
[null,null,"Pagos a cuenta - Impuesto sobre créditos y débitos - sobre movimientos de fondos propios o de terceros",0,null,{"$f":"IF(AND(Datos!$C$11=\"Informativa\",D140<>0),\"En la DDJJ informativa, este campo debe consignarse en cero (0)\",\"\")","v":""}]
[null,null,"Pagos a cuenta - Resolución General (AFIP) 3819/2015 - Cancelaciones en Efectivo -Servicios de transporte terrestre, aéreo y por vía acuática de pasajeros con destino fuera del país",0,null,{"$f":"IF(AND(Datos!$C$11=\"Informativa\",D141<>0),\"En la DDJJ informativa, este campo debe consignarse en cero (0)\",\"\")","v":""}]
[null,null,"Total pagos a cuenta",{"$f":"SUM(D131:D141)","v":0}]
[null,null,"SALDO A PAGAR",{"$f":"+ROUND(D129,2)-D130-D142","v":0}]

{"sheet":"Empleado41","index":45,"n_rows":143,"n_cols":11,"rows_kept":143,"cut":false,"hidden":false,"merged":[[10,7,11,9]]}
[]
[]
[null,null,"LIQUIDACIÓN DE IMPUESTO A LAS GANANCIAS - 4ta. CATEGORÍA RELACIÓN DE DEPENDENCIA"]
[]
[]
[null,null,"Empleado: Nombre y apellido "]
[null,null,"CUIL del empleado",null,null,{"$f":"cuitValidar(D7)","v":"CUIT/CUIL vacío"}]
[null,null,{"$f":"\"Agente de Retención: \"","v":"Agente de Retención: "},{"$f":"Datos!C7&\" - \"&Datos!C5","v":"33711238269 - OPERACIONES AGROPORTUARIAS S.A."}]
[null,null,{"$f":"\"Período Fiscal: \"","v":"Período Fiscal: "},{"$f":"YEAR(Datos!C13)","v":2021}]
[null,null,"Período trabajado (desde):","2021-01-01"]
[null,null,"Período trabajado (hasta):","2021-09-25",null,null,null,{"$f":"IF(MONTH(D11)>MONTH(Datos!C13),\"El período trabajado no puede ser mayor al período que se informa (mes \"&MONTH(Datos!C13)&\")\",\"\")","v":""}]
[null,null,"Zona geográfica:","Todo el país (excepto zona patagónica)"]
[null,null,"Transporte a larga distancia","No desarrolla la actividad"]
[null,null,"Beneficio promocional 27424?","No"]
[null,null,"Beneficio de la ley 27549?","No"]
[null,null,"El trabajador labora bajo el régimen de teletrabajo (Ley 27555)?","No"]
[null,null,"El trabajador es personal militar en actividad?","No"]
[]
[null,null,"REMUNERACIONES"]
[null,null,"Abonadas por el agente de retención:"]
[null,null,"Remuneración bruta gravada",0]
[null,null,"Retribuciones no habituales gravadas",0]
[null,null,"SAC primera cuota gravado",0]
[null,null,"SAC segunda cuota gravado",0]
[null,null,"Horas extras remuneración gravada",0,null,null,0,"% de retenciones"]
[null,null,"Movilidad y viáticos remuneración gravada",0]
[null,null,"Material didáctico personal docente remuneración gravada",0]
[null,null,"Remuneración no alcanzada o exenta (sin horas extras)",0]
[null,null,"Remuneración exenta ley 27549",0,null,{"$f":"IF(AND($D$15=\"No\",D29<>0),\"Para que sea procedente el beneficio, modifique el valor en la celda D15\",\"\")","v":""}]
[null,null,"Retribuciones no habituales exentas o no alcanzadas",0]
[null,null,"Horas extras remuneración exenta",0]
[null,null,"Movilidad y viáticos remuneración exenta",0]
[null,null,"Material didáctico personal docente remuneración exenta",0]
[null,null,"Bonos de productividad gravados",0]
[null,null,"Fallos de caja gravados",0]
[null,null,"Conceptos de similar naturaleza gravados",0]
[null,null,"Bonos de productividad exentos",0]
[null,null,"Fallos de caja exentos",0]
[null,null,"Conceptos de similar naturaleza exentos",0]
[null,null,"Compensación de gastos de teletrabajo exentos",0]
[null,null,"Personal militar - suplementos art. 57 ley 19.101 - exentos",0]
[null,null,"SAC primera cuota - No alcanzado o exento",0]
[null,null,"SAC segunda cuota - No alcanzado o exento",0]
[null,null,"Ajustes períodos anteriores - Remuneración gravada",0]
[null,null,"Ajustes períodos anteriores - Remuneración exenta / no alcanzada",0]
[null,null,"Otros empleos:"]
[null,null,"Remuneración bruta gravada ",0]
[null,null,"Retribuciones no habituales gravadas ",0]
[null,null,"SAC primera cuota gravado ",0]
[null,null,"SAC segunda cuota gravado ",0]
[null,null,"Horas extras remuneración gravada ",0,null,null,0,"% de retenciones"]
[null,null,"Movilidad y viáticos remuneración gravada ",0]
[null,null,"Material didáctico personal docente remuneración gravada ",0]
[null,null,"Remuneración no alcanzada o exenta ",0]
[null,null,"Remuneración exenta ley 27549 ",0,null,{"$f":"IF(AND($D$15=\"No\",D55<>0),\"Para que sea procedente el beneficio, modifique el valor en la celda D15\",\"\")","v":""}]
[null,null,"Retribuciones no habituales exentas o no alcanzadas ",0]
[null,null,"Horas extras remuneración exenta o no alcanzada ",0]
[null,null,"Movilidad y viáticos remuneración exenta o no alcanzada ",0]
[null,null,"Material didáctico personal docente remuneración exenta o no alcanzada ",0]
[null,null,"Bonos de productividad gravados ",0]
[null,null,"Fallos de caja gravados ",0]
[null,null,"Conceptos de similar naturaleza gravados ",0]
[null,null,"Bonos de productividad exentos ",0]
[null,null,"Fallos de caja exentos ",0]
[null,null,"Conceptos de similar naturaleza exentos ",0]
[null,null,"Compensación de gastos teletrabajo - exentos ",0]
[null,null,"Personal militar - suplementos art. 57 Ley 19101 - exentos ",0]
[null,null,"SAC primera cuota - No alcanzado o exento ",0]
[null,null,"SAC segunda cuota - No alcanzado o exento ",0]
[null,null,"Ajustes períodos anteriores - Remuneración gravada ",0]
[null,null,"Ajustes períodos anteriores - Remuneración no alcanzada o exenta ",0]
[null,null,"TOTAL REMUNERACIÓN GRAVADA",{"$f":"SUM(D21:E27,D44,D47:D53,D70)","v":0}]
[null,null,"TOTAL REMUNERACIÓN NO ALCANZADA O EXENTA",{"$f":"SUM(D28:D43,D45,D54:D69,D71)","v":0}]
[null,null,"TOTAL REMUNERACIONES",{"$f":"IF(+D72+D73<0,0,D72+D73)","v":0}]
[]
[null,null,"DEDUCCIONES GENERALES",null,null,null,null,"Topes máximos legales"]
[null,null,"Aportes a fondos de jubilaciones, retiros, pensiones o subsidios que se destinen a cajas nacionales, provinciales o municipales",0,null,{"$f":"validaciones(D77,H77,0)&IF(D77>$D$74,\" El importe no puede ser mayor a la remuneración total\",\"\")","v":""}]
[null,null,"Aportes a fondos de jubilaciones, retiros, pensiones o subsidios que se destinen a cajas nacionales, provinciales o municipales por otros empleos",0,null,{"$f":"validaciones(D78,H78,0)&IF(D78>$D$74,\" El importe no puede ser mayor a la remuneración total\",\"\")","v":""}]
[null,null,"Aportes a obra sociales",0,null,{"$f":"validaciones(D79,H79,0)&IF(D79>$D$74,\" El importe no puede ser mayor a la remuneración total\",\"\")","v":""}]
[null,null,"Aportes a obra sociales por otros empleos",0,null,{"$f":"validaciones(D80,H80,0)&IF(D80>$D$74,\" El importe no puede ser mayor a la remuneración total\",\"\")","v":""}]
[null,null,"Cuota sindical",0,null,{"$f":"validaciones(D81,H81,0)&IF(D81>$D$74,\" El importe no puede ser mayor a la remuneración total\",\"\")","v":""}]
[null,null,"Cuota sindical por otros empleos",0,null,{"$f":"validaciones(D82,H82,0)&IF(D82>$D$74,\" El importe no puede ser mayor a la remuneración total\",\"\")","v":""}]
[null,null,"Cuotas médico asistenciales",0,null,{"$f":"validaciones(D83,H83,0)","v":""},null,{"$f":"(D72-SUM(D77:D82,D84:D89,D91,D93:D94,D95:D103))*0.05","v":0}]
[null,null,"Primas de seguro para el caso de muerte",0,null,{"$f":"validaciones(D84,H84,0)&IF(AND(Datos!$C$11=\"Informativa\",D84<>0),\"En la DDJJ informativa, este campo debe consignarse en cero (0)\",\"\")","v":""},null,{"$f":"+Tablas!B2","v":24000}]
[null,null,"Primas por riesgo de muerte y de ahorro de seguros mixtos, excepto para los casos de seguros de retiro privados administrados por entidades sujetas al control de la Superintendencia de Seguros de la Nación",0,null,{"$f":"validaciones(D85,H85,0)&IF(AND(Datos!$C$11=\"Informativa\",D85<>0),\"En la DDJJ informativa, este campo debe consignarse en cero (0)\",\"\")","v":""},null,{"$f":"+H84","v":24000}]
[null,null,"Aportes a planes de seguro de retiro privados administrados por entidades sujetas al control de la Superintendencia de Seguros de la Nación",0,null,{"$f":"validaciones(D86,H86,0)&IF(AND(Datos!$C$11=\"Informativa\",D86<>0),\"En la DDJJ informativa, este campo debe consignarse en cero (0)\",\"\")","v":""},null,{"$f":"+H85","v":24000}]
[null,null,"Cuotapartes de fondos comunes de inversión constituidos con fines de retiro",0,null,{"$f":"validaciones(D87,H87,0)&IF(D87<>0,\"Deberá consignarse en cero (0), hasta que la Autoridad de Aplicación – CNV – autorice a las Entidades a funcionar e implemente el régimen.\",\"\")","v":""},null,0]
[null,null,"Gastos de sepelio",0,null,{"$f":"validaciones(D88,H88,0)","v":""},null,{"$f":"+Tablas!B6","v":996.23}]
[null,null,"Gastos amortización e intereses rodado para corredores y viajantes de comercio",0,null,{"$f":"validaciones(D89,H89,0)&IF(D89>$D$74,\" El importe no puede ser mayor a la remuneración total\",\"\")","v":""}]
[null,null,"Donaciones a fiscos nacional, provinciales y municipales, y a instituciones comprendidas en el artículo 26, incisos e) y f) de la ley",0,null,{"$f":"validaciones(D90,H90,0)","v":""},null,{"$f":"(D72-SUM(D77:D82,D84:D89,D91,D93:D94,D95:D103))*0.05","v":0}]
[null,null,"Descuentos obligatorios establecidos por ley nacional, provincial o municipal",0,null,{"$f":"validaciones(D91,H91,0)&IF(D91>$D$74,\" El importe no puede ser mayor a la remuneración total\",\"\")","v":""}]
[null,null,"Honorarios por servicios de asistencia sanitaria, médica y paramédica",0,null,{"$f":"validaciones(D92,H92,0)&IF(AND(Datos!$C$11=\"Informativa\",D92<>0),\"En la DDJJ informativa, este campo debe consignarse en cero (0)\",\"\")","v":""},null,{"$f":"(D72-SUM(D77:D82,D84:D89,D91,D93:D94,D95:D103))*0.05","v":0}]
[null,null,"Intereses de créditos hipotecarios",0,null,{"$f":"validaciones(D93,H93,0)","v":""},null,{"$f":"+Tablas!B3","v":20000}]
[null,null,"Aportes al capital social o al fondo de riesgo de socios protectores de sociedades de garantía recíproca",0,null,{"$f":"validaciones(D94,H94,0)","v":""}]
[null,null,"Alquileres de inmuebles destinados a casa habitación",0,null,{"$f":"validaciones(D95,H95,0)","v":""},null,{"$f":"IF(Datos!C11=\"Final\",ROUND(Tablas!B4/12*12,2),ROUND(Tablas!B4/12*MONTH(Datos!C13),2))","v":167678.39999999999}]
[null,null,"Empleados del servicio doméstico",0,null,{"$f":"validaciones(D96,H96,0)","v":""},null,{"$f":"Tablas!B4","v":167678.39999999999}]
[null,null,"Gastos de movilidad, viáticos y otras compensaciones análogas abonados por el empleador",0,null,{"$f":"validaciones(D97,H97,0)","v":""},null,{"$f":"IF(D13=\"Desarrolla la actividad\",Tablas!B4,Tablas!B4*0.4)","v":67071.360000000001}]
[null,null,"Gastos por adquisición de indumentaria y/o equipamiento de trabajo",0,null,{"$f":"validaciones(D98,H98,0)","v":""}]
[null,null,"Otras deducciones - aportes a Cajas Complementarias de Previsión, Fondos Compensadores de Previsión o similares",0,null,{"$f":"validaciones(D99,H99,0)","v":""}]
[null,null,"Otras deducciones - Aportes para jubilaciones, retiros y subsidios ANSES",0,null,{"$f":"validaciones(D100,H100,0)","v":""}]
[null,null,"Otras deducciones - Cajas Provinciales o Municipales o de Previsión para Profesionales",0,null,{"$f":"validaciones(D101,H101,0)","v":""}]
[null,null,"Otras deducciones - Actores - Retribución pagada a los representantes - RG 2442/08",0,null,{"$f":"validaciones(D102,H102,0)","v":""}]
[null,null,"Otras deducciones - Fondos compensadores de previsión",0,null,{"$f":"validaciones(D103,H103,0)","v":""}]
[null,null,"Otras deducciones",{"$f":"+SUM(D99:E103)","v":0}]
[null,null,"TOTAL DEDUCCIONES GENERALES",{"$f":"SUM(D77:E103)","v":0},null,null,null,null,null,null,{"$f":"+D72-D105","v":0}]
[]
[null,null,"DEDUCCIONES PERSONALES",null,null,null,null,"Topes máximos legales"]
[null,null,"Ganancia no imponible",125758.8,null,{"$f":"validaciones(D108,H108,0)","v":""},null,{"$f":"deducciones(1,Datos!C11,MONTH(Datos!$C$13),$D$12)","v":167678.39999999999},null,null,{"$f":"IF(K105-K109<=0,0,IF(K105-K109<=H108,K105-K109,H108))","v":0}]
[null,null,"Deducción especial",603642.26,null,{"$f":"validaciones(D109,H109,0)","v":""},null,{"$f":"deducciones(2,Datos!$C$11,MONTH(Datos!$C$13),$D$12)","v":804856.34},null,null,{"$f":"IF(K105<=H109,K105,H109)","v":0}]
[null,null,"Deducción Especial Incrementada Primera parte del penúltimo párrafo del inciso c) del artículo 30 de la ley del gravamen",0]
[null,null,"Deducción Especial Incrementada Segunda parte del penúltimo párrafo del inciso c) del artículo 30 de la ley del gravamen",0]
[null,null,"Deducción específica",0,null,{"$f":"validaciones(D112,H112,0)","v":""},null,0]
[null,null,"Cargas de familia"]
[null,null,"Cónyuge",0,null,{"$f":"validaciones(D114,H114,0)","v":""},null,{"$f":"cargas_de_familia(4,Datos!$C$11,MONTH(Datos!$C$13),$D$12)","v":156320.63},null,null,{"$f":"IF(K105-K108-K109>=D114,D114,K105-K108-K109)","v":0}]
[null,null,"Cantidad de hijos e hijastros",0,null,{"$f":"validaciones(D115,H115,0)","v":""},null,99]
[null,null,"Deducción total hijos e hijastros",0,null,null,null,{"$f":"cargas_de_familia(3,Datos!$C$11,MONTH(Datos!$C$13),$D$12)*D115","v":0},null,null,{"$f":"IF(K105-K108-K109-K114>=D116,D116,K105-K108-K109-K114)","v":0}]
[null,null,"Cantidad de hijos e hijastros incapacitados para el trabajo",0,null,{"$f":"validaciones(D117,H117,0)","v":""},null,99]
[null,null,"Hijos / Hijastros incapacitados para el trabajo",0,null,null,null,{"$f":"cargas_de_familia(5,Datos!$C$11,MONTH(Datos!$C$13),$D$12)","v":157666.16}]
[null,null,"Total de cargas de familia",{"$f":"+D114+D116+D118","v":0},null,null,null,0]
[null,null,"TOTAL DEDUCCIONES PERSONALES",{"$f":"SUM(D108:D112,D119)","v":729401.06}]
[]
[null,null,"DETERMINACIÓN DEL IMPUESTO"]
[null,null,"REMUNERACIÓN NETA SUJETA A IMPUESTO -antes de la deducción art. 46 L. 27541-",0]
[null,null,"Deducción inciso a) primer párrafo artículo 30 de la ley (cfr. art. 46 L. 27541)",0,null,null,null,0,null,null,{"$f":"IF(D123-K125<=0,0,IF(D123-K125<=H124,D123-K125,H124))","v":0}]
[null,null,"Deducción inciso c) primer párrafo artículo 30 de la ley (cfr. art. 46 L. 27541)",0,null,null,null,0,null,null,{"$f":"IF(D123<=H125,D123,H125)","v":0}]
[null,null,"REMUNERACIÓN SUJETA A IMPUESTO",{"$f":"IF(+D72-D105-D120<0,0,+D72-D105-D120)","v":0}]
[null,null,"Alícuota aplicable artículo 94 ley de impuesto a las ganancias",{"$f":"IF(OR(Datos!C11=\"Final\",Datos!C11=\"Anual\"),impuestoAlicuota(D126,D25*(1-G25)+D51*(1-G51),12),impuestoAlicuota(D126,D25*(1-G25)+D51*(1-G51),MONTH(D11)))","v":0}]
[null,null,"Alícuota aplicable sin incluir horas extras",{"$f":"IF(OR(Datos!C11=\"Final\",Datos!C11=\"Anual\"),impuestoAlicuota(D126,0,12),impuestoAlicuota(D126,0,MONTH(D11)))","v":0}]
[null,null,"IMPUESTO DETERMINADO",{"$f":"IF(D126<0,0,IF(OR(Datos!C11=\"Final\",Datos!C11=\"Anual\"),impuestoDeterminado(D126,D25*(1-G25)+D51*(1-G51),12),impuestoDeterminado(D126,D25*(1-G25)+D51*(1-G51),MONTH(D11))))","v":0}]
[null,null,"Impuesto retenido",0]
[null,null,"Pagos a cuenta - Impuesto sobre créditos y débitos",0,null,{"$f":"IF(AND(Datos!$C$11=\"Informativa\",D131<>0),\"En la DDJJ informativa, este campo debe consignarse en cero (0)\",\"\")","v":""}]
[null,null,"Pagos a cuenta - Percepciones / Retenciones aduaneras",0,null,{"$f":"IF(AND(Datos!$C$11=\"Informativa\",D132<>0),\"En la DDJJ informativa, este campo debe consignarse en cero (0)\",\"\")","v":""}]
[null,null,"Pagos a cuenta - RG (AFIP) 3819/2015 - Cancelaciones en efectivo",0,null,{"$f":"IF(AND(Datos!$C$11=\"Informativa\",D133<>0),\"En la DDJJ informativa, este campo debe consignarse en cero (0)\",\"\")","v":""}]
[null,null,"Pagos a cuenta - Bono ley 27.424",0,null,{"$f":"IF(AND(Datos!$C$11=\"Informativa\",D134<>0),\"En la DDJJ informativa, este campo debe consignarse en cero (0)\",\"\")","v":""}]
[null,null,"Pagos a cuenta - RG 4815 [LEY 27.541 Art. 35 inciso a)] ",0,null,{"$f":"IF(AND(Datos!$C$11=\"Informativa\",D135<>0),\"En la DDJJ informativa, este campo debe consignarse en cero (0)\",\"\")","v":""}]
[null,null,"Pagos a cuenta - RG 4815 [LEY 27.541 Art. 35 inciso b)] ",0,null,{"$f":"IF(AND(Datos!$C$11=\"Informativa\",D136<>0),\"En la DDJJ informativa, este campo debe consignarse en cero (0)\",\"\")","v":""}]
[null,null,"Pagos a cuenta - RG 4815 [LEY 27.541 Art. 35 inciso c)] ",0,null,{"$f":"IF(AND(Datos!$C$11=\"Informativa\",D137<>0),\"En la DDJJ informativa, este campo debe consignarse en cero (0)\",\"\")","v":""}]
[null,null,"Pagos a cuenta - RG 4815 [LEY 27.541 Art. 35 inciso d)] ",0,null,{"$f":"IF(AND(Datos!$C$11=\"Informativa\",D138<>0),\"En la DDJJ informativa, este campo debe consignarse en cero (0)\",\"\")","v":""}]
[null,null,"Pagos a cuenta - RG 4815 [LEY 27.541 Art. 35 inciso e)] ",0,null,{"$f":"IF(AND(Datos!$C$11=\"Informativa\",D139<>0),\"En la DDJJ informativa, este campo debe consignarse en cero (0)\",\"\")","v":""}]
[null,null,"Pagos a cuenta - Impuesto sobre créditos y débitos - sobre movimientos de fondos propios o de terceros",0,null,{"$f":"IF(AND(Datos!$C$11=\"Informativa\",D140<>0),\"En la DDJJ informativa, este campo debe consignarse en cero (0)\",\"\")","v":""}]
[null,null,"Pagos a cuenta - Resolución General (AFIP) 3819/2015 - Cancelaciones en Efectivo -Servicios de transporte terrestre, aéreo y por vía acuática de pasajeros con destino fuera del país",0,null,{"$f":"IF(AND(Datos!$C$11=\"Informativa\",D141<>0),\"En la DDJJ informativa, este campo debe consignarse en cero (0)\",\"\")","v":""}]
[null,null,"Total pagos a cuenta",{"$f":"SUM(D131:D141)","v":0}]
[null,null,"SALDO A PAGAR",{"$f":"+ROUND(D129,2)-D130-D142","v":0}]

{"sheet":"Empleado42","index":46,"n_rows":143,"n_cols":11,"rows_kept":143,"cut":false,"hidden":false,"merged":[[10,7,11,9]]}
[]
[]
[null,null,"LIQUIDACIÓN DE IMPUESTO A LAS GANANCIAS - 4ta. CATEGORÍA RELACIÓN DE DEPENDENCIA"]
[]
[]
[null,null,"Empleado: Nombre y apellido "]
[null,null,"CUIL del empleado",null,null,{"$f":"cuitValidar(D7)","v":"CUIT/CUIL vacío"}]
[null,null,{"$f":"\"Agente de Retención: \"","v":"Agente de Retención: "},{"$f":"Datos!C7&\" - \"&Datos!C5","v":"33711238269 - OPERACIONES AGROPORTUARIAS S.A."}]
[null,null,{"$f":"\"Período Fiscal: \"","v":"Período Fiscal: "},{"$f":"YEAR(Datos!C13)","v":2021}]
[null,null,"Período trabajado (desde):","2021-01-01"]
[null,null,"Período trabajado (hasta):","2021-09-25",null,null,null,{"$f":"IF(MONTH(D11)>MONTH(Datos!C13),\"El período trabajado no puede ser mayor al período que se informa (mes \"&MONTH(Datos!C13)&\")\",\"\")","v":""}]
[null,null,"Zona geográfica:","Todo el país (excepto zona patagónica)"]
[null,null,"Transporte a larga distancia","No desarrolla la actividad"]
[null,null,"Beneficio promocional 27424?","No"]
[null,null,"Beneficio de la ley 27549?","No"]
[null,null,"El trabajador labora bajo el régimen de teletrabajo (Ley 27555)?","No"]
[null,null,"El trabajador es personal militar en actividad?","No"]
[]
[null,null,"REMUNERACIONES"]
[null,null,"Abonadas por el agente de retención:"]
[null,null,"Remuneración bruta gravada",0]
[null,null,"Retribuciones no habituales gravadas",0]
[null,null,"SAC primera cuota gravado",0]
[null,null,"SAC segunda cuota gravado",0]
[null,null,"Horas extras remuneración gravada",0,null,null,0,"% de retenciones"]
[null,null,"Movilidad y viáticos remuneración gravada",0]
[null,null,"Material didáctico personal docente remuneración gravada",0]
[null,null,"Remuneración no alcanzada o exenta (sin horas extras)",0]
[null,null,"Remuneración exenta ley 27549",0,null,{"$f":"IF(AND($D$15=\"No\",D29<>0),\"Para que sea procedente el beneficio, modifique el valor en la celda D15\",\"\")","v":""}]
[null,null,"Retribuciones no habituales exentas o no alcanzadas",0]
[null,null,"Horas extras remuneración exenta",0]
[null,null,"Movilidad y viáticos remuneración exenta",0]
[null,null,"Material didáctico personal docente remuneración exenta",0]
[null,null,"Bonos de productividad gravados",0]
[null,null,"Fallos de caja gravados",0]
[null,null,"Conceptos de similar naturaleza gravados",0]
[null,null,"Bonos de productividad exentos",0]
[null,null,"Fallos de caja exentos",0]
[null,null,"Conceptos de similar naturaleza exentos",0]
[null,null,"Compensación de gastos de teletrabajo exentos",0]
[null,null,"Personal militar - suplementos art. 57 ley 19.101 - exentos",0]
[null,null,"SAC primera cuota - No alcanzado o exento",0]
[null,null,"SAC segunda cuota - No alcanzado o exento",0]
[null,null,"Ajustes períodos anteriores - Remuneración gravada",0]
[null,null,"Ajustes períodos anteriores - Remuneración exenta / no alcanzada",0]
[null,null,"Otros empleos:"]
[null,null,"Remuneración bruta gravada ",0]
[null,null,"Retribuciones no habituales gravadas ",0]
[null,null,"SAC primera cuota gravado ",0]
[null,null,"SAC segunda cuota gravado ",0]
[null,null,"Horas extras remuneración gravada ",0,null,null,0,"% de retenciones"]
[null,null,"Movilidad y viáticos remuneración gravada ",0]
[null,null,"Material didáctico personal docente remuneración gravada ",0]
[null,null,"Remuneración no alcanzada o exenta ",0]
[null,null,"Remuneración exenta ley 27549 ",0,null,{"$f":"IF(AND($D$15=\"No\",D55<>0),\"Para que sea procedente el beneficio, modifique el valor en la celda D15\",\"\")","v":""}]
[null,null,"Retribuciones no habituales exentas o no alcanzadas ",0]
[null,null,"Horas extras remuneración exenta o no alcanzada ",0]
[null,null,"Movilidad y viáticos remuneración exenta o no alcanzada ",0]
[null,null,"Material didáctico personal docente remuneración exenta o no alcanzada ",0]
[null,null,"Bonos de productividad gravados ",0]
[null,null,"Fallos de caja gravados ",0]
[null,null,"Conceptos de similar naturaleza gravados ",0]
[null,null,"Bonos de productividad exentos ",0]
[null,null,"Fallos de caja exentos ",0]
[null,null,"Conceptos de similar naturaleza exentos ",0]
[null,null,"Compensación de gastos teletrabajo - exentos ",0]
[null,null,"Personal militar - suplementos art. 57 Ley 19101 - exentos ",0]
[null,null,"SAC primera cuota - No alcanzado o exento ",0]
[null,null,"SAC segunda cuota - No alcanzado o exento ",0]
[null,null,"Ajustes períodos anteriores - Remuneración gravada ",0]
[null,null,"Ajustes períodos anteriores - Remuneración no alcanzada o exenta ",0]
[null,null,"TOTAL REMUNERACIÓN GRAVADA",{"$f":"SUM(D21:E27,D44,D47:D53,D70)","v":0}]
[null,null,"TOTAL REMUNERACIÓN NO ALCANZADA O EXENTA",{"$f":"SUM(D28:D43,D45,D54:D69,D71)","v":0}]
[null,null,"TOTAL REMUNERACIONES",{"$f":"IF(+D72+D73<0,0,D72+D73)","v":0}]
[]
[null,null,"DEDUCCIONES GENERALES",null,null,null,null,"Topes máximos legales"]
[null,null,"Aportes a fondos de jubilaciones, retiros, pensiones o subsidios que se destinen a cajas nacionales, provinciales o municipales",0,null,{"$f":"validaciones(D77,H77,0)&IF(D77>$D$74,\" El importe no puede ser mayor a la remuneración total\",\"\")","v":""}]
[null,null,"Aportes a fondos de jubilaciones, retiros, pensiones o subsidios que se destinen a cajas nacionales, provinciales o municipales por otros empleos",0,null,{"$f":"validaciones(D78,H78,0)&IF(D78>$D$74,\" El importe no puede ser mayor a la remuneración total\",\"\")","v":""}]
[null,null,"Aportes a obra sociales",0,null,{"$f":"validaciones(D79,H79,0)&IF(D79>$D$74,\" El importe no puede ser mayor a la remuneración total\",\"\")","v":""}]
[null,null,"Aportes a obra sociales por otros empleos",0,null,{"$f":"validaciones(D80,H80,0)&IF(D80>$D$74,\" El importe no puede ser mayor a la remuneración total\",\"\")","v":""}]
[null,null,"Cuota sindical",0,null,{"$f":"validaciones(D81,H81,0)&IF(D81>$D$74,\" El importe no puede ser mayor a la remuneración total\",\"\")","v":""}]
[null,null,"Cuota sindical por otros empleos",0,null,{"$f":"validaciones(D82,H82,0)&IF(D82>$D$74,\" El importe no puede ser mayor a la remuneración total\",\"\")","v":""}]
[null,null,"Cuotas médico asistenciales",0,null,{"$f":"validaciones(D83,H83,0)","v":""},null,{"$f":"(D72-SUM(D77:D82,D84:D89,D91,D93:D94,D95:D103))*0.05","v":0}]
[null,null,"Primas de seguro para el caso de muerte",0,null,{"$f":"validaciones(D84,H84,0)&IF(AND(Datos!$C$11=\"Informativa\",D84<>0),\"En la DDJJ informativa, este campo debe consignarse en cero (0)\",\"\")","v":""},null,{"$f":"+Tablas!B2","v":24000}]
[null,null,"Primas por riesgo de muerte y de ahorro de seguros mixtos, excepto para los casos de seguros de retiro privados administrados por entidades sujetas al control de la Superintendencia de Seguros de la Nación",0,null,{"$f":"validaciones(D85,H85,0)&IF(AND(Datos!$C$11=\"Informativa\",D85<>0),\"En la DDJJ informativa, este campo debe consignarse en cero (0)\",\"\")","v":""},null,{"$f":"+H84","v":24000}]
[null,null,"Aportes a planes de seguro de retiro privados administrados por entidades sujetas al control de la Superintendencia de Seguros de la Nación",0,null,{"$f":"validaciones(D86,H86,0)&IF(AND(Datos!$C$11=\"Informativa\",D86<>0),\"En la DDJJ informativa, este campo debe consignarse en cero (0)\",\"\")","v":""},null,{"$f":"+H85","v":24000}]
[null,null,"Cuotapartes de fondos comunes de inversión constituidos con fines de retiro",0,null,{"$f":"validaciones(D87,H87,0)&IF(D87<>0,\"Deberá consignarse en cero (0), hasta que la Autoridad de Aplicación – CNV – autorice a las Entidades a funcionar e implemente el régimen.\",\"\")","v":""},null,0]
[null,null,"Gastos de sepelio",0,null,{"$f":"validaciones(D88,H88,0)","v":""},null,{"$f":"+Tablas!B6","v":996.23}]
[null,null,"Gastos amortización e intereses rodado para corredores y viajantes de comercio",0,null,{"$f":"validaciones(D89,H89,0)&IF(D89>$D$74,\" El importe no puede ser mayor a la remuneración total\",\"\")","v":""}]
[null,null,"Donaciones a fiscos nacional, provinciales y municipales, y a instituciones comprendidas en el artículo 26, incisos e) y f) de la ley",0,null,{"$f":"validaciones(D90,H90,0)","v":""},null,{"$f":"(D72-SUM(D77:D82,D84:D89,D91,D93:D94,D95:D103))*0.05","v":0}]
[null,null,"Descuentos obligatorios establecidos por ley nacional, provincial o municipal",0,null,{"$f":"validaciones(D91,H91,0)&IF(D91>$D$74,\" El importe no puede ser mayor a la remuneración total\",\"\")","v":""}]
[null,null,"Honorarios por servicios de asistencia sanitaria, médica y paramédica",0,null,{"$f":"validaciones(D92,H92,0)&IF(AND(Datos!$C$11=\"Informativa\",D92<>0),\"En la DDJJ informativa, este campo debe consignarse en cero (0)\",\"\")","v":""},null,{"$f":"(D72-SUM(D77:D82,D84:D89,D91,D93:D94,D95:D103))*0.05","v":0}]
[null,null,"Intereses de créditos hipotecarios",0,null,{"$f":"validaciones(D93,H93,0)","v":""},null,{"$f":"+Tablas!B3","v":20000}]
[null,null,"Aportes al capital social o al fondo de riesgo de socios protectores de sociedades de garantía recíproca",0,null,{"$f":"validaciones(D94,H94,0)","v":""}]
[null,null,"Alquileres de inmuebles destinados a casa habitación",0,null,{"$f":"validaciones(D95,H95,0)","v":""},null,{"$f":"IF(Datos!C11=\"Final\",ROUND(Tablas!B4/12*12,2),ROUND(Tablas!B4/12*MONTH(Datos!C13),2))","v":167678.39999999999}]
[null,null,"Empleados del servicio doméstico",0,null,{"$f":"validaciones(D96,H96,0)","v":""},null,{"$f":"Tablas!B4","v":167678.39999999999}]
[null,null,"Gastos de movilidad, viáticos y otras compensaciones análogas abonados por el empleador",0,null,{"$f":"validaciones(D97,H97,0)","v":""},null,{"$f":"IF(D13=\"Desarrolla la actividad\",Tablas!B4,Tablas!B4*0.4)","v":67071.360000000001}]
[null,null,"Gastos por adquisición de indumentaria y/o equipamiento de trabajo",0,null,{"$f":"validaciones(D98,H98,0)","v":""}]
[null,null,"Otras deducciones - aportes a Cajas Complementarias de Previsión, Fondos Compensadores de Previsión o similares",0,null,{"$f":"validaciones(D99,H99,0)","v":""}]
[null,null,"Otras deducciones - Aportes para jubilaciones, retiros y subsidios ANSES",0,null,{"$f":"validaciones(D100,H100,0)","v":""}]
[null,null,"Otras deducciones - Cajas Provinciales o Municipales o de Previsión para Profesionales",0,null,{"$f":"validaciones(D101,H101,0)","v":""}]
[null,null,"Otras deducciones - Actores - Retribución pagada a los representantes - RG 2442/08",0,null,{"$f":"validaciones(D102,H102,0)","v":""}]
[null,null,"Otras deducciones - Fondos compensadores de previsión",0,null,{"$f":"validaciones(D103,H103,0)","v":""}]
[null,null,"Otras deducciones",{"$f":"+SUM(D99:E103)","v":0}]
[null,null,"TOTAL DEDUCCIONES GENERALES",{"$f":"SUM(D77:E103)","v":0},null,null,null,null,null,null,{"$f":"+D72-D105","v":0}]
[]
[null,null,"DEDUCCIONES PERSONALES",null,null,null,null,"Topes máximos legales"]
[null,null,"Ganancia no imponible",125758.8,null,{"$f":"validaciones(D108,H108,0)","v":""},null,{"$f":"deducciones(1,Datos!C11,MONTH(Datos!$C$13),$D$12)","v":167678.39999999999},null,null,{"$f":"IF(K105-K109<=0,0,IF(K105-K109<=H108,K105-K109,H108))","v":0}]
[null,null,"Deducción especial",603642.26,null,{"$f":"validaciones(D109,H109,0)","v":""},null,{"$f":"deducciones(2,Datos!$C$11,MONTH(Datos!$C$13),$D$12)","v":804856.34},null,null,{"$f":"IF(K105<=H109,K105,H109)","v":0}]
[null,null,"Deducción Especial Incrementada Primera parte del penúltimo párrafo del inciso c) del artículo 30 de la ley del gravamen",0]
[null,null,"Deducción Especial Incrementada Segunda parte del penúltimo párrafo del inciso c) del artículo 30 de la ley del gravamen",0]
[null,null,"Deducción específica",0,null,{"$f":"validaciones(D112,H112,0)","v":""},null,0]
[null,null,"Cargas de familia"]
[null,null,"Cónyuge",0,null,{"$f":"validaciones(D114,H114,0)","v":""},null,{"$f":"cargas_de_familia(4,Datos!$C$11,MONTH(Datos!$C$13),$D$12)","v":156320.63},null,null,{"$f":"IF(K105-K108-K109>=D114,D114,K105-K108-K109)","v":0}]
[null,null,"Cantidad de hijos e hijastros",0,null,{"$f":"validaciones(D115,H115,0)","v":""},null,99]
[null,null,"Deducción total hijos e hijastros",0,null,null,null,{"$f":"cargas_de_familia(3,Datos!$C$11,MONTH(Datos!$C$13),$D$12)*D115","v":0},null,null,{"$f":"IF(K105-K108-K109-K114>=D116,D116,K105-K108-K109-K114)","v":0}]
[null,null,"Cantidad de hijos e hijastros incapacitados para el trabajo",0,null,{"$f":"validaciones(D117,H117,0)","v":""},null,99]
[null,null,"Hijos / Hijastros incapacitados para el trabajo",0,null,null,null,{"$f":"cargas_de_familia(5,Datos!$C$11,MONTH(Datos!$C$13),$D$12)","v":157666.16}]
[null,null,"Total de cargas de familia",{"$f":"+D114+D116+D118","v":0},null,null,null,0]
[null,null,"TOTAL DEDUCCIONES PERSONALES",{"$f":"SUM(D108:D112,D119)","v":729401.06}]
[]
[null,null,"DETERMINACIÓN DEL IMPUESTO"]
[null,null,"REMUNERACIÓN NETA SUJETA A IMPUESTO -antes de la deducción art. 46 L. 27541-",0]
[null,null,"Deducción inciso a) primer párrafo artículo 30 de la ley (cfr. art. 46 L. 27541)",0,null,null,null,0,null,null,{"$f":"IF(D123-K125<=0,0,IF(D123-K125<=H124,D123-K125,H124))","v":0}]
[null,null,"Deducción inciso c) primer párrafo artículo 30 de la ley (cfr. art. 46 L. 27541)",0,null,null,null,0,null,null,{"$f":"IF(D123<=H125,D123,H125)","v":0}]
[null,null,"REMUNERACIÓN SUJETA A IMPUESTO",{"$f":"IF(+D72-D105-D120<0,0,+D72-D105-D120)","v":0}]
[null,null,"Alícuota aplicable artículo 94 ley de impuesto a las ganancias",{"$f":"IF(OR(Datos!C11=\"Final\",Datos!C11=\"Anual\"),impuestoAlicuota(D126,D25*(1-G25)+D51*(1-G51),12),impuestoAlicuota(D126,D25*(1-G25)+D51*(1-G51),MONTH(D11)))","v":0}]
[null,null,"Alícuota aplicable sin incluir horas extras",{"$f":"IF(OR(Datos!C11=\"Final\",Datos!C11=\"Anual\"),impuestoAlicuota(D126,0,12),impuestoAlicuota(D126,0,MONTH(D11)))","v":0}]
[null,null,"IMPUESTO DETERMINADO",{"$f":"IF(D126<0,0,IF(OR(Datos!C11=\"Final\",Datos!C11=\"Anual\"),impuestoDeterminado(D126,D25*(1-G25)+D51*(1-G51),12),impuestoDeterminado(D126,D25*(1-G25)+D51*(1-G51),MONTH(D11))))","v":0}]
[null,null,"Impuesto retenido",0]
[null,null,"Pagos a cuenta - Impuesto sobre créditos y débitos",0,null,{"$f":"IF(AND(Datos!$C$11=\"Informativa\",D131<>0),\"En la DDJJ informativa, este campo debe consignarse en cero (0)\",\"\")","v":""}]
[null,null,"Pagos a cuenta - Percepciones / Retenciones aduaneras",0,null,{"$f":"IF(AND(Datos!$C$11=\"Informativa\",D132<>0),\"En la DDJJ informativa, este campo debe consignarse en cero (0)\",\"\")","v":""}]
[null,null,"Pagos a cuenta - RG (AFIP) 3819/2015 - Cancelaciones en efectivo",0,null,{"$f":"IF(AND(Datos!$C$11=\"Informativa\",D133<>0),\"En la DDJJ informativa, este campo debe consignarse en cero (0)\",\"\")","v":""}]
[null,null,"Pagos a cuenta - Bono ley 27.424",0,null,{"$f":"IF(AND(Datos!$C$11=\"Informativa\",D134<>0),\"En la DDJJ informativa, este campo debe consignarse en cero (0)\",\"\")","v":""}]
[null,null,"Pagos a cuenta - RG 4815 [LEY 27.541 Art. 35 inciso a)] ",0,null,{"$f":"IF(AND(Datos!$C$11=\"Informativa\",D135<>0),\"En la DDJJ informativa, este campo debe consignarse en cero (0)\",\"\")","v":""}]
[null,null,"Pagos a cuenta - RG 4815 [LEY 27.541 Art. 35 inciso b)] ",0,null,{"$f":"IF(AND(Datos!$C$11=\"Informativa\",D136<>0),\"En la DDJJ informativa, este campo debe consignarse en cero (0)\",\"\")","v":""}]
[null,null,"Pagos a cuenta - RG 4815 [LEY 27.541 Art. 35 inciso c)] ",0,null,{"$f":"IF(AND(Datos!$C$11=\"Informativa\",D137<>0),\"En la DDJJ informativa, este campo debe consignarse en cero (0)\",\"\")","v":""}]
[null,null,"Pagos a cuenta - RG 4815 [LEY 27.541 Art. 35 inciso d)] ",0,null,{"$f":"IF(AND(Datos!$C$11=\"Informativa\",D138<>0),\"En la DDJJ informativa, este campo debe consignarse en cero (0)\",\"\")","v":""}]
[null,null,"Pagos a cuenta - RG 4815 [LEY 27.541 Art. 35 inciso e)] ",0,null,{"$f":"IF(AND(Datos!$C$11=\"Informativa\",D139<>0),\"En la DDJJ informativa, este campo debe consignarse en cero (0)\",\"\")","v":""}]
[null,null,"Pagos a cuenta - Impuesto sobre créditos y débitos - sobre movimientos de fondos propios o de terceros",0,null,{"$f":"IF(AND(Datos!$C$11=\"Informativa\",D140<>0),\"En la DDJJ informativa, este campo debe consignarse en cero (0)\",\"\")","v":""}]
[null,null,"Pagos a cuenta - Resolución General (AFIP) 3819/2015 - Cancelaciones en Efectivo -Servicios de transporte terrestre, aéreo y por vía acuática de pasajeros con destino fuera del país",0,null,{"$f":"IF(AND(Datos!$C$11=\"Informativa\",D141<>0),\"En la DDJJ informativa, este campo debe consignarse en cero (0)\",\"\")","v":""}]
[null,null,"Total pagos a cuenta",{"$f":"SUM(D131:D141)","v":0}]
[null,null,"SALDO A PAGAR",{"$f":"+ROUND(D129,2)-D130-D142","v":0}]

{"sheet":"Empleado43","index":47,"n_rows":143,"n_cols":11,"rows_kept":143,"cut":false,"hidden":false,"merged":[[10,7,11,9]]}
[]
[]
[null,null,"LIQUIDACIÓN DE IMPUESTO A LAS GANANCIAS - 4ta. CATEGORÍA RELACIÓN DE DEPENDENCIA"]
[]
[]
[null,null,"Empleado: Nombre y apellido "]
[null,null,"CUIL del empleado",null,null,{"$f":"cuitValidar(D7)","v":"CUIT/CUIL vacío"}]
[null,null,{"$f":"\"Agente de Retención: \"","v":"Agente de Retención: "},{"$f":"Datos!C7&\" - \"&Datos!C5","v":"33711238269 - OPERACIONES AGROPORTUARIAS S.A."}]
[null,null,{"$f":"\"Período Fiscal: \"","v":"Período Fiscal: "},{"$f":"YEAR(Datos!C13)","v":2021}]
[null,null,"Período trabajado (desde):","2021-01-01"]
[null,null,"Período trabajado (hasta):","2021-09-25",null,null,null,{"$f":"IF(MONTH(D11)>MONTH(Datos!C13),\"El período trabajado no puede ser mayor al período que se informa (mes \"&MONTH(Datos!C13)&\")\",\"\")","v":""}]
[null,null,"Zona geográfica:","Todo el país (excepto zona patagónica)"]
[null,null,"Transporte a larga distancia","No desarrolla la actividad"]
[null,null,"Beneficio promocional 27424?","No"]
[null,null,"Beneficio de la ley 27549?","No"]
[null,null,"El trabajador labora bajo el régimen de teletrabajo (Ley 27555)?","No"]
[null,null,"El trabajador es personal militar en actividad?","No"]
[]
[null,null,"REMUNERACIONES"]
[null,null,"Abonadas por el agente de retención:"]
[null,null,"Remuneración bruta gravada",0]
[null,null,"Retribuciones no habituales gravadas",0]
[null,null,"SAC primera cuota gravado",0]
[null,null,"SAC segunda cuota gravado",0]
[null,null,"Horas extras remuneración gravada",0,null,null,0,"% de retenciones"]
[null,null,"Movilidad y viáticos remuneración gravada",0]
[null,null,"Material didáctico personal docente remuneración gravada",0]
[null,null,"Remuneración no alcanzada o exenta (sin horas extras)",0]
[null,null,"Remuneración exenta ley 27549",0,null,{"$f":"IF(AND($D$15=\"No\",D29<>0),\"Para que sea procedente el beneficio, modifique el valor en la celda D15\",\"\")","v":""}]
[null,null,"Retribuciones no habituales exentas o no alcanzadas",0]
[null,null,"Horas extras remuneración exenta",0]
[null,null,"Movilidad y viáticos remuneración exenta",0]
[null,null,"Material didáctico personal docente remuneración exenta",0]
[null,null,"Bonos de productividad gravados",0]
[null,null,"Fallos de caja gravados",0]
[null,null,"Conceptos de similar naturaleza gravados",0]
[null,null,"Bonos de productividad exentos",0]
[null,null,"Fallos de caja exentos",0]
[null,null,"Conceptos de similar naturaleza exentos",0]
[null,null,"Compensación de gastos de teletrabajo exentos",0]
[null,null,"Personal militar - suplementos art. 57 ley 19.101 - exentos",0]
[null,null,"SAC primera cuota - No alcanzado o exento",0]
[null,null,"SAC segunda cuota - No alcanzado o exento",0]
[null,null,"Ajustes períodos anteriores - Remuneración gravada",0]
[null,null,"Ajustes períodos anteriores - Remuneración exenta / no alcanzada",0]
[null,null,"Otros empleos:"]
[null,null,"Remuneración bruta gravada ",0]
[null,null,"Retribuciones no habituales gravadas ",0]
[null,null,"SAC primera cuota gravado ",0]
[null,null,"SAC segunda cuota gravado ",0]
[null,null,"Horas extras remuneración gravada ",0,null,null,0,"% de retenciones"]
[null,null,"Movilidad y viáticos remuneración gravada ",0]
[null,null,"Material didáctico personal docente remuneración gravada ",0]
[null,null,"Remuneración no alcanzada o exenta ",0]
[null,null,"Remuneración exenta ley 27549 ",0,null,{"$f":"IF(AND($D$15=\"No\",D55<>0),\"Para que sea procedente el beneficio, modifique el valor en la celda D15\",\"\")","v":""}]
[null,null,"Retribuciones no habituales exentas o no alcanzadas ",0]
[null,null,"Horas extras remuneración exenta o no alcanzada ",0]
[null,null,"Movilidad y viáticos remuneración exenta o no alcanzada ",0]
[null,null,"Material didáctico personal docente remuneración exenta o no alcanzada ",0]
[null,null,"Bonos de productividad gravados ",0]
[null,null,"Fallos de caja gravados ",0]
[null,null,"Conceptos de similar naturaleza gravados ",0]
[null,null,"Bonos de productividad exentos ",0]
[null,null,"Fallos de caja exentos ",0]
[null,null,"Conceptos de similar naturaleza exentos ",0]
[null,null,"Compensación de gastos teletrabajo - exentos ",0]
[null,null,"Personal militar - suplementos art. 57 Ley 19101 - exentos ",0]
[null,null,"SAC primera cuota - No alcanzado o exento ",0]
[null,null,"SAC segunda cuota - No alcanzado o exento ",0]
[null,null,"Ajustes períodos anteriores - Remuneración gravada ",0]
[null,null,"Ajustes períodos anteriores - Remuneración no alcanzada o exenta ",0]
[null,null,"TOTAL REMUNERACIÓN GRAVADA",{"$f":"SUM(D21:E27,D44,D47:D53,D70)","v":0}]
[null,null,"TOTAL REMUNERACIÓN NO ALCANZADA O EXENTA",{"$f":"SUM(D28:D43,D45,D54:D69,D71)","v":0}]
[null,null,"TOTAL REMUNERACIONES",{"$f":"IF(+D72+D73<0,0,D72+D73)","v":0}]
[]
[null,null,"DEDUCCIONES GENERALES",null,null,null,null,"Topes máximos legales"]
[null,null,"Aportes a fondos de jubilaciones, retiros, pensiones o subsidios que se destinen a cajas nacionales, provinciales o municipales",0,null,{"$f":"validaciones(D77,H77,0)&IF(D77>$D$74,\" El importe no puede ser mayor a la remuneración total\",\"\")","v":""}]
[null,null,"Aportes a fondos de jubilaciones, retiros, pensiones o subsidios que se destinen a cajas nacionales, provinciales o municipales por otros empleos",0,null,{"$f":"validaciones(D78,H78,0)&IF(D78>$D$74,\" El importe no puede ser mayor a la remuneración total\",\"\")","v":""}]
[null,null,"Aportes a obra sociales",0,null,{"$f":"validaciones(D79,H79,0)&IF(D79>$D$74,\" El importe no puede ser mayor a la remuneración total\",\"\")","v":""}]
[null,null,"Aportes a obra sociales por otros empleos",0,null,{"$f":"validaciones(D80,H80,0)&IF(D80>$D$74,\" El importe no puede ser mayor a la remuneración total\",\"\")","v":""}]
[null,null,"Cuota sindical",0,null,{"$f":"validaciones(D81,H81,0)&IF(D81>$D$74,\" El importe no puede ser mayor a la remuneración total\",\"\")","v":""}]
[null,null,"Cuota sindical por otros empleos",0,null,{"$f":"validaciones(D82,H82,0)&IF(D82>$D$74,\" El importe no puede ser mayor a la remuneración total\",\"\")","v":""}]
[null,null,"Cuotas médico asistenciales",0,null,{"$f":"validaciones(D83,H83,0)","v":""},null,{"$f":"(D72-SUM(D77:D82,D84:D89,D91,D93:D94,D95:D103))*0.05","v":0}]
[null,null,"Primas de seguro para el caso de muerte",0,null,{"$f":"validaciones(D84,H84,0)&IF(AND(Datos!$C$11=\"Informativa\",D84<>0),\"En la DDJJ informativa, este campo debe consignarse en cero (0)\",\"\")","v":""},null,{"$f":"+Tablas!B2","v":24000}]
[null,null,"Primas por riesgo de muerte y de ahorro de seguros mixtos, excepto para los casos de seguros de retiro privados administrados por entidades sujetas al control de la Superintendencia de Seguros de la Nación",0,null,{"$f":"validaciones(D85,H85,0)&IF(AND(Datos!$C$11=\"Informativa\",D85<>0),\"En la DDJJ informativa, este campo debe consignarse en cero (0)\",\"\")","v":""},null,{"$f":"+H84","v":24000}]
[null,null,"Aportes a planes de seguro de retiro privados administrados por entidades sujetas al control de la Superintendencia de Seguros de la Nación",0,null,{"$f":"validaciones(D86,H86,0)&IF(AND(Datos!$C$11=\"Informativa\",D86<>0),\"En la DDJJ informativa, este campo debe consignarse en cero (0)\",\"\")","v":""},null,{"$f":"+H85","v":24000}]
[null,null,"Cuotapartes de fondos comunes de inversión constituidos con fines de retiro",0,null,{"$f":"validaciones(D87,H87,0)&IF(D87<>0,\"Deberá consignarse en cero (0), hasta que la Autoridad de Aplicación – CNV – autorice a las Entidades a funcionar e implemente el régimen.\",\"\")","v":""},null,0]
[null,null,"Gastos de sepelio",0,null,{"$f":"validaciones(D88,H88,0)","v":""},null,{"$f":"+Tablas!B6","v":996.23}]
[null,null,"Gastos amortización e intereses rodado para corredores y viajantes de comercio",0,null,{"$f":"validaciones(D89,H89,0)&IF(D89>$D$74,\" El importe no puede ser mayor a la remuneración total\",\"\")","v":""}]
[null,null,"Donaciones a fiscos nacional, provinciales y municipales, y a instituciones comprendidas en el artículo 26, incisos e) y f) de la ley",0,null,{"$f":"validaciones(D90,H90,0)","v":""},null,{"$f":"(D72-SUM(D77:D82,D84:D89,D91,D93:D94,D95:D103))*0.05","v":0}]
[null,null,"Descuentos obligatorios establecidos por ley nacional, provincial o municipal",0,null,{"$f":"validaciones(D91,H91,0)&IF(D91>$D$74,\" El importe no puede ser mayor a la remuneración total\",\"\")","v":""}]
[null,null,"Honorarios por servicios de asistencia sanitaria, médica y paramédica",0,null,{"$f":"validaciones(D92,H92,0)&IF(AND(Datos!$C$11=\"Informativa\",D92<>0),\"En la DDJJ informativa, este campo debe consignarse en cero (0)\",\"\")","v":""},null,{"$f":"(D72-SUM(D77:D82,D84:D89,D91,D93:D94,D95:D103))*0.05","v":0}]
[null,null,"Intereses de créditos hipotecarios",0,null,{"$f":"validaciones(D93,H93,0)","v":""},null,{"$f":"+Tablas!B3","v":20000}]
[null,null,"Aportes al capital social o al fondo de riesgo de socios protectores de sociedades de garantía recíproca",0,null,{"$f":"validaciones(D94,H94,0)","v":""}]
[null,null,"Alquileres de inmuebles destinados a casa habitación",0,null,{"$f":"validaciones(D95,H95,0)","v":""},null,{"$f":"IF(Datos!C11=\"Final\",ROUND(Tablas!B4/12*12,2),ROUND(Tablas!B4/12*MONTH(Datos!C13),2))","v":167678.39999999999}]
[null,null,"Empleados del servicio doméstico",0,null,{"$f":"validaciones(D96,H96,0)","v":""},null,{"$f":"Tablas!B4","v":167678.39999999999}]
[null,null,"Gastos de movilidad, viáticos y otras compensaciones análogas abonados por el empleador",0,null,{"$f":"validaciones(D97,H97,0)","v":""},null,{"$f":"IF(D13=\"Desarrolla la actividad\",Tablas!B4,Tablas!B4*0.4)","v":67071.360000000001}]
[null,null,"Gastos por adquisición de indumentaria y/o equipamiento de trabajo",0,null,{"$f":"validaciones(D98,H98,0)","v":""}]
[null,null,"Otras deducciones - aportes a Cajas Complementarias de Previsión, Fondos Compensadores de Previsión o similares",0,null,{"$f":"validaciones(D99,H99,0)","v":""}]
[null,null,"Otras deducciones - Aportes para jubilaciones, retiros y subsidios ANSES",0,null,{"$f":"validaciones(D100,H100,0)","v":""}]
[null,null,"Otras deducciones - Cajas Provinciales o Municipales o de Previsión para Profesionales",0,null,{"$f":"validaciones(D101,H101,0)","v":""}]
[null,null,"Otras deducciones - Actores - Retribución pagada a los representantes - RG 2442/08",0,null,{"$f":"validaciones(D102,H102,0)","v":""}]
[null,null,"Otras deducciones - Fondos compensadores de previsión",0,null,{"$f":"validaciones(D103,H103,0)","v":""}]
[null,null,"Otras deducciones",{"$f":"+SUM(D99:E103)","v":0}]
[null,null,"TOTAL DEDUCCIONES GENERALES",{"$f":"SUM(D77:E103)","v":0},null,null,null,null,null,null,{"$f":"+D72-D105","v":0}]
[]
[null,null,"DEDUCCIONES PERSONALES",null,null,null,null,"Topes máximos legales"]
[null,null,"Ganancia no imponible",125758.8,null,{"$f":"validaciones(D108,H108,0)","v":""},null,{"$f":"deducciones(1,Datos!C11,MONTH(Datos!$C$13),$D$12)","v":167678.39999999999},null,null,{"$f":"IF(K105-K109<=0,0,IF(K105-K109<=H108,K105-K109,H108))","v":0}]
[null,null,"Deducción especial",603642.26,null,{"$f":"validaciones(D109,H109,0)","v":""},null,{"$f":"deducciones(2,Datos!$C$11,MONTH(Datos!$C$13),$D$12)","v":804856.34},null,null,{"$f":"IF(K105<=H109,K105,H109)","v":0}]
[null,null,"Deducción Especial Incrementada Primera parte del penúltimo párrafo del inciso c) del artículo 30 de la ley del gravamen",0]
[null,null,"Deducción Especial Incrementada Segunda parte del penúltimo párrafo del inciso c) del artículo 30 de la ley del gravamen",0]
[null,null,"Deducción específica",0,null,{"$f":"validaciones(D112,H112,0)","v":""},null,0]
[null,null,"Cargas de familia"]
[null,null,"Cónyuge",0,null,{"$f":"validaciones(D114,H114,0)","v":""},null,{"$f":"cargas_de_familia(4,Datos!$C$11,MONTH(Datos!$C$13),$D$12)","v":156320.63},null,null,{"$f":"IF(K105-K108-K109>=D114,D114,K105-K108-K109)","v":0}]
[null,null,"Cantidad de hijos e hijastros",0,null,{"$f":"validaciones(D115,H115,0)","v":""},null,99]
[null,null,"Deducción total hijos e hijastros",0,null,null,null,{"$f":"cargas_de_familia(3,Datos!$C$11,MONTH(Datos!$C$13),$D$12)*D115","v":0},null,null,{"$f":"IF(K105-K108-K109-K114>=D116,D116,K105-K108-K109-K114)","v":0}]
[null,null,"Cantidad de hijos e hijastros incapacitados para el trabajo",0,null,{"$f":"validaciones(D117,H117,0)","v":""},null,99]
[null,null,"Hijos / Hijastros incapacitados para el trabajo",0,null,null,null,{"$f":"cargas_de_familia(5,Datos!$C$11,MONTH(Datos!$C$13),$D$12)","v":157666.16}]
[null,null,"Total de cargas de familia",{"$f":"+D114+D116+D118","v":0},null,null,null,0]
[null,null,"TOTAL DEDUCCIONES PERSONALES",{"$f":"SUM(D108:D112,D119)","v":729401.06}]
[]
[null,null,"DETERMINACIÓN DEL IMPUESTO"]
[null,null,"REMUNERACIÓN NETA SUJETA A IMPUESTO -antes de la deducción art. 46 L. 27541-",0]
[null,null,"Deducción inciso a) primer párrafo artículo 30 de la ley (cfr. art. 46 L. 27541)",0,null,null,null,0,null,null,{"$f":"IF(D123-K125<=0,0,IF(D123-K125<=H124,D123-K125,H124))","v":0}]
[null,null,"Deducción inciso c) primer párrafo artículo 30 de la ley (cfr. art. 46 L. 27541)",0,null,null,null,0,null,null,{"$f":"IF(D123<=H125,D123,H125)","v":0}]
[null,null,"REMUNERACIÓN SUJETA A IMPUESTO",{"$f":"IF(+D72-D105-D120<0,0,+D72-D105-D120)","v":0}]
[null,null,"Alícuota aplicable artículo 94 ley de impuesto a las ganancias",{"$f":"IF(OR(Datos!C11=\"Final\",Datos!C11=\"Anual\"),impuestoAlicuota(D126,D25*(1-G25)+D51*(1-G51),12),impuestoAlicuota(D126,D25*(1-G25)+D51*(1-G51),MONTH(D11)))","v":0}]
[null,null,"Alícuota aplicable sin incluir horas extras",{"$f":"IF(OR(Datos!C11=\"Final\",Datos!C11=\"Anual\"),impuestoAlicuota(D126,0,12),impuestoAlicuota(D126,0,MONTH(D11)))","v":0}]
[null,null,"IMPUESTO DETERMINADO",{"$f":"IF(D126<0,0,IF(OR(Datos!C11=\"Final\",Datos!C11=\"Anual\"),impuestoDeterminado(D126,D25*(1-G25)+D51*(1-G51),12),impuestoDeterminado(D126,D25*(1-G25)+D51*(1-G51),MONTH(D11))))","v":0}]
[null,null,"Impuesto retenido",0]
[null,null,"Pagos a cuenta - Impuesto sobre créditos y débitos",0,null,{"$f":"IF(AND(Datos!$C$11=\"Informativa\",D131<>0),\"En la DDJJ informativa, este campo debe consignarse en cero (0)\",\"\")","v":""}]
[null,null,"Pagos a cuenta - Percepciones / Retenciones aduaneras",0,null,{"$f":"IF(AND(Datos!$C$11=\"Informativa\",D132<>0),\"En la DDJJ informativa, este campo debe consignarse en cero (0)\",\"\")","v":""}]
[null,null,"Pagos a cuenta - RG (AFIP) 3819/2015 - Cancelaciones en efectivo",0,null,{"$f":"IF(AND(Datos!$C$11=\"Informativa\",D133<>0),\"En la DDJJ informativa, este campo debe consignarse en cero (0)\",\"\")","v":""}]
[null,null,"Pagos a cuenta - Bono ley 27.424",0,null,{"$f":"IF(AND(Datos!$C$11=\"Informativa\",D134<>0),\"En la DDJJ informativa, este campo debe consignarse en cero (0)\",\"\")","v":""}]
[null,null,"Pagos a cuenta - RG 4815 [LEY 27.541 Art. 35 inciso a)] ",0,null,{"$f":"IF(AND(Datos!$C$11=\"Informativa\",D135<>0),\"En la DDJJ informativa, este campo debe consignarse en cero (0)\",\"\")","v":""}]
[null,null,"Pagos a cuenta - RG 4815 [LEY 27.541 Art. 35 inciso b)] ",0,null,{"$f":"IF(AND(Datos!$C$11=\"Informativa\",D136<>0),\"En la DDJJ informativa, este campo debe consignarse en cero (0)\",\"\")","v":""}]
[null,null,"Pagos a cuenta - RG 4815 [LEY 27.541 Art. 35 inciso c)] ",0,null,{"$f":"IF(AND(Datos!$C$11=\"Informativa\",D137<>0),\"En la DDJJ informativa, este campo debe consignarse en cero (0)\",\"\")","v":""}]
[null,null,"Pagos a cuenta - RG 4815 [LEY 27.541 Art. 35 inciso d)] ",0,null,{"$f":"IF(AND(Datos!$C$11=\"Informativa\",D138<>0),\"En la DDJJ informativa, este campo debe consignarse en cero (0)\",\"\")","v":""}]
[null,null,"Pagos a cuenta - RG 4815 [LEY 27.541 Art. 35 inciso e)] ",0,null,{"$f":"IF(AND(Datos!$C$11=\"Informativa\",D139<>0),\"En la DDJJ informativa, este campo debe consignarse en cero (0)\",\"\")","v":""}]
[null,null,"Pagos a cuenta - Impuesto sobre créditos y débitos - sobre movimientos de fondos propios o de terceros",0,null,{"$f":"IF(AND(Datos!$C$11=\"Informativa\",D140<>0),\"En la DDJJ informativa, este campo debe consignarse en cero (0)\",\"\")","v":""}]
[null,null,"Pagos a cuenta - Resolución General (AFIP) 3819/2015 - Cancelaciones en Efectivo -Servicios de transporte terrestre, aéreo y por vía acuática de pasajeros con destino fuera del país",0,null,{"$f":"IF(AND(Datos!$C$11=\"Informativa\",D141<>0),\"En la DDJJ informativa, este campo debe consignarse en cero (0)\",\"\")","v":""}]
[null,null,"Total pagos a cuenta",{"$f":"SUM(D131:D141)","v":0}]
[null,null,"SALDO A PAGAR",{"$f":"+ROUND(D129,2)-D130-D142","v":0}]

{"sheet":"Empleado44","index":48,"n_rows":143,"n_cols":11,"rows_kept":143,"cut":false,"hidden":false,"merged":[[10,7,11,9]]}
[]
[]
[null,null,"LIQUIDACIÓN DE IMPUESTO A LAS GANANCIAS - 4ta. CATEGORÍA RELACIÓN DE DEPENDENCIA"]
[]
[]
[null,null,"Empleado: Nombre y apellido "]
[null,null,"CUIL del empleado",null,null,{"$f":"cuitValidar(D7)","v":"CUIT/CUIL vacío"}]
[null,null,{"$f":"\"Agente de Retención: \"","v":"Agente de Retención: "},{"$f":"Datos!C7&\" - \"&Datos!C5","v":"33711238269 - OPERACIONES AGROPORTUARIAS S.A."}]
[null,null,{"$f":"\"Período Fiscal: \"","v":"Período Fiscal: "},{"$f":"YEAR(Datos!C13)","v":2021}]
[null,null,"Período trabajado (desde):","2021-01-01"]
[null,null,"Período trabajado (hasta):","2021-09-25",null,null,null,{"$f":"IF(MONTH(D11)>MONTH(Datos!C13),\"El período trabajado no puede ser mayor al período que se informa (mes \"&MONTH(Datos!C13)&\")\",\"\")","v":""}]
[null,null,"Zona geográfica:","Todo el país (excepto zona patagónica)"]
[null,null,"Transporte a larga distancia","No desarrolla la actividad"]
[null,null,"Beneficio promocional 27424?","No"]
[null,null,"Beneficio de la ley 27549?","No"]
[null,null,"El trabajador labora bajo el régimen de teletrabajo (Ley 27555)?","No"]
[null,null,"El trabajador es personal militar en actividad?","No"]
[]
[null,null,"REMUNERACIONES"]
[null,null,"Abonadas por el agente de retención:"]
[null,null,"Remuneración bruta gravada",0]
[null,null,"Retribuciones no habituales gravadas",0]
[null,null,"SAC primera cuota gravado",0]
[null,null,"SAC segunda cuota gravado",0]
[null,null,"Horas extras remuneración gravada",0,null,null,0,"% de retenciones"]
[null,null,"Movilidad y viáticos remuneración gravada",0]
[null,null,"Material didáctico personal docente remuneración gravada",0]
[null,null,"Remuneración no alcanzada o exenta (sin horas extras)",0]
[null,null,"Remuneración exenta ley 27549",0,null,{"$f":"IF(AND($D$15=\"No\",D29<>0),\"Para que sea procedente el beneficio, modifique el valor en la celda D15\",\"\")","v":""}]
[null,null,"Retribuciones no habituales exentas o no alcanzadas",0]
[null,null,"Horas extras remuneración exenta",0]
[null,null,"Movilidad y viáticos remuneración exenta",0]
[null,null,"Material didáctico personal docente remuneración exenta",0]
[null,null,"Bonos de productividad gravados",0]
[null,null,"Fallos de caja gravados",0]
[null,null,"Conceptos de similar naturaleza gravados",0]
[null,null,"Bonos de productividad exentos",0]
[null,null,"Fallos de caja exentos",0]
[null,null,"Conceptos de similar naturaleza exentos",0]
[null,null,"Compensación de gastos de teletrabajo exentos",0]
[null,null,"Personal militar - suplementos art. 57 ley 19.101 - exentos",0]
[null,null,"SAC primera cuota - No alcanzado o exento",0]
[null,null,"SAC segunda cuota - No alcanzado o exento",0]
[null,null,"Ajustes períodos anteriores - Remuneración gravada",0]
[null,null,"Ajustes períodos anteriores - Remuneración exenta / no alcanzada",0]
[null,null,"Otros empleos:"]
[null,null,"Remuneración bruta gravada ",0]
[null,null,"Retribuciones no habituales gravadas ",0]
[null,null,"SAC primera cuota gravado ",0]
[null,null,"SAC segunda cuota gravado ",0]
[null,null,"Horas extras remuneración gravada ",0,null,null,0,"% de retenciones"]
[null,null,"Movilidad y viáticos remuneración gravada ",0]
[null,null,"Material didáctico personal docente remuneración gravada ",0]
[null,null,"Remuneración no alcanzada o exenta ",0]
[null,null,"Remuneración exenta ley 27549 ",0,null,{"$f":"IF(AND($D$15=\"No\",D55<>0),\"Para que sea procedente el beneficio, modifique el valor en la celda D15\",\"\")","v":""}]
[null,null,"Retribuciones no habituales exentas o no alcanzadas ",0]
[null,null,"Horas extras remuneración exenta o no alcanzada ",0]
[null,null,"Movilidad y viáticos remuneración exenta o no alcanzada ",0]
[null,null,"Material didáctico personal docente remuneración exenta o no alcanzada ",0]
[null,null,"Bonos de productividad gravados ",0]
[null,null,"Fallos de caja gravados ",0]
[null,null,"Conceptos de similar naturaleza gravados ",0]
[null,null,"Bonos de productividad exentos ",0]
[null,null,"Fallos de caja exentos ",0]
[null,null,"Conceptos de similar naturaleza exentos ",0]
[null,null,"Compensación de gastos teletrabajo - exentos ",0]
[null,null,"Personal militar - suplementos art. 57 Ley 19101 - exentos ",0]
[null,null,"SAC primera cuota - No alcanzado o exento ",0]
[null,null,"SAC segunda cuota - No alcanzado o exento ",0]
[null,null,"Ajustes períodos anteriores - Remuneración gravada ",0]
[null,null,"Ajustes períodos anteriores - Remuneración no alcanzada o exenta ",0]
[null,null,"TOTAL REMUNERACIÓN GRAVADA",{"$f":"SUM(D21:E27,D44,D47:D53,D70)","v":0}]
[null,null,"TOTAL REMUNERACIÓN NO ALCANZADA O EXENTA",{"$f":"SUM(D28:D43,D45,D54:D69,D71)","v":0}]
[null,null,"TOTAL REMUNERACIONES",{"$f":"IF(+D72+D73<0,0,D72+D73)","v":0}]
[]
[null,null,"DEDUCCIONES GENERALES",null,null,null,null,"Topes máximos legales"]
[null,null,"Aportes a fondos de jubilaciones, retiros, pensiones o subsidios que se destinen a cajas nacionales, provinciales o municipales",0,null,{"$f":"validaciones(D77,H77,0)&IF(D77>$D$74,\" El importe no puede ser mayor a la remuneración total\",\"\")","v":""}]
[null,null,"Aportes a fondos de jubilaciones, retiros, pensiones o subsidios que se destinen a cajas nacionales, provinciales o municipales por otros empleos",0,null,{"$f":"validaciones(D78,H78,0)&IF(D78>$D$74,\" El importe no puede ser mayor a la remuneración total\",\"\")","v":""}]
[null,null,"Aportes a obra sociales",0,null,{"$f":"validaciones(D79,H79,0)&IF(D79>$D$74,\" El importe no puede ser mayor a la remuneración total\",\"\")","v":""}]
[null,null,"Aportes a obra sociales por otros empleos",0,null,{"$f":"validaciones(D80,H80,0)&IF(D80>$D$74,\" El importe no puede ser mayor a la remuneración total\",\"\")","v":""}]
[null,null,"Cuota sindical",0,null,{"$f":"validaciones(D81,H81,0)&IF(D81>$D$74,\" El importe no puede ser mayor a la remuneración total\",\"\")","v":""}]
[null,null,"Cuota sindical por otros empleos",0,null,{"$f":"validaciones(D82,H82,0)&IF(D82>$D$74,\" El importe no puede ser mayor a la remuneración total\",\"\")","v":""}]
[null,null,"Cuotas médico asistenciales",0,null,{"$f":"validaciones(D83,H83,0)","v":""},null,{"$f":"(D72-SUM(D77:D82,D84:D89,D91,D93:D94,D95:D103))*0.05","v":0}]
[null,null,"Primas de seguro para el caso de muerte",0,null,{"$f":"validaciones(D84,H84,0)&IF(AND(Datos!$C$11=\"Informativa\",D84<>0),\"En la DDJJ informativa, este campo debe consignarse en cero (0)\",\"\")","v":""},null,{"$f":"+Tablas!B2","v":24000}]
[null,null,"Primas por riesgo de muerte y de ahorro de seguros mixtos, excepto para los casos de seguros de retiro privados administrados por entidades sujetas al control de la Superintendencia de Seguros de la Nación",0,null,{"$f":"validaciones(D85,H85,0)&IF(AND(Datos!$C$11=\"Informativa\",D85<>0),\"En la DDJJ informativa, este campo debe consignarse en cero (0)\",\"\")","v":""},null,{"$f":"+H84","v":24000}]
[null,null,"Aportes a planes de seguro de retiro privados administrados por entidades sujetas al control de la Superintendencia de Seguros de la Nación",0,null,{"$f":"validaciones(D86,H86,0)&IF(AND(Datos!$C$11=\"Informativa\",D86<>0),\"En la DDJJ informativa, este campo debe consignarse en cero (0)\",\"\")","v":""},null,{"$f":"+H85","v":24000}]
[null,null,"Cuotapartes de fondos comunes de inversión constituidos con fines de retiro",0,null,{"$f":"validaciones(D87,H87,0)&IF(D87<>0,\"Deberá consignarse en cero (0), hasta que la Autoridad de Aplicación – CNV – autorice a las Entidades a funcionar e implemente el régimen.\",\"\")","v":""},null,0]
[null,null,"Gastos de sepelio",0,null,{"$f":"validaciones(D88,H88,0)","v":""},null,{"$f":"+Tablas!B6","v":996.23}]
[null,null,"Gastos amortización e intereses rodado para corredores y viajantes de comercio",0,null,{"$f":"validaciones(D89,H89,0)&IF(D89>$D$74,\" El importe no puede ser mayor a la remuneración total\",\"\")","v":""}]
[null,null,"Donaciones a fiscos nacional, provinciales y municipales, y a instituciones comprendidas en el artículo 26, incisos e) y f) de la ley",0,null,{"$f":"validaciones(D90,H90,0)","v":""},null,{"$f":"(D72-SUM(D77:D82,D84:D89,D91,D93:D94,D95:D103))*0.05","v":0}]
[null,null,"Descuentos obligatorios establecidos por ley nacional, provincial o municipal",0,null,{"$f":"validaciones(D91,H91,0)&IF(D91>$D$74,\" El importe no puede ser mayor a la remuneración total\",\"\")","v":""}]
[null,null,"Honorarios por servicios de asistencia sanitaria, médica y paramédica",0,null,{"$f":"validaciones(D92,H92,0)&IF(AND(Datos!$C$11=\"Informativa\",D92<>0),\"En la DDJJ informativa, este campo debe consignarse en cero (0)\",\"\")","v":""},null,{"$f":"(D72-SUM(D77:D82,D84:D89,D91,D93:D94,D95:D103))*0.05","v":0}]
[null,null,"Intereses de créditos hipotecarios",0,null,{"$f":"validaciones(D93,H93,0)","v":""},null,{"$f":"+Tablas!B3","v":20000}]
[null,null,"Aportes al capital social o al fondo de riesgo de socios protectores de sociedades de garantía recíproca",0,null,{"$f":"validaciones(D94,H94,0)","v":""}]
[null,null,"Alquileres de inmuebles destinados a casa habitación",0,null,{"$f":"validaciones(D95,H95,0)","v":""},null,{"$f":"IF(Datos!C11=\"Final\",ROUND(Tablas!B4/12*12,2),ROUND(Tablas!B4/12*MONTH(Datos!C13),2))","v":167678.39999999999}]
[null,null,"Empleados del servicio doméstico",0,null,{"$f":"validaciones(D96,H96,0)","v":""},null,{"$f":"Tablas!B4","v":167678.39999999999}]
[null,null,"Gastos de movilidad, viáticos y otras compensaciones análogas abonados por el empleador",0,null,{"$f":"validaciones(D97,H97,0)","v":""},null,{"$f":"IF(D13=\"Desarrolla la actividad\",Tablas!B4,Tablas!B4*0.4)","v":67071.360000000001}]
[null,null,"Gastos por adquisición de indumentaria y/o equipamiento de trabajo",0,null,{"$f":"validaciones(D98,H98,0)","v":""}]
[null,null,"Otras deducciones - aportes a Cajas Complementarias de Previsión, Fondos Compensadores de Previsión o similares",0,null,{"$f":"validaciones(D99,H99,0)","v":""}]
[null,null,"Otras deducciones - Aportes para jubilaciones, retiros y subsidios ANSES",0,null,{"$f":"validaciones(D100,H100,0)","v":""}]
[null,null,"Otras deducciones - Cajas Provinciales o Municipales o de Previsión para Profesionales",0,null,{"$f":"validaciones(D101,H101,0)","v":""}]
[null,null,"Otras deducciones - Actores - Retribución pagada a los representantes - RG 2442/08",0,null,{"$f":"validaciones(D102,H102,0)","v":""}]
[null,null,"Otras deducciones - Fondos compensadores de previsión",0,null,{"$f":"validaciones(D103,H103,0)","v":""}]
[null,null,"Otras deducciones",{"$f":"+SUM(D99:E103)","v":0}]
[null,null,"TOTAL DEDUCCIONES GENERALES",{"$f":"SUM(D77:E103)","v":0},null,null,null,null,null,null,{"$f":"+D72-D105","v":0}]
[]
[null,null,"DEDUCCIONES PERSONALES",null,null,null,null,"Topes máximos legales"]
[null,null,"Ganancia no imponible",125758.8,null,{"$f":"validaciones(D108,H108,0)","v":""},null,{"$f":"deducciones(1,Datos!C11,MONTH(Datos!$C$13),$D$12)","v":167678.39999999999},null,null,{"$f":"IF(K105-K109<=0,0,IF(K105-K109<=H108,K105-K109,H108))","v":0}]
[null,null,"Deducción especial",603642.26,null,{"$f":"validaciones(D109,H109,0)","v":""},null,{"$f":"deducciones(2,Datos!$C$11,MONTH(Datos!$C$13),$D$12)","v":804856.34},null,null,{"$f":"IF(K105<=H109,K105,H109)","v":0}]
[null,null,"Deducción Especial Incrementada Primera parte del penúltimo párrafo del inciso c) del artículo 30 de la ley del gravamen",0]
[null,null,"Deducción Especial Incrementada Segunda parte del penúltimo párrafo del inciso c) del artículo 30 de la ley del gravamen",0]
[null,null,"Deducción específica",0,null,{"$f":"validaciones(D112,H112,0)","v":""},null,0]
[null,null,"Cargas de familia"]
[null,null,"Cónyuge",0,null,{"$f":"validaciones(D114,H114,0)","v":""},null,{"$f":"cargas_de_familia(4,Datos!$C$11,MONTH(Datos!$C$13),$D$12)","v":156320.63},null,null,{"$f":"IF(K105-K108-K109>=D114,D114,K105-K108-K109)","v":0}]
[null,null,"Cantidad de hijos e hijastros",0,null,{"$f":"validaciones(D115,H115,0)","v":""},null,99]
[null,null,"Deducción total hijos e hijastros",0,null,null,null,{"$f":"cargas_de_familia(3,Datos!$C$11,MONTH(Datos!$C$13),$D$12)*D115","v":0},null,null,{"$f":"IF(K105-K108-K109-K114>=D116,D116,K105-K108-K109-K114)","v":0}]
[null,null,"Cantidad de hijos e hijastros incapacitados para el trabajo",0,null,{"$f":"validaciones(D117,H117,0)","v":""},null,99]
[null,null,"Hijos / Hijastros incapacitados para el trabajo",0,null,null,null,{"$f":"cargas_de_familia(5,Datos!$C$11,MONTH(Datos!$C$13),$D$12)","v":157666.16}]
[null,null,"Total de cargas de familia",{"$f":"+D114+D116+D118","v":0},null,null,null,0]
[null,null,"TOTAL DEDUCCIONES PERSONALES",{"$f":"SUM(D108:D112,D119)","v":729401.06}]
[]
[null,null,"DETERMINACIÓN DEL IMPUESTO"]
[null,null,"REMUNERACIÓN NETA SUJETA A IMPUESTO -antes de la deducción art. 46 L. 27541-",0]
[null,null,"Deducción inciso a) primer párrafo artículo 30 de la ley (cfr. art. 46 L. 27541)",0,null,null,null,0,null,null,{"$f":"IF(D123-K125<=0,0,IF(D123-K125<=H124,D123-K125,H124))","v":0}]
[null,null,"Deducción inciso c) primer párrafo artículo 30 de la ley (cfr. art. 46 L. 27541)",0,null,null,null,0,null,null,{"$f":"IF(D123<=H125,D123,H125)","v":0}]
[null,null,"REMUNERACIÓN SUJETA A IMPUESTO",{"$f":"IF(+D72-D105-D120<0,0,+D72-D105-D120)","v":0}]
[null,null,"Alícuota aplicable artículo 94 ley de impuesto a las ganancias",{"$f":"IF(OR(Datos!C11=\"Final\",Datos!C11=\"Anual\"),impuestoAlicuota(D126,D25*(1-G25)+D51*(1-G51),12),impuestoAlicuota(D126,D25*(1-G25)+D51*(1-G51),MONTH(D11)))","v":0}]
[null,null,"Alícuota aplicable sin incluir horas extras",{"$f":"IF(OR(Datos!C11=\"Final\",Datos!C11=\"Anual\"),impuestoAlicuota(D126,0,12),impuestoAlicuota(D126,0,MONTH(D11)))","v":0}]
[null,null,"IMPUESTO DETERMINADO",{"$f":"IF(D126<0,0,IF(OR(Datos!C11=\"Final\",Datos!C11=\"Anual\"),impuestoDeterminado(D126,D25*(1-G25)+D51*(1-G51),12),impuestoDeterminado(D126,D25*(1-G25)+D51*(1-G51),MONTH(D11))))","v":0}]
[null,null,"Impuesto retenido",0]
[null,null,"Pagos a cuenta - Impuesto sobre créditos y débitos",0,null,{"$f":"IF(AND(Datos!$C$11=\"Informativa\",D131<>0),\"En la DDJJ informativa, este campo debe consignarse en cero (0)\",\"\")","v":""}]
[null,null,"Pagos a cuenta - Percepciones / Retenciones aduaneras",0,null,{"$f":"IF(AND(Datos!$C$11=\"Informativa\",D132<>0),\"En la DDJJ informativa, este campo debe consignarse en cero (0)\",\"\")","v":""}]
[null,null,"Pagos a cuenta - RG (AFIP) 3819/2015 - Cancelaciones en efectivo",0,null,{"$f":"IF(AND(Datos!$C$11=\"Informativa\",D133<>0),\"En la DDJJ informativa, este campo debe consignarse en cero (0)\",\"\")","v":""}]
[null,null,"Pagos a cuenta - Bono ley 27.424",0,null,{"$f":"IF(AND(Datos!$C$11=\"Informativa\",D134<>0),\"En la DDJJ informativa, este campo debe consignarse en cero (0)\",\"\")","v":""}]
[null,null,"Pagos a cuenta - RG 4815 [LEY 27.541 Art. 35 inciso a)] ",0,null,{"$f":"IF(AND(Datos!$C$11=\"Informativa\",D135<>0),\"En la DDJJ informativa, este campo debe consignarse en cero (0)\",\"\")","v":""}]
[null,null,"Pagos a cuenta - RG 4815 [LEY 27.541 Art. 35 inciso b)] ",0,null,{"$f":"IF(AND(Datos!$C$11=\"Informativa\",D136<>0),\"En la DDJJ informativa, este campo debe consignarse en cero (0)\",\"\")","v":""}]
[null,null,"Pagos a cuenta - RG 4815 [LEY 27.541 Art. 35 inciso c)] ",0,null,{"$f":"IF(AND(Datos!$C$11=\"Informativa\",D137<>0),\"En la DDJJ informativa, este campo debe consignarse en cero (0)\",\"\")","v":""}]
[null,null,"Pagos a cuenta - RG 4815 [LEY 27.541 Art. 35 inciso d)] ",0,null,{"$f":"IF(AND(Datos!$C$11=\"Informativa\",D138<>0),\"En la DDJJ informativa, este campo debe consignarse en cero (0)\",\"\")","v":""}]
[null,null,"Pagos a cuenta - RG 4815 [LEY 27.541 Art. 35 inciso e)] ",0,null,{"$f":"IF(AND(Datos!$C$11=\"Informativa\",D139<>0),\"En la DDJJ informativa, este campo debe consignarse en cero (0)\",\"\")","v":""}]
[null,null,"Pagos a cuenta - Impuesto sobre créditos y débitos - sobre movimientos de fondos propios o de terceros",0,null,{"$f":"IF(AND(Datos!$C$11=\"Informativa\",D140<>0),\"En la DDJJ informativa, este campo debe consignarse en cero (0)\",\"\")","v":""}]
[null,null,"Pagos a cuenta - Resolución General (AFIP) 3819/2015 - Cancelaciones en Efectivo -Servicios de transporte terrestre, aéreo y por vía acuática de pasajeros con destino fuera del país",0,null,{"$f":"IF(AND(Datos!$C$11=\"Informativa\",D141<>0),\"En la DDJJ informativa, este campo debe consignarse en cero (0)\",\"\")","v":""}]
[null,null,"Total pagos a cuenta",{"$f":"SUM(D131:D141)","v":0}]
[null,null,"SALDO A PAGAR",{"$f":"+ROUND(D129,2)-D130-D142","v":0}]

{"sheet":"Empleado45","index":49,"n_rows":143,"n_cols":11,"rows_kept":143,"cut":false,"hidden":false,"merged":[[10,7,11,9]]}
[]
[]
[null,null,"LIQUIDACIÓN DE IMPUESTO A LAS GANANCIAS - 4ta. CATEGORÍA RELACIÓN DE DEPENDENCIA"]
[]
[]
[null,null,"Empleado: Nombre y apellido "]
[null,null,"CUIL del empleado",null,null,{"$f":"cuitValidar(D7)","v":"CUIT/CUIL vacío"}]
[null,null,{"$f":"\"Agente de Retención: \"","v":"Agente de Retención: "},{"$f":"Datos!C7&\" - \"&Datos!C5","v":"33711238269 - OPERACIONES AGROPORTUARIAS S.A."}]
[null,null,{"$f":"\"Período Fiscal: \"","v":"Período Fiscal: "},{"$f":"YEAR(Datos!C13)","v":2021}]
[null,null,"Período trabajado (desde):","2021-01-01"]
[null,null,"Período trabajado (hasta):","2021-09-25",null,null,null,{"$f":"IF(MONTH(D11)>MONTH(Datos!C13),\"El período trabajado no puede ser mayor al período que se informa (mes \"&MONTH(Datos!C13)&\")\",\"\")","v":""}]
[null,null,"Zona geográfica:","Todo el país (excepto zona patagónica)"]
[null,null,"Transporte a larga distancia","No desarrolla la actividad"]
[null,null,"Beneficio promocional 27424?","No"]
[null,null,"Beneficio de la ley 27549?","No"]
[null,null,"El trabajador labora bajo el régimen de teletrabajo (Ley 27555)?","No"]
[null,null,"El trabajador es personal militar en actividad?","No"]
[]
[null,null,"REMUNERACIONES"]
[null,null,"Abonadas por el agente de retención:"]
[null,null,"Remuneración bruta gravada",0]
[null,null,"Retribuciones no habituales gravadas",0]
[null,null,"SAC primera cuota gravado",0]
[null,null,"SAC segunda cuota gravado",0]
[null,null,"Horas extras remuneración gravada",0,null,null,0,"% de retenciones"]
[null,null,"Movilidad y viáticos remuneración gravada",0]
[null,null,"Material didáctico personal docente remuneración gravada",0]
[null,null,"Remuneración no alcanzada o exenta (sin horas extras)",0]
[null,null,"Remuneración exenta ley 27549",0,null,{"$f":"IF(AND($D$15=\"No\",D29<>0),\"Para que sea procedente el beneficio, modifique el valor en la celda D15\",\"\")","v":""}]
[null,null,"Retribuciones no habituales exentas o no alcanzadas",0]
[null,null,"Horas extras remuneración exenta",0]
[null,null,"Movilidad y viáticos remuneración exenta",0]
[null,null,"Material didáctico personal docente remuneración exenta",0]
[null,null,"Bonos de productividad gravados",0]
[null,null,"Fallos de caja gravados",0]
[null,null,"Conceptos de similar naturaleza gravados",0]
[null,null,"Bonos de productividad exentos",0]
[null,null,"Fallos de caja exentos",0]
[null,null,"Conceptos de similar naturaleza exentos",0]
[null,null,"Compensación de gastos de teletrabajo exentos",0]
[null,null,"Personal militar - suplementos art. 57 ley 19.101 - exentos",0]
[null,null,"SAC primera cuota - No alcanzado o exento",0]
[null,null,"SAC segunda cuota - No alcanzado o exento",0]
[null,null,"Ajustes períodos anteriores - Remuneración gravada",0]
[null,null,"Ajustes períodos anteriores - Remuneración exenta / no alcanzada",0]
[null,null,"Otros empleos:"]
[null,null,"Remuneración bruta gravada ",0]
[null,null,"Retribuciones no habituales gravadas ",0]
[null,null,"SAC primera cuota gravado ",0]
[null,null,"SAC segunda cuota gravado ",0]
[null,null,"Horas extras remuneración gravada ",0,null,null,0,"% de retenciones"]
[null,null,"Movilidad y viáticos remuneración gravada ",0]
[null,null,"Material didáctico personal docente remuneración gravada ",0]
[null,null,"Remuneración no alcanzada o exenta ",0]
[null,null,"Remuneración exenta ley 27549 ",0,null,{"$f":"IF(AND($D$15=\"No\",D55<>0),\"Para que sea procedente el beneficio, modifique el valor en la celda D15\",\"\")","v":""}]
[null,null,"Retribuciones no habituales exentas o no alcanzadas ",0]
[null,null,"Horas extras remuneración exenta o no alcanzada ",0]
[null,null,"Movilidad y viáticos remuneración exenta o no alcanzada ",0]
[null,null,"Material didáctico personal docente remuneración exenta o no alcanzada ",0]
[null,null,"Bonos de productividad gravados ",0]
[null,null,"Fallos de caja gravados ",0]
[null,null,"Conceptos de similar naturaleza gravados ",0]
[null,null,"Bonos de productividad exentos ",0]
[null,null,"Fallos de caja exentos ",0]
[null,null,"Conceptos de similar naturaleza exentos ",0]
[null,null,"Compensación de gastos teletrabajo - exentos ",0]
[null,null,"Personal militar - suplementos art. 57 Ley 19101 - exentos ",0]
[null,null,"SAC primera cuota - No alcanzado o exento ",0]
[null,null,"SAC segunda cuota - No alcanzado o exento ",0]
[null,null,"Ajustes períodos anteriores - Remuneración gravada ",0]
[null,null,"Ajustes períodos anteriores - Remuneración no alcanzada o exenta ",0]
[null,null,"TOTAL REMUNERACIÓN GRAVADA",{"$f":"SUM(D21:E27,D44,D47:D53,D70)","v":0}]
[null,null,"TOTAL REMUNERACIÓN NO ALCANZADA O EXENTA",{"$f":"SUM(D28:D43,D45,D54:D69,D71)","v":0}]
[null,null,"TOTAL REMUNERACIONES",{"$f":"IF(+D72+D73<0,0,D72+D73)","v":0}]
[]
[null,null,"DEDUCCIONES GENERALES",null,null,null,null,"Topes máximos legales"]
[null,null,"Aportes a fondos de jubilaciones, retiros, pensiones o subsidios que se destinen a cajas nacionales, provinciales o municipales",0,null,{"$f":"validaciones(D77,H77,0)&IF(D77>$D$74,\" El importe no puede ser mayor a la remuneración total\",\"\")","v":""}]
[null,null,"Aportes a fondos de jubilaciones, retiros, pensiones o subsidios que se destinen a cajas nacionales, provinciales o municipales por otros empleos",0,null,{"$f":"validaciones(D78,H78,0)&IF(D78>$D$74,\" El importe no puede ser mayor a la remuneración total\",\"\")","v":""}]
[null,null,"Aportes a obra sociales",0,null,{"$f":"validaciones(D79,H79,0)&IF(D79>$D$74,\" El importe no puede ser mayor a la remuneración total\",\"\")","v":""}]
[null,null,"Aportes a obra sociales por otros empleos",0,null,{"$f":"validaciones(D80,H80,0)&IF(D80>$D$74,\" El importe no puede ser mayor a la remuneración total\",\"\")","v":""}]
[null,null,"Cuota sindical",0,null,{"$f":"validaciones(D81,H81,0)&IF(D81>$D$74,\" El importe no puede ser mayor a la remuneración total\",\"\")","v":""}]
[null,null,"Cuota sindical por otros empleos",0,null,{"$f":"validaciones(D82,H82,0)&IF(D82>$D$74,\" El importe no puede ser mayor a la remuneración total\",\"\")","v":""}]
[null,null,"Cuotas médico asistenciales",0,null,{"$f":"validaciones(D83,H83,0)","v":""},null,{"$f":"(D72-SUM(D77:D82,D84:D89,D91,D93:D94,D95:D103))*0.05","v":0}]
[null,null,"Primas de seguro para el caso de muerte",0,null,{"$f":"validaciones(D84,H84,0)&IF(AND(Datos!$C$11=\"Informativa\",D84<>0),\"En la DDJJ informativa, este campo debe consignarse en cero (0)\",\"\")","v":""},null,{"$f":"+Tablas!B2","v":24000}]
[null,null,"Primas por riesgo de muerte y de ahorro de seguros mixtos, excepto para los casos de seguros de retiro privados administrados por entidades sujetas al control de la Superintendencia de Seguros de la Nación",0,null,{"$f":"validaciones(D85,H85,0)&IF(AND(Datos!$C$11=\"Informativa\",D85<>0),\"En la DDJJ informativa, este campo debe consignarse en cero (0)\",\"\")","v":""},null,{"$f":"+H84","v":24000}]
[null,null,"Aportes a planes de seguro de retiro privados administrados por entidades sujetas al control de la Superintendencia de Seguros de la Nación",0,null,{"$f":"validaciones(D86,H86,0)&IF(AND(Datos!$C$11=\"Informativa\",D86<>0),\"En la DDJJ informativa, este campo debe consignarse en cero (0)\",\"\")","v":""},null,{"$f":"+H85","v":24000}]
[null,null,"Cuotapartes de fondos comunes de inversión constituidos con fines de retiro",0,null,{"$f":"validaciones(D87,H87,0)&IF(D87<>0,\"Deberá consignarse en cero (0), hasta que la Autoridad de Aplicación – CNV – autorice a las Entidades a funcionar e implemente el régimen.\",\"\")","v":""},null,0]
[null,null,"Gastos de sepelio",0,null,{"$f":"validaciones(D88,H88,0)","v":""},null,{"$f":"+Tablas!B6","v":996.23}]
[null,null,"Gastos amortización e intereses rodado para corredores y viajantes de comercio",0,null,{"$f":"validaciones(D89,H89,0)&IF(D89>$D$74,\" El importe no puede ser mayor a la remuneración total\",\"\")","v":""}]
[null,null,"Donaciones a fiscos nacional, provinciales y municipales, y a instituciones comprendidas en el artículo 26, incisos e) y f) de la ley",0,null,{"$f":"validaciones(D90,H90,0)","v":""},null,{"$f":"(D72-SUM(D77:D82,D84:D89,D91,D93:D94,D95:D103))*0.05","v":0}]
[null,null,"Descuentos obligatorios establecidos por ley nacional, provincial o municipal",0,null,{"$f":"validaciones(D91,H91,0)&IF(D91>$D$74,\" El importe no puede ser mayor a la remuneración total\",\"\")","v":""}]
[null,null,"Honorarios por servicios de asistencia sanitaria, médica y paramédica",0,null,{"$f":"validaciones(D92,H92,0)&IF(AND(Datos!$C$11=\"Informativa\",D92<>0),\"En la DDJJ informativa, este campo debe consignarse en cero (0)\",\"\")","v":""},null,{"$f":"(D72-SUM(D77:D82,D84:D89,D91,D93:D94,D95:D103))*0.05","v":0}]
[null,null,"Intereses de créditos hipotecarios",0,null,{"$f":"validaciones(D93,H93,0)","v":""},null,{"$f":"+Tablas!B3","v":20000}]
[null,null,"Aportes al capital social o al fondo de riesgo de socios protectores de sociedades de garantía recíproca",0,null,{"$f":"validaciones(D94,H94,0)","v":""}]
[null,null,"Alquileres de inmuebles destinados a casa habitación",0,null,{"$f":"validaciones(D95,H95,0)","v":""},null,{"$f":"IF(Datos!C11=\"Final\",ROUND(Tablas!B4/12*12,2),ROUND(Tablas!B4/12*MONTH(Datos!C13),2))","v":167678.39999999999}]
[null,null,"Empleados del servicio doméstico",0,null,{"$f":"validaciones(D96,H96,0)","v":""},null,{"$f":"Tablas!B4","v":167678.39999999999}]
[null,null,"Gastos de movilidad, viáticos y otras compensaciones análogas abonados por el empleador",0,null,{"$f":"validaciones(D97,H97,0)","v":""},null,{"$f":"IF(D13=\"Desarrolla la actividad\",Tablas!B4,Tablas!B4*0.4)","v":67071.360000000001}]
[null,null,"Gastos por adquisición de indumentaria y/o equipamiento de trabajo",0,null,{"$f":"validaciones(D98,H98,0)","v":""}]
[null,null,"Otras deducciones - aportes a Cajas Complementarias de Previsión, Fondos Compensadores de Previsión o similares",0,null,{"$f":"validaciones(D99,H99,0)","v":""}]
[null,null,"Otras deducciones - Aportes para jubilaciones, retiros y subsidios ANSES",0,null,{"$f":"validaciones(D100,H100,0)","v":""}]
[null,null,"Otras deducciones - Cajas Provinciales o Municipales o de Previsión para Profesionales",0,null,{"$f":"validaciones(D101,H101,0)","v":""}]
[null,null,"Otras deducciones - Actores - Retribución pagada a los representantes - RG 2442/08",0,null,{"$f":"validaciones(D102,H102,0)","v":""}]
[null,null,"Otras deducciones - Fondos compensadores de previsión",0,null,{"$f":"validaciones(D103,H103,0)","v":""}]
[null,null,"Otras deducciones",{"$f":"+SUM(D99:E103)","v":0}]
[null,null,"TOTAL DEDUCCIONES GENERALES",{"$f":"SUM(D77:E103)","v":0},null,null,null,null,null,null,{"$f":"+D72-D105","v":0}]
[]
[null,null,"DEDUCCIONES PERSONALES",null,null,null,null,"Topes máximos legales"]
[null,null,"Ganancia no imponible",125758.8,null,{"$f":"validaciones(D108,H108,0)","v":""},null,{"$f":"deducciones(1,Datos!C11,MONTH(Datos!$C$13),$D$12)","v":167678.39999999999},null,null,{"$f":"IF(K105-K109<=0,0,IF(K105-K109<=H108,K105-K109,H108))","v":0}]
[null,null,"Deducción especial",603642.26,null,{"$f":"validaciones(D109,H109,0)","v":""},null,{"$f":"deducciones(2,Datos!$C$11,MONTH(Datos!$C$13),$D$12)","v":804856.34},null,null,{"$f":"IF(K105<=H109,K105,H109)","v":0}]
[null,null,"Deducción Especial Incrementada Primera parte del penúltimo párrafo del inciso c) del artículo 30 de la ley del gravamen",0]
[null,null,"Deducción Especial Incrementada Segunda parte del penúltimo párrafo del inciso c) del artículo 30 de la ley del gravamen",0]
[null,null,"Deducción específica",0,null,{"$f":"validaciones(D112,H112,0)","v":""},null,0]
[null,null,"Cargas de familia"]
[null,null,"Cónyuge",0,null,{"$f":"validaciones(D114,H114,0)","v":""},null,{"$f":"cargas_de_familia(4,Datos!$C$11,MONTH(Datos!$C$13),$D$12)","v":156320.63},null,null,{"$f":"IF(K105-K108-K109>=D114,D114,K105-K108-K109)","v":0}]
[null,null,"Cantidad de hijos e hijastros",0,null,{"$f":"validaciones(D115,H115,0)","v":""},null,99]
[null,null,"Deducción total hijos e hijastros",0,null,null,null,{"$f":"cargas_de_familia(3,Datos!$C$11,MONTH(Datos!$C$13),$D$12)*D115","v":0},null,null,{"$f":"IF(K105-K108-K109-K114>=D116,D116,K105-K108-K109-K114)","v":0}]
[null,null,"Cantidad de hijos e hijastros incapacitados para el trabajo",0,null,{"$f":"validaciones(D117,H117,0)","v":""},null,99]
[null,null,"Hijos / Hijastros incapacitados para el trabajo",0,null,null,null,{"$f":"cargas_de_familia(5,Datos!$C$11,MONTH(Datos!$C$13),$D$12)","v":157666.16}]
[null,null,"Total de cargas de familia",{"$f":"+D114+D116+D118","v":0},null,null,null,0]
[null,null,"TOTAL DEDUCCIONES PERSONALES",{"$f":"SUM(D108:D112,D119)","v":729401.06}]
[]
[null,null,"DETERMINACIÓN DEL IMPUESTO"]
[null,null,"REMUNERACIÓN NETA SUJETA A IMPUESTO -antes de la deducción art. 46 L. 27541-",0]
[null,null,"Deducción inciso a) primer párrafo artículo 30 de la ley (cfr. art. 46 L. 27541)",0,null,null,null,0,null,null,{"$f":"IF(D123-K125<=0,0,IF(D123-K125<=H124,D123-K125,H124))","v":0}]
[null,null,"Deducción inciso c) primer párrafo artículo 30 de la ley (cfr. art. 46 L. 27541)",0,null,null,null,0,null,null,{"$f":"IF(D123<=H125,D123,H125)","v":0}]
[null,null,"REMUNERACIÓN SUJETA A IMPUESTO",{"$f":"IF(+D72-D105-D120<0,0,+D72-D105-D120)","v":0}]
[null,null,"Alícuota aplicable artículo 94 ley de impuesto a las ganancias",{"$f":"IF(OR(Datos!C11=\"Final\",Datos!C11=\"Anual\"),impuestoAlicuota(D126,D25*(1-G25)+D51*(1-G51),12),impuestoAlicuota(D126,D25*(1-G25)+D51*(1-G51),MONTH(D11)))","v":0}]
[null,null,"Alícuota aplicable sin incluir horas extras",{"$f":"IF(OR(Datos!C11=\"Final\",Datos!C11=\"Anual\"),impuestoAlicuota(D126,0,12),impuestoAlicuota(D126,0,MONTH(D11)))","v":0}]
[null,null,"IMPUESTO DETERMINADO",{"$f":"IF(D126<0,0,IF(OR(Datos!C11=\"Final\",Datos!C11=\"Anual\"),impuestoDeterminado(D126,D25*(1-G25)+D51*(1-G51),12),impuestoDeterminado(D126,D25*(1-G25)+D51*(1-G51),MONTH(D11))))","v":0}]
[null,null,"Impuesto retenido",0]
[null,null,"Pagos a cuenta - Impuesto sobre créditos y débitos",0,null,{"$f":"IF(AND(Datos!$C$11=\"Informativa\",D131<>0),\"En la DDJJ informativa, este campo debe consignarse en cero (0)\",\"\")","v":""}]
[null,null,"Pagos a cuenta - Percepciones / Retenciones aduaneras",0,null,{"$f":"IF(AND(Datos!$C$11=\"Informativa\",D132<>0),\"En la DDJJ informativa, este campo debe consignarse en cero (0)\",\"\")","v":""}]
[null,null,"Pagos a cuenta - RG (AFIP) 3819/2015 - Cancelaciones en efectivo",0,null,{"$f":"IF(AND(Datos!$C$11=\"Informativa\",D133<>0),\"En la DDJJ informativa, este campo debe consignarse en cero (0)\",\"\")","v":""}]
[null,null,"Pagos a cuenta - Bono ley 27.424",0,null,{"$f":"IF(AND(Datos!$C$11=\"Informativa\",D134<>0),\"En la DDJJ informativa, este campo debe consignarse en cero (0)\",\"\")","v":""}]
[null,null,"Pagos a cuenta - RG 4815 [LEY 27.541 Art. 35 inciso a)] ",0,null,{"$f":"IF(AND(Datos!$C$11=\"Informativa\",D135<>0),\"En la DDJJ informativa, este campo debe consignarse en cero (0)\",\"\")","v":""}]
[null,null,"Pagos a cuenta - RG 4815 [LEY 27.541 Art. 35 inciso b)] ",0,null,{"$f":"IF(AND(Datos!$C$11=\"Informativa\",D136<>0),\"En la DDJJ informativa, este campo debe consignarse en cero (0)\",\"\")","v":""}]
[null,null,"Pagos a cuenta - RG 4815 [LEY 27.541 Art. 35 inciso c)] ",0,null,{"$f":"IF(AND(Datos!$C$11=\"Informativa\",D137<>0),\"En la DDJJ informativa, este campo debe consignarse en cero (0)\",\"\")","v":""}]
[null,null,"Pagos a cuenta - RG 4815 [LEY 27.541 Art. 35 inciso d)] ",0,null,{"$f":"IF(AND(Datos!$C$11=\"Informativa\",D138<>0),\"En la DDJJ informativa, este campo debe consignarse en cero (0)\",\"\")","v":""}]
[null,null,"Pagos a cuenta - RG 4815 [LEY 27.541 Art. 35 inciso e)] ",0,null,{"$f":"IF(AND(Datos!$C$11=\"Informativa\",D139<>0),\"En la DDJJ informativa, este campo debe consignarse en cero (0)\",\"\")","v":""}]
[null,null,"Pagos a cuenta - Impuesto sobre créditos y débitos - sobre movimientos de fondos propios o de terceros",0,null,{"$f":"IF(AND(Datos!$C$11=\"Informativa\",D140<>0),\"En la DDJJ informativa, este campo debe consignarse en cero (0)\",\"\")","v":""}]
[null,null,"Pagos a cuenta - Resolución General (AFIP) 3819/2015 - Cancelaciones en Efectivo -Servicios de transporte terrestre, aéreo y por vía acuática de pasajeros con destino fuera del país",0,null,{"$f":"IF(AND(Datos!$C$11=\"Informativa\",D141<>0),\"En la DDJJ informativa, este campo debe consignarse en cero (0)\",\"\")","v":""}]
[null,null,"Total pagos a cuenta",{"$f":"SUM(D131:D141)","v":0}]
[null,null,"SALDO A PAGAR",{"$f":"+ROUND(D129,2)-D130-D142","v":0}]

{"sheet":"Empleado46","index":50,"n_rows":143,"n_cols":11,"rows_kept":143,"cut":false,"hidden":false,"merged":[[10,7,11,9]]}
[]
[]
[null,null,"LIQUIDACIÓN DE IMPUESTO A LAS GANANCIAS - 4ta. CATEGORÍA RELACIÓN DE DEPENDENCIA"]
[]
[]
[null,null,"Empleado: Nombre y apellido "]
[null,null,"CUIL del empleado",null,null,{"$f":"cuitValidar(D7)","v":"CUIT/CUIL vacío"}]
[null,null,{"$f":"\"Agente de Retención: \"","v":"Agente de Retención: "},{"$f":"Datos!C7&\" - \"&Datos!C5","v":"33711238269 - OPERACIONES AGROPORTUARIAS S.A."}]
[null,null,{"$f":"\"Período Fiscal: \"","v":"Período Fiscal: "},{"$f":"YEAR(Datos!C13)","v":2021}]
[null,null,"Período trabajado (desde):","2021-01-01"]
[null,null,"Período trabajado (hasta):","2021-09-25",null,null,null,{"$f":"IF(MONTH(D11)>MONTH(Datos!C13),\"El período trabajado no puede ser mayor al período que se informa (mes \"&MONTH(Datos!C13)&\")\",\"\")","v":""}]
[null,null,"Zona geográfica:","Todo el país (excepto zona patagónica)"]
[null,null,"Transporte a larga distancia","No desarrolla la actividad"]
[null,null,"Beneficio promocional 27424?","No"]
[null,null,"Beneficio de la ley 27549?","No"]
[null,null,"El trabajador labora bajo el régimen de teletrabajo (Ley 27555)?","No"]
[null,null,"El trabajador es personal militar en actividad?","No"]
[]
[null,null,"REMUNERACIONES"]
[null,null,"Abonadas por el agente de retención:"]
[null,null,"Remuneración bruta gravada",0]
[null,null,"Retribuciones no habituales gravadas",0]
[null,null,"SAC primera cuota gravado",0]
[null,null,"SAC segunda cuota gravado",0]
[null,null,"Horas extras remuneración gravada",0,null,null,0,"% de retenciones"]
[null,null,"Movilidad y viáticos remuneración gravada",0]
[null,null,"Material didáctico personal docente remuneración gravada",0]
[null,null,"Remuneración no alcanzada o exenta (sin horas extras)",0]
[null,null,"Remuneración exenta ley 27549",0,null,{"$f":"IF(AND($D$15=\"No\",D29<>0),\"Para que sea procedente el beneficio, modifique el valor en la celda D15\",\"\")","v":""}]
[null,null,"Retribuciones no habituales exentas o no alcanzadas",0]
[null,null,"Horas extras remuneración exenta",0]
[null,null,"Movilidad y viáticos remuneración exenta",0]
[null,null,"Material didáctico personal docente remuneración exenta",0]
[null,null,"Bonos de productividad gravados",0]
[null,null,"Fallos de caja gravados",0]
[null,null,"Conceptos de similar naturaleza gravados",0]
[null,null,"Bonos de productividad exentos",0]
[null,null,"Fallos de caja exentos",0]
[null,null,"Conceptos de similar naturaleza exentos",0]
[null,null,"Compensación de gastos de teletrabajo exentos",0]
[null,null,"Personal militar - suplementos art. 57 ley 19.101 - exentos",0]
[null,null,"SAC primera cuota - No alcanzado o exento",0]
[null,null,"SAC segunda cuota - No alcanzado o exento",0]
[null,null,"Ajustes períodos anteriores - Remuneración gravada",0]
[null,null,"Ajustes períodos anteriores - Remuneración exenta / no alcanzada",0]
[null,null,"Otros empleos:"]
[null,null,"Remuneración bruta gravada ",0]
[null,null,"Retribuciones no habituales gravadas ",0]
[null,null,"SAC primera cuota gravado ",0]
[null,null,"SAC segunda cuota gravado ",0]
[null,null,"Horas extras remuneración gravada ",0,null,null,0,"% de retenciones"]
[null,null,"Movilidad y viáticos remuneración gravada ",0]
[null,null,"Material didáctico personal docente remuneración gravada ",0]
[null,null,"Remuneración no alcanzada o exenta ",0]
[null,null,"Remuneración exenta ley 27549 ",0,null,{"$f":"IF(AND($D$15=\"No\",D55<>0),\"Para que sea procedente el beneficio, modifique el valor en la celda D15\",\"\")","v":""}]
[null,null,"Retribuciones no habituales exentas o no alcanzadas ",0]
[null,null,"Horas extras remuneración exenta o no alcanzada ",0]
[null,null,"Movilidad y viáticos remuneración exenta o no alcanzada ",0]
[null,null,"Material didáctico personal docente remuneración exenta o no alcanzada ",0]
[null,null,"Bonos de productividad gravados ",0]
[null,null,"Fallos de caja gravados ",0]
[null,null,"Conceptos de similar naturaleza gravados ",0]
[null,null,"Bonos de productividad exentos ",0]
[null,null,"Fallos de caja exentos ",0]
[null,null,"Conceptos de similar naturaleza exentos ",0]
[null,null,"Compensación de gastos teletrabajo - exentos ",0]
[null,null,"Personal militar - suplementos art. 57 Ley 19101 - exentos ",0]
[null,null,"SAC primera cuota - No alcanzado o exento ",0]
[null,null,"SAC segunda cuota - No alcanzado o exento ",0]
[null,null,"Ajustes períodos anteriores - Remuneración gravada ",0]
[null,null,"Ajustes períodos anteriores - Remuneración no alcanzada o exenta ",0]
[null,null,"TOTAL REMUNERACIÓN GRAVADA",{"$f":"SUM(D21:E27,D44,D47:D53,D70)","v":0}]
[null,null,"TOTAL REMUNERACIÓN NO ALCANZADA O EXENTA",{"$f":"SUM(D28:D43,D45,D54:D69,D71)","v":0}]
[null,null,"TOTAL REMUNERACIONES",{"$f":"IF(+D72+D73<0,0,D72+D73)","v":0}]
[]
[null,null,"DEDUCCIONES GENERALES",null,null,null,null,"Topes máximos legales"]
[null,null,"Aportes a fondos de jubilaciones, retiros, pensiones o subsidios que se destinen a cajas nacionales, provinciales o municipales",0,null,{"$f":"validaciones(D77,H77,0)&IF(D77>$D$74,\" El importe no puede ser mayor a la remuneración total\",\"\")","v":""}]
[null,null,"Aportes a fondos de jubilaciones, retiros, pensiones o subsidios que se destinen a cajas nacionales, provinciales o municipales por otros empleos",0,null,{"$f":"validaciones(D78,H78,0)&IF(D78>$D$74,\" El importe no puede ser mayor a la remuneración total\",\"\")","v":""}]
[null,null,"Aportes a obra sociales",0,null,{"$f":"validaciones(D79,H79,0)&IF(D79>$D$74,\" El importe no puede ser mayor a la remuneración total\",\"\")","v":""}]
[null,null,"Aportes a obra sociales por otros empleos",0,null,{"$f":"validaciones(D80,H80,0)&IF(D80>$D$74,\" El importe no puede ser mayor a la remuneración total\",\"\")","v":""}]
[null,null,"Cuota sindical",0,null,{"$f":"validaciones(D81,H81,0)&IF(D81>$D$74,\" El importe no puede ser mayor a la remuneración total\",\"\")","v":""}]
[null,null,"Cuota sindical por otros empleos",0,null,{"$f":"validaciones(D82,H82,0)&IF(D82>$D$74,\" El importe no puede ser mayor a la remuneración total\",\"\")","v":""}]
[null,null,"Cuotas médico asistenciales",0,null,{"$f":"validaciones(D83,H83,0)","v":""},null,{"$f":"(D72-SUM(D77:D82,D84:D89,D91,D93:D94,D95:D103))*0.05","v":0}]
[null,null,"Primas de seguro para el caso de muerte",0,null,{"$f":"validaciones(D84,H84,0)&IF(AND(Datos!$C$11=\"Informativa\",D84<>0),\"En la DDJJ informativa, este campo debe consignarse en cero (0)\",\"\")","v":""},null,{"$f":"+Tablas!B2","v":24000}]
[null,null,"Primas por riesgo de muerte y de ahorro de seguros mixtos, excepto para los casos de seguros de retiro privados administrados por entidades sujetas al control de la Superintendencia de Seguros de la Nación",0,null,{"$f":"validaciones(D85,H85,0)&IF(AND(Datos!$C$11=\"Informativa\",D85<>0),\"En la DDJJ informativa, este campo debe consignarse en cero (0)\",\"\")","v":""},null,{"$f":"+H84","v":24000}]
[null,null,"Aportes a planes de seguro de retiro privados administrados por entidades sujetas al control de la Superintendencia de Seguros de la Nación",0,null,{"$f":"validaciones(D86,H86,0)&IF(AND(Datos!$C$11=\"Informativa\",D86<>0),\"En la DDJJ informativa, este campo debe consignarse en cero (0)\",\"\")","v":""},null,{"$f":"+H85","v":24000}]
[null,null,"Cuotapartes de fondos comunes de inversión constituidos con fines de retiro",0,null,{"$f":"validaciones(D87,H87,0)&IF(D87<>0,\"Deberá consignarse en cero (0), hasta que la Autoridad de Aplicación – CNV – autorice a las Entidades a funcionar e implemente el régimen.\",\"\")","v":""},null,0]
[null,null,"Gastos de sepelio",0,null,{"$f":"validaciones(D88,H88,0)","v":""},null,{"$f":"+Tablas!B6","v":996.23}]
[null,null,"Gastos amortización e intereses rodado para corredores y viajantes de comercio",0,null,{"$f":"validaciones(D89,H89,0)&IF(D89>$D$74,\" El importe no puede ser mayor a la remuneración total\",\"\")","v":""}]
[null,null,"Donaciones a fiscos nacional, provinciales y municipales, y a instituciones comprendidas en el artículo 26, incisos e) y f) de la ley",0,null,{"$f":"validaciones(D90,H90,0)","v":""},null,{"$f":"(D72-SUM(D77:D82,D84:D89,D91,D93:D94,D95:D103))*0.05","v":0}]
[null,null,"Descuentos obligatorios establecidos por ley nacional, provincial o municipal",0,null,{"$f":"validaciones(D91,H91,0)&IF(D91>$D$74,\" El importe no puede ser mayor a la remuneración total\",\"\")","v":""}]
[null,null,"Honorarios por servicios de asistencia sanitaria, médica y paramédica",0,null,{"$f":"validaciones(D92,H92,0)&IF(AND(Datos!$C$11=\"Informativa\",D92<>0),\"En la DDJJ informativa, este campo debe consignarse en cero (0)\",\"\")","v":""},null,{"$f":"(D72-SUM(D77:D82,D84:D89,D91,D93:D94,D95:D103))*0.05","v":0}]
[null,null,"Intereses de créditos hipotecarios",0,null,{"$f":"validaciones(D93,H93,0)","v":""},null,{"$f":"+Tablas!B3","v":20000}]
[null,null,"Aportes al capital social o al fondo de riesgo de socios protectores de sociedades de garantía recíproca",0,null,{"$f":"validaciones(D94,H94,0)","v":""}]
[null,null,"Alquileres de inmuebles destinados a casa habitación",0,null,{"$f":"validaciones(D95,H95,0)","v":""},null,{"$f":"IF(Datos!C11=\"Final\",ROUND(Tablas!B4/12*12,2),ROUND(Tablas!B4/12*MONTH(Datos!C13),2))","v":167678.39999999999}]
[null,null,"Empleados del servicio doméstico",0,null,{"$f":"validaciones(D96,H96,0)","v":""},null,{"$f":"Tablas!B4","v":167678.39999999999}]
[null,null,"Gastos de movilidad, viáticos y otras compensaciones análogas abonados por el empleador",0,null,{"$f":"validaciones(D97,H97,0)","v":""},null,{"$f":"IF(D13=\"Desarrolla la actividad\",Tablas!B4,Tablas!B4*0.4)","v":67071.360000000001}]
[null,null,"Gastos por adquisición de indumentaria y/o equipamiento de trabajo",0,null,{"$f":"validaciones(D98,H98,0)","v":""}]
[null,null,"Otras deducciones - aportes a Cajas Complementarias de Previsión, Fondos Compensadores de Previsión o similares",0,null,{"$f":"validaciones(D99,H99,0)","v":""}]
[null,null,"Otras deducciones - Aportes para jubilaciones, retiros y subsidios ANSES",0,null,{"$f":"validaciones(D100,H100,0)","v":""}]
[null,null,"Otras deducciones - Cajas Provinciales o Municipales o de Previsión para Profesionales",0,null,{"$f":"validaciones(D101,H101,0)","v":""}]
[null,null,"Otras deducciones - Actores - Retribución pagada a los representantes - RG 2442/08",0,null,{"$f":"validaciones(D102,H102,0)","v":""}]
[null,null,"Otras deducciones - Fondos compensadores de previsión",0,null,{"$f":"validaciones(D103,H103,0)","v":""}]
[null,null,"Otras deducciones",{"$f":"+SUM(D99:E103)","v":0}]
[null,null,"TOTAL DEDUCCIONES GENERALES",{"$f":"SUM(D77:E103)","v":0},null,null,null,null,null,null,{"$f":"+D72-D105","v":0}]
[]
[null,null,"DEDUCCIONES PERSONALES",null,null,null,null,"Topes máximos legales"]
[null,null,"Ganancia no imponible",125758.8,null,{"$f":"validaciones(D108,H108,0)","v":""},null,{"$f":"deducciones(1,Datos!C11,MONTH(Datos!$C$13),$D$12)","v":167678.39999999999},null,null,{"$f":"IF(K105-K109<=0,0,IF(K105-K109<=H108,K105-K109,H108))","v":0}]
[null,null,"Deducción especial",603642.26,null,{"$f":"validaciones(D109,H109,0)","v":""},null,{"$f":"deducciones(2,Datos!$C$11,MONTH(Datos!$C$13),$D$12)","v":804856.34},null,null,{"$f":"IF(K105<=H109,K105,H109)","v":0}]
[null,null,"Deducción Especial Incrementada Primera parte del penúltimo párrafo del inciso c) del artículo 30 de la ley del gravamen",0]
[null,null,"Deducción Especial Incrementada Segunda parte del penúltimo párrafo del inciso c) del artículo 30 de la ley del gravamen",0]
[null,null,"Deducción específica",0,null,{"$f":"validaciones(D112,H112,0)","v":""},null,0]
[null,null,"Cargas de familia"]
[null,null,"Cónyuge",0,null,{"$f":"validaciones(D114,H114,0)","v":""},null,{"$f":"cargas_de_familia(4,Datos!$C$11,MONTH(Datos!$C$13),$D$12)","v":156320.63},null,null,{"$f":"IF(K105-K108-K109>=D114,D114,K105-K108-K109)","v":0}]
[null,null,"Cantidad de hijos e hijastros",0,null,{"$f":"validaciones(D115,H115,0)","v":""},null,99]
[null,null,"Deducción total hijos e hijastros",0,null,null,null,{"$f":"cargas_de_familia(3,Datos!$C$11,MONTH(Datos!$C$13),$D$12)*D115","v":0},null,null,{"$f":"IF(K105-K108-K109-K114>=D116,D116,K105-K108-K109-K114)","v":0}]
[null,null,"Cantidad de hijos e hijastros incapacitados para el trabajo",0,null,{"$f":"validaciones(D117,H117,0)","v":""},null,99]
[null,null,"Hijos / Hijastros incapacitados para el trabajo",0,null,null,null,{"$f":"cargas_de_familia(5,Datos!$C$11,MONTH(Datos!$C$13),$D$12)","v":157666.16}]
[null,null,"Total de cargas de familia",{"$f":"+D114+D116+D118","v":0},null,null,null,0]
[null,null,"TOTAL DEDUCCIONES PERSONALES",{"$f":"SUM(D108:D112,D119)","v":729401.06}]
[]
[null,null,"DETERMINACIÓN DEL IMPUESTO"]
[null,null,"REMUNERACIÓN NETA SUJETA A IMPUESTO -antes de la deducción art. 46 L. 27541-",0]
[null,null,"Deducción inciso a) primer párrafo artículo 30 de la ley (cfr. art. 46 L. 27541)",0,null,null,null,0,null,null,{"$f":"IF(D123-K125<=0,0,IF(D123-K125<=H124,D123-K125,H124))","v":0}]
[null,null,"Deducción inciso c) primer párrafo artículo 30 de la ley (cfr. art. 46 L. 27541)",0,null,null,null,0,null,null,{"$f":"IF(D123<=H125,D123,H125)","v":0}]
[null,null,"REMUNERACIÓN SUJETA A IMPUESTO",{"$f":"IF(+D72-D105-D120<0,0,+D72-D105-D120)","v":0}]
[null,null,"Alícuota aplicable artículo 94 ley de impuesto a las ganancias",{"$f":"IF(OR(Datos!C11=\"Final\",Datos!C11=\"Anual\"),impuestoAlicuota(D126,D25*(1-G25)+D51*(1-G51),12),impuestoAlicuota(D126,D25*(1-G25)+D51*(1-G51),MONTH(D11)))","v":0}]
[null,null,"Alícuota aplicable sin incluir horas extras",{"$f":"IF(OR(Datos!C11=\"Final\",Datos!C11=\"Anual\"),impuestoAlicuota(D126,0,12),impuestoAlicuota(D126,0,MONTH(D11)))","v":0}]
[null,null,"IMPUESTO DETERMINADO",{"$f":"IF(D126<0,0,IF(OR(Datos!C11=\"Final\",Datos!C11=\"Anual\"),impuestoDeterminado(D126,D25*(1-G25)+D51*(1-G51),12),impuestoDeterminado(D126,D25*(1-G25)+D51*(1-G51),MONTH(D11))))","v":0}]
[null,null,"Impuesto retenido",0]
[null,null,"Pagos a cuenta - Impuesto sobre créditos y débitos",0,null,{"$f":"IF(AND(Datos!$C$11=\"Informativa\",D131<>0),\"En la DDJJ informativa, este campo debe consignarse en cero (0)\",\"\")","v":""}]
[null,null,"Pagos a cuenta - Percepciones / Retenciones aduaneras",0,null,{"$f":"IF(AND(Datos!$C$11=\"Informativa\",D132<>0),\"En la DDJJ informativa, este campo debe consignarse en cero (0)\",\"\")","v":""}]
[null,null,"Pagos a cuenta - RG (AFIP) 3819/2015 - Cancelaciones en efectivo",0,null,{"$f":"IF(AND(Datos!$C$11=\"Informativa\",D133<>0),\"En la DDJJ informativa, este campo debe consignarse en cero (0)\",\"\")","v":""}]
[null,null,"Pagos a cuenta - Bono ley 27.424",0,null,{"$f":"IF(AND(Datos!$C$11=\"Informativa\",D134<>0),\"En la DDJJ informativa, este campo debe consignarse en cero (0)\",\"\")","v":""}]
[null,null,"Pagos a cuenta - RG 4815 [LEY 27.541 Art. 35 inciso a)] ",0,null,{"$f":"IF(AND(Datos!$C$11=\"Informativa\",D135<>0),\"En la DDJJ informativa, este campo debe consignarse en cero (0)\",\"\")","v":""}]
[null,null,"Pagos a cuenta - RG 4815 [LEY 27.541 Art. 35 inciso b)] ",0,null,{"$f":"IF(AND(Datos!$C$11=\"Informativa\",D136<>0),\"En la DDJJ informativa, este campo debe consignarse en cero (0)\",\"\")","v":""}]
[null,null,"Pagos a cuenta - RG 4815 [LEY 27.541 Art. 35 inciso c)] ",0,null,{"$f":"IF(AND(Datos!$C$11=\"Informativa\",D137<>0),\"En la DDJJ informativa, este campo debe consignarse en cero (0)\",\"\")","v":""}]
[null,null,"Pagos a cuenta - RG 4815 [LEY 27.541 Art. 35 inciso d)] ",0,null,{"$f":"IF(AND(Datos!$C$11=\"Informativa\",D138<>0),\"En la DDJJ informativa, este campo debe consignarse en cero (0)\",\"\")","v":""}]
[null,null,"Pagos a cuenta - RG 4815 [LEY 27.541 Art. 35 inciso e)] ",0,null,{"$f":"IF(AND(Datos!$C$11=\"Informativa\",D139<>0),\"En la DDJJ informativa, este campo debe consignarse en cero (0)\",\"\")","v":""}]
[null,null,"Pagos a cuenta - Impuesto sobre créditos y débitos - sobre movimientos de fondos propios o de terceros",0,null,{"$f":"IF(AND(Datos!$C$11=\"Informativa\",D140<>0),\"En la DDJJ informativa, este campo debe consignarse en cero (0)\",\"\")","v":""}]
[null,null,"Pagos a cuenta - Resolución General (AFIP) 3819/2015 - Cancelaciones en Efectivo -Servicios de transporte terrestre, aéreo y por vía acuática de pasajeros con destino fuera del país",0,null,{"$f":"IF(AND(Datos!$C$11=\"Informativa\",D141<>0),\"En la DDJJ informativa, este campo debe consignarse en cero (0)\",\"\")","v":""}]
[null,null,"Total pagos a cuenta",{"$f":"SUM(D131:D141)","v":0}]
[null,null,"SALDO A PAGAR",{"$f":"+ROUND(D129,2)-D130-D142","v":0}]

{"sheet":"Empleado47","index":51,"n_rows":143,"n_cols":11,"rows_kept":143,"cut":false,"hidden":false,"merged":[[10,7,11,9]]}
[]
[]
[null,null,"LIQUIDACIÓN DE IMPUESTO A LAS GANANCIAS - 4ta. CATEGORÍA RELACIÓN DE DEPENDENCIA"]
[]
[]
[null,null,"Empleado: Nombre y apellido "]
[null,null,"CUIL del empleado",null,null,{"$f":"cuitValidar(D7)","v":"CUIT/CUIL vacío"}]
[null,null,{"$f":"\"Agente de Retención: \"","v":"Agente de Retención: "},{"$f":"Datos!C7&\" - \"&Datos!C5","v":"33711238269 - OPERACIONES AGROPORTUARIAS S.A."}]
[null,null,{"$f":"\"Período Fiscal: \"","v":"Período Fiscal: "},{"$f":"YEAR(Datos!C13)","v":2021}]
[null,null,"Período trabajado (desde):","2021-01-01"]
[null,null,"Período trabajado (hasta):","2021-09-25",null,null,null,{"$f":"IF(MONTH(D11)>MONTH(Datos!C13),\"El período trabajado no puede ser mayor al período que se informa (mes \"&MONTH(Datos!C13)&\")\",\"\")","v":""}]
[null,null,"Zona geográfica:","Todo el país (excepto zona patagónica)"]
[null,null,"Transporte a larga distancia","No desarrolla la actividad"]
[null,null,"Beneficio promocional 27424?","No"]
[null,null,"Beneficio de la ley 27549?","No"]
[null,null,"El trabajador labora bajo el régimen de teletrabajo (Ley 27555)?","No"]
[null,null,"El trabajador es personal militar en actividad?","No"]
[]
[null,null,"REMUNERACIONES"]
[null,null,"Abonadas por el agente de retención:"]
[null,null,"Remuneración bruta gravada",0]
[null,null,"Retribuciones no habituales gravadas",0]
[null,null,"SAC primera cuota gravado",0]
[null,null,"SAC segunda cuota gravado",0]
[null,null,"Horas extras remuneración gravada",0,null,null,0,"% de retenciones"]
[null,null,"Movilidad y viáticos remuneración gravada",0]
[null,null,"Material didáctico personal docente remuneración gravada",0]
[null,null,"Remuneración no alcanzada o exenta (sin horas extras)",0]
[null,null,"Remuneración exenta ley 27549",0,null,{"$f":"IF(AND($D$15=\"No\",D29<>0),\"Para que sea procedente el beneficio, modifique el valor en la celda D15\",\"\")","v":""}]
[null,null,"Retribuciones no habituales exentas o no alcanzadas",0]
[null,null,"Horas extras remuneración exenta",0]
[null,null,"Movilidad y viáticos remuneración exenta",0]
[null,null,"Material didáctico personal docente remuneración exenta",0]
[null,null,"Bonos de productividad gravados",0]
[null,null,"Fallos de caja gravados",0]
[null,null,"Conceptos de similar naturaleza gravados",0]
[null,null,"Bonos de productividad exentos",0]
[null,null,"Fallos de caja exentos",0]
[null,null,"Conceptos de similar naturaleza exentos",0]
[null,null,"Compensación de gastos de teletrabajo exentos",0]
[null,null,"Personal militar - suplementos art. 57 ley 19.101 - exentos",0]
[null,null,"SAC primera cuota - No alcanzado o exento",0]
[null,null,"SAC segunda cuota - No alcanzado o exento",0]
[null,null,"Ajustes períodos anteriores - Remuneración gravada",0]
[null,null,"Ajustes períodos anteriores - Remuneración exenta / no alcanzada",0]
[null,null,"Otros empleos:"]
[null,null,"Remuneración bruta gravada ",0]
[null,null,"Retribuciones no habituales gravadas ",0]
[null,null,"SAC primera cuota gravado ",0]
[null,null,"SAC segunda cuota gravado ",0]
[null,null,"Horas extras remuneración gravada ",0,null,null,0,"% de retenciones"]
[null,null,"Movilidad y viáticos remuneración gravada ",0]
[null,null,"Material didáctico personal docente remuneración gravada ",0]
[null,null,"Remuneración no alcanzada o exenta ",0]
[null,null,"Remuneración exenta ley 27549 ",0,null,{"$f":"IF(AND($D$15=\"No\",D55<>0),\"Para que sea procedente el beneficio, modifique el valor en la celda D15\",\"\")","v":""}]
[null,null,"Retribuciones no habituales exentas o no alcanzadas ",0]
[null,null,"Horas extras remuneración exenta o no alcanzada ",0]
[null,null,"Movilidad y viáticos remuneración exenta o no alcanzada ",0]
[null,null,"Material didáctico personal docente remuneración exenta o no alcanzada ",0]
[null,null,"Bonos de productividad gravados ",0]
[null,null,"Fallos de caja gravados ",0]
[null,null,"Conceptos de similar naturaleza gravados ",0]
[null,null,"Bonos de productividad exentos ",0]
[null,null,"Fallos de caja exentos ",0]
[null,null,"Conceptos de similar naturaleza exentos ",0]
[null,null,"Compensación de gastos teletrabajo - exentos ",0]
[null,null,"Personal militar - suplementos art. 57 Ley 19101 - exentos ",0]
[null,null,"SAC primera cuota - No alcanzado o exento ",0]
[null,null,"SAC segunda cuota - No alcanzado o exento ",0]
[null,null,"Ajustes períodos anteriores - Remuneración gravada ",0]
[null,null,"Ajustes períodos anteriores - Remuneración no alcanzada o exenta ",0]
[null,null,"TOTAL REMUNERACIÓN GRAVADA",{"$f":"SUM(D21:E27,D44,D47:D53,D70)","v":0}]
[null,null,"TOTAL REMUNERACIÓN NO ALCANZADA O EXENTA",{"$f":"SUM(D28:D43,D45,D54:D69,D71)","v":0}]
[null,null,"TOTAL REMUNERACIONES",{"$f":"IF(+D72+D73<0,0,D72+D73)","v":0}]
[]
[null,null,"DEDUCCIONES GENERALES",null,null,null,null,"Topes máximos legales"]
[null,null,"Aportes a fondos de jubilaciones, retiros, pensiones o subsidios que se destinen a cajas nacionales, provinciales o municipales",0,null,{"$f":"validaciones(D77,H77,0)&IF(D77>$D$74,\" El importe no puede ser mayor a la remuneración total\",\"\")","v":""}]
[null,null,"Aportes a fondos de jubilaciones, retiros, pensiones o subsidios que se destinen a cajas nacionales, provinciales o municipales por otros empleos",0,null,{"$f":"validaciones(D78,H78,0)&IF(D78>$D$74,\" El importe no puede ser mayor a la remuneración total\",\"\")","v":""}]
[null,null,"Aportes a obra sociales",0,null,{"$f":"validaciones(D79,H79,0)&IF(D79>$D$74,\" El importe no puede ser mayor a la remuneración total\",\"\")","v":""}]
[null,null,"Aportes a obra sociales por otros empleos",0,null,{"$f":"validaciones(D80,H80,0)&IF(D80>$D$74,\" El importe no puede ser mayor a la remuneración total\",\"\")","v":""}]
[null,null,"Cuota sindical",0,null,{"$f":"validaciones(D81,H81,0)&IF(D81>$D$74,\" El importe no puede ser mayor a la remuneración total\",\"\")","v":""}]
[null,null,"Cuota sindical por otros empleos",0,null,{"$f":"validaciones(D82,H82,0)&IF(D82>$D$74,\" El importe no puede ser mayor a la remuneración total\",\"\")","v":""}]
[null,null,"Cuotas médico asistenciales",0,null,{"$f":"validaciones(D83,H83,0)","v":""},null,{"$f":"(D72-SUM(D77:D82,D84:D89,D91,D93:D94,D95:D103))*0.05","v":0}]
[null,null,"Primas de seguro para el caso de muerte",0,null,{"$f":"validaciones(D84,H84,0)&IF(AND(Datos!$C$11=\"Informativa\",D84<>0),\"En la DDJJ informativa, este campo debe consignarse en cero (0)\",\"\")","v":""},null,{"$f":"+Tablas!B2","v":24000}]
[null,null,"Primas por riesgo de muerte y de ahorro de seguros mixtos, excepto para los casos de seguros de retiro privados administrados por entidades sujetas al control de la Superintendencia de Seguros de la Nación",0,null,{"$f":"validaciones(D85,H85,0)&IF(AND(Datos!$C$11=\"Informativa\",D85<>0),\"En la DDJJ informativa, este campo debe consignarse en cero (0)\",\"\")","v":""},null,{"$f":"+H84","v":24000}]
[null,null,"Aportes a planes de seguro de retiro privados administrados por entidades sujetas al control de la Superintendencia de Seguros de la Nación",0,null,{"$f":"validaciones(D86,H86,0)&IF(AND(Datos!$C$11=\"Informativa\",D86<>0),\"En la DDJJ informativa, este campo debe consignarse en cero (0)\",\"\")","v":""},null,{"$f":"+H85","v":24000}]
[null,null,"Cuotapartes de fondos comunes de inversión constituidos con fines de retiro",0,null,{"$f":"validaciones(D87,H87,0)&IF(D87<>0,\"Deberá consignarse en cero (0), hasta que la Autoridad de Aplicación – CNV – autorice a las Entidades a funcionar e implemente el régimen.\",\"\")","v":""},null,0]
[null,null,"Gastos de sepelio",0,null,{"$f":"validaciones(D88,H88,0)","v":""},null,{"$f":"+Tablas!B6","v":996.23}]
[null,null,"Gastos amortización e intereses rodado para corredores y viajantes de comercio",0,null,{"$f":"validaciones(D89,H89,0)&IF(D89>$D$74,\" El importe no puede ser mayor a la remuneración total\",\"\")","v":""}]
[null,null,"Donaciones a fiscos nacional, provinciales y municipales, y a instituciones comprendidas en el artículo 26, incisos e) y f) de la ley",0,null,{"$f":"validaciones(D90,H90,0)","v":""},null,{"$f":"(D72-SUM(D77:D82,D84:D89,D91,D93:D94,D95:D103))*0.05","v":0}]
[null,null,"Descuentos obligatorios establecidos por ley nacional, provincial o municipal",0,null,{"$f":"validaciones(D91,H91,0)&IF(D91>$D$74,\" El importe no puede ser mayor a la remuneración total\",\"\")","v":""}]
[null,null,"Honorarios por servicios de asistencia sanitaria, médica y paramédica",0,null,{"$f":"validaciones(D92,H92,0)&IF(AND(Datos!$C$11=\"Informativa\",D92<>0),\"En la DDJJ informativa, este campo debe consignarse en cero (0)\",\"\")","v":""},null,{"$f":"(D72-SUM(D77:D82,D84:D89,D91,D93:D94,D95:D103))*0.05","v":0}]
[null,null,"Intereses de créditos hipotecarios",0,null,{"$f":"validaciones(D93,H93,0)","v":""},null,{"$f":"+Tablas!B3","v":20000}]
[null,null,"Aportes al capital social o al fondo de riesgo de socios protectores de sociedades de garantía recíproca",0,null,{"$f":"validaciones(D94,H94,0)","v":""}]
[null,null,"Alquileres de inmuebles destinados a casa habitación",0,null,{"$f":"validaciones(D95,H95,0)","v":""},null,{"$f":"IF(Datos!C11=\"Final\",ROUND(Tablas!B4/12*12,2),ROUND(Tablas!B4/12*MONTH(Datos!C13),2))","v":167678.39999999999}]
[null,null,"Empleados del servicio doméstico",0,null,{"$f":"validaciones(D96,H96,0)","v":""},null,{"$f":"Tablas!B4","v":167678.39999999999}]
[null,null,"Gastos de movilidad, viáticos y otras compensaciones análogas abonados por el empleador",0,null,{"$f":"validaciones(D97,H97,0)","v":""},null,{"$f":"IF(D13=\"Desarrolla la actividad\",Tablas!B4,Tablas!B4*0.4)","v":67071.360000000001}]
[null,null,"Gastos por adquisición de indumentaria y/o equipamiento de trabajo",0,null,{"$f":"validaciones(D98,H98,0)","v":""}]
[null,null,"Otras deducciones - aportes a Cajas Complementarias de Previsión, Fondos Compensadores de Previsión o similares",0,null,{"$f":"validaciones(D99,H99,0)","v":""}]
[null,null,"Otras deducciones - Aportes para jubilaciones, retiros y subsidios ANSES",0,null,{"$f":"validaciones(D100,H100,0)","v":""}]
[null,null,"Otras deducciones - Cajas Provinciales o Municipales o de Previsión para Profesionales",0,null,{"$f":"validaciones(D101,H101,0)","v":""}]
[null,null,"Otras deducciones - Actores - Retribución pagada a los representantes - RG 2442/08",0,null,{"$f":"validaciones(D102,H102,0)","v":""}]
[null,null,"Otras deducciones - Fondos compensadores de previsión",0,null,{"$f":"validaciones(D103,H103,0)","v":""}]
[null,null,"Otras deducciones",{"$f":"+SUM(D99:E103)","v":0}]
[null,null,"TOTAL DEDUCCIONES GENERALES",{"$f":"SUM(D77:E103)","v":0},null,null,null,null,null,null,{"$f":"+D72-D105","v":0}]
[]
[null,null,"DEDUCCIONES PERSONALES",null,null,null,null,"Topes máximos legales"]
[null,null,"Ganancia no imponible",125758.8,null,{"$f":"validaciones(D108,H108,0)","v":""},null,{"$f":"deducciones(1,Datos!C11,MONTH(Datos!$C$13),$D$12)","v":167678.39999999999},null,null,{"$f":"IF(K105-K109<=0,0,IF(K105-K109<=H108,K105-K109,H108))","v":0}]
[null,null,"Deducción especial",603642.26,null,{"$f":"validaciones(D109,H109,0)","v":""},null,{"$f":"deducciones(2,Datos!$C$11,MONTH(Datos!$C$13),$D$12)","v":804856.34},null,null,{"$f":"IF(K105<=H109,K105,H109)","v":0}]
[null,null,"Deducción Especial Incrementada Primera parte del penúltimo párrafo del inciso c) del artículo 30 de la ley del gravamen",0]
[null,null,"Deducción Especial Incrementada Segunda parte del penúltimo párrafo del inciso c) del artículo 30 de la ley del gravamen",0]
[null,null,"Deducción específica",0,null,{"$f":"validaciones(D112,H112,0)","v":""},null,0]
[null,null,"Cargas de familia"]
[null,null,"Cónyuge",0,null,{"$f":"validaciones(D114,H114,0)","v":""},null,{"$f":"cargas_de_familia(4,Datos!$C$11,MONTH(Datos!$C$13),$D$12)","v":156320.63},null,null,{"$f":"IF(K105-K108-K109>=D114,D114,K105-K108-K109)","v":0}]
[null,null,"Cantidad de hijos e hijastros",0,null,{"$f":"validaciones(D115,H115,0)","v":""},null,99]
[null,null,"Deducción total hijos e hijastros",0,null,null,null,{"$f":"cargas_de_familia(3,Datos!$C$11,MONTH(Datos!$C$13),$D$12)*D115","v":0},null,null,{"$f":"IF(K105-K108-K109-K114>=D116,D116,K105-K108-K109-K114)","v":0}]
[null,null,"Cantidad de hijos e hijastros incapacitados para el trabajo",0,null,{"$f":"validaciones(D117,H117,0)","v":""},null,99]
[null,null,"Hijos / Hijastros incapacitados para el trabajo",0,null,null,null,{"$f":"cargas_de_familia(5,Datos!$C$11,MONTH(Datos!$C$13),$D$12)","v":157666.16}]
[null,null,"Total de cargas de familia",{"$f":"+D114+D116+D118","v":0},null,null,null,0]
[null,null,"TOTAL DEDUCCIONES PERSONALES",{"$f":"SUM(D108:D112,D119)","v":729401.06}]
[]
[null,null,"DETERMINACIÓN DEL IMPUESTO"]
[null,null,"REMUNERACIÓN NETA SUJETA A IMPUESTO -antes de la deducción art. 46 L. 27541-",0]
[null,null,"Deducción inciso a) primer párrafo artículo 30 de la ley (cfr. art. 46 L. 27541)",0,null,null,null,0,null,null,{"$f":"IF(D123-K125<=0,0,IF(D123-K125<=H124,D123-K125,H124))","v":0}]
[null,null,"Deducción inciso c) primer párrafo artículo 30 de la ley (cfr. art. 46 L. 27541)",0,null,null,null,0,null,null,{"$f":"IF(D123<=H125,D123,H125)","v":0}]
[null,null,"REMUNERACIÓN SUJETA A IMPUESTO",{"$f":"IF(+D72-D105-D120<0,0,+D72-D105-D120)","v":0}]
[null,null,"Alícuota aplicable artículo 94 ley de impuesto a las ganancias",{"$f":"IF(OR(Datos!C11=\"Final\",Datos!C11=\"Anual\"),impuestoAlicuota(D126,D25*(1-G25)+D51*(1-G51),12),impuestoAlicuota(D126,D25*(1-G25)+D51*(1-G51),MONTH(D11)))","v":0}]
[null,null,"Alícuota aplicable sin incluir horas extras",{"$f":"IF(OR(Datos!C11=\"Final\",Datos!C11=\"Anual\"),impuestoAlicuota(D126,0,12),impuestoAlicuota(D126,0,MONTH(D11)))","v":0}]
[null,null,"IMPUESTO DETERMINADO",{"$f":"IF(D126<0,0,IF(OR(Datos!C11=\"Final\",Datos!C11=\"Anual\"),impuestoDeterminado(D126,D25*(1-G25)+D51*(1-G51),12),impuestoDeterminado(D126,D25*(1-G25)+D51*(1-G51),MONTH(D11))))","v":0}]
[null,null,"Impuesto retenido",0]
[null,null,"Pagos a cuenta - Impuesto sobre créditos y débitos",0,null,{"$f":"IF(AND(Datos!$C$11=\"Informativa\",D131<>0),\"En la DDJJ informativa, este campo debe consignarse en cero (0)\",\"\")","v":""}]
[null,null,"Pagos a cuenta - Percepciones / Retenciones aduaneras",0,null,{"$f":"IF(AND(Datos!$C$11=\"Informativa\",D132<>0),\"En la DDJJ informativa, este campo debe consignarse en cero (0)\",\"\")","v":""}]
[null,null,"Pagos a cuenta - RG (AFIP) 3819/2015 - Cancelaciones en efectivo",0,null,{"$f":"IF(AND(Datos!$C$11=\"Informativa\",D133<>0),\"En la DDJJ informativa, este campo debe consignarse en cero (0)\",\"\")","v":""}]
[null,null,"Pagos a cuenta - Bono ley 27.424",0,null,{"$f":"IF(AND(Datos!$C$11=\"Informativa\",D134<>0),\"En la DDJJ informativa, este campo debe consignarse en cero (0)\",\"\")","v":""}]
[null,null,"Pagos a cuenta - RG 4815 [LEY 27.541 Art. 35 inciso a)] ",0,null,{"$f":"IF(AND(Datos!$C$11=\"Informativa\",D135<>0),\"En la DDJJ informativa, este campo debe consignarse en cero (0)\",\"\")","v":""}]
[null,null,"Pagos a cuenta - RG 4815 [LEY 27.541 Art. 35 inciso b)] ",0,null,{"$f":"IF(AND(Datos!$C$11=\"Informativa\",D136<>0),\"En la DDJJ informativa, este campo debe consignarse en cero (0)\",\"\")","v":""}]
[null,null,"Pagos a cuenta - RG 4815 [LEY 27.541 Art. 35 inciso c)] ",0,null,{"$f":"IF(AND(Datos!$C$11=\"Informativa\",D137<>0),\"En la DDJJ informativa, este campo debe consignarse en cero (0)\",\"\")","v":""}]
[null,null,"Pagos a cuenta - RG 4815 [LEY 27.541 Art. 35 inciso d)] ",0,null,{"$f":"IF(AND(Datos!$C$11=\"Informativa\",D138<>0),\"En la DDJJ informativa, este campo debe consignarse en cero (0)\",\"\")","v":""}]
[null,null,"Pagos a cuenta - RG 4815 [LEY 27.541 Art. 35 inciso e)] ",0,null,{"$f":"IF(AND(Datos!$C$11=\"Informativa\",D139<>0),\"En la DDJJ informativa, este campo debe consignarse en cero (0)\",\"\")","v":""}]
[null,null,"Pagos a cuenta - Impuesto sobre créditos y débitos - sobre movimientos de fondos propios o de terceros",0,null,{"$f":"IF(AND(Datos!$C$11=\"Informativa\",D140<>0),\"En la DDJJ informativa, este campo debe consignarse en cero (0)\",\"\")","v":""}]
[null,null,"Pagos a cuenta - Resolución General (AFIP) 3819/2015 - Cancelaciones en Efectivo -Servicios de transporte terrestre, aéreo y por vía acuática de pasajeros con destino fuera del país",0,null,{"$f":"IF(AND(Datos!$C$11=\"Informativa\",D141<>0),\"En la DDJJ informativa, este campo debe consignarse en cero (0)\",\"\")","v":""}]
[null,null,"Total pagos a cuenta",{"$f":"SUM(D131:D141)","v":0}]
[null,null,"SALDO A PAGAR",{"$f":"+ROUND(D129,2)-D130-D142","v":0}]

{"sheet":"Empleado48","index":52,"n_rows":143,"n_cols":11,"rows_kept":143,"cut":false,"hidden":false,"merged":[[10,7,11,9]]}
[]
[]
[null,null,"LIQUIDACIÓN DE IMPUESTO A LAS GANANCIAS - 4ta. CATEGORÍA RELACIÓN DE DEPENDENCIA"]
[]
[]
[null,null,"Empleado: Nombre y apellido "]
[null,null,"CUIL del empleado",null,null,{"$f":"cuitValidar(D7)","v":"CUIT/CUIL vacío"}]
[null,null,{"$f":"\"Agente de Retención: \"","v":"Agente de Retención: "},{"$f":"Datos!C7&\" - \"&Datos!C5","v":"33711238269 - OPERACIONES AGROPORTUARIAS S.A."}]
[null,null,{"$f":"\"Período Fiscal: \"","v":"Período Fiscal: "},{"$f":"YEAR(Datos!C13)","v":2021}]
[null,null,"Período trabajado (desde):","2021-01-01"]
[null,null,"Período trabajado (hasta):","2021-09-25",null,null,null,{"$f":"IF(MONTH(D11)>MONTH(Datos!C13),\"El período trabajado no puede ser mayor al período que se informa (mes \"&MONTH(Datos!C13)&\")\",\"\")","v":""}]
[null,null,"Zona geográfica:","Todo el país (excepto zona patagónica)"]
[null,null,"Transporte a larga distancia","No desarrolla la actividad"]
[null,null,"Beneficio promocional 27424?","No"]
[null,null,"Beneficio de la ley 27549?","No"]
[null,null,"El trabajador labora bajo el régimen de teletrabajo (Ley 27555)?","No"]
[null,null,"El trabajador es personal militar en actividad?","No"]
[]
[null,null,"REMUNERACIONES"]
[null,null,"Abonadas por el agente de retención:"]
[null,null,"Remuneración bruta gravada",0]
[null,null,"Retribuciones no habituales gravadas",0]
[null,null,"SAC primera cuota gravado",0]
[null,null,"SAC segunda cuota gravado",0]
[null,null,"Horas extras remuneración gravada",0,null,null,0,"% de retenciones"]
[null,null,"Movilidad y viáticos remuneración gravada",0]
[null,null,"Material didáctico personal docente remuneración gravada",0]
[null,null,"Remuneración no alcanzada o exenta (sin horas extras)",0]
[null,null,"Remuneración exenta ley 27549",0,null,{"$f":"IF(AND($D$15=\"No\",D29<>0),\"Para que sea procedente el beneficio, modifique el valor en la celda D15\",\"\")","v":""}]
[null,null,"Retribuciones no habituales exentas o no alcanzadas",0]
[null,null,"Horas extras remuneración exenta",0]
[null,null,"Movilidad y viáticos remuneración exenta",0]
[null,null,"Material didáctico personal docente remuneración exenta",0]
[null,null,"Bonos de productividad gravados",0]
[null,null,"Fallos de caja gravados",0]
[null,null,"Conceptos de similar naturaleza gravados",0]
[null,null,"Bonos de productividad exentos",0]
[null,null,"Fallos de caja exentos",0]
[null,null,"Conceptos de similar naturaleza exentos",0]
[null,null,"Compensación de gastos de teletrabajo exentos",0]
[null,null,"Personal militar - suplementos art. 57 ley 19.101 - exentos",0]
[null,null,"SAC primera cuota - No alcanzado o exento",0]
[null,null,"SAC segunda cuota - No alcanzado o exento",0]
[null,null,"Ajustes períodos anteriores - Remuneración gravada",0]
[null,null,"Ajustes períodos anteriores - Remuneración exenta / no alcanzada",0]
[null,null,"Otros empleos:"]
[null,null,"Remuneración bruta gravada ",0]
[null,null,"Retribuciones no habituales gravadas ",0]
[null,null,"SAC primera cuota gravado ",0]
[null,null,"SAC segunda cuota gravado ",0]
[null,null,"Horas extras remuneración gravada ",0,null,null,0,"% de retenciones"]
[null,null,"Movilidad y viáticos remuneración gravada ",0]
[null,null,"Material didáctico personal docente remuneración gravada ",0]
[null,null,"Remuneración no alcanzada o exenta ",0]
[null,null,"Remuneración exenta ley 27549 ",0,null,{"$f":"IF(AND($D$15=\"No\",D55<>0),\"Para que sea procedente el beneficio, modifique el valor en la celda D15\",\"\")","v":""}]
[null,null,"Retribuciones no habituales exentas o no alcanzadas ",0]
[null,null,"Horas extras remuneración exenta o no alcanzada ",0]
[null,null,"Movilidad y viáticos remuneración exenta o no alcanzada ",0]
[null,null,"Material didáctico personal docente remuneración exenta o no alcanzada ",0]
[null,null,"Bonos de productividad gravados ",0]
[null,null,"Fallos de caja gravados ",0]
[null,null,"Conceptos de similar naturaleza gravados ",0]
[null,null,"Bonos de productividad exentos ",0]
[null,null,"Fallos de caja exentos ",0]
[null,null,"Conceptos de similar naturaleza exentos ",0]
[null,null,"Compensación de gastos teletrabajo - exentos ",0]
[null,null,"Personal militar - suplementos art. 57 Ley 19101 - exentos ",0]
[null,null,"SAC primera cuota - No alcanzado o exento ",0]
[null,null,"SAC segunda cuota - No alcanzado o exento ",0]
[null,null,"Ajustes períodos anteriores - Remuneración gravada ",0]
[null,null,"Ajustes períodos anteriores - Remuneración no alcanzada o exenta ",0]
[null,null,"TOTAL REMUNERACIÓN GRAVADA",{"$f":"SUM(D21:E27,D44,D47:D53,D70)","v":0}]
[null,null,"TOTAL REMUNERACIÓN NO ALCANZADA O EXENTA",{"$f":"SUM(D28:D43,D45,D54:D69,D71)","v":0}]
[null,null,"TOTAL REMUNERACIONES",{"$f":"IF(+D72+D73<0,0,D72+D73)","v":0}]
[]
[null,null,"DEDUCCIONES GENERALES",null,null,null,null,"Topes máximos legales"]
[null,null,"Aportes a fondos de jubilaciones, retiros, pensiones o subsidios que se destinen a cajas nacionales, provinciales o municipales",0,null,{"$f":"validaciones(D77,H77,0)&IF(D77>$D$74,\" El importe no puede ser mayor a la remuneración total\",\"\")","v":""}]
[null,null,"Aportes a fondos de jubilaciones, retiros, pensiones o subsidios que se destinen a cajas nacionales, provinciales o municipales por otros empleos",0,null,{"$f":"validaciones(D78,H78,0)&IF(D78>$D$74,\" El importe no puede ser mayor a la remuneración total\",\"\")","v":""}]
[null,null,"Aportes a obra sociales",0,null,{"$f":"validaciones(D79,H79,0)&IF(D79>$D$74,\" El importe no puede ser mayor a la remuneración total\",\"\")","v":""}]
[null,null,"Aportes a obra sociales por otros empleos",0,null,{"$f":"validaciones(D80,H80,0)&IF(D80>$D$74,\" El importe no puede ser mayor a la remuneración total\",\"\")","v":""}]
[null,null,"Cuota sindical",0,null,{"$f":"validaciones(D81,H81,0)&IF(D81>$D$74,\" El importe no puede ser mayor a la remuneración total\",\"\")","v":""}]
[null,null,"Cuota sindical por otros empleos",0,null,{"$f":"validaciones(D82,H82,0)&IF(D82>$D$74,\" El importe no puede ser mayor a la remuneración total\",\"\")","v":""}]
[null,null,"Cuotas médico asistenciales",0,null,{"$f":"validaciones(D83,H83,0)","v":""},null,{"$f":"(D72-SUM(D77:D82,D84:D89,D91,D93:D94,D95:D103))*0.05","v":0}]
[null,null,"Primas de seguro para el caso de muerte",0,null,{"$f":"validaciones(D84,H84,0)&IF(AND(Datos!$C$11=\"Informativa\",D84<>0),\"En la DDJJ informativa, este campo debe consignarse en cero (0)\",\"\")","v":""},null,{"$f":"+Tablas!B2","v":24000}]
[null,null,"Primas por riesgo de muerte y de ahorro de seguros mixtos, excepto para los casos de seguros de retiro privados administrados por entidades sujetas al control de la Superintendencia de Seguros de la Nación",0,null,{"$f":"validaciones(D85,H85,0)&IF(AND(Datos!$C$11=\"Informativa\",D85<>0),\"En la DDJJ informativa, este campo debe consignarse en cero (0)\",\"\")","v":""},null,{"$f":"+H84","v":24000}]
[null,null,"Aportes a planes de seguro de retiro privados administrados por entidades sujetas al control de la Superintendencia de Seguros de la Nación",0,null,{"$f":"validaciones(D86,H86,0)&IF(AND(Datos!$C$11=\"Informativa\",D86<>0),\"En la DDJJ informativa, este campo debe consignarse en cero (0)\",\"\")","v":""},null,{"$f":"+H85","v":24000}]
[null,null,"Cuotapartes de fondos comunes de inversión constituidos con fines de retiro",0,null,{"$f":"validaciones(D87,H87,0)&IF(D87<>0,\"Deberá consignarse en cero (0), hasta que la Autoridad de Aplicación – CNV – autorice a las Entidades a funcionar e implemente el régimen.\",\"\")","v":""},null,0]
[null,null,"Gastos de sepelio",0,null,{"$f":"validaciones(D88,H88,0)","v":""},null,{"$f":"+Tablas!B6","v":996.23}]
[null,null,"Gastos amortización e intereses rodado para corredores y viajantes de comercio",0,null,{"$f":"validaciones(D89,H89,0)&IF(D89>$D$74,\" El importe no puede ser mayor a la remuneración total\",\"\")","v":""}]
[null,null,"Donaciones a fiscos nacional, provinciales y municipales, y a instituciones comprendidas en el artículo 26, incisos e) y f) de la ley",0,null,{"$f":"validaciones(D90,H90,0)","v":""},null,{"$f":"(D72-SUM(D77:D82,D84:D89,D91,D93:D94,D95:D103))*0.05","v":0}]
[null,null,"Descuentos obligatorios establecidos por ley nacional, provincial o municipal",0,null,{"$f":"validaciones(D91,H91,0)&IF(D91>$D$74,\" El importe no puede ser mayor a la remuneración total\",\"\")","v":""}]
[null,null,"Honorarios por servicios de asistencia sanitaria, médica y paramédica",0,null,{"$f":"validaciones(D92,H92,0)&IF(AND(Datos!$C$11=\"Informativa\",D92<>0),\"En la DDJJ informativa, este campo debe consignarse en cero (0)\",\"\")","v":""},null,{"$f":"(D72-SUM(D77:D82,D84:D89,D91,D93:D94,D95:D103))*0.05","v":0}]
[null,null,"Intereses de créditos hipotecarios",0,null,{"$f":"validaciones(D93,H93,0)","v":""},null,{"$f":"+Tablas!B3","v":20000}]
[null,null,"Aportes al capital social o al fondo de riesgo de socios protectores de sociedades de garantía recíproca",0,null,{"$f":"validaciones(D94,H94,0)","v":""}]
[null,null,"Alquileres de inmuebles destinados a casa habitación",0,null,{"$f":"validaciones(D95,H95,0)","v":""},null,{"$f":"IF(Datos!C11=\"Final\",ROUND(Tablas!B4/12*12,2),ROUND(Tablas!B4/12*MONTH(Datos!C13),2))","v":167678.39999999999}]
[null,null,"Empleados del servicio doméstico",0,null,{"$f":"validaciones(D96,H96,0)","v":""},null,{"$f":"Tablas!B4","v":167678.39999999999}]
[null,null,"Gastos de movilidad, viáticos y otras compensaciones análogas abonados por el empleador",0,null,{"$f":"validaciones(D97,H97,0)","v":""},null,{"$f":"IF(D13=\"Desarrolla la actividad\",Tablas!B4,Tablas!B4*0.4)","v":67071.360000000001}]
[null,null,"Gastos por adquisición de indumentaria y/o equipamiento de trabajo",0,null,{"$f":"validaciones(D98,H98,0)","v":""}]
[null,null,"Otras deducciones - aportes a Cajas Complementarias de Previsión, Fondos Compensadores de Previsión o similares",0,null,{"$f":"validaciones(D99,H99,0)","v":""}]
[null,null,"Otras deducciones - Aportes para jubilaciones, retiros y subsidios ANSES",0,null,{"$f":"validaciones(D100,H100,0)","v":""}]
[null,null,"Otras deducciones - Cajas Provinciales o Municipales o de Previsión para Profesionales",0,null,{"$f":"validaciones(D101,H101,0)","v":""}]
[null,null,"Otras deducciones - Actores - Retribución pagada a los representantes - RG 2442/08",0,null,{"$f":"validaciones(D102,H102,0)","v":""}]
[null,null,"Otras deducciones - Fondos compensadores de previsión",0,null,{"$f":"validaciones(D103,H103,0)","v":""}]
[null,null,"Otras deducciones",{"$f":"+SUM(D99:E103)","v":0}]
[null,null,"TOTAL DEDUCCIONES GENERALES",{"$f":"SUM(D77:E103)","v":0},null,null,null,null,null,null,{"$f":"+D72-D105","v":0}]
[]
[null,null,"DEDUCCIONES PERSONALES",null,null,null,null,"Topes máximos legales"]
[null,null,"Ganancia no imponible",125758.8,null,{"$f":"validaciones(D108,H108,0)","v":""},null,{"$f":"deducciones(1,Datos!C11,MONTH(Datos!$C$13),$D$12)","v":167678.39999999999},null,null,{"$f":"IF(K105-K109<=0,0,IF(K105-K109<=H108,K105-K109,H108))","v":0}]
[null,null,"Deducción especial",603642.26,null,{"$f":"validaciones(D109,H109,0)","v":""},null,{"$f":"deducciones(2,Datos!$C$11,MONTH(Datos!$C$13),$D$12)","v":804856.34},null,null,{"$f":"IF(K105<=H109,K105,H109)","v":0}]
[null,null,"Deducción Especial Incrementada Primera parte del penúltimo párrafo del inciso c) del artículo 30 de la ley del gravamen",0]
[null,null,"Deducción Especial Incrementada Segunda parte del penúltimo párrafo del inciso c) del artículo 30 de la ley del gravamen",0]
[null,null,"Deducción específica",0,null,{"$f":"validaciones(D112,H112,0)","v":""},null,0]
[null,null,"Cargas de familia"]
[null,null,"Cónyuge",0,null,{"$f":"validaciones(D114,H114,0)","v":""},null,{"$f":"cargas_de_familia(4,Datos!$C$11,MONTH(Datos!$C$13),$D$12)","v":156320.63},null,null,{"$f":"IF(K105-K108-K109>=D114,D114,K105-K108-K109)","v":0}]
[null,null,"Cantidad de hijos e hijastros",0,null,{"$f":"validaciones(D115,H115,0)","v":""},null,99]
[null,null,"Deducción total hijos e hijastros",0,null,null,null,{"$f":"cargas_de_familia(3,Datos!$C$11,MONTH(Datos!$C$13),$D$12)*D115","v":0},null,null,{"$f":"IF(K105-K108-K109-K114>=D116,D116,K105-K108-K109-K114)","v":0}]
[null,null,"Cantidad de hijos e hijastros incapacitados para el trabajo",0,null,{"$f":"validaciones(D117,H117,0)","v":""},null,99]
[null,null,"Hijos / Hijastros incapacitados para el trabajo",0,null,null,null,{"$f":"cargas_de_familia(5,Datos!$C$11,MONTH(Datos!$C$13),$D$12)","v":157666.16}]
[null,null,"Total de cargas de familia",{"$f":"+D114+D116+D118","v":0},null,null,null,0]
[null,null,"TOTAL DEDUCCIONES PERSONALES",{"$f":"SUM(D108:D112,D119)","v":729401.06}]
[]
[null,null,"DETERMINACIÓN DEL IMPUESTO"]
[null,null,"REMUNERACIÓN NETA SUJETA A IMPUESTO -antes de la deducción art. 46 L. 27541-",0]
[null,null,"Deducción inciso a) primer párrafo artículo 30 de la ley (cfr. art. 46 L. 27541)",0,null,null,null,0,null,null,{"$f":"IF(D123-K125<=0,0,IF(D123-K125<=H124,D123-K125,H124))","v":0}]
[null,null,"Deducción inciso c) primer párrafo artículo 30 de la ley (cfr. art. 46 L. 27541)",0,null,null,null,0,null,null,{"$f":"IF(D123<=H125,D123,H125)","v":0}]
[null,null,"REMUNERACIÓN SUJETA A IMPUESTO",{"$f":"IF(+D72-D105-D120<0,0,+D72-D105-D120)","v":0}]
[null,null,"Alícuota aplicable artículo 94 ley de impuesto a las ganancias",{"$f":"IF(OR(Datos!C11=\"Final\",Datos!C11=\"Anual\"),impuestoAlicuota(D126,D25*(1-G25)+D51*(1-G51),12),impuestoAlicuota(D126,D25*(1-G25)+D51*(1-G51),MONTH(D11)))","v":0}]
[null,null,"Alícuota aplicable sin incluir horas extras",{"$f":"IF(OR(Datos!C11=\"Final\",Datos!C11=\"Anual\"),impuestoAlicuota(D126,0,12),impuestoAlicuota(D126,0,MONTH(D11)))","v":0}]
[null,null,"IMPUESTO DETERMINADO",{"$f":"IF(D126<0,0,IF(OR(Datos!C11=\"Final\",Datos!C11=\"Anual\"),impuestoDeterminado(D126,D25*(1-G25)+D51*(1-G51),12),impuestoDeterminado(D126,D25*(1-G25)+D51*(1-G51),MONTH(D11))))","v":0}]
[null,null,"Impuesto retenido",0]
[null,null,"Pagos a cuenta - Impuesto sobre créditos y débitos",0,null,{"$f":"IF(AND(Datos!$C$11=\"Informativa\",D131<>0),\"En la DDJJ informativa, este campo debe consignarse en cero (0)\",\"\")","v":""}]
[null,null,"Pagos a cuenta - Percepciones / Retenciones aduaneras",0,null,{"$f":"IF(AND(Datos!$C$11=\"Informativa\",D132<>0),\"En la DDJJ informativa, este campo debe consignarse en cero (0)\",\"\")","v":""}]
[null,null,"Pagos a cuenta - RG (AFIP) 3819/2015 - Cancelaciones en efectivo",0,null,{"$f":"IF(AND(Datos!$C$11=\"Informativa\",D133<>0),\"En la DDJJ informativa, este campo debe consignarse en cero (0)\",\"\")","v":""}]
[null,null,"Pagos a cuenta - Bono ley 27.424",0,null,{"$f":"IF(AND(Datos!$C$11=\"Informativa\",D134<>0),\"En la DDJJ informativa, este campo debe consignarse en cero (0)\",\"\")","v":""}]
[null,null,"Pagos a cuenta - RG 4815 [LEY 27.541 Art. 35 inciso a)] ",0,null,{"$f":"IF(AND(Datos!$C$11=\"Informativa\",D135<>0),\"En la DDJJ informativa, este campo debe consignarse en cero (0)\",\"\")","v":""}]
[null,null,"Pagos a cuenta - RG 4815 [LEY 27.541 Art. 35 inciso b)] ",0,null,{"$f":"IF(AND(Datos!$C$11=\"Informativa\",D136<>0),\"En la DDJJ informativa, este campo debe consignarse en cero (0)\",\"\")","v":""}]
[null,null,"Pagos a cuenta - RG 4815 [LEY 27.541 Art. 35 inciso c)] ",0,null,{"$f":"IF(AND(Datos!$C$11=\"Informativa\",D137<>0),\"En la DDJJ informativa, este campo debe consignarse en cero (0)\",\"\")","v":""}]
[null,null,"Pagos a cuenta - RG 4815 [LEY 27.541 Art. 35 inciso d)] ",0,null,{"$f":"IF(AND(Datos!$C$11=\"Informativa\",D138<>0),\"En la DDJJ informativa, este campo debe consignarse en cero (0)\",\"\")","v":""}]
[null,null,"Pagos a cuenta - RG 4815 [LEY 27.541 Art. 35 inciso e)] ",0,null,{"$f":"IF(AND(Datos!$C$11=\"Informativa\",D139<>0),\"En la DDJJ informativa, este campo debe consignarse en cero (0)\",\"\")","v":""}]
[null,null,"Pagos a cuenta - Impuesto sobre créditos y débitos - sobre movimientos de fondos propios o de terceros",0,null,{"$f":"IF(AND(Datos!$C$11=\"Informativa\",D140<>0),\"En la DDJJ informativa, este campo debe consignarse en cero (0)\",\"\")","v":""}]
[null,null,"Pagos a cuenta - Resolución General (AFIP) 3819/2015 - Cancelaciones en Efectivo -Servicios de transporte terrestre, aéreo y por vía acuática de pasajeros con destino fuera del país",0,null,{"$f":"IF(AND(Datos!$C$11=\"Informativa\",D141<>0),\"En la DDJJ informativa, este campo debe consignarse en cero (0)\",\"\")","v":""}]
[null,null,"Total pagos a cuenta",{"$f":"SUM(D131:D141)","v":0}]
[null,null,"SALDO A PAGAR",{"$f":"+ROUND(D129,2)-D130-D142","v":0}]

{"sheet":"Empleado49","index":53,"n_rows":143,"n_cols":11,"rows_kept":143,"cut":false,"hidden":false,"merged":[[10,7,11,9]]}
[]
[]
[null,null,"LIQUIDACIÓN DE IMPUESTO A LAS GANANCIAS - 4ta. CATEGORÍA RELACIÓN DE DEPENDENCIA"]
[]
[]
[null,null,"Empleado: Nombre y apellido "]
[null,null,"CUIL del empleado",null,null,{"$f":"cuitValidar(D7)","v":"CUIT/CUIL vacío"}]
[null,null,{"$f":"\"Agente de Retención: \"","v":"Agente de Retención: "},{"$f":"Datos!C7&\" - \"&Datos!C5","v":"33711238269 - OPERACIONES AGROPORTUARIAS S.A."}]
[null,null,{"$f":"\"Período Fiscal: \"","v":"Período Fiscal: "},{"$f":"YEAR(Datos!C13)","v":2021}]
[null,null,"Período trabajado (desde):","2021-01-01"]
[null,null,"Período trabajado (hasta):","2021-09-25",null,null,null,{"$f":"IF(MONTH(D11)>MONTH(Datos!C13),\"El período trabajado no puede ser mayor al período que se informa (mes \"&MONTH(Datos!C13)&\")\",\"\")","v":""}]
[null,null,"Zona geográfica:","Todo el país (excepto zona patagónica)"]
[null,null,"Transporte a larga distancia","No desarrolla la actividad"]
[null,null,"Beneficio promocional 27424?","No"]
[null,null,"Beneficio de la ley 27549?","No"]
[null,null,"El trabajador labora bajo el régimen de teletrabajo (Ley 27555)?","No"]
[null,null,"El trabajador es personal militar en actividad?","No"]
[]
[null,null,"REMUNERACIONES"]
[null,null,"Abonadas por el agente de retención:"]
[null,null,"Remuneración bruta gravada",0]
[null,null,"Retribuciones no habituales gravadas",0]
[null,null,"SAC primera cuota gravado",0]
[null,null,"SAC segunda cuota gravado",0]
[null,null,"Horas extras remuneración gravada",0,null,null,0,"% de retenciones"]
[null,null,"Movilidad y viáticos remuneración gravada",0]
[null,null,"Material didáctico personal docente remuneración gravada",0]
[null,null,"Remuneración no alcanzada o exenta (sin horas extras)",0]
[null,null,"Remuneración exenta ley 27549",0,null,{"$f":"IF(AND($D$15=\"No\",D29<>0),\"Para que sea procedente el beneficio, modifique el valor en la celda D15\",\"\")","v":""}]
[null,null,"Retribuciones no habituales exentas o no alcanzadas",0]
[null,null,"Horas extras remuneración exenta",0]
[null,null,"Movilidad y viáticos remuneración exenta",0]
[null,null,"Material didáctico personal docente remuneración exenta",0]
[null,null,"Bonos de productividad gravados",0]
[null,null,"Fallos de caja gravados",0]
[null,null,"Conceptos de similar naturaleza gravados",0]
[null,null,"Bonos de productividad exentos",0]
[null,null,"Fallos de caja exentos",0]
[null,null,"Conceptos de similar naturaleza exentos",0]
[null,null,"Compensación de gastos de teletrabajo exentos",0]
[null,null,"Personal militar - suplementos art. 57 ley 19.101 - exentos",0]
[null,null,"SAC primera cuota - No alcanzado o exento",0]
[null,null,"SAC segunda cuota - No alcanzado o exento",0]
[null,null,"Ajustes períodos anteriores - Remuneración gravada",0]
[null,null,"Ajustes períodos anteriores - Remuneración exenta / no alcanzada",0]
[null,null,"Otros empleos:"]
[null,null,"Remuneración bruta gravada ",0]
[null,null,"Retribuciones no habituales gravadas ",0]
[null,null,"SAC primera cuota gravado ",0]
[null,null,"SAC segunda cuota gravado ",0]
[null,null,"Horas extras remuneración gravada ",0,null,null,0,"% de retenciones"]
[null,null,"Movilidad y viáticos remuneración gravada ",0]
[null,null,"Material didáctico personal docente remuneración gravada ",0]
[null,null,"Remuneración no alcanzada o exenta ",0]
[null,null,"Remuneración exenta ley 27549 ",0,null,{"$f":"IF(AND($D$15=\"No\",D55<>0),\"Para que sea procedente el beneficio, modifique el valor en la celda D15\",\"\")","v":""}]
[null,null,"Retribuciones no habituales exentas o no alcanzadas ",0]
[null,null,"Horas extras remuneración exenta o no alcanzada ",0]
[null,null,"Movilidad y viáticos remuneración exenta o no alcanzada ",0]
[null,null,"Material didáctico personal docente remuneración exenta o no alcanzada ",0]
[null,null,"Bonos de productividad gravados ",0]
[null,null,"Fallos de caja gravados ",0]
[null,null,"Conceptos de similar naturaleza gravados ",0]
[null,null,"Bonos de productividad exentos ",0]
[null,null,"Fallos de caja exentos ",0]
[null,null,"Conceptos de similar naturaleza exentos ",0]
[null,null,"Compensación de gastos teletrabajo - exentos ",0]
[null,null,"Personal militar - suplementos art. 57 Ley 19101 - exentos ",0]
[null,null,"SAC primera cuota - No alcanzado o exento ",0]
[null,null,"SAC segunda cuota - No alcanzado o exento ",0]
[null,null,"Ajustes períodos anteriores - Remuneración gravada ",0]
[null,null,"Ajustes períodos anteriores - Remuneración no alcanzada o exenta ",0]
[null,null,"TOTAL REMUNERACIÓN GRAVADA",{"$f":"SUM(D21:E27,D44,D47:D53,D70)","v":0}]
[null,null,"TOTAL REMUNERACIÓN NO ALCANZADA O EXENTA",{"$f":"SUM(D28:D43,D45,D54:D69,D71)","v":0}]
[null,null,"TOTAL REMUNERACIONES",{"$f":"IF(+D72+D73<0,0,D72+D73)","v":0}]
[]
[null,null,"DEDUCCIONES GENERALES",null,null,null,null,"Topes máximos legales"]
[null,null,"Aportes a fondos de jubilaciones, retiros, pensiones o subsidios que se destinen a cajas nacionales, provinciales o municipales",0,null,{"$f":"validaciones(D77,H77,0)&IF(D77>$D$74,\" El importe no puede ser mayor a la remuneración total\",\"\")","v":""}]
[null,null,"Aportes a fondos de jubilaciones, retiros, pensiones o subsidios que se destinen a cajas nacionales, provinciales o municipales por otros empleos",0,null,{"$f":"validaciones(D78,H78,0)&IF(D78>$D$74,\" El importe no puede ser mayor a la remuneración total\",\"\")","v":""}]
[null,null,"Aportes a obra sociales",0,null,{"$f":"validaciones(D79,H79,0)&IF(D79>$D$74,\" El importe no puede ser mayor a la remuneración total\",\"\")","v":""}]
[null,null,"Aportes a obra sociales por otros empleos",0,null,{"$f":"validaciones(D80,H80,0)&IF(D80>$D$74,\" El importe no puede ser mayor a la remuneración total\",\"\")","v":""}]
[null,null,"Cuota sindical",0,null,{"$f":"validaciones(D81,H81,0)&IF(D81>$D$74,\" El importe no puede ser mayor a la remuneración total\",\"\")","v":""}]
[null,null,"Cuota sindical por otros empleos",0,null,{"$f":"validaciones(D82,H82,0)&IF(D82>$D$74,\" El importe no puede ser mayor a la remuneración total\",\"\")","v":""}]
[null,null,"Cuotas médico asistenciales",0,null,{"$f":"validaciones(D83,H83,0)","v":""},null,{"$f":"(D72-SUM(D77:D82,D84:D89,D91,D93:D94,D95:D103))*0.05","v":0}]
[null,null,"Primas de seguro para el caso de muerte",0,null,{"$f":"validaciones(D84,H84,0)&IF(AND(Datos!$C$11=\"Informativa\",D84<>0),\"En la DDJJ informativa, este campo debe consignarse en cero (0)\",\"\")","v":""},null,{"$f":"+Tablas!B2","v":24000}]
[null,null,"Primas por riesgo de muerte y de ahorro de seguros mixtos, excepto para los casos de seguros de retiro privados administrados por entidades sujetas al control de la Superintendencia de Seguros de la Nación",0,null,{"$f":"validaciones(D85,H85,0)&IF(AND(Datos!$C$11=\"Informativa\",D85<>0),\"En la DDJJ informativa, este campo debe consignarse en cero (0)\",\"\")","v":""},null,{"$f":"+H84","v":24000}]
[null,null,"Aportes a planes de seguro de retiro privados administrados por entidades sujetas al control de la Superintendencia de Seguros de la Nación",0,null,{"$f":"validaciones(D86,H86,0)&IF(AND(Datos!$C$11=\"Informativa\",D86<>0),\"En la DDJJ informativa, este campo debe consignarse en cero (0)\",\"\")","v":""},null,{"$f":"+H85","v":24000}]
[null,null,"Cuotapartes de fondos comunes de inversión constituidos con fines de retiro",0,null,{"$f":"validaciones(D87,H87,0)&IF(D87<>0,\"Deberá consignarse en cero (0), hasta que la Autoridad de Aplicación – CNV – autorice a las Entidades a funcionar e implemente el régimen.\",\"\")","v":""},null,0]
[null,null,"Gastos de sepelio",0,null,{"$f":"validaciones(D88,H88,0)","v":""},null,{"$f":"+Tablas!B6","v":996.23}]
[null,null,"Gastos amortización e intereses rodado para corredores y viajantes de comercio",0,null,{"$f":"validaciones(D89,H89,0)&IF(D89>$D$74,\" El importe no puede ser mayor a la remuneración total\",\"\")","v":""}]
[null,null,"Donaciones a fiscos nacional, provinciales y municipales, y a instituciones comprendidas en el artículo 26, incisos e) y f) de la ley",0,null,{"$f":"validaciones(D90,H90,0)","v":""},null,{"$f":"(D72-SUM(D77:D82,D84:D89,D91,D93:D94,D95:D103))*0.05","v":0}]
[null,null,"Descuentos obligatorios establecidos por ley nacional, provincial o municipal",0,null,{"$f":"validaciones(D91,H91,0)&IF(D91>$D$74,\" El importe no puede ser mayor a la remuneración total\",\"\")","v":""}]
[null,null,"Honorarios por servicios de asistencia sanitaria, médica y paramédica",0,null,{"$f":"validaciones(D92,H92,0)&IF(AND(Datos!$C$11=\"Informativa\",D92<>0),\"En la DDJJ informativa, este campo debe consignarse en cero (0)\",\"\")","v":""},null,{"$f":"(D72-SUM(D77:D82,D84:D89,D91,D93:D94,D95:D103))*0.05","v":0}]
[null,null,"Intereses de créditos hipotecarios",0,null,{"$f":"validaciones(D93,H93,0)","v":""},null,{"$f":"+Tablas!B3","v":20000}]
[null,null,"Aportes al capital social o al fondo de riesgo de socios protectores de sociedades de garantía recíproca",0,null,{"$f":"validaciones(D94,H94,0)","v":""}]
[null,null,"Alquileres de inmuebles destinados a casa habitación",0,null,{"$f":"validaciones(D95,H95,0)","v":""},null,{"$f":"IF(Datos!C11=\"Final\",ROUND(Tablas!B4/12*12,2),ROUND(Tablas!B4/12*MONTH(Datos!C13),2))","v":167678.39999999999}]
[null,null,"Empleados del servicio doméstico",0,null,{"$f":"validaciones(D96,H96,0)","v":""},null,{"$f":"Tablas!B4","v":167678.39999999999}]
[null,null,"Gastos de movilidad, viáticos y otras compensaciones análogas abonados por el empleador",0,null,{"$f":"validaciones(D97,H97,0)","v":""},null,{"$f":"IF(D13=\"Desarrolla la actividad\",Tablas!B4,Tablas!B4*0.4)","v":67071.360000000001}]
[null,null,"Gastos por adquisición de indumentaria y/o equipamiento de trabajo",0,null,{"$f":"validaciones(D98,H98,0)","v":""}]
[null,null,"Otras deducciones - aportes a Cajas Complementarias de Previsión, Fondos Compensadores de Previsión o similares",0,null,{"$f":"validaciones(D99,H99,0)","v":""}]
[null,null,"Otras deducciones - Aportes para jubilaciones, retiros y subsidios ANSES",0,null,{"$f":"validaciones(D100,H100,0)","v":""}]
[null,null,"Otras deducciones - Cajas Provinciales o Municipales o de Previsión para Profesionales",0,null,{"$f":"validaciones(D101,H101,0)","v":""}]
[null,null,"Otras deducciones - Actores - Retribución pagada a los representantes - RG 2442/08",0,null,{"$f":"validaciones(D102,H102,0)","v":""}]
[null,null,"Otras deducciones - Fondos compensadores de previsión",0,null,{"$f":"validaciones(D103,H103,0)","v":""}]
[null,null,"Otras deducciones",{"$f":"+SUM(D99:E103)","v":0}]
[null,null,"TOTAL DEDUCCIONES GENERALES",{"$f":"SUM(D77:E103)","v":0},null,null,null,null,null,null,{"$f":"+D72-D105","v":0}]
[]
[null,null,"DEDUCCIONES PERSONALES",null,null,null,null,"Topes máximos legales"]
[null,null,"Ganancia no imponible",125758.8,null,{"$f":"validaciones(D108,H108,0)","v":""},null,{"$f":"deducciones(1,Datos!C11,MONTH(Datos!$C$13),$D$12)","v":167678.39999999999},null,null,{"$f":"IF(K105-K109<=0,0,IF(K105-K109<=H108,K105-K109,H108))","v":0}]
[null,null,"Deducción especial",603642.26,null,{"$f":"validaciones(D109,H109,0)","v":""},null,{"$f":"deducciones(2,Datos!$C$11,MONTH(Datos!$C$13),$D$12)","v":804856.34},null,null,{"$f":"IF(K105<=H109,K105,H109)","v":0}]
[null,null,"Deducción Especial Incrementada Primera parte del penúltimo párrafo del inciso c) del artículo 30 de la ley del gravamen",0]
[null,null,"Deducción Especial Incrementada Segunda parte del penúltimo párrafo del inciso c) del artículo 30 de la ley del gravamen",0]
[null,null,"Deducción específica",0,null,{"$f":"validaciones(D112,H112,0)","v":""},null,0]
[null,null,"Cargas de familia"]
[null,null,"Cónyuge",0,null,{"$f":"validaciones(D114,H114,0)","v":""},null,{"$f":"cargas_de_familia(4,Datos!$C$11,MONTH(Datos!$C$13),$D$12)","v":156320.63},null,null,{"$f":"IF(K105-K108-K109>=D114,D114,K105-K108-K109)","v":0}]
[null,null,"Cantidad de hijos e hijastros",0,null,{"$f":"validaciones(D115,H115,0)","v":""},null,99]
[null,null,"Deducción total hijos e hijastros",0,null,null,null,{"$f":"cargas_de_familia(3,Datos!$C$11,MONTH(Datos!$C$13),$D$12)*D115","v":0},null,null,{"$f":"IF(K105-K108-K109-K114>=D116,D116,K105-K108-K109-K114)","v":0}]
[null,null,"Cantidad de hijos e hijastros incapacitados para el trabajo",0,null,{"$f":"validaciones(D117,H117,0)","v":""},null,99]
[null,null,"Hijos / Hijastros incapacitados para el trabajo",0,null,null,null,{"$f":"cargas_de_familia(5,Datos!$C$11,MONTH(Datos!$C$13),$D$12)","v":157666.16}]
[null,null,"Total de cargas de familia",{"$f":"+D114+D116+D118","v":0},null,null,null,0]
[null,null,"TOTAL DEDUCCIONES PERSONALES",{"$f":"SUM(D108:D112,D119)","v":729401.06}]
[]
[null,null,"DETERMINACIÓN DEL IMPUESTO"]
[null,null,"REMUNERACIÓN NETA SUJETA A IMPUESTO -antes de la deducción art. 46 L. 27541-",0]
[null,null,"Deducción inciso a) primer párrafo artículo 30 de la ley (cfr. art. 46 L. 27541)",0,null,null,null,0,null,null,{"$f":"IF(D123-K125<=0,0,IF(D123-K125<=H124,D123-K125,H124))","v":0}]
[null,null,"Deducción inciso c) primer párrafo artículo 30 de la ley (cfr. art. 46 L. 27541)",0,null,null,null,0,null,null,{"$f":"IF(D123<=H125,D123,H125)","v":0}]
[null,null,"REMUNERACIÓN SUJETA A IMPUESTO",{"$f":"IF(+D72-D105-D120<0,0,+D72-D105-D120)","v":0}]
[null,null,"Alícuota aplicable artículo 94 ley de impuesto a las ganancias",{"$f":"IF(OR(Datos!C11=\"Final\",Datos!C11=\"Anual\"),impuestoAlicuota(D126,D25*(1-G25)+D51*(1-G51),12),impuestoAlicuota(D126,D25*(1-G25)+D51*(1-G51),MONTH(D11)))","v":0}]
[null,null,"Alícuota aplicable sin incluir horas extras",{"$f":"IF(OR(Datos!C11=\"Final\",Datos!C11=\"Anual\"),impuestoAlicuota(D126,0,12),impuestoAlicuota(D126,0,MONTH(D11)))","v":0}]
[null,null,"IMPUESTO DETERMINADO",{"$f":"IF(D126<0,0,IF(OR(Datos!C11=\"Final\",Datos!C11=\"Anual\"),impuestoDeterminado(D126,D25*(1-G25)+D51*(1-G51),12),impuestoDeterminado(D126,D25*(1-G25)+D51*(1-G51),MONTH(D11))))","v":0}]
[null,null,"Impuesto retenido",0]
[null,null,"Pagos a cuenta - Impuesto sobre créditos y débitos",0,null,{"$f":"IF(AND(Datos!$C$11=\"Informativa\",D131<>0),\"En la DDJJ informativa, este campo debe consignarse en cero (0)\",\"\")","v":""}]
[null,null,"Pagos a cuenta - Percepciones / Retenciones aduaneras",0,null,{"$f":"IF(AND(Datos!$C$11=\"Informativa\",D132<>0),\"En la DDJJ informativa, este campo debe consignarse en cero (0)\",\"\")","v":""}]
[null,null,"Pagos a cuenta - RG (AFIP) 3819/2015 - Cancelaciones en efectivo",0,null,{"$f":"IF(AND(Datos!$C$11=\"Informativa\",D133<>0),\"En la DDJJ informativa, este campo debe consignarse en cero (0)\",\"\")","v":""}]
[null,null,"Pagos a cuenta - Bono ley 27.424",0,null,{"$f":"IF(AND(Datos!$C$11=\"Informativa\",D134<>0),\"En la DDJJ informativa, este campo debe consignarse en cero (0)\",\"\")","v":""}]
[null,null,"Pagos a cuenta - RG 4815 [LEY 27.541 Art. 35 inciso a)] ",0,null,{"$f":"IF(AND(Datos!$C$11=\"Informativa\",D135<>0),\"En la DDJJ informativa, este campo debe consignarse en cero (0)\",\"\")","v":""}]
[null,null,"Pagos a cuenta - RG 4815 [LEY 27.541 Art. 35 inciso b)] ",0,null,{"$f":"IF(AND(Datos!$C$11=\"Informativa\",D136<>0),\"En la DDJJ informativa, este campo debe consignarse en cero (0)\",\"\")","v":""}]
[null,null,"Pagos a cuenta - RG 4815 [LEY 27.541 Art. 35 inciso c)] ",0,null,{"$f":"IF(AND(Datos!$C$11=\"Informativa\",D137<>0),\"En la DDJJ informativa, este campo debe consignarse en cero (0)\",\"\")","v":""}]
[null,null,"Pagos a cuenta - RG 4815 [LEY 27.541 Art. 35 inciso d)] ",0,null,{"$f":"IF(AND(Datos!$C$11=\"Informativa\",D138<>0),\"En la DDJJ informativa, este campo debe consignarse en cero (0)\",\"\")","v":""}]
[null,null,"Pagos a cuenta - RG 4815 [LEY 27.541 Art. 35 inciso e)] ",0,null,{"$f":"IF(AND(Datos!$C$11=\"Informativa\",D139<>0),\"En la DDJJ informativa, este campo debe consignarse en cero (0)\",\"\")","v":""}]
[null,null,"Pagos a cuenta - Impuesto sobre créditos y débitos - sobre movimientos de fondos propios o de terceros",0,null,{"$f":"IF(AND(Datos!$C$11=\"Informativa\",D140<>0),\"En la DDJJ informativa, este campo debe consignarse en cero (0)\",\"\")","v":""}]
[null,null,"Pagos a cuenta - Resolución General (AFIP) 3819/2015 - Cancelaciones en Efectivo -Servicios de transporte terrestre, aéreo y por vía acuática de pasajeros con destino fuera del país",0,null,{"$f":"IF(AND(Datos!$C$11=\"Informativa\",D141<>0),\"En la DDJJ informativa, este campo debe consignarse en cero (0)\",\"\")","v":""}]
[null,null,"Total pagos a cuenta",{"$f":"SUM(D131:D141)","v":0}]
[null,null,"SALDO A PAGAR",{"$f":"+ROUND(D129,2)-D130-D142","v":0}]

{"sheet":"Empleado50","index":54,"n_rows":143,"n_cols":11,"rows_kept":143,"cut":false,"hidden":false,"merged":[[10,7,11,9]]}
[]
[]
[null,null,"LIQUIDACIÓN DE IMPUESTO A LAS GANANCIAS - 4ta. CATEGORÍA RELACIÓN DE DEPENDENCIA"]
[]
[]
[null,null,"Empleado: Nombre y apellido "]
[null,null,"CUIL del empleado",null,null,{"$f":"cuitValidar(D7)","v":"CUIT/CUIL vacío"}]
[null,null,{"$f":"\"Agente de Retención: \"","v":"Agente de Retención: "},{"$f":"Datos!C7&\" - \"&Datos!C5","v":"33711238269 - OPERACIONES AGROPORTUARIAS S.A."}]
[null,null,{"$f":"\"Período Fiscal: \"","v":"Período Fiscal: "},{"$f":"YEAR(Datos!C13)","v":2021}]
[null,null,"Período trabajado (desde):","2021-01-01"]
[null,null,"Período trabajado (hasta):","2021-09-25",null,null,null,{"$f":"IF(MONTH(D11)>MONTH(Datos!C13),\"El período trabajado no puede ser mayor al período que se informa (mes \"&MONTH(Datos!C13)&\")\",\"\")","v":""}]
[null,null,"Zona geográfica:","Todo el país (excepto zona patagónica)"]
[null,null,"Transporte a larga distancia","No desarrolla la actividad"]
[null,null,"Beneficio promocional 27424?","No"]
[null,null,"Beneficio de la ley 27549?","No"]
[null,null,"El trabajador labora bajo el régimen de teletrabajo (Ley 27555)?","No"]
[null,null,"El trabajador es personal militar en actividad?","No"]
[]
[null,null,"REMUNERACIONES"]
[null,null,"Abonadas por el agente de retención:"]
[null,null,"Remuneración bruta gravada",0]
[null,null,"Retribuciones no habituales gravadas",0]
[null,null,"SAC primera cuota gravado",0]
[null,null,"SAC segunda cuota gravado",0]
[null,null,"Horas extras remuneración gravada",0,null,null,0,"% de retenciones"]
[null,null,"Movilidad y viáticos remuneración gravada",0]
[null,null,"Material didáctico personal docente remuneración gravada",0]
[null,null,"Remuneración no alcanzada o exenta (sin horas extras)",0]
[null,null,"Remuneración exenta ley 27549",0,null,{"$f":"IF(AND($D$15=\"No\",D29<>0),\"Para que sea procedente el beneficio, modifique el valor en la celda D15\",\"\")","v":""}]
[null,null,"Retribuciones no habituales exentas o no alcanzadas",0]
[null,null,"Horas extras remuneración exenta",0]
[null,null,"Movilidad y viáticos remuneración exenta",0]
[null,null,"Material didáctico personal docente remuneración exenta",0]
[null,null,"Bonos de productividad gravados",0]
[null,null,"Fallos de caja gravados",0]
[null,null,"Conceptos de similar naturaleza gravados",0]
[null,null,"Bonos de productividad exentos",0]
[null,null,"Fallos de caja exentos",0]
[null,null,"Conceptos de similar naturaleza exentos",0]
[null,null,"Compensación de gastos de teletrabajo exentos",0]
[null,null,"Personal militar - suplementos art. 57 ley 19.101 - exentos",0]
[null,null,"SAC primera cuota - No alcanzado o exento",0]
[null,null,"SAC segunda cuota - No alcanzado o exento",0]
[null,null,"Ajustes períodos anteriores - Remuneración gravada",0]
[null,null,"Ajustes períodos anteriores - Remuneración exenta / no alcanzada",0]
[null,null,"Otros empleos:"]
[null,null,"Remuneración bruta gravada ",0]
[null,null,"Retribuciones no habituales gravadas ",0]
[null,null,"SAC primera cuota gravado ",0]
[null,null,"SAC segunda cuota gravado ",0]
[null,null,"Horas extras remuneración gravada ",0,null,null,0,"% de retenciones"]
[null,null,"Movilidad y viáticos remuneración gravada ",0]
[null,null,"Material didáctico personal docente remuneración gravada ",0]
[null,null,"Remuneración no alcanzada o exenta ",0]
[null,null,"Remuneración exenta ley 27549 ",0,null,{"$f":"IF(AND($D$15=\"No\",D55<>0),\"Para que sea procedente el beneficio, modifique el valor en la celda D15\",\"\")","v":""}]
[null,null,"Retribuciones no habituales exentas o no alcanzadas ",0]
[null,null,"Horas extras remuneración exenta o no alcanzada ",0]
[null,null,"Movilidad y viáticos remuneración exenta o no alcanzada ",0]
[null,null,"Material didáctico personal docente remuneración exenta o no alcanzada ",0]
[null,null,"Bonos de productividad gravados ",0]
[null,null,"Fallos de caja gravados ",0]
[null,null,"Conceptos de similar naturaleza gravados ",0]
[null,null,"Bonos de productividad exentos ",0]
[null,null,"Fallos de caja exentos ",0]
[null,null,"Conceptos de similar naturaleza exentos ",0]
[null,null,"Compensación de gastos teletrabajo - exentos ",0]
[null,null,"Personal militar - suplementos art. 57 Ley 19101 - exentos ",0]
[null,null,"SAC primera cuota - No alcanzado o exento ",0]
[null,null,"SAC segunda cuota - No alcanzado o exento ",0]
[null,null,"Ajustes períodos anteriores - Remuneración gravada ",0]
[null,null,"Ajustes períodos anteriores - Remuneración no alcanzada o exenta ",0]
[null,null,"TOTAL REMUNERACIÓN GRAVADA",{"$f":"SUM(D21:E27,D44,D47:D53,D70)","v":0}]
[null,null,"TOTAL REMUNERACIÓN NO ALCANZADA O EXENTA",{"$f":"SUM(D28:D43,D45,D54:D69,D71)","v":0}]
[null,null,"TOTAL REMUNERACIONES",{"$f":"IF(+D72+D73<0,0,D72+D73)","v":0}]
[]
[null,null,"DEDUCCIONES GENERALES",null,null,null,null,"Topes máximos legales"]
[null,null,"Aportes a fondos de jubilaciones, retiros, pensiones o subsidios que se destinen a cajas nacionales, provinciales o municipales",0,null,{"$f":"validaciones(D77,H77,0)&IF(D77>$D$74,\" El importe no puede ser mayor a la remuneración total\",\"\")","v":""}]
[null,null,"Aportes a fondos de jubilaciones, retiros, pensiones o subsidios que se destinen a cajas nacionales, provinciales o municipales por otros empleos",0,null,{"$f":"validaciones(D78,H78,0)&IF(D78>$D$74,\" El importe no puede ser mayor a la remuneración total\",\"\")","v":""}]
[null,null,"Aportes a obra sociales",0,null,{"$f":"validaciones(D79,H79,0)&IF(D79>$D$74,\" El importe no puede ser mayor a la remuneración total\",\"\")","v":""}]
[null,null,"Aportes a obra sociales por otros empleos",0,null,{"$f":"validaciones(D80,H80,0)&IF(D80>$D$74,\" El importe no puede ser mayor a la remuneración total\",\"\")","v":""}]
[null,null,"Cuota sindical",0,null,{"$f":"validaciones(D81,H81,0)&IF(D81>$D$74,\" El importe no puede ser mayor a la remuneración total\",\"\")","v":""}]
[null,null,"Cuota sindical por otros empleos",0,null,{"$f":"validaciones(D82,H82,0)&IF(D82>$D$74,\" El importe no puede ser mayor a la remuneración total\",\"\")","v":""}]
[null,null,"Cuotas médico asistenciales",0,null,{"$f":"validaciones(D83,H83,0)","v":""},null,{"$f":"(D72-SUM(D77:D82,D84:D89,D91,D93:D94,D95:D103))*0.05","v":0}]
[null,null,"Primas de seguro para el caso de muerte",0,null,{"$f":"validaciones(D84,H84,0)&IF(AND(Datos!$C$11=\"Informativa\",D84<>0),\"En la DDJJ informativa, este campo debe consignarse en cero (0)\",\"\")","v":""},null,{"$f":"+Tablas!B2","v":24000}]
[null,null,"Primas por riesgo de muerte y de ahorro de seguros mixtos, excepto para los casos de seguros de retiro privados administrados por entidades sujetas al control de la Superintendencia de Seguros de la Nación",0,null,{"$f":"validaciones(D85,H85,0)&IF(AND(Datos!$C$11=\"Informativa\",D85<>0),\"En la DDJJ informativa, este campo debe consignarse en cero (0)\",\"\")","v":""},null,{"$f":"+H84","v":24000}]
[null,null,"Aportes a planes de seguro de retiro privados administrados por entidades sujetas al control de la Superintendencia de Seguros de la Nación",0,null,{"$f":"validaciones(D86,H86,0)&IF(AND(Datos!$C$11=\"Informativa\",D86<>0),\"En la DDJJ informativa, este campo debe consignarse en cero (0)\",\"\")","v":""},null,{"$f":"+H85","v":24000}]
[null,null,"Cuotapartes de fondos comunes de inversión constituidos con fines de retiro",0,null,{"$f":"validaciones(D87,H87,0)&IF(D87<>0,\"Deberá consignarse en cero (0), hasta que la Autoridad de Aplicación – CNV – autorice a las Entidades a funcionar e implemente el régimen.\",\"\")","v":""},null,0]
[null,null,"Gastos de sepelio",0,null,{"$f":"validaciones(D88,H88,0)","v":""},null,{"$f":"+Tablas!B6","v":996.23}]
[null,null,"Gastos amortización e intereses rodado para corredores y viajantes de comercio",0,null,{"$f":"validaciones(D89,H89,0)&IF(D89>$D$74,\" El importe no puede ser mayor a la remuneración total\",\"\")","v":""}]
[null,null,"Donaciones a fiscos nacional, provinciales y municipales, y a instituciones comprendidas en el artículo 26, incisos e) y f) de la ley",0,null,{"$f":"validaciones(D90,H90,0)","v":""},null,{"$f":"(D72-SUM(D77:D82,D84:D89,D91,D93:D94,D95:D103))*0.05","v":0}]
[null,null,"Descuentos obligatorios establecidos por ley nacional, provincial o municipal",0,null,{"$f":"validaciones(D91,H91,0)&IF(D91>$D$74,\" El importe no puede ser mayor a la remuneración total\",\"\")","v":""}]
[null,null,"Honorarios por servicios de asistencia sanitaria, médica y paramédica",0,null,{"$f":"validaciones(D92,H92,0)&IF(AND(Datos!$C$11=\"Informativa\",D92<>0),\"En la DDJJ informativa, este campo debe consignarse en cero (0)\",\"\")","v":""},null,{"$f":"(D72-SUM(D77:D82,D84:D89,D91,D93:D94,D95:D103))*0.05","v":0}]
[null,null,"Intereses de créditos hipotecarios",0,null,{"$f":"validaciones(D93,H93,0)","v":""},null,{"$f":"+Tablas!B3","v":20000}]
[null,null,"Aportes al capital social o al fondo de riesgo de socios protectores de sociedades de garantía recíproca",0,null,{"$f":"validaciones(D94,H94,0)","v":""}]
[null,null,"Alquileres de inmuebles destinados a casa habitación",0,null,{"$f":"validaciones(D95,H95,0)","v":""},null,{"$f":"IF(Datos!C11=\"Final\",ROUND(Tablas!B4/12*12,2),ROUND(Tablas!B4/12*MONTH(Datos!C13),2))","v":167678.39999999999}]
[null,null,"Empleados del servicio doméstico",0,null,{"$f":"validaciones(D96,H96,0)","v":""},null,{"$f":"Tablas!B4","v":167678.39999999999}]
[null,null,"Gastos de movilidad, viáticos y otras compensaciones análogas abonados por el empleador",0,null,{"$f":"validaciones(D97,H97,0)","v":""},null,{"$f":"IF(D13=\"Desarrolla la actividad\",Tablas!B4,Tablas!B4*0.4)","v":67071.360000000001}]
[null,null,"Gastos por adquisición de indumentaria y/o equipamiento de trabajo",0,null,{"$f":"validaciones(D98,H98,0)","v":""}]
[null,null,"Otras deducciones - aportes a Cajas Complementarias de Previsión, Fondos Compensadores de Previsión o similares",0,null,{"$f":"validaciones(D99,H99,0)","v":""}]
[null,null,"Otras deducciones - Aportes para jubilaciones, retiros y subsidios ANSES",0,null,{"$f":"validaciones(D100,H100,0)","v":""}]
[null,null,"Otras deducciones - Cajas Provinciales o Municipales o de Previsión para Profesionales",0,null,{"$f":"validaciones(D101,H101,0)","v":""}]
[null,null,"Otras deducciones - Actores - Retribución pagada a los representantes - RG 2442/08",0,null,{"$f":"validaciones(D102,H102,0)","v":""}]
[null,null,"Otras deducciones - Fondos compensadores de previsión",0,null,{"$f":"validaciones(D103,H103,0)","v":""}]
[null,null,"Otras deducciones",{"$f":"+SUM(D99:E103)","v":0}]
[null,null,"TOTAL DEDUCCIONES GENERALES",{"$f":"SUM(D77:E103)","v":0},null,null,null,null,null,null,{"$f":"+D72-D105","v":0}]
[]
[null,null,"DEDUCCIONES PERSONALES",null,null,null,null,"Topes máximos legales"]
[null,null,"Ganancia no imponible",125758.8,null,{"$f":"validaciones(D108,H108,0)","v":""},null,{"$f":"deducciones(1,Datos!C11,MONTH(Datos!$C$13),$D$12)","v":167678.39999999999},null,null,{"$f":"IF(K105-K109<=0,0,IF(K105-K109<=H108,K105-K109,H108))","v":0}]
[null,null,"Deducción especial",603642.26,null,{"$f":"validaciones(D109,H109,0)","v":""},null,{"$f":"deducciones(2,Datos!$C$11,MONTH(Datos!$C$13),$D$12)","v":804856.34},null,null,{"$f":"IF(K105<=H109,K105,H109)","v":0}]
[null,null,"Deducción Especial Incrementada Primera parte del penúltimo párrafo del inciso c) del artículo 30 de la ley del gravamen",0]
[null,null,"Deducción Especial Incrementada Segunda parte del penúltimo párrafo del inciso c) del artículo 30 de la ley del gravamen",0]
[null,null,"Deducción específica",0,null,{"$f":"validaciones(D112,H112,0)","v":""},null,0]
[null,null,"Cargas de familia"]
[null,null,"Cónyuge",0,null,{"$f":"validaciones(D114,H114,0)","v":""},null,{"$f":"cargas_de_familia(4,Datos!$C$11,MONTH(Datos!$C$13),$D$12)","v":156320.63},null,null,{"$f":"IF(K105-K108-K109>=D114,D114,K105-K108-K109)","v":0}]
[null,null,"Cantidad de hijos e hijastros",0,null,{"$f":"validaciones(D115,H115,0)","v":""},null,99]
[null,null,"Deducción total hijos e hijastros",0,null,null,null,{"$f":"cargas_de_familia(3,Datos!$C$11,MONTH(Datos!$C$13),$D$12)*D115","v":0},null,null,{"$f":"IF(K105-K108-K109-K114>=D116,D116,K105-K108-K109-K114)","v":0}]
[null,null,"Cantidad de hijos e hijastros incapacitados para el trabajo",0,null,{"$f":"validaciones(D117,H117,0)","v":""},null,99]
[null,null,"Hijos / Hijastros incapacitados para el trabajo",0,null,null,null,{"$f":"cargas_de_familia(5,Datos!$C$11,MONTH(Datos!$C$13),$D$12)","v":157666.16}]
[null,null,"Total de cargas de familia",{"$f":"+D114+D116+D118","v":0},null,null,null,0]
[null,null,"TOTAL DEDUCCIONES PERSONALES",{"$f":"SUM(D108:D112,D119)","v":729401.06}]
[]
[null,null,"DETERMINACIÓN DEL IMPUESTO"]
[null,null,"REMUNERACIÓN NETA SUJETA A IMPUESTO -antes de la deducción art. 46 L. 27541-",0]
[null,null,"Deducción inciso a) primer párrafo artículo 30 de la ley (cfr. art. 46 L. 27541)",0,null,null,null,0,null,null,{"$f":"IF(D123-K125<=0,0,IF(D123-K125<=H124,D123-K125,H124))","v":0}]
[null,null,"Deducción inciso c) primer párrafo artículo 30 de la ley (cfr. art. 46 L. 27541)",0,null,null,null,0,null,null,{"$f":"IF(D123<=H125,D123,H125)","v":0}]
[null,null,"REMUNERACIÓN SUJETA A IMPUESTO",{"$f":"IF(+D72-D105-D120<0,0,+D72-D105-D120)","v":0}]
[null,null,"Alícuota aplicable artículo 94 ley de impuesto a las ganancias",{"$f":"IF(OR(Datos!C11=\"Final\",Datos!C11=\"Anual\"),impuestoAlicuota(D126,D25*(1-G25)+D51*(1-G51),12),impuestoAlicuota(D126,D25*(1-G25)+D51*(1-G51),MONTH(D11)))","v":0}]
[null,null,"Alícuota aplicable sin incluir horas extras",{"$f":"IF(OR(Datos!C11=\"Final\",Datos!C11=\"Anual\"),impuestoAlicuota(D126,0,12),impuestoAlicuota(D126,0,MONTH(D11)))","v":0}]
[null,null,"IMPUESTO DETERMINADO",{"$f":"IF(D126<0,0,IF(OR(Datos!C11=\"Final\",Datos!C11=\"Anual\"),impuestoDeterminado(D126,D25*(1-G25)+D51*(1-G51),12),impuestoDeterminado(D126,D25*(1-G25)+D51*(1-G51),MONTH(D11))))","v":0}]
[null,null,"Impuesto retenido",0]
[null,null,"Pagos a cuenta - Impuesto sobre créditos y débitos",0,null,{"$f":"IF(AND(Datos!$C$11=\"Informativa\",D131<>0),\"En la DDJJ informativa, este campo debe consignarse en cero (0)\",\"\")","v":""}]
[null,null,"Pagos a cuenta - Percepciones / Retenciones aduaneras",0,null,{"$f":"IF(AND(Datos!$C$11=\"Informativa\",D132<>0),\"En la DDJJ informativa, este campo debe consignarse en cero (0)\",\"\")","v":""}]
[null,null,"Pagos a cuenta - RG (AFIP) 3819/2015 - Cancelaciones en efectivo",0,null,{"$f":"IF(AND(Datos!$C$11=\"Informativa\",D133<>0),\"En la DDJJ informativa, este campo debe consignarse en cero (0)\",\"\")","v":""}]
[null,null,"Pagos a cuenta - Bono ley 27.424",0,null,{"$f":"IF(AND(Datos!$C$11=\"Informativa\",D134<>0),\"En la DDJJ informativa, este campo debe consignarse en cero (0)\",\"\")","v":""}]
[null,null,"Pagos a cuenta - RG 4815 [LEY 27.541 Art. 35 inciso a)] ",0,null,{"$f":"IF(AND(Datos!$C$11=\"Informativa\",D135<>0),\"En la DDJJ informativa, este campo debe consignarse en cero (0)\",\"\")","v":""}]
[null,null,"Pagos a cuenta - RG 4815 [LEY 27.541 Art. 35 inciso b)] ",0,null,{"$f":"IF(AND(Datos!$C$11=\"Informativa\",D136<>0),\"En la DDJJ informativa, este campo debe consignarse en cero (0)\",\"\")","v":""}]
[null,null,"Pagos a cuenta - RG 4815 [LEY 27.541 Art. 35 inciso c)] ",0,null,{"$f":"IF(AND(Datos!$C$11=\"Informativa\",D137<>0),\"En la DDJJ informativa, este campo debe consignarse en cero (0)\",\"\")","v":""}]
[null,null,"Pagos a cuenta - RG 4815 [LEY 27.541 Art. 35 inciso d)] ",0,null,{"$f":"IF(AND(Datos!$C$11=\"Informativa\",D138<>0),\"En la DDJJ informativa, este campo debe consignarse en cero (0)\",\"\")","v":""}]
[null,null,"Pagos a cuenta - RG 4815 [LEY 27.541 Art. 35 inciso e)] ",0,null,{"$f":"IF(AND(Datos!$C$11=\"Informativa\",D139<>0),\"En la DDJJ informativa, este campo debe consignarse en cero (0)\",\"\")","v":""}]
[null,null,"Pagos a cuenta - Impuesto sobre créditos y débitos - sobre movimientos de fondos propios o de terceros",0,null,{"$f":"IF(AND(Datos!$C$11=\"Informativa\",D140<>0),\"En la DDJJ informativa, este campo debe consignarse en cero (0)\",\"\")","v":""}]
[null,null,"Pagos a cuenta - Resolución General (AFIP) 3819/2015 - Cancelaciones en Efectivo -Servicios de transporte terrestre, aéreo y por vía acuática de pasajeros con destino fuera del país",0,null,{"$f":"IF(AND(Datos!$C$11=\"Informativa\",D141<>0),\"En la DDJJ informativa, este campo debe consignarse en cero (0)\",\"\")","v":""}]
[null,null,"Total pagos a cuenta",{"$f":"SUM(D131:D141)","v":0}]
[null,null,"SALDO A PAGAR",{"$f":"+ROUND(D129,2)-D130-D142","v":0}]